BEGIN:VCALENDAR
VERSION:2.0
PRODID:-//jEvents 2.0 for Joomla//EN
CALSCALE:GREGORIAN
METHOD:PUBLISH
BEGIN:VTIMEZONE
TZID:America/New_York
BEGIN:STANDARD
DTSTART:20191207T090000
RDATE:20200308T030000
TZOFFSETFROM:-0400
TZOFFSETTO:-0500
TZNAME:America/New_York EST
END:STANDARD
BEGIN:STANDARD
DTSTART:20201101T010000
RDATE:20210314T030000
TZOFFSETFROM:-0400
TZOFFSETTO:-0500
TZNAME:America/New_York EST
END:STANDARD
BEGIN:STANDARD
DTSTART:20211107T010000
RDATE:20220313T030000
TZOFFSETFROM:-0400
TZOFFSETTO:-0500
TZNAME:America/New_York EST
END:STANDARD
BEGIN:STANDARD
DTSTART:20221106T010000
RDATE:20230312T030000
TZOFFSETFROM:-0400
TZOFFSETTO:-0500
TZNAME:America/New_York EST
END:STANDARD
BEGIN:STANDARD
DTSTART:20231105T010000
RDATE:20240310T030000
TZOFFSETFROM:-0400
TZOFFSETTO:-0500
TZNAME:America/New_York EST
END:STANDARD
BEGIN:STANDARD
DTSTART:20241103T010000
RDATE:20250309T030000
TZOFFSETFROM:-0400
TZOFFSETTO:-0500
TZNAME:America/New_York EST
END:STANDARD
BEGIN:STANDARD
DTSTART:20251102T010000
RDATE:20260308T030000
TZOFFSETFROM:-0400
TZOFFSETTO:-0500
TZNAME:America/New_York EST
END:STANDARD
BEGIN:STANDARD
DTSTART:20261101T010000
RDATE:20270314T030000
TZOFFSETFROM:-0400
TZOFFSETTO:-0500
TZNAME:America/New_York EST
END:STANDARD
BEGIN:STANDARD
DTSTART:20271107T010000
RDATE:20280312T030000
TZOFFSETFROM:-0400
TZOFFSETTO:-0500
TZNAME:America/New_York EST
END:STANDARD
BEGIN:STANDARD
DTSTART:20281105T010000
RDATE:20290311T030000
TZOFFSETFROM:-0400
TZOFFSETTO:-0500
TZNAME:America/New_York EST
END:STANDARD
BEGIN:STANDARD
DTSTART:20291104T010000
RDATE:20300310T030000
TZOFFSETFROM:-0400
TZOFFSETTO:-0500
TZNAME:America/New_York EST
END:STANDARD
BEGIN:STANDARD
DTSTART:20301103T010000
RDATE:20310309T030000
TZOFFSETFROM:-0400
TZOFFSETTO:-0500
TZNAME:America/New_York EST
END:STANDARD
BEGIN:DAYLIGHT
DTSTART:20200308T030000
RDATE:20201101T010000
TZOFFSETFROM:-0500
TZOFFSETTO:-0400
TZNAME:America/New_York EDT
END:DAYLIGHT
BEGIN:DAYLIGHT
DTSTART:20210314T030000
RDATE:20211107T010000
TZOFFSETFROM:-0500
TZOFFSETTO:-0400
TZNAME:America/New_York EDT
END:DAYLIGHT
BEGIN:DAYLIGHT
DTSTART:20220313T030000
RDATE:20221106T010000
TZOFFSETFROM:-0500
TZOFFSETTO:-0400
TZNAME:America/New_York EDT
END:DAYLIGHT
BEGIN:DAYLIGHT
DTSTART:20230312T030000
RDATE:20231105T010000
TZOFFSETFROM:-0500
TZOFFSETTO:-0400
TZNAME:America/New_York EDT
END:DAYLIGHT
BEGIN:DAYLIGHT
DTSTART:20240310T030000
RDATE:20241103T010000
TZOFFSETFROM:-0500
TZOFFSETTO:-0400
TZNAME:America/New_York EDT
END:DAYLIGHT
BEGIN:DAYLIGHT
DTSTART:20250309T030000
RDATE:20251102T010000
TZOFFSETFROM:-0500
TZOFFSETTO:-0400
TZNAME:America/New_York EDT
END:DAYLIGHT
BEGIN:DAYLIGHT
DTSTART:20260308T030000
RDATE:20261101T010000
TZOFFSETFROM:-0500
TZOFFSETTO:-0400
TZNAME:America/New_York EDT
END:DAYLIGHT
BEGIN:DAYLIGHT
DTSTART:20270314T030000
RDATE:20271107T010000
TZOFFSETFROM:-0500
TZOFFSETTO:-0400
TZNAME:America/New_York EDT
END:DAYLIGHT
BEGIN:DAYLIGHT
DTSTART:20280312T030000
RDATE:20281105T010000
TZOFFSETFROM:-0500
TZOFFSETTO:-0400
TZNAME:America/New_York EDT
END:DAYLIGHT
BEGIN:DAYLIGHT
DTSTART:20290311T030000
RDATE:20291104T010000
TZOFFSETFROM:-0500
TZOFFSETTO:-0400
TZNAME:America/New_York EDT
END:DAYLIGHT
BEGIN:DAYLIGHT
DTSTART:20300310T030000
RDATE:20301103T010000
TZOFFSETFROM:-0500
TZOFFSETTO:-0400
TZNAME:America/New_York EDT
END:DAYLIGHT
END:VTIMEZONE
BEGIN:VEVENT
UID:7390573e5841b4f75fbe749c2e9464bf
CATEGORIES:At Syracuse
CREATED:20201116T110626
SUMMARY:Boot Camp for Weatherization Installers
LOCATION:NYSWDA Training Center - East Syracuse
DESCRIPTION:Boot Camp\n
 \n
Training Location: NYSWDA Training Center (Building 1) - 58
 69 Fisher Road, East Syracuse, NY 13057\n
 \n
Training will be available to
  those in NY whose regions have been designated for Phase Three.  If your N
 Y region is still in Phase Two, you will not be allowed to attend training 
 until your region attains Phase Three status.  Trainees from other states w
 ill need to provide documentation that shows their respective regions have 
 been cleared for training.\n\nAs part of the COVID-19 state and federal pro
 tocols, NYSWDA has developed a Safety Plan to ensure the safety of you and 
 your staff.  Below are listed the measures being taken to secure the safety
  of your staff as well as ours.\n\nPlease read and follow NYSWDA Re-Opening
  Safety Protocols (images/NYSWDA_Re-Opening_Safety_Protocols.pdf) .  We are
  taking our re-opening very seriously.  These measures are for your safety 
 as well as our staff. No exceptions to these protocols will be allowed!\n\n
 In addition, all attendees will be required to complete a <a href="images/S
 tudent_Screening_Checklist.pdf" style="color: #106141;">Student Screening C
 hecklist</a> prior to attending the class.\n
 \n
Who Should Attend;\nEntry 
 level field staff and weatherization contractors - see detailed below.\n
 \
 n
Course Description;\nThis intensive 4-day training based at NYSWDA's Ener
 gy Efficiency Training Center (Building 2) in East Syracuse, is a great int
 roduction to building science principles and hands-on air sealing, dense pa
 ck and loose fill cellulose insulation installation. Using our state-of-the
 -art realistic wall, ceiling and attic props, trainees will learn the techn
 iques needed to effectively weatherize our clients' homes.\n
Â\n
During thi
 s course, the trainees will be introduced to both HCR and BPI standards and
  regulations on Health &amp; Safety, Lead Safe work practices and safe and 
 proper use of tools and equipment. Trainees will also become proficient on 
 the set up of blower doors and understand basic use of an infrared camera d
 uring air sealing operations.\n
Â\n
All three HCR mandatory trainings are c
 overed in this course: \n

Air Sealing - mandatory for WX directors, energy
  auditors, post inspectors, crew chiefs and crew personnel
Health &amp; Saf
 ety - mandatory for WX directors, energy auditors, post inspectors, crew ch
 iefs and heating technicians
\n - Lead Safe Weatherization - mandatory for 
 all employees who may come in contact with lead based paint while performin
 g their duties\n

Please reference the WAP Policies and Procedures manual f
 or further details. The above-listed trainings are mandatory for the positi
 ons stated. If a subgrantee hires a new employee into one of these postions
 , or a current employee transfers into one of these positions, it is mandat
 ory that they receive this training within six (6) months of their start da
 te. These mandatory training sessions must be repeated every three (3) year
 s by subgrantee personnel who occupy these positions.\n
  \n
Agenda; \nDay 
 One\n
Monday - 11:00am - 4:30pm: Residential Health &amp; Safety Fundamenta
 ls\n
\n
Day Two\n
Tuesday - 9:00am - 4:30pm: Introduction to Building Scien
 ce and Air Sealing Techniques, introduction to infrared cameras, introducti
 on to basic residential framing details with an emphasis on common air seal
 ing areas and building codes requirements for clearance to combustibles.\n

  \n
Day Three\n
Wednesday - 9:00am - 4:30pm: Lead Safe Work Practices\n
 \n
 
Day Four\n
Thursday - 9:00am - 4:00pm: All day lab session tool/equipment 
 safety, lead safe jobsite setup, air sealing techniques, dense pack and loo
 se fill cellulose installation techniques. Afternoon lab session: fundament
 als of blower door setup and operation, plus jobsite and lead safe cleanup 
 skills, training skills review, question and answer session, awarding of Ce
 rtificates of Completion.\n
\nDates;\nCourse covers the dates of December 7
 -10, 2020\n\nStart Times: Monday 11:00am then Tues.-Thurs. 9:00am\n\nEnd Ti
 mes: Monday - Thursday 4:30pm\n
 \n
Other Notes:\nDue to the nature of the 
 training, all attendees will be required to sign a waiver of liability and 
 a photo/video release form at the start of the training.\n
\n
Prerequisites
 : None\n
\nClass Size: 6\n
\nBPI CEU: 16\n
\nInstructors:, Joe Ilacqua, NYS
 WDA\n\n
\nCourse Fees; \n
$950/person - NY Weatherization Sub-grantees \n
$
 950/person - affiliate members \n
$1,450/person - non-members \n
 \n
Lunche
 s are included for each day.\n
 \n
**Special note - if you wish to become a
 n Affiliate Member, and save off the non-member rate, please contact Drew E
 hrlich (315-701-0440 ext. 225, This email address is being protected from s
 pambots. You need JavaScript enabled to view it.
				document.getElementByI
 d('cloak57685fed37fa5f3765dc7f2e2b2f626c').innerHTML = '';
				var prefix =
  'ma' + 'il' + 'to';
				var path = 'hr' + 'ef' + '=';
				var addy57685fed
 37fa5f3765dc7f2e2b2f626c = 'dehrlich' + '@';
				addy57685fed37fa5f3765dc7f
 2e2b2f626c = addy57685fed37fa5f3765dc7f2e2b2f626c + 'nyswda' + '.' + 'org';
 
				var addy_text57685fed37fa5f3765dc7f2e2b2f626c = 'dehrlich' + '@' + 'ny
 swda' + '.' + 'org';document.getElementById('cloak57685fed37fa5f3765dc7f2e2
 b2f626c').innerHTML += '<a ' + path + '\'' + prefix + ':' + addy57685fed37f
 a5f3765dc7f2e2b2f626c + '\'>'+addy_text57685fed37fa5f3765dc7f2e2b2f626c+'';
 
		) BEFORE YOU REGISTER for the course.\n
 \n
NYSWDA will not be responsib
 le for hotel costs, travel to and from the training, breakfast and dinner m
 eals, or incidentals.\n
 \n
Through the support of NYS HCR funding, we are 
 able to provide quality training at discounted rates to NYSWDA members.\n
 
 \n
CLASS FULL - call or email  This email address is being protected from s
 pambots. You need JavaScript enabled to view it.
				document.getElementByI
 d('cloak5d0e232a7a19e71961927aeffc299d03').innerHTML = '';
				var prefix =
  'ma' + 'il' + 'to';
				var path = 'hr' + 'ef' + '=';
				var addy5d0e232a
 7a19e71961927aeffc299d03 = 'rvisser' + '@';
				addy5d0e232a7a19e71961927ae
 ffc299d03 = addy5d0e232a7a19e71961927aeffc299d03 + 'nyswda' + '.' + 'org';

 				var addy_text5d0e232a7a19e71961927aeffc299d03 = 'rvisser' + '@' + 'nysw
 da' + '.' + 'org';document.getElementById('cloak5d0e232a7a19e71961927aeffc2
 99d03').innerHTML += '<a ' + path + '\'' + prefix + ':' + addy5d0e232a7a19e
 71961927aeffc299d03 + '\'>'+addy_text5d0e232a7a19e71961927aeffc299d03+'';
	
 	 for availability or wait list\n
X-ALT-DESC;FMTTYPE=text/html:<p><strong><span style="font-family: Tahoma, sans-serif; color: #336699; fo
 nt-size: 13.5pt;">Boot Camp</span></strong></p><p>&nbsp;</p><p><strong><spa
 n style="font-family: Tahoma, sans-serif; color: #336699; font-size: 13.5pt
 ;">Training Location: NYSWDA Training Center (Building 1) - 5869 Fisher Roa
 d, East Syracuse, NY 13057</span></strong></p><p>&nbsp;</p><p><span style="
 font-family: tahoma, arial, helvetica, sans-serif; font-size: 12pt;"><span 
 style="color: #000000;">Training will be available to those in NY whose reg
 ions have been designated for Phase Three.</span>&nbsp;&nbsp;<strong><span 
 style="text-decoration: underline;">If your NY region is still in Phase Two
 , you will not be allowed to attend training until your region attains Phas
 e Three status.</span>&nbsp;&nbsp;Trainees from <em>other states</em> will 
 need to provide documentation that shows their respective regions have been
  cleared for training.<br /><br /></strong></span><span style="font-family:
  tahoma, arial, helvetica, sans-serif; font-size: 12pt;"><span style="color
 : #000000;">As part of the COVID-19 state and federal protocols, NYSWDA has
  developed a Safety Plan to ensure the safety of you and your staff.&nbsp; 
 Below are listed the measures being taken to secure the safety of your staf
 f as well as ours.</span><br /><br /></span><span style="font-family: tahom
 a, arial, helvetica, sans-serif; font-size: 12pt;"><strong>Please read and 
 follow&nbsp;</strong></span><em style="background-color: initial; font-fami
 ly: inherit; font-size: 1rem; color: #106141;"><strong><span style="font-fa
 mily: tahoma, arial, helvetica, sans-serif; font-size: 14pt;"><a href="http
 s://www.nyswda.org/images/NYSWDA_Re-Opening_Safety_Protocols.pdf" style="co
 lor: #106141;">NYSWDA Re-Opening Safety Protocols</a>&nbsp;</span></strong>
 </em><strong style="font-family: tahoma, arial, helvetica, sans-serif; font
 -size: 12pt; background-color: initial;">.&nbsp; We are taking our re-openi
 ng very seriously.&nbsp; These measures are for your safety as well as our 
 staff. No exceptions to these protocols will be allowed!<br /><br /></stron
 g><span style="color: #ff0000;"><span style="font-family: tahoma, arial, he
 lvetica, sans-serif; font-size: 14pt;"><span style="font-size: 12pt;"><span
  style="color: #000000;">In addition, all attendees will be required to com
 plete a</span>&nbsp;</span></span><span style="color: #106141;"><em><strong
 ><span style="font-family: tahoma, arial, helvetica, sans-serif; font-size:
  14pt;"><span style="color: #106141;"><a href="https://www.nyswda.org/image
 s/Student_Screening_Checklist.pdf" style="color: #106141;">Student Screenin
 g Checklist</a></span>&nbsp;</span></strong></em></span><span style="font-f
 amily: tahoma, arial, helvetica, sans-serif; font-size: 12pt; color: #00000
 0;">prior to attending the class.</span></span></p><p>&nbsp;</p><p><em><spa
 n style="text-decoration: underline;"><span style="font-family: Tahoma, san
 s-serif; color: black; text-decoration: underline;"><span style="font-size:
  12pt;">Who Should Attend;<br /></span></span></span></em><span style="font
 -family: Tahoma, sans-serif; color: black;"><span style="font-size: 12pt;">
 <span>Entry level field staff and weatherization contractors - see detailed
  below.</span></span></span></p><p><span style="font-family: Tahoma, sans-s
 erif; color: #ffffff;"><span style="font-size: 12pt;"></span></span>&nbsp;<
 /p><p><em><span style="text-decoration: underline;"><span style="font-famil
 y: Tahoma, sans-serif; color: black; text-decoration: underline;"><span sty
 le="font-size: 12pt;">Course</span></span></span></em><span style="text-dec
 oration: underline;"><span style="font-family: Tahoma, sans-serif; color: b
 lack; text-decoration: underline;"><span style="font-size: 12pt;"> Descript
 ion</span></span></span><span style="font-family: Tahoma, sans-serif; color
 : black;"><span style="font-size: 12pt;">;<br /></span></span><span style="
 font-family: Tahoma, sans-serif; color: black; font-size: 12pt;">This inten
 sive 4-day training based at NYSWDA's Energy Efficiency Training Center (Bu
 ilding 2) in East Syracuse, is a great introduction to building science pri
 nciples and hands-on air sealing, dense pack and loose fill cellulose insul
 ation installation. Using our state-of-the-art realistic wall, ceiling and 
 attic props, trainees will learn the techniques needed to effectively weath
 erize our clients' homes.</span></p><p><span style="font-family: Tahoma, sa
 ns-serif; color: #ffffff; font-size: 12pt;">Â</span></p><p><span style="fon
 t-family: Tahoma, sans-serif; color: black; font-size: 12pt;">During this c
 ourse, the trainees will be introduced to both HCR and BPI standards and re
 gulations on Health &amp; Safety, Lead Safe work practices and safe and pro
 per use of tools and equipment. Trainees will also become proficient on the
  set up of blower doors and understand basic use of an infrared camera duri
 ng air sealing operations.</span></p><p><span style="font-family: Tahoma, s
 ans-serif; color: #ffffff; font-size: 12pt;">Â</span></p><p><span style="fo
 nt-family: Tahoma, sans-serif; color: black; font-size: 12pt;">All three HC
 R mandatory trainings are covered in this course: </span></p><ul><li style=
 "color: black;"><span style="font-family: Tahoma, sans-serif; font-size: 12
 pt;">Air Sealing - mandatory for WX directors, energy auditors, post inspec
 tors, crew chiefs and crew personnel</span></li><li style="color: black;"><
 span style="font-family: Tahoma, sans-serif; font-size: 12pt;">Health &amp;
  Safety - mandatory for WX directors, energy auditors, post inspectors, cre
 w chiefs and heating technicians</span></li><li><span style="font-family: T
 ahoma, sans-serif; color: black; font-size: 12pt;">Lead Safe Weatherization
  - mandatory for all employees who may come in contact with lead based pain
 t while performing their duties<br /></span></li></ul><p><span style="font-
 family: Tahoma, sans-serif; color: black; font-size: 12pt;">Please referenc
 e the WAP Policies and Procedures manual for further details. The above-lis
 ted trainings are mandatory for the positions stated. If a subgrantee hires
  a new employee into one of these postions, or a current employee transfers
  into one of these positions, it is mandatory that they receive this traini
 ng within six (6) months of their start date. These mandatory training sess
 ions must be repeated every three (3) years by subgrantee personnel who occ
 upy these positions.</span></p><p>&nbsp;&nbsp;</p><p><span style="font-size
 : 12pt;"><em><span style="text-decoration: underline;"><span style="font-fa
 mily: Tahoma, sans-serif; color: black; text-decoration: underline;">Agenda
 ;</span></span></em></span>&nbsp;<br /><span style="font-size: 12pt;"><span
 ><span style="font-family: Tahoma, sans-serif; color: black;">Day One</span
 ></span></span></p><p><span style="font-size: 12pt;"><span style="font-fami
 ly: Tahoma, sans-serif; color: black;">Monday - 11:00am - 4:30pm: Residenti
 al Health &amp; Safety Fundamentals</span></span></p><p><span style="font-s
 ize: 12pt; color: #ffffff;"><em><span style="text-decoration: underline;"><
 span style="font-family: Tahoma, sans-serif;"></span></span></em></span></p
 ><p><span style="font-size: 12pt;"><span style="text-decoration: underline;
 "><span style="font-family: Tahoma, sans-serif; color: black; text-decorati
 on: underline;">Day Two</span></span></span></p><p><span style="font-size: 
 12pt;"><span style="font-family: Tahoma, sans-serif; color: black;">Tuesday
  - 9:00am - 4:30pm: Introduction to Building Science and Air Sealing Techni
 ques, introduction to infrared cameras, introduction to basic residential f
 raming details with an emphasis on common air sealing areas and building co
 des requirements for clearance to combustibles.</span></span></p><p><span s
 tyle="font-size: 12pt; color: #ffffff;"><span style="font-family: Tahoma, s
 ans-serif;"></span></span>&nbsp;</p><p><span style="text-decoration: underl
 ine;"><span style="font-size: 12pt;"><span style="color: black; font-family
 : Tahoma, sans-serif; text-decoration: underline;">Day Three</span></span><
 /span></p><p><span style="font-size: 12pt;"><span style="font-family: Tahom
 a, sans-serif; color: black;">Wednesday - 9:00am - 4:30pm: Lead Safe Work P
 ractices</span></span></p><p><span style="font-size: 12pt; color: #ffffff;"
 ><span style="font-family: Tahoma, sans-serif;"></span></span>&nbsp;</p><p>
 <span style="text-decoration: underline;"><span style="font-size: 12pt;"><s
 pan style="color: black; font-family: Tahoma, sans-serif; text-decoration: 
 underline;">Day Four</span></span></span></p><p><span style="font-size: 12p
 t;"><span style="font-family: Tahoma, sans-serif; color: black;">Thursday -
  9:00am - 4:00pm: All day lab session tool/equipment safety, lead safe jobs
 ite setup, air sealing techniques, dense pack and loose fill cellulose inst
 allation techniques. Afternoon lab session: fundamentals of blower door set
 up and operation, plus jobsite and lead safe cleanup skills, training skill
 s review, question and answer session, awarding of Certificates of Completi
 on.</span></span></p><p><span style="font-size: 12pt;"><em><span style="tex
 t-decoration: underline;"><span style="font-family: Tahoma, sans-serif; col
 or: black; text-decoration: underline;"><br /></span></span></em></span><sp
 an style="font-size: 12pt;"><em><span style="text-decoration: underline;"><
 span style="font-family: Tahoma, sans-serif; color: black; text-decoration:
  underline;">Dates;<br /></span></span></em></span><span style="font-family
 : tahoma, arial, helvetica, sans-serif; color: black; font-size: 12pt;">Cou
 rse covers the dates of December 7-10, 2020<br /><br /></span><span style="
 font-family: tahoma, arial, helvetica, sans-serif; color: black; font-size:
  12pt;">Start Times: Monday 11:00am then Tues.-Thurs. 9:00am<br /><br /></s
 pan><span style="font-family: tahoma, arial, helvetica, sans-serif; color: 
 black; font-size: 12pt;">End Times: Monday - Thursday 4:30pm</span></p><p><
 span style="font-family: Arial, sans-serif; color: #ffffff; font-size: 12pt
 ;"></span>&nbsp;</p><p><span style="font-size: 12pt;"><em><span style="text
 -decoration: underline;"><span style="font-family: Tahoma, sans-serif; colo
 r: black; text-decoration: underline;">Other Notes:</span></span></em><span
  style="font-family: Tahoma, sans-serif; color: black;"><br /></span></span
 ><span style="font-size: 12pt;"><span style="font-family: Tahoma, sans-seri
 f; color: black;">Due to the nature of the training, all attendees will be 
 required to sign a waiver of liability and a photo/video release form at th
 e start of the training.</span></span></p><p><span style="font-family: taho
 ma, arial, helvetica, sans-serif; font-size: 12pt;"><strong><span style="co
 lor: blue;"></span></strong></span></p><p><span style="font-size: 12pt;"><e
 m><span style="text-decoration: underline;"><span style="font-family: Tahom
 a, sans-serif; color: black; text-decoration: underline;">Prerequisites:</s
 pan></span></em><em><span style="font-family: Tahoma, sans-serif; color: bl
 ack;"> </span></em><span style="font-family: Tahoma, sans-serif; color: bla
 ck;">None</span></span></p><p><span style="font-size: 12pt;"><em><span styl
 e="text-decoration: underline;"><span style="font-family: Tahoma, sans-seri
 f; color: black; text-decoration: underline;"><br />Class Size:</span></spa
 n></em> <span style="font-family: Tahoma, sans-serif; color: black;">6</spa
 n></span></p><p><span style="font-size: 12pt;"><em><span style="text-decora
 tion: underline;"><span style="font-family: Tahoma, sans-serif; color: blac
 k; text-decoration: underline;"><br />BPI CEU</span></span></em><span style
 ="text-decoration: underline;"><span style="font-family: Tahoma, sans-serif
 ; color: black; text-decoration: underline;">:</span></span><span style="fo
 nt-family: Tahoma, sans-serif; color: black;"> 16</span></span></p><p><span
  style="font-size: 12pt;"><em><span style="text-decoration: underline;"><sp
 an style="font-family: Tahoma, sans-serif; color: black; text-decoration: u
 nderline;"><br /></span></span></em><em><span style="text-decoration: under
 line;"><span style="font-family: Tahoma, sans-serif; color: black; text-dec
 oration: underline;">Instructors:</span></span></em><span style="font-famil
 y: Tahoma, sans-serif; color: black;">, Joe Ilacqua, NYSWDA<br /></span></s
 pan></p><p><span style="font-size: 12pt;"><em><span style="text-decoration:
  underline;"><span style="font-family: Tahoma, sans-serif; color: black; te
 xt-decoration: underline;"><br />Course</span></span></em><span style="text
 -decoration: underline;"><span style="font-family: Tahoma, sans-serif; colo
 r: black; text-decoration: underline;"> Fees;</span></span><span style="fon
 t-family: Tahoma, sans-serif; color: black;"> </span></span></p><p><span st
 yle="color: #000000;"><span style="font-family: Tahoma, sans-serif; font-si
 ze: 12pt;">$950/person - NY Weatherization Sub-grantees</span><span style="
 font-family: Tahoma, sans-serif; font-size: 12pt;"><em> </em></span></span>
 </p><p><span style="font-family: Tahoma, sans-serif; color: #000000; font-s
 ize: 12pt;">$950/person - affiliate members </span></p><p><span style="font
 -family: Tahoma, sans-serif; color: #000000; font-size: 12pt;">$1,450/perso
 n - non-members </span></p><p>&nbsp;</p><p><span style="font-family: Tahoma
 ; font-size: 12pt; color: #000000;">Lunches are included for each day.</spa
 n></p><p>&nbsp;</p><p style="margin-top: 0in; margin-right: 0in; margin-bot
 tom: 0pt;"><strong><i><span style="background: white; color: #02613f; font-
 family: Georgia, serif;"><span style="font-size: small;">**Special note</sp
 an></span></i></strong><strong><i><span style="background: white; color: bl
 ack; font-family: Georgia, serif;"><span style="font-size: small;">&nbsp;-&
 nbsp;if you wish to become an Affiliate Member, and&nbsp;save off the non-m
 ember rate, please contact&nbsp;Drew Ehrlich&nbsp;(315-701-0440 ext. 225,&n
 bsp;</span><span id="cloak57685fed37fa5f3765dc7f2e2b2f626c">This email addr
 ess is being protected from spambots. You need JavaScript enabled to view i
 t.</span><script type='text/javascript'>
				document.getElementById('cloak
 57685fed37fa5f3765dc7f2e2b2f626c').innerHTML = '';
				var prefix = 'ma' + 
 'il' + 'to';
				var path = 'hr' + 'ef' + '=';
				var addy57685fed37fa5f37
 65dc7f2e2b2f626c = 'dehrlich' + '@';
				addy57685fed37fa5f3765dc7f2e2b2f62
 6c = addy57685fed37fa5f3765dc7f2e2b2f626c + 'nyswda' + '.' + 'org';
				var
  addy_text57685fed37fa5f3765dc7f2e2b2f626c = '<span style="color: #0000ff; 
 font-size: small;">dehrlich' + '@' + 'nyswda' + '.' + 'org</span>';document
 .getElementById('cloak57685fed37fa5f3765dc7f2e2b2f626c').innerHTML += '<a '
  + path + '\'' + prefix + ':' + addy57685fed37fa5f3765dc7f2e2b2f626c + '\'>
 '+addy_text57685fed37fa5f3765dc7f2e2b2f626c+'<\/a>';
		</script><span style
 ="font-size: small;">)&nbsp;</span></span></i></strong><span style="font-si
 ze: small;"><strong><span style="background: white; color: #02613f; font-fa
 mily: Georgia, serif;">BEFORE YOU REGISTER&nbsp;</span></strong><em><b><spa
 n style="background: white; color: black; font-family: Georgia, serif;">for
  the course</span></b></em><strong><span style="background: white; color: b
 lack; font-family: Georgia, serif;">.</span></strong></span></p><p><span st
 yle="color: #ff6600; font-family: tahoma, arial, helvetica, sans-serif; fon
 t-size: 12pt;"><span style="color: #ff6600; font-family: tahoma, arial, hel
 vetica, sans-serif; font-size: 12pt;"><span style="font-family: 'Times New 
 Roman'; font-size: small;"></span></span></span>&nbsp;</p><p><span style="c
 olor: #ffffff;"></span><span style="color: black; font-family: Tahoma, sans
 -serif; font-size: 12pt;">NYSWDA will not be responsible for hotel costs, t
 ravel to and from the training, breakfast and dinner meals, or incidentals.
 </span></p><p>&nbsp;</p><p><strong><em><span style="font-size: 10pt; font-f
 amily: Georgia, serif; color: #10704d; background: white;">Through the supp
 ort of NYS HCR funding, we are able to provide </span></em></strong><em><st
 rong><span style="font-size: 10pt; font-family: Georgia, serif; color: #026
 13f; background: white;">quality training at&nbsp;discounted rates to NYSWD
 A members.</span></strong></em></p><p>&nbsp;</p><p><strong><em><strong><spa
 n style="color: #ffffff; font-family: tahoma,arial,helvetica,sans-serif; fo
 nt-size: 14pt;"><span style="color: #ff0000;">CLASS FULL - call or email</s
 pan>&nbsp; <span id="cloak5d0e232a7a19e71961927aeffc299d03">This email addr
 ess is being protected from spambots. You need JavaScript enabled to view i
 t.</span><script type='text/javascript'>
				document.getElementById('cloak
 5d0e232a7a19e71961927aeffc299d03').innerHTML = '';
				var prefix = 'ma' + 
 'il' + 'to';
				var path = 'hr' + 'ef' + '=';
				var addy5d0e232a7a19e719
 61927aeffc299d03 = 'rvisser' + '@';
				addy5d0e232a7a19e71961927aeffc299d0
 3 = addy5d0e232a7a19e71961927aeffc299d03 + 'nyswda' + '.' + 'org';
				var 
 addy_text5d0e232a7a19e71961927aeffc299d03 = '<span style="color: #0066cc;">
 rvisser' + '@' + 'nyswda' + '.' + 'org</span>';document.getElementById('clo
 ak5d0e232a7a19e71961927aeffc299d03').innerHTML += '<a ' + path + '\'' + pre
 fix + ':' + addy5d0e232a7a19e71961927aeffc299d03 + '\'>'+addy_text5d0e232a7
 a19e71961927aeffc299d03+'<\/a>';
		</script> <span style="color: #ff0000;">
 for availability or wait list</span></span></strong></em><span style="color
 : #ffffff;"></span></strong><span style="font-family: tahoma, arial, helvet
 ica, sans-serif; font-size: 14pt;"></span><em></em><span style="color: #000
 0ff;"></span></p>
CONTACT:This email address is being protected from spambots. You need JavaScript enabled to view it.
				document.getElementById('cloak38f1c1fd3e186283f07328edc98493ce').innerHTML = '';
				var prefix = '&#109;a' + 'i&#108;' + '&#116;o';
				var path = 'hr' + 'ef' + '=';
				var addy38f1c1fd3e186283f07328edc98493ce = 'rv&#105;ss&#101;r' + '&#64;';
				addy38f1c1fd3e186283f07328edc98493ce = addy38f1c1fd3e186283f07328edc98493ce + 'nyswd&#97;' + '&#46;' + '&#111;rg';
				var addy_text38f1c1fd3e186283f07328edc98493ce = 'rv&#105;ss&#101;r' + '&#64;' + 'nyswd&#97;' + '&#46;' + '&#111;rg';document.getElementById('cloak38f1c1fd3e186283f07328edc98493ce').innerHTML += '<a ' + path + '\'' + prefix + ':' + addy38f1c1fd3e186283f07328edc98493ce + '\'>'+addy_text38f1c1fd3e186283f07328edc98493ce+'';
		
DTSTAMP:20260425T130923
DTSTART;TZID=America/New_York:20201207T090000
DTEND;TZID=America/New_York:20201210T170000
SEQUENCE:0
TRANSP:OPAQUE
END:VEVENT
END:VCALENDAR