BEGIN:VCALENDAR
VERSION:2.0
PRODID:-//jEvents 2.0 for Joomla//EN
CALSCALE:GREGORIAN
METHOD:PUBLISH
BEGIN:VTIMEZONE
TZID:America/New_York
BEGIN:STANDARD
DTSTART:20200216T090000
RDATE:20200308T030000
TZOFFSETFROM:-0400
TZOFFSETTO:-0500
TZNAME:America/New_York EST
END:STANDARD
BEGIN:STANDARD
DTSTART:20201101T010000
RDATE:20210314T030000
TZOFFSETFROM:-0400
TZOFFSETTO:-0500
TZNAME:America/New_York EST
END:STANDARD
BEGIN:STANDARD
DTSTART:20211107T010000
RDATE:20220313T030000
TZOFFSETFROM:-0400
TZOFFSETTO:-0500
TZNAME:America/New_York EST
END:STANDARD
BEGIN:STANDARD
DTSTART:20221106T010000
RDATE:20230312T030000
TZOFFSETFROM:-0400
TZOFFSETTO:-0500
TZNAME:America/New_York EST
END:STANDARD
BEGIN:STANDARD
DTSTART:20231105T010000
RDATE:20240310T030000
TZOFFSETFROM:-0400
TZOFFSETTO:-0500
TZNAME:America/New_York EST
END:STANDARD
BEGIN:STANDARD
DTSTART:20241103T010000
RDATE:20250309T030000
TZOFFSETFROM:-0400
TZOFFSETTO:-0500
TZNAME:America/New_York EST
END:STANDARD
BEGIN:STANDARD
DTSTART:20251102T010000
RDATE:20260308T030000
TZOFFSETFROM:-0400
TZOFFSETTO:-0500
TZNAME:America/New_York EST
END:STANDARD
BEGIN:STANDARD
DTSTART:20261101T010000
RDATE:20270314T030000
TZOFFSETFROM:-0400
TZOFFSETTO:-0500
TZNAME:America/New_York EST
END:STANDARD
BEGIN:STANDARD
DTSTART:20271107T010000
RDATE:20280312T030000
TZOFFSETFROM:-0400
TZOFFSETTO:-0500
TZNAME:America/New_York EST
END:STANDARD
BEGIN:STANDARD
DTSTART:20281105T010000
RDATE:20290311T030000
TZOFFSETFROM:-0400
TZOFFSETTO:-0500
TZNAME:America/New_York EST
END:STANDARD
BEGIN:STANDARD
DTSTART:20291104T010000
RDATE:20300310T030000
TZOFFSETFROM:-0400
TZOFFSETTO:-0500
TZNAME:America/New_York EST
END:STANDARD
BEGIN:STANDARD
DTSTART:20301103T010000
RDATE:20310309T030000
TZOFFSETFROM:-0400
TZOFFSETTO:-0500
TZNAME:America/New_York EST
END:STANDARD
BEGIN:DAYLIGHT
DTSTART:20200308T030000
RDATE:20201101T010000
TZOFFSETFROM:-0500
TZOFFSETTO:-0400
TZNAME:America/New_York EDT
END:DAYLIGHT
BEGIN:DAYLIGHT
DTSTART:20210314T030000
RDATE:20211107T010000
TZOFFSETFROM:-0500
TZOFFSETTO:-0400
TZNAME:America/New_York EDT
END:DAYLIGHT
BEGIN:DAYLIGHT
DTSTART:20220313T030000
RDATE:20221106T010000
TZOFFSETFROM:-0500
TZOFFSETTO:-0400
TZNAME:America/New_York EDT
END:DAYLIGHT
BEGIN:DAYLIGHT
DTSTART:20230312T030000
RDATE:20231105T010000
TZOFFSETFROM:-0500
TZOFFSETTO:-0400
TZNAME:America/New_York EDT
END:DAYLIGHT
BEGIN:DAYLIGHT
DTSTART:20240310T030000
RDATE:20241103T010000
TZOFFSETFROM:-0500
TZOFFSETTO:-0400
TZNAME:America/New_York EDT
END:DAYLIGHT
BEGIN:DAYLIGHT
DTSTART:20250309T030000
RDATE:20251102T010000
TZOFFSETFROM:-0500
TZOFFSETTO:-0400
TZNAME:America/New_York EDT
END:DAYLIGHT
BEGIN:DAYLIGHT
DTSTART:20260308T030000
RDATE:20261101T010000
TZOFFSETFROM:-0500
TZOFFSETTO:-0400
TZNAME:America/New_York EDT
END:DAYLIGHT
BEGIN:DAYLIGHT
DTSTART:20270314T030000
RDATE:20271107T010000
TZOFFSETFROM:-0500
TZOFFSETTO:-0400
TZNAME:America/New_York EDT
END:DAYLIGHT
BEGIN:DAYLIGHT
DTSTART:20280312T030000
RDATE:20281105T010000
TZOFFSETFROM:-0500
TZOFFSETTO:-0400
TZNAME:America/New_York EDT
END:DAYLIGHT
BEGIN:DAYLIGHT
DTSTART:20290311T030000
RDATE:20291104T010000
TZOFFSETFROM:-0500
TZOFFSETTO:-0400
TZNAME:America/New_York EDT
END:DAYLIGHT
BEGIN:DAYLIGHT
DTSTART:20300310T030000
RDATE:20301103T010000
TZOFFSETFROM:-0500
TZOFFSETTO:-0400
TZNAME:America/New_York EDT
END:DAYLIGHT
END:VTIMEZONE
BEGIN:VEVENT
UID:960b2e7f8af315228b3ccf5e2576dba5
CATEGORIES:At Syracuse
CREATED:20201231T142832
SUMMARY:Boot Camp for Weatherization Installers
LOCATION:NYSWDA Training Center - East Syracuse
DESCRIPTION:Boot Camp\n
 \n
Training Location: NYSWDA Training Center (Building 1) - 58
 69 Fisher Road, East Syracuse, NY 13057\n
 \n
Please note we are strictly f
 ollowing the Governor's guidelines.  If your NY region is designated a "Red
  Zone" we are unable to take those attendees for in-house training.  Conver
 sely, if WE become a "Red Zone" we will be unable to conduct in-house train
 ing.  Trainees from other states are allowed only if they are not on the tr
 avel ban list for New York state.\n\nAs part of the COVID-19 state and fede
 ral protocols, NYSWDA has developed a Safety Plan to ensure the safety of y
 ou and your staff.  Below are listed the measures being taken to secure the
  safety of your staff as well as ours.\n\nPlease read and follow NYSWDA Re-
 Opening Safety Protocols (images/NYSWDA_Re-Opening_Safety_Protocols.pdf) . 
  We are taking our re-opening very seriously.  These measures are for your 
 safety as well as our staff. No exceptions to these protocols will be allow
 ed!\n\nIn addition, all attendees will be required to complete a <a href="i
 mages/Student_Screening_Checklist.pdf" style="color: #106141;">Student Scre
 ening Checklist</a> prior to attending the class.\n
 \n
Who Should Attend;\
 nEntry level field staff and weatherization contractors - see detailed belo
 w.\n
 \n
Course Description;\nThis intensive 4-day training based at NYSWDA
 's Energy Efficiency Training Center (Building 2) in East Syracuse, is a gr
 eat introduction to building science principles and hands-on air sealing, d
 ense pack and loose fill cellulose insulation installation. Using our state
 -of-the-art realistic wall, ceiling and attic props, trainees will learn th
 e techniques needed to effectively weatherize our clients' homes.\n
Â\n
Dur
 ing this course, the trainees will be introduced to both HCR and BPI standa
 rds and regulations on Health &amp; Safety, Lead Safe work practices and sa
 fe and proper use of tools and equipment. Trainees will also become profici
 ent on the set up of blower doors and understand basic use of an infrared c
 amera during air sealing operations.\n
Â\n
All three HCR mandatory training
 s are covered in this course: \n

Air Sealing - mandatory for WX directors,
  energy auditors, post inspectors, crew chiefs and crew personnel
Health &a
 mp; Safety - mandatory for WX directors, energy auditors, post inspectors, 
 crew chiefs and heating technicians
\n - Lead Safe Weatherization - mandato
 ry for all employees who may come in contact with lead based paint while pe
 rforming their duties\n

Please reference the WAP Policies and Procedures m
 anual for further details. The above-listed trainings are mandatory for the
  positions stated. If a subgrantee hires a new employee into one of these p
 ostions, or a current employee transfers into one of these positions, it is
  mandatory that they receive this training within six (6) months of their s
 tart date. These mandatory training sessions must be repeated every three (
 3) years by subgrantee personnel who occupy these positions.\n
  \n
Agenda;
  \nDay One\n
Tuesday - 11:00am - 4:30pm: Residential Health &amp; Safety Fu
 ndamentals\n
\n
Day Two\n
Wednesday - 9:00am - 4:30pm: Introduction to Buil
 ding Science and Air Sealing Techniques, introduction to infrared cameras, 
 introduction to basic residential framing details with an emphasis on commo
 n air sealing areas and building codes requirements for clearance to combus
 tibles.\n
 \n
Day Three\n
Thursday - 9:00am - 4:30pm: Lead Safe Work Practi
 ces\n
 \n
Day Four\n
Friday - 9:00am - 4:00pm: All day lab session tool/equ
 ipment safety, lead safe jobsite setup, air sealing techniques, dense pack 
 and loose fill cellulose installation techniques. Afternoon lab session: fu
 ndamentals of blower door setup and operation, plus jobsite and lead safe c
 leanup skills, training skills review, question and answer session, awardin
 g of Certificates of Completion.\n
\nDates;\nCourse covers the dates of Feb
 ruary 16-19, 2021\n\nStart Times: Tuesday 11:00am then Wednesday-Friday 9:0
 0am\n\nEnd Times: Tuesday - Friday 4:30pm\n
 \n
Other Notes:\nDue to the na
 ture of the training, all attendees will be required to sign a waiver of li
 ability and a photo/video release form at the start of the training.\n
\n
P
 rerequisites: None\n
\nClass Size: 6\n
\nBPI CEU: 16\n
\nInstructors:, Joe 
 Ilacqua, NYSWDA\n\n
\nCourse Fees; \n
$950/person - NY Weatherization Sub-g
 rantees \n
$950/person - affiliate members \n
$1,450/person - non-members \
 n
 \n
Lunches are included for each day.\n
 \n
**Special note - if you wish
  to become an Affiliate Member, and save off the non-member rate, please co
 ntact Drew Ehrlich (315-701-0440 ext. 225, This email address is being prot
 ected from spambots. You need JavaScript enabled to view it.
				document.g
 etElementById('cloakd0a98e63a98a1ce669fa09871e6c0993').innerHTML = '';
				
 var prefix = 'ma' + 'il' + 'to';
				var path = 'hr' + 'ef' + '=';
				var 
 addyd0a98e63a98a1ce669fa09871e6c0993 = 'dehrlich' + '@';
				addyd0a98e63a9
 8a1ce669fa09871e6c0993 = addyd0a98e63a98a1ce669fa09871e6c0993 + 'nyswda' + 
 '.' + 'org';
				var addy_textd0a98e63a98a1ce669fa09871e6c0993 = 'dehrlich'
  + '@' + 'nyswda' + '.' + 'org';document.getElementById('cloakd0a98e63a98a1
 ce669fa09871e6c0993').innerHTML += '<a ' + path + '\'' + prefix + ':' + add
 yd0a98e63a98a1ce669fa09871e6c0993 + '\'>'+addy_textd0a98e63a98a1ce669fa0987
 1e6c0993+'';
		) BEFORE YOU REGISTER for the course.\n
 \n
NYSWDA will not 
 be responsible for hotel costs, travel to and from the training, breakfast 
 and dinner meals, or incidentals.\n
 \n
Through the support of NYS HCR fund
 ing, we are able to provide quality training at discounted rates to NYSWDA 
 members.\n
 \n
Click here to register (index.php?option=com_civicrm&amp;tas
 k=civicrm/event/register&amp;reset=1&amp;id=11940)  \n
X-ALT-DESC;FMTTYPE=text/html:<p><strong><span style="font-family: Tahoma, sans-serif; color: #336699; fo
 nt-size: 13.5pt;">Boot Camp</span></strong></p><p>&nbsp;</p><p><strong><spa
 n style="font-family: Tahoma, sans-serif; color: #336699; font-size: 13.5pt
 ;">Training Location: NYSWDA Training Center (Building 1) - 5869 Fisher Roa
 d, East Syracuse, NY 13057</span></strong></p><p>&nbsp;</p><p><span style="
 font-family: tahoma, arial, helvetica, sans-serif; font-size: 12pt;"><span 
 style="color: #000000;">Please note we are strictly following the Governor'
 s guidelines.</span>&nbsp;&nbsp;<strong><span style="text-decoration: under
 line;">If your NY region is designated a "Red Zone" we are unable to take t
 hose attendees for in-house training.&nbsp; Conversely, if WE become a "Red
  Zone" we will be unable to conduct in-house training.</span>&nbsp;&nbsp;Tr
 ainees from <em>other states</em>&nbsp;are allowed only if they are not on 
 the travel ban list for New York state.<br /><br /></strong></span><span st
 yle="font-family: tahoma, arial, helvetica, sans-serif; font-size: 12pt;"><
 span style="color: #000000;">As part of the COVID-19 state and federal prot
 ocols, NYSWDA has developed a Safety Plan to ensure the safety of you and y
 our staff.&nbsp; Below are listed the measures being taken to secure the sa
 fety of your staff as well as ours.</span><br /><br /></span><span style="f
 ont-family: tahoma, arial, helvetica, sans-serif; font-size: 12pt;"><strong
 >Please read and follow&nbsp;</strong></span><em style="background-color: i
 nitial; font-family: inherit; font-size: 1rem; color: #106141;"><strong><sp
 an style="font-family: tahoma, arial, helvetica, sans-serif; font-size: 14p
 t;"><a href="https://www.nyswda.org/images/NYSWDA_Re-Opening_Safety_Protoco
 ls.pdf" style="color: #106141;">NYSWDA Re-Opening Safety Protocols</a>&nbsp
 ;</span></strong></em><strong style="font-family: tahoma, arial, helvetica,
  sans-serif; font-size: 12pt; background-color: initial;">.&nbsp; We are ta
 king our re-opening very seriously.&nbsp; These measures are for your safet
 y as well as our staff. No exceptions to these protocols will be allowed!<b
 r /><br /></strong><span style="color: #ff0000;"><span style="font-family: 
 tahoma, arial, helvetica, sans-serif; font-size: 14pt;"><span style="font-s
 ize: 12pt;"><span style="color: #000000;">In addition, all attendees will b
 e required to complete a</span>&nbsp;</span></span><span style="color: #106
 141;"><em><strong><span style="font-family: tahoma, arial, helvetica, sans-
 serif; font-size: 14pt;"><span style="color: #106141;"><a href="https://www
 .nyswda.org/images/Student_Screening_Checklist.pdf" style="color: #106141;"
 >Student Screening Checklist</a></span>&nbsp;</span></strong></em></span><s
 pan style="font-family: tahoma, arial, helvetica, sans-serif; font-size: 12
 pt; color: #000000;">prior to attending the class.</span></span></p><p>&nbs
 p;</p><p><em><span style="text-decoration: underline;"><span style="font-fa
 mily: Tahoma, sans-serif; color: black; text-decoration: underline;"><span 
 style="font-size: 12pt;">Who Should Attend;<br /></span></span></span></em>
 <span style="font-family: Tahoma, sans-serif; color: black;"><span style="f
 ont-size: 12pt;"><span>Entry level field staff and weatherization contracto
 rs - see detailed below.</span></span></span></p><p><span style="font-famil
 y: Tahoma, sans-serif; color: #ffffff;"><span style="font-size: 12pt;"></sp
 an></span>&nbsp;</p><p><em><span style="text-decoration: underline;"><span 
 style="font-family: Tahoma, sans-serif; color: black; text-decoration: unde
 rline;"><span style="font-size: 12pt;">Course</span></span></span></em><spa
 n style="text-decoration: underline;"><span style="font-family: Tahoma, san
 s-serif; color: black; text-decoration: underline;"><span style="font-size:
  12pt;"> Description</span></span></span><span style="font-family: Tahoma, 
 sans-serif; color: black;"><span style="font-size: 12pt;">;<br /></span></s
 pan><span style="font-family: Tahoma, sans-serif; color: black; font-size: 
 12pt;">This intensive 4-day training based at NYSWDA's Energy Efficiency Tr
 aining Center (Building 2) in East Syracuse, is a great introduction to bui
 lding science principles and hands-on air sealing, dense pack and loose fil
 l cellulose insulation installation. Using our state-of-the-art realistic w
 all, ceiling and attic props, trainees will learn the techniques needed to 
 effectively weatherize our clients' homes.</span></p><p><span style="font-f
 amily: Tahoma, sans-serif; color: #ffffff; font-size: 12pt;">Â</span></p><p
 ><span style="font-family: Tahoma, sans-serif; color: black; font-size: 12p
 t;">During this course, the trainees will be introduced to both HCR and BPI
  standards and regulations on Health &amp; Safety, Lead Safe work practices
  and safe and proper use of tools and equipment. Trainees will also become 
 proficient on the set up of blower doors and understand basic use of an inf
 rared camera during air sealing operations.</span></p><p><span style="font-
 family: Tahoma, sans-serif; color: #ffffff; font-size: 12pt;">Â</span></p><
 p><span style="font-family: Tahoma, sans-serif; color: black; font-size: 12
 pt;">All three HCR mandatory trainings are covered in this course: </span><
 /p><ul><li style="color: black;"><span style="font-family: Tahoma, sans-ser
 if; font-size: 12pt;">Air Sealing - mandatory for WX directors, energy audi
 tors, post inspectors, crew chiefs and crew personnel</span></li><li style=
 "color: black;"><span style="font-family: Tahoma, sans-serif; font-size: 12
 pt;">Health &amp; Safety - mandatory for WX directors, energy auditors, pos
 t inspectors, crew chiefs and heating technicians</span></li><li><span styl
 e="font-family: Tahoma, sans-serif; color: black; font-size: 12pt;">Lead Sa
 fe Weatherization - mandatory for all employees who may come in contact wit
 h lead based paint while performing their duties<br /></span></li></ul><p><
 span style="font-family: Tahoma, sans-serif; color: black; font-size: 12pt;
 ">Please reference the WAP Policies and Procedures manual for further detai
 ls. The above-listed trainings are mandatory for the positions stated. If a
  subgrantee hires a new employee into one of these postions, or a current e
 mployee transfers into one of these positions, it is mandatory that they re
 ceive this training within six (6) months of their start date. These mandat
 ory training sessions must be repeated every three (3) years by subgrantee 
 personnel who occupy these positions.</span></p><p>&nbsp;&nbsp;</p><p><span
  style="font-size: 12pt;"><em><span style="text-decoration: underline;"><sp
 an style="font-family: Tahoma, sans-serif; color: black; text-decoration: u
 nderline;">Agenda;</span></span></em></span>&nbsp;<br /><span style="font-s
 ize: 12pt;"><span><span style="font-family: Tahoma, sans-serif; color: blac
 k;">Day One</span></span></span></p><p><span style="font-size: 12pt;"><span
  style="font-family: Tahoma, sans-serif; color: black;">Tuesday - 11:00am -
  4:30pm: Residential Health &amp; Safety Fundamentals</span></span></p><p><
 span style="font-size: 12pt; color: #ffffff;"><em><span style="text-decorat
 ion: underline;"><span style="font-family: Tahoma, sans-serif;"></span></sp
 an></em></span></p><p><span style="font-size: 12pt;"><span style="text-deco
 ration: underline;"><span style="font-family: Tahoma, sans-serif; color: bl
 ack; text-decoration: underline;">Day Two</span></span></span></p><p><span 
 style="font-size: 12pt;"><span style="font-family: Tahoma, sans-serif; colo
 r: black;">Wednesday - 9:00am - 4:30pm: Introduction to Building Science an
 d Air Sealing Techniques, introduction to infrared cameras, introduction to
  basic residential framing details with an emphasis on common air sealing a
 reas and building codes requirements for clearance to combustibles.</span><
 /span></p><p><span style="font-size: 12pt; color: #ffffff;"><span style="fo
 nt-family: Tahoma, sans-serif;"></span></span>&nbsp;</p><p><span style="tex
 t-decoration: underline;"><span style="font-size: 12pt;"><span style="color
 : black; font-family: Tahoma, sans-serif; text-decoration: underline;">Day 
 Three</span></span></span></p><p><span style="font-size: 12pt;"><span style
 ="font-family: Tahoma, sans-serif; color: black;">Thursday - 9:00am - 4:30p
 m: Lead Safe Work Practices</span></span></p><p><span style="font-size: 12p
 t; color: #ffffff;"><span style="font-family: Tahoma, sans-serif;"></span><
 /span>&nbsp;</p><p><span style="text-decoration: underline;"><span style="f
 ont-size: 12pt;"><span style="color: black; font-family: Tahoma, sans-serif
 ; text-decoration: underline;">Day Four</span></span></span></p><p><span st
 yle="font-size: 12pt;"><span style="font-family: Tahoma, sans-serif; color:
  black;">Friday - 9:00am - 4:00pm: All day lab session tool/equipment safet
 y, lead safe jobsite setup, air sealing techniques, dense pack and loose fi
 ll cellulose installation techniques. Afternoon lab session: fundamentals o
 f blower door setup and operation, plus jobsite and lead safe cleanup skill
 s, training skills review, question and answer session, awarding of Certifi
 cates of Completion.</span></span></p><p><span style="font-size: 12pt;"><em
 ><span style="text-decoration: underline;"><span style="font-family: Tahoma
 , sans-serif; color: black; text-decoration: underline;"><br /></span></spa
 n></em></span><span style="font-size: 12pt;"><em><span style="text-decorati
 on: underline;"><span style="font-family: Tahoma, sans-serif; color: black;
  text-decoration: underline;">Dates;<br /></span></span></em></span><span s
 tyle="font-family: tahoma, arial, helvetica, sans-serif; color: black; font
 -size: 12pt;">Course covers the dates of February 16-19, 2021<br /><br /></
 span><span style="font-family: tahoma, arial, helvetica, sans-serif; color:
  black; font-size: 12pt;">Start Times: Tuesday 11:00am then Wednesday-Frida
 y 9:00am<br /><br /></span><span style="font-family: tahoma, arial, helveti
 ca, sans-serif; color: black; font-size: 12pt;">End Times: Tuesday - Friday
  4:30pm</span></p><p><span style="font-family: Arial, sans-serif; color: #f
 fffff; font-size: 12pt;"></span>&nbsp;</p><p><span style="font-size: 12pt;"
 ><em><span style="text-decoration: underline;"><span style="font-family: Ta
 homa, sans-serif; color: black; text-decoration: underline;">Other Notes:</
 span></span></em><span style="font-family: Tahoma, sans-serif; color: black
 ;"><br /></span></span><span style="font-size: 12pt;"><span style="font-fam
 ily: Tahoma, sans-serif; color: black;">Due to the nature of the training, 
 all attendees will be required to sign a waiver of liability and a photo/vi
 deo release form at the start of the training.</span></span></p><p><span st
 yle="font-family: tahoma, arial, helvetica, sans-serif; font-size: 12pt;"><
 strong><span style="color: blue;"></span></strong></span></p><p><span style
 ="font-size: 12pt;"><em><span style="text-decoration: underline;"><span sty
 le="font-family: Tahoma, sans-serif; color: black; text-decoration: underli
 ne;">Prerequisites:</span></span></em><em><span style="font-family: Tahoma,
  sans-serif; color: black;"> </span></em><span style="font-family: Tahoma, 
 sans-serif; color: black;">None</span></span></p><p><span style="font-size:
  12pt;"><em><span style="text-decoration: underline;"><span style="font-fam
 ily: Tahoma, sans-serif; color: black; text-decoration: underline;"><br />C
 lass Size:</span></span></em> <span style="font-family: Tahoma, sans-serif;
  color: black;">6</span></span></p><p><span style="font-size: 12pt;"><em><s
 pan style="text-decoration: underline;"><span style="font-family: Tahoma, s
 ans-serif; color: black; text-decoration: underline;"><br />BPI CEU</span><
 /span></em><span style="text-decoration: underline;"><span style="font-fami
 ly: Tahoma, sans-serif; color: black; text-decoration: underline;">:</span>
 </span><span style="font-family: Tahoma, sans-serif; color: black;"> 16</sp
 an></span></p><p><span style="font-size: 12pt;"><em><span style="text-decor
 ation: underline;"><span style="font-family: Tahoma, sans-serif; color: bla
 ck; text-decoration: underline;"><br /></span></span></em><em><span style="
 text-decoration: underline;"><span style="font-family: Tahoma, sans-serif; 
 color: black; text-decoration: underline;">Instructors:</span></span></em><
 span style="font-family: Tahoma, sans-serif; color: black;">, Joe Ilacqua, 
 NYSWDA<br /></span></span></p><p><span style="font-size: 12pt;"><em><span s
 tyle="text-decoration: underline;"><span style="font-family: Tahoma, sans-s
 erif; color: black; text-decoration: underline;"><br />Course</span></span>
 </em><span style="text-decoration: underline;"><span style="font-family: Ta
 homa, sans-serif; color: black; text-decoration: underline;"> Fees;</span><
 /span><span style="font-family: Tahoma, sans-serif; color: black;"> </span>
 </span></p><p><span style="color: #000000;"><span style="font-family: Tahom
 a, sans-serif; font-size: 12pt;">$950/person - NY Weatherization Sub-grante
 es</span><span style="font-family: Tahoma, sans-serif; font-size: 12pt;"><e
 m> </em></span></span></p><p><span style="font-family: Tahoma, sans-serif; 
 color: #000000; font-size: 12pt;">$950/person - affiliate members </span></
 p><p><span style="font-family: Tahoma, sans-serif; color: #000000; font-siz
 e: 12pt;">$1,450/person - non-members </span></p><p>&nbsp;</p><p><span styl
 e="font-family: Tahoma; font-size: 12pt; color: #000000;">Lunches are inclu
 ded for each day.</span></p><p>&nbsp;</p><p style="margin-top: 0in; margin-
 right: 0in; margin-bottom: 0pt;"><strong><i><span style="background: white;
  color: #02613f; font-family: Georgia, serif;"><span style="font-size: smal
 l;">**Special note</span></span></i></strong><strong><i><span style="backgr
 ound: white; color: black; font-family: Georgia, serif;"><span style="font-
 size: small;">&nbsp;-&nbsp;if you wish to become an Affiliate Member, and&n
 bsp;save off the non-member rate, please contact&nbsp;Drew Ehrlich&nbsp;(31
 5-701-0440 ext. 225,&nbsp;</span><span id="cloakd0a98e63a98a1ce669fa09871e6
 c0993">This email address is being protected from spambots. You need JavaSc
 ript enabled to view it.</span><script type='text/javascript'>
				document
 .getElementById('cloakd0a98e63a98a1ce669fa09871e6c0993').innerHTML = '';
		
 		var prefix = 'ma' + 'il' + 'to';
				var path = 'hr' + 'ef' + '=';
				va
 r addyd0a98e63a98a1ce669fa09871e6c0993 = 'dehrlich' + '@';
				addyd0a98e63
 a98a1ce669fa09871e6c0993 = addyd0a98e63a98a1ce669fa09871e6c0993 + 'nyswda' 
 + '.' + 'org';
				var addy_textd0a98e63a98a1ce669fa09871e6c0993 = '<span s
 tyle="color: #0000ff; font-size: small;">dehrlich' + '@' + 'nyswda' + '.' +
  'org</span>';document.getElementById('cloakd0a98e63a98a1ce669fa09871e6c099
 3').innerHTML += '<a ' + path + '\'' + prefix + ':' + addyd0a98e63a98a1ce66
 9fa09871e6c0993 + '\'>'+addy_textd0a98e63a98a1ce669fa09871e6c0993+'<\/a>';

 		</script><span style="font-size: small;">)&nbsp;</span></span></i></stron
 g><span style="font-size: small;"><strong><span style="background: white; c
 olor: #02613f; font-family: Georgia, serif;">BEFORE YOU REGISTER&nbsp;</spa
 n></strong><em><b><span style="background: white; color: black; font-family
 : Georgia, serif;">for the course</span></b></em><strong><span style="backg
 round: white; color: black; font-family: Georgia, serif;">.</span></strong>
 </span></p><p><span style="color: #ff6600; font-family: tahoma, arial, helv
 etica, sans-serif; font-size: 12pt;"><span style="color: #ff6600; font-fami
 ly: tahoma, arial, helvetica, sans-serif; font-size: 12pt;"><span style="fo
 nt-family: 'Times New Roman'; font-size: small;"></span></span></span>&nbsp
 ;</p><p><span style="color: #ffffff;"></span><span style="color: black; fon
 t-family: Tahoma, sans-serif; font-size: 12pt;">NYSWDA will not be responsi
 ble for hotel costs, travel to and from the training, breakfast and dinner 
 meals, or incidentals.</span></p><p>&nbsp;</p><p><strong><em><span style="f
 ont-size: 10pt; font-family: Georgia, serif; color: #10704d; background: wh
 ite;">Through the support of NYS HCR funding, we are able to provide </span
 ></em></strong><em><strong><span style="font-size: 10pt; font-family: Georg
 ia, serif; color: #02613f; background: white;">quality training at&nbsp;dis
 counted rates to NYSWDA members.</span></strong></em></p><p>&nbsp;</p><p><s
 pan style="color: #0000ff;"><em><strong><span style="font-family: tahoma, a
 rial, helvetica, sans-serif; font-size: 14pt;"><a href="https://www.nyswda.
 org/index.php?option=com_civicrm&amp;task=civicrm/event/register&amp;reset=
 1&amp;id=11940" style="color: #0000ff;">Click here to register</a>&nbsp; </
 span></strong></em></span></p>
CONTACT:This email address is being protected from spambots. You need JavaScript enabled to view it.
				document.getElementById('cloakcc9c9fb9bccd34ef8c1e8106b41f0934').innerHTML = '';
				var prefix = '&#109;a' + 'i&#108;' + '&#116;o';
				var path = 'hr' + 'ef' + '=';
				var addycc9c9fb9bccd34ef8c1e8106b41f0934 = 'rv&#105;ss&#101;r' + '&#64;';
				addycc9c9fb9bccd34ef8c1e8106b41f0934 = addycc9c9fb9bccd34ef8c1e8106b41f0934 + 'nyswd&#97;' + '&#46;' + '&#111;rg';
				var addy_textcc9c9fb9bccd34ef8c1e8106b41f0934 = 'rv&#105;ss&#101;r' + '&#64;' + 'nyswd&#97;' + '&#46;' + '&#111;rg';document.getElementById('cloakcc9c9fb9bccd34ef8c1e8106b41f0934').innerHTML += '<a ' + path + '\'' + prefix + ':' + addycc9c9fb9bccd34ef8c1e8106b41f0934 + '\'>'+addy_textcc9c9fb9bccd34ef8c1e8106b41f0934+'';
		
DTSTAMP:20260425T043106
DTSTART;TZID=America/New_York:20210216T090000
DTEND;TZID=America/New_York:20210219T170000
SEQUENCE:0
TRANSP:OPAQUE
END:VEVENT
END:VCALENDAR