BEGIN:VCALENDAR
VERSION:2.0
PRODID:-//jEvents 2.0 for Joomla//EN
CALSCALE:GREGORIAN
METHOD:PUBLISH
BEGIN:VTIMEZONE
TZID:America/New_York
BEGIN:STANDARD
DTSTART:20201101T010000
RDATE:20210314T030000
TZOFFSETFROM:-0400
TZOFFSETTO:-0500
TZNAME:America/New_York EST
END:STANDARD
BEGIN:STANDARD
DTSTART:20211107T010000
RDATE:20220313T030000
TZOFFSETFROM:-0400
TZOFFSETTO:-0500
TZNAME:America/New_York EST
END:STANDARD
BEGIN:STANDARD
DTSTART:20221106T010000
RDATE:20230312T030000
TZOFFSETFROM:-0400
TZOFFSETTO:-0500
TZNAME:America/New_York EST
END:STANDARD
BEGIN:STANDARD
DTSTART:20231105T010000
RDATE:20240310T030000
TZOFFSETFROM:-0400
TZOFFSETTO:-0500
TZNAME:America/New_York EST
END:STANDARD
BEGIN:STANDARD
DTSTART:20241103T010000
RDATE:20250309T030000
TZOFFSETFROM:-0400
TZOFFSETTO:-0500
TZNAME:America/New_York EST
END:STANDARD
BEGIN:STANDARD
DTSTART:20251102T010000
RDATE:20260308T030000
TZOFFSETFROM:-0400
TZOFFSETTO:-0500
TZNAME:America/New_York EST
END:STANDARD
BEGIN:STANDARD
DTSTART:20261101T010000
RDATE:20270314T030000
TZOFFSETFROM:-0400
TZOFFSETTO:-0500
TZNAME:America/New_York EST
END:STANDARD
BEGIN:STANDARD
DTSTART:20271107T010000
RDATE:20280312T030000
TZOFFSETFROM:-0400
TZOFFSETTO:-0500
TZNAME:America/New_York EST
END:STANDARD
BEGIN:STANDARD
DTSTART:20281105T010000
RDATE:20290311T030000
TZOFFSETFROM:-0400
TZOFFSETTO:-0500
TZNAME:America/New_York EST
END:STANDARD
BEGIN:STANDARD
DTSTART:20291104T010000
RDATE:20300310T030000
TZOFFSETFROM:-0400
TZOFFSETTO:-0500
TZNAME:America/New_York EST
END:STANDARD
BEGIN:STANDARD
DTSTART:20301103T010000
RDATE:20310309T030000
TZOFFSETFROM:-0400
TZOFFSETTO:-0500
TZNAME:America/New_York EST
END:STANDARD
BEGIN:DAYLIGHT
DTSTART:20200502T090000
RDATE:20201101T010000
TZOFFSETFROM:-0500
TZOFFSETTO:-0400
TZNAME:America/New_York EDT
END:DAYLIGHT
BEGIN:DAYLIGHT
DTSTART:20210314T030000
RDATE:20211107T010000
TZOFFSETFROM:-0500
TZOFFSETTO:-0400
TZNAME:America/New_York EDT
END:DAYLIGHT
BEGIN:DAYLIGHT
DTSTART:20220313T030000
RDATE:20221106T010000
TZOFFSETFROM:-0500
TZOFFSETTO:-0400
TZNAME:America/New_York EDT
END:DAYLIGHT
BEGIN:DAYLIGHT
DTSTART:20230312T030000
RDATE:20231105T010000
TZOFFSETFROM:-0500
TZOFFSETTO:-0400
TZNAME:America/New_York EDT
END:DAYLIGHT
BEGIN:DAYLIGHT
DTSTART:20240310T030000
RDATE:20241103T010000
TZOFFSETFROM:-0500
TZOFFSETTO:-0400
TZNAME:America/New_York EDT
END:DAYLIGHT
BEGIN:DAYLIGHT
DTSTART:20250309T030000
RDATE:20251102T010000
TZOFFSETFROM:-0500
TZOFFSETTO:-0400
TZNAME:America/New_York EDT
END:DAYLIGHT
BEGIN:DAYLIGHT
DTSTART:20260308T030000
RDATE:20261101T010000
TZOFFSETFROM:-0500
TZOFFSETTO:-0400
TZNAME:America/New_York EDT
END:DAYLIGHT
BEGIN:DAYLIGHT
DTSTART:20270314T030000
RDATE:20271107T010000
TZOFFSETFROM:-0500
TZOFFSETTO:-0400
TZNAME:America/New_York EDT
END:DAYLIGHT
BEGIN:DAYLIGHT
DTSTART:20280312T030000
RDATE:20281105T010000
TZOFFSETFROM:-0500
TZOFFSETTO:-0400
TZNAME:America/New_York EDT
END:DAYLIGHT
BEGIN:DAYLIGHT
DTSTART:20290311T030000
RDATE:20291104T010000
TZOFFSETFROM:-0500
TZOFFSETTO:-0400
TZNAME:America/New_York EDT
END:DAYLIGHT
BEGIN:DAYLIGHT
DTSTART:20300310T030000
RDATE:20301103T010000
TZOFFSETFROM:-0500
TZOFFSETTO:-0400
TZNAME:America/New_York EDT
END:DAYLIGHT
END:VTIMEZONE
BEGIN:VEVENT
UID:994ae856008b8e9940cdd1e46a85a2cb
CATEGORIES:WEB
CREATED:20210406T160605
SUMMARY:NYS Manufactured Housing Mechanics Certification - Online
LOCATION:NYSWDA Training Center - East Syracuse
DESCRIPTION: \n
 NYS Manufactured Housing Mechanics Certification - Online\n
 \n
GoToWe
 binar Event\n\n\nThis online course covers two, 3-hour sessions.  Successfu
 l course completion means the candidate must attend BOTH sessions in order 
 to be awarded CEU’s and a certificate of completion.  YOU DO NOT NEED TO RE
 GISTER TWICE.  You will be sent a webinar invite for both sessions.  Each s
 ession is from 9:00am until noon.\n
 \n
This training is for:\nWeatherizati
 on crew chiefs/auditors, weatherization agency sub-contractors, private con
 tractors\n\n\nCourse Description:\nThis training will prepare those attendi
 ng to take the New York State Manufactured Housing Mechanic certification w
 ritten test. If your business or agency conducts structural repairs on mobi
 le homes or manufactured housing to stay in compliance with NY State Code E
 nforcement requirements, you will need at least one staff member with this 
 certification. Structural repairs include replacement of door/window framin
 g, replacement of subfloor plywood, or replacement of interior wall and cei
 ling panels. This staff member must be on-site during these repairs. This i
 ndividual certification is valid for two years.\n\n\nDates;\nMay 3 &amp; 5,
  2021 / 9:00am - noon (must participate in both days for course completion)
 .  Please note that we try to schedule this for 2 consecutive dates but in 
 this case you will have a "day off" in between.  There is an exception for 
 Retailers &amp; Installers - you will only be taking the first day of this 
 class.  Only those looking for the Mechanics certification will complete th
 e second part.\n\n\nPrerequisites: \nCompletion of high school, GED or equi
 valent (U.S. Armed Forces report) showing successful completion of high sch
 ool level education.  One year full time employment in manufactured housing
  industry or an industry substantially similar (1 year construction industr
 y experience or 1 year manufactured housing repair and weatherization exper
 ience generally accepted). Field experience in manufactured housing repairs
  and weatherization techniques\n\n\nClass Size: 16\n\n\nBPI CEU: 3\n\n\nIns
 tructors: Bill Sherman - NYS Codes Enforcement\n\n\nCourse Fees: \n$262/per
 son - NY Weatherization Sub-grantees\n$262/person - affiliate members\n$380
 /person - non-members\n$220/person - Retailers and Installers \n
 \n
**Spec
 ial note - if you wish to become an Affiliate Member, and save 50% off the 
 non-member rate, please contact Drew Ehrlich (315-701-0440 ext. 225, This e
 mail address is being protected from spambots. You need JavaScript enabled 
 to view it.
				document.getElementById('cloakaf82b92052ab0edbf6dc7b21e353e
 7ac').innerHTML = '';
				var prefix = 'ma' + 'il' + 'to';
				var path = '
 hr' + 'ef' + '=';
				var addyaf82b92052ab0edbf6dc7b21e353e7ac = 'dehrlich'
  + '@';
				addyaf82b92052ab0edbf6dc7b21e353e7ac = addyaf82b92052ab0edbf6dc
 7b21e353e7ac + 'nyswda' + '.' + 'org';
				var addy_textaf82b92052ab0edbf6d
 c7b21e353e7ac = 'dehrlich' + '@' + 'nyswda' + '.' + 'org';document.getEleme
 ntById('cloakaf82b92052ab0edbf6dc7b21e353e7ac').innerHTML += '<a ' + path +
  '\'' + prefix + ':' + addyaf82b92052ab0edbf6dc7b21e353e7ac + '\'>'+addy_te
 xtaf82b92052ab0edbf6dc7b21e353e7ac+'';
		) BEFORE YOU REGISTER for the cour
 se.\n\n\n
Through the support of a grant from NYSERDA, and NYS HCR funding,
  we are able to provide quality training at discounted rates to NYSWDA memb
 ers for this course.\n
 \n
Click here to register (index.php?option=com_civ
 icrm&amp;task=civicrm/event/register&amp;reset=1&amp;id=13083)\n
X-ALT-DESC;FMTTYPE=text/html:<p>&nbsp;</p><p><span style="color: #336699; font-size: 12pt;"><span><span>
 &nbsp;</span><span><span style="color: #000000;"><span><strong><span style=
 "color: #336699;"><span style="font-family: tahoma,arial,helvetica,sans-ser
 if; font-size: 14pt;">NYS Manufactured Housing Mechanics Certification - On
 line</span></span></strong></span></span></span></span></span></p><p>&nbsp;
 </p><p><span style="color: #336699; font-size: 12pt;"><span><span><span sty
 le="color: #000000;"><span><strong><span style="color: #336699;"><span styl
 e="font-family: tahoma,arial,helvetica,sans-serif; font-size: 14pt;"><span 
 style="color: #336699;">GoToWebinar Event</span><span></span><span></span><
 span></span><span style="color: #000000;"></span><span></span><span></span>
 <span style="color: #336699; font-family: tahoma,arial,helvetica,sans-serif
 ; font-size: 14pt;"></span><span></span><span style="font-family: Tahoma;">
 </span><span style="font-family: Tahoma;"></span><span style="color: #00000
 0;"></span><span style="font-size: small;"></span><span style="font-family:
  Tahoma;"></span><span style="color: #000000;"></span><span style="font-siz
 e: x-small;"></span><span style="font-family: Arial, Helvetica;"></span><sp
 an style="font-size: small;"></span><span style="font-family: Tahoma;"></sp
 an><span style="font-size: x-small;"></span><span style="font-family: Arial
 , Helvetica;"></span><span style="font-size: small;"></span><span style="fo
 nt-family: Tahoma;"></span><span style="font-size: x-small;"></span><span s
 tyle="font-family: Arial, Helvetica;"></span><span style="font-size: small;
 "></span><span style="font-family: Tahoma;"></span><span style="font-size: 
 x-small;"></span><span style="font-family: Arial, Helvetica;"></span><span 
 style="font-family: Tahoma;"></span><span style="font-family: Tahoma;"></sp
 an><span style="font-size: small;"></span><span style="font-family: Tahoma;
 "></span><span style="font-size: x-small;"></span><span style="font-family:
  Arial, Helvetica;"></span><span style="font-family: Tahoma;"></span><span 
 style="font-family: Tahoma;"></span><span style="font-family: Tahoma;"></sp
 an><span style="font-size: small;"></span><span style="font-family: Tahoma;
 "></span><span style="font-size: x-small;"></span><span style="font-family:
  Arial, Helvetica;"></span><span style="color: #000000;"></span><span style
 ="font-size: medium;"></span><span style="font-family: Tahoma;"></span><spa
 n style="color: #336699;"></span></span><br /></span></strong></span></span
 ></span></span></span><span style="color: #336699; font-size: 12pt;"><span 
 style="font-family: Tahoma;"><span><span style="color: #000000;"><em><span>
 <br /><br /></span></em><span style="font-family: Tahoma;"><span style="fon
 t-family: Tahoma, sans-serif; color: black; font-size: 12pt;">This online c
 ourse covers two, 3-hour sessions.&nbsp; Successful course completion means
  the candidate must attend BOTH sessions in order to be awarded CEU’s and a
  certificate of completion.&nbsp; YOU DO NOT NEED TO REGISTER TWICE.&nbsp; 
 You will be sent a webinar invite for both sessions.&nbsp; Each session is 
 from 9:00am until noon.</span></span></span></span></span></span></p><p>&nb
 sp;</p><p><span style="color: #336699; font-size: 12pt;"><span style="font-
 family: Tahoma;"><span><span style="color: #000000;"><em><span><span style=
 "text-decoration: underline;"><span style="font-family: Tahoma;">This train
 ing is for:</span></span><span style="font-family: Tahoma;"><span style="fo
 nt-family: Tahoma;"><br /></span></span></span></em><span style="font-famil
 y: Tahoma;"><span style="font-family: Tahoma;"><span style="font-family: Ta
 homa;">Weatherization crew chiefs/auditors, weatherization agency sub-contr
 actors, private contractors<span style="font-family: Tahoma;"><br /><br /><
 br /><span style="text-decoration: underline;"><em><span style="font-family
 : Tahoma;">Course Description:</span></em></span><em><span style="font-fami
 ly: Tahoma;"><span style="font-family: Tahoma;"><br /></span></span></em><s
 pan style="font-family: Tahoma;"><span style="font-family: Tahoma;"><span s
 tyle="font-family: Tahoma;">This training will prepare those attending to t
 ake the New York State Manufactured Housing Mechanic certification written 
 test. If your business or agency conducts structural repairs on mobile home
 s or manufactured housing to stay in compliance with NY State Code Enforcem
 ent requirements, you will need at least one staff member with this certifi
 cation. Structural repairs include replacement of door/window framing, repl
 acement of subfloor plywood, or replacement of interior wall and ceiling pa
 nels. This staff member must be on-site during these repairs. This individu
 al certification is valid for two years.<br /><br /><br /><span style="text
 -decoration: underline;"><em>Dates;<br /></em></span><span style="font-fami
 ly: Tahoma;">May 3 &amp; 5, 2021</span><span style="font-family: Tahoma;">&
 nbsp;/ 9:00am - noon (must participate in both days for course completion).
 &nbsp; Please note that we try to schedule this for 2 <em>consecutive</em> 
 dates but in this case you will have a "day off" in between.&nbsp; There is
  an exception for Retailers &amp; Installers - you will only be taking the 
 first day of this class.&nbsp; Only those looking for the Mechanics certifi
 cation will complete the second part.<br /><br /><br /><span style="text-de
 coration: underline;"><em><span style="font-family: Tahoma;">Prerequisites:
 </span></em></span><em><span style="font-family: Tahoma;"> <br /></span></e
 m><span style="font-family: Tahoma;">Completion of high school, GED or equi
 valent (U.S. Armed Forces report) showing successful completion of high sch
 ool level education.&nbsp; One year full time employment in manufactured ho
 using industry or an industry substantially similar (1 year construction in
 dustry experience or 1 year manufactured housing repair and weatherization 
 experience generally accepted). Field experience in manufactured housing re
 pairs and weatherization techniques<span style="font-family: Tahoma;"><br /
 ><em><br /><br /><span style="text-decoration: underline;">Class Size</span
 ></em>: 16<br /><br /><br /><span style="text-decoration: underline;"><em>B
 PI CEU</em>:</span>&nbsp;3<br /><br /><br /><span style="text-decoration: u
 nderline;"><em><span style="font-family: Tahoma;">Instructors:</span></em><
 /span><em><span style="font-family: Tahoma;"> </span></em><span style="font
 -family: Tahoma;">Bill Sherman - NYS Codes Enforcement<br /><br /><br /><sp
 an style="text-decoration: underline;"><em>Course Fees:&nbsp;</em></span><e
 m><span style="color: #ff6600;"></span></em><em><br /></em><span style="fon
 t-family: Tahoma;">$262/person -&nbsp;NY&nbsp;Weatherization Sub-grantees<b
 r /></span></span></span></span></span></span></span></span></span></span><
 /span></span></span></span></span></span><span style="color: #336699; font-
 size: 12pt;"><span style="font-family: Tahoma;"><span style="color: #000000
 ;"><span><span><span><span><span><span><span><span><span><span><span><span>
 $262/person -&nbsp;affiliate members<br /></span></span></span></span></spa
 n></span></span></span></span></span></span></span></span></span></span><sp
 an style="color: #336699; font-size: 12pt;"><span style="font-family: Tahom
 a;"><span style="color: #000000;"><span><span><span><span><span><span><span
 ><span><span><span><span><span>$380/person -&nbsp;non-members<br />$220/per
 son - Retailers and Installers&nbsp;</span></span></span></span></span></sp
 an></span></span></span></span></span></span></span></span></span></p><p>&n
 bsp;</p><p><span style="color: #336699; font-size: 12pt;"><span style="font
 -family: Tahoma;"><span><span style="color: #000000;"><span><span style="fo
 nt-family: Tahoma;"><span style="font-family: Tahoma;"><span style="font-fa
 mily: Tahoma;"><span style="font-family: Tahoma;"><span style="font-family:
  Tahoma;"><span style="font-family: Tahoma;"><span style="font-family: Taho
 ma;"><span style="font-family: Tahoma;"><span style="font-family: Tahoma;">
 <span style="font-family: Tahoma;"><span style="font-family: Tahoma;"><em><
 span style="font-family: Tahoma;"><em><strong><span style="background: whit
 e; color: #02613f; font-family: 'Georgia','serif';"><span style="font-size:
  small;">**Special note</span></span></strong></em><span style="background:
  white; color: black; font-family: 'Georgia','serif';"><span style="font-si
 ze: small;"><i><strong>&nbsp;-&nbsp;if you wish to become an Affiliate Memb
 er, and&nbsp;save 50% off the non-member rate, please contact&nbsp;Drew Ehr
 lich&nbsp;(315-701-0440 ext. 225,&nbsp;</strong></i></span><i><strong><span
  id="cloakaf82b92052ab0edbf6dc7b21e353e7ac">This email address is being pro
 tected from spambots. You need JavaScript enabled to view it.</span><script
  type='text/javascript'>
				document.getElementById('cloakaf82b92052ab0edb
 f6dc7b21e353e7ac').innerHTML = '';
				var prefix = 'ma' + 'il' + 'to';
			
 	var path = 'hr' + 'ef' + '=';
				var addyaf82b92052ab0edbf6dc7b21e353e7ac
  = 'dehrlich' + '@';
				addyaf82b92052ab0edbf6dc7b21e353e7ac = addyaf82b92
 052ab0edbf6dc7b21e353e7ac + 'nyswda' + '.' + 'org';
				var addy_textaf82b9
 2052ab0edbf6dc7b21e353e7ac = '<span style="color: #0000ff; font-size: small
 ;">dehrlich' + '@' + 'nyswda' + '.' + 'org</span>';document.getElementById(
 'cloakaf82b92052ab0edbf6dc7b21e353e7ac').innerHTML += '<a ' + path + '\'' +
  prefix + ':' + addyaf82b92052ab0edbf6dc7b21e353e7ac + '\'>'+addy_textaf82b
 92052ab0edbf6dc7b21e353e7ac+'<\/a>';
		</script><span style="font-size: sma
 ll;">)&nbsp;</span></strong></i></span><i></i><span style="font-size: small
 ;"><strong><span style="background: white; color: #02613f; font-family: 'Ge
 orgia','serif';">BEFORE YOU REGISTER&nbsp;</span></strong><em><b><span styl
 e="background: white; color: black; font-family: 'Georgia','serif';">for th
 e course</span></b></em><strong><span style="background: white; color: blac
 k; font-family: 'Georgia','serif';">.</span></strong></span><br /></span></
 em></span></span></span></span></span></span></span></span></span></span></
 span></span></span></span><span style="background-color: initial; color: in
 herit; font-family: inherit; font-size: 1rem;"></span><span style="color: #
 0000ff;"><em><strong><span style="font-size: 14pt; font-family: tahoma,aria
 l,helvetica,sans-serif;"></span></strong></em></span><span style="backgroun
 d-color: initial; color: inherit; font-family: inherit; font-size: 1rem;"><
 /span><span><span style="color: #000000;"><span><span style="font-family: T
 ahoma;"><span style="font-family: Tahoma;"><span style="font-family: Tahoma
 ;"><span style="font-family: Tahoma;"><span style="font-family: Tahoma;"><s
 pan style="font-family: Tahoma;"><span style="font-family: Tahoma;"><span s
 tyle="font-family: Tahoma;"><span style="font-family: Tahoma;"><span style=
 "font-family: Tahoma;"><span style="font-family: Tahoma;"><em><span style="
 font-family: Tahoma;"><br /></span></em></span></span></span></span></span>
 </span></span></span></span></span></span></span></span></span></span></spa
 n></p><p><strong><i><span style="background: white; color: #10704d; font-fa
 mily: 'Georgia','serif'; font-size: 10pt;">Through the support of a grant f
 rom NYSERDA, and NYS HCR funding, we are able to provide </span></i></stron
 g><em><b><span style="background: white; color: #02613f; font-family: 'Geor
 gia','serif'; font-size: 10pt;">quality training at&nbsp;discounted rates t
 o NYSWDA members for this course.<span style="color: #336699;"><span style=
 "font-family: Tahoma;"><span style="font-size: medium;"><span style="color:
  #000000;"><span style="font-size: small;"><span style="font-family: Tahoma
 ;"><span style="font-family: Tahoma;"><span style="color: #000000;"><span s
 tyle="font-family: Tahoma;"><span style="font-family: Arial, Helvetica;"><s
 pan style="color: #000000;"><span style="font-family: Tahoma;"><span style=
 "font-family: Tahoma;"><span style="font-family: Tahoma;"><span style="font
 -family: Tahoma;"><span style="font-family: Tahoma;"><span style="font-fami
 ly: Tahoma;"><span style="font-family: Tahoma;"><span style="font-family: T
 ahoma;"><span style="font-family: Tahoma;"><span style="font-family: Tahoma
 ;"><span style="font-family: Tahoma;"><span style="font-family: Tahoma;"><s
 pan style="font-family: Tahoma;"><span style="font-family: Arial, Helvetica
 ;"><span style="font-size: x-small;"><span style="color: #000000;"><span st
 yle="font-family: Calibri;"><span style="font-size: small;"><span style="fo
 nt-family: Times;"><span style="color: #000000;"><span style="font-family: 
 Tahoma;"><span style="font-family: Times;"><span style="font-family: Tahoma
 ;"><span style="font-family: Tahoma;"><span style="color: #000000;"><span s
 tyle="font-size: 12pt;"><em></em></span></span></span></span></span></span>
 </span></span></span></span></span></span></span></span></span></span></spa
 n></span></span></span></span></span></span></span></span></span></span></s
 pan></span></span></span></span></span></span></span></span></span></span><
 /b></em></p><p>&nbsp;</p><p><span style="color: #0000ff;"><em><strong><span
  style="font-family: tahoma, arial, helvetica, sans-serif; font-size: 14pt;
 "><a href="https://www.nyswda.org/index.php?option=com_civicrm&amp;task=civ
 icrm/event/register&amp;reset=1&amp;id=13083" style="color: #0000ff;">Click
  here to register</a></span></strong></em></span></p>
CONTACT:Robyn Visser
DTSTAMP:20260425T043108
DTSTART;TZID=America/New_York:20210503T090000
DTEND;TZID=America/New_York:20210505T120000
SEQUENCE:0
TRANSP:OPAQUE
END:VEVENT
END:VCALENDAR