BEGIN:VCALENDAR
VERSION:2.0
PRODID:-//jEvents 2.0 for Joomla//EN
CALSCALE:GREGORIAN
METHOD:PUBLISH
BEGIN:VTIMEZONE
TZID:America/New_York
BEGIN:STANDARD
DTSTART:20201101T010000
RDATE:20210314T030000
TZOFFSETFROM:-0400
TZOFFSETTO:-0500
TZNAME:America/New_York EST
END:STANDARD
BEGIN:STANDARD
DTSTART:20211107T010000
RDATE:20220313T030000
TZOFFSETFROM:-0400
TZOFFSETTO:-0500
TZNAME:America/New_York EST
END:STANDARD
BEGIN:STANDARD
DTSTART:20221106T010000
RDATE:20230312T030000
TZOFFSETFROM:-0400
TZOFFSETTO:-0500
TZNAME:America/New_York EST
END:STANDARD
BEGIN:STANDARD
DTSTART:20231105T010000
RDATE:20240310T030000
TZOFFSETFROM:-0400
TZOFFSETTO:-0500
TZNAME:America/New_York EST
END:STANDARD
BEGIN:STANDARD
DTSTART:20241103T010000
RDATE:20250309T030000
TZOFFSETFROM:-0400
TZOFFSETTO:-0500
TZNAME:America/New_York EST
END:STANDARD
BEGIN:STANDARD
DTSTART:20251102T010000
RDATE:20260308T030000
TZOFFSETFROM:-0400
TZOFFSETTO:-0500
TZNAME:America/New_York EST
END:STANDARD
BEGIN:STANDARD
DTSTART:20261101T010000
RDATE:20270314T030000
TZOFFSETFROM:-0400
TZOFFSETTO:-0500
TZNAME:America/New_York EST
END:STANDARD
BEGIN:STANDARD
DTSTART:20271107T010000
RDATE:20280312T030000
TZOFFSETFROM:-0400
TZOFFSETTO:-0500
TZNAME:America/New_York EST
END:STANDARD
BEGIN:STANDARD
DTSTART:20281105T010000
RDATE:20290311T030000
TZOFFSETFROM:-0400
TZOFFSETTO:-0500
TZNAME:America/New_York EST
END:STANDARD
BEGIN:STANDARD
DTSTART:20291104T010000
RDATE:20300310T030000
TZOFFSETFROM:-0400
TZOFFSETTO:-0500
TZNAME:America/New_York EST
END:STANDARD
BEGIN:STANDARD
DTSTART:20301103T010000
RDATE:20310309T030000
TZOFFSETFROM:-0400
TZOFFSETTO:-0500
TZNAME:America/New_York EST
END:STANDARD
BEGIN:DAYLIGHT
DTSTART:20201024T130000
RDATE:20201101T010000
TZOFFSETFROM:-0500
TZOFFSETTO:-0400
TZNAME:America/New_York EDT
END:DAYLIGHT
BEGIN:DAYLIGHT
DTSTART:20210314T030000
RDATE:20211107T010000
TZOFFSETFROM:-0500
TZOFFSETTO:-0400
TZNAME:America/New_York EDT
END:DAYLIGHT
BEGIN:DAYLIGHT
DTSTART:20220313T030000
RDATE:20221106T010000
TZOFFSETFROM:-0500
TZOFFSETTO:-0400
TZNAME:America/New_York EDT
END:DAYLIGHT
BEGIN:DAYLIGHT
DTSTART:20230312T030000
RDATE:20231105T010000
TZOFFSETFROM:-0500
TZOFFSETTO:-0400
TZNAME:America/New_York EDT
END:DAYLIGHT
BEGIN:DAYLIGHT
DTSTART:20240310T030000
RDATE:20241103T010000
TZOFFSETFROM:-0500
TZOFFSETTO:-0400
TZNAME:America/New_York EDT
END:DAYLIGHT
BEGIN:DAYLIGHT
DTSTART:20250309T030000
RDATE:20251102T010000
TZOFFSETFROM:-0500
TZOFFSETTO:-0400
TZNAME:America/New_York EDT
END:DAYLIGHT
BEGIN:DAYLIGHT
DTSTART:20260308T030000
RDATE:20261101T010000
TZOFFSETFROM:-0500
TZOFFSETTO:-0400
TZNAME:America/New_York EDT
END:DAYLIGHT
BEGIN:DAYLIGHT
DTSTART:20270314T030000
RDATE:20271107T010000
TZOFFSETFROM:-0500
TZOFFSETTO:-0400
TZNAME:America/New_York EDT
END:DAYLIGHT
BEGIN:DAYLIGHT
DTSTART:20280312T030000
RDATE:20281105T010000
TZOFFSETFROM:-0500
TZOFFSETTO:-0400
TZNAME:America/New_York EDT
END:DAYLIGHT
BEGIN:DAYLIGHT
DTSTART:20290311T030000
RDATE:20291104T010000
TZOFFSETFROM:-0500
TZOFFSETTO:-0400
TZNAME:America/New_York EDT
END:DAYLIGHT
BEGIN:DAYLIGHT
DTSTART:20300310T030000
RDATE:20301103T010000
TZOFFSETFROM:-0500
TZOFFSETTO:-0400
TZNAME:America/New_York EDT
END:DAYLIGHT
END:VTIMEZONE
BEGIN:VEVENT
UID:58817281d5391c1396fa4b2c515e4752
CATEGORIES:At Syracuse
CREATED:20211007T124521
SUMMARY:NYS Manufactured Housing Mechanics Continuing Education
LOCATION:NYSWDA Training Center - East Syracuse
DESCRIPTION: \n
 NYS Manufactured Housing Mechanics Continuing Education \n
 \n
Trainin
 g Location:  NYSWDA Training Center (Building 1) - 5869 Fisher Road, East S
 yracuse, NY  13057\n
 \n
Please note we are strictly following the Governor
 's guidelines.  NYSWDA will now allow vaccinated attendees to be unmasked a
 t the training center.  All those who who are not vaccinated will be requir
 ed to wear a mask and to complete a Student Screening Checklist (images/Stu
 dent_Screening_Checklist.pdf) prior to attending the class.\n
 \n
This trai
 ning is for:\nONLY those who have taken the NYS MH Mechanics Certification 
 training and also hold a Limited Certification.\n\n\nCourse Description:\nT
 his 3 hour training is for those who have already certified and hold a Limi
 ted Certification for the NYS Manufactured Housing Mechanics Certification.
  \n\nMechanics certification is valid for 2 years - and the renewal process
  required by the Dept. of State is to complete their continuing education a
 nd the renewal application process prior to expiration of their certificate
 s. \n\nIf your business or agency conducts structural repairs on mobile hom
 es or manufactured housing to stay in compliance with NY State Code Enforce
 ment requirements, you will need at least one staff member with this certif
 ication. \n\nStructural repairs include replacement of door/window framing,
  replacement of subfloor plywood, or replacement of interior wall and ceili
 ng panels. This staff member must be on-site during these repairs. Individu
 al certification is valid for two years. \n\n\nDates;\nOctober 25, 2021 / 1
 :00pm - 4:00pm\n\n\nPrerequisites: \nMust have completed the initial NYS MH
  Mechanics Certification training and also hold a Limited Certification.\n\
 n\nClass Size: 10\n\n\nBPI CEU: 1.5\n\n\nInstructors:Joel Harper - MHC Cons
 ultants LLC\n
\n\nCourse Fees: \n$151/person - NY Weatherization Sub-grante
 es  \n
$151/person - affiliate members\n
$220/person - non-members\n
 \n
**
 Special note - if you wish to become an Affiliate Member, and save off the 
 non-member rate, please contact Drew Ehrlich (315-701-0440 ext. 225, This e
 mail address is being protected from spambots. You need JavaScript enabled 
 to view it.
				document.getElementById('cloakc0730ca6f61c642fc742e1e32e577
 da2').innerHTML = '';
				var prefix = 'ma' + 'il' + 'to';
				var path = '
 hr' + 'ef' + '=';
				var addyc0730ca6f61c642fc742e1e32e577da2 = 'dehrlich'
  + '@';
				addyc0730ca6f61c642fc742e1e32e577da2 = addyc0730ca6f61c642fc742
 e1e32e577da2 + 'nyswda' + '.' + 'org';
				var addy_textc0730ca6f61c642fc74
 2e1e32e577da2 = 'dehrlich' + '@' + 'nyswda' + '.' + 'org';document.getEleme
 ntById('cloakc0730ca6f61c642fc742e1e32e577da2').innerHTML += '<a ' + path +
  '\'' + prefix + ':' + addyc0730ca6f61c642fc742e1e32e577da2 + '\'>'+addy_te
 xtc0730ca6f61c642fc742e1e32e577da2+'';
		) BEFORE YOU REGISTER for the cour
 se.\n
 \n
Through the support of a grant from NYSERDA, and NYS HCR funding,
  we are able to provide quality training at discounted rates to NYSWDA memb
 ers for this course.\n
\n\n<a href="index.php?option=com_civicrm&amp;task=c
 ivicrm/event/register&amp;reset=1&amp;id=14065" style="color: #0000ff;">Cli
 ck here to register</a>\n
X-ALT-DESC;FMTTYPE=text/html:<p>&nbsp;</p><p><span style="color: #336699; font-size: 12pt;"><span><span>
 &nbsp;</span><span style="font-family: tahoma,arial,helvetica,sans-serif; f
 ont-size: 14pt;"><span style="color: #000000;"><strong><span style="color: 
 #336699;">NYS Manufactured Housing Mechanics Continuing Education </span></
 strong></span></span></span></span></p><p>&nbsp;</p><p><span style="color: 
 #336699; font-size: 12pt;"><span><span style="font-family: tahoma,arial,hel
 vetica,sans-serif; font-size: 14pt;"><span style="color: #000000;"><strong>
 <span style="color: #336699;">Training Location:&nbsp; NYSWDA Training Cent
 er (Building 1) - 5869 Fisher Road, East Syracuse, NY&nbsp; 13057</span></s
 trong></span></span></span></span></p><p>&nbsp;</p><p><span style="font-fam
 ily: tahoma, arial, helvetica, sans-serif; font-size: 12pt;"><span style="c
 olor: #000000;">Please note we are strictly following the Governor's guidel
 ines.</span>&nbsp; NYSWDA will now allow vaccinated attendees to be unmaske
 d at the training center.&nbsp; All those who who are not vaccinated will b
 e required to wear a mask and</span><span style="color: #ff0000;"><span sty
 le="font-family: tahoma, arial, helvetica, sans-serif; font-size: 14pt;"><s
 pan style="font-size: 12pt;"><span style="color: #000000;">&nbsp;to complet
 e a</span>&nbsp;</span></span><span style="color: #106141;"><em><strong><sp
 an style="font-family: tahoma, arial, helvetica, sans-serif; font-size: 14p
 t;"><span style="color: #106141;"><a href="https://www.nyswda.org/images/St
 udent_Screening_Checklist.pdf" style="color: #106141;">Student Screening Ch
 ecklist</a></span>&nbsp;</span></strong></em></span><span style="font-famil
 y: tahoma, arial, helvetica, sans-serif; font-size: 12pt; color: #000000;">
 prior to attending the class.</span></span></p><p>&nbsp;</p><p><span style=
 "color: #336699; font-size: 12pt;"><span><span><span style="color: #000000;
 "><span><span style="text-decoration: underline;"><span style="font-family:
  Tahoma;"><em>This training is for:</em></span></span><span style="font-fam
 ily: Tahoma;"><span style="font-family: Tahoma;"><br /></span></span><span 
 style="font-family: Tahoma;"><span style="font-family: Tahoma;"><span style
 ="font-family: Tahoma;">ONLY those who have taken the NYS MH Mechanics Cert
 ification training and also hold a Limited Certification.<span style="font-
 family: Tahoma;"><br /><br /><br /><span style="text-decoration: underline;
 "><em><span style="font-family: Tahoma;">Course Description:</span></em></s
 pan><em><span style="font-family: Tahoma;"><span style="font-family: Tahoma
 ;"><br /></span></span></em><span style="font-family: Tahoma;"><span style=
 "font-family: Tahoma;"><span style="font-family: Tahoma;">This 3 hour train
 ing is for those who have already certified and hold a Limited Certificatio
 n for the NYS Manufactured Housing Mechanics Certification. <br /><br />Mec
 hanics certification is valid for 2 years - and the renewal process require
 d by the Dept. of State is to complete their continuing education and the r
 enewal application process prior to expiration of their certificates. <br /
 ><br />If your business or agency conducts structural repairs on mobile hom
 es or manufactured housing to stay in compliance with NY State Code Enforce
 ment requirements, you will need at least one staff member with this certif
 ication. <br /><br />Structural repairs include replacement of door/window 
 framing, replacement of subfloor plywood, or replacement of interior wall a
 nd ceiling panels. This staff member must be on-site during these repairs. 
 Individual certification is valid for two years. <br /><br /><br /><span st
 yle="text-decoration: underline;"><em>Dates;<br /></em></span><span style="
 font-family: Tahoma;">October 25, 2021 / 1:00pm - 4:00pm<br /><br /><br /><
 span style="text-decoration: underline;"><em><span style="font-family: Taho
 ma;">Prerequisites:</span></em></span><em><span style="font-family: Tahoma;
 "> <br /></span></em><span style="font-family: Tahoma;">Must have completed
  the initial NYS MH Mechanics Certification training and also hold a Limite
 d Certification.<br /><span style="font-family: Tahoma;"><br /><em><br /><s
 pan style="text-decoration: underline;">Class Size</span></em>: 10<br /><br
  /><br /><span style="text-decoration: underline;"><em>BPI CEU</em>:</span>
  1.5<br /><br /><br /><span style="text-decoration: underline;"><em><span s
 tyle="font-family: Tahoma;">Instructors:</span></em></span><em><span style=
 "font-family: Tahoma;"></span></em><span style="font-family: Tahoma;">Joel 
 Harper</span><span style="font-family: Tahoma;">&nbsp;- MHC Consultants LLC
 </span></span></span></span></span></span></span></span></span></span></spa
 n></span></span></span></span></span></p><p><span style="color: #336699; fo
 nt-size: 12pt;"><span><span><span style="color: #000000;"><span><span style
 ="font-family: Tahoma;"><span style="font-family: Tahoma;"><span style="fon
 t-family: Tahoma;"><span style="font-family: Tahoma;"><span style="font-fam
 ily: Tahoma;"><span style="font-family: Tahoma;"><span style="font-family: 
 Tahoma;"><span style="font-family: Tahoma;"><span style="font-family: Tahom
 a;"><span style="font-family: Tahoma;"><span style="font-family: Tahoma;"><
 br /><br /><span style="color: #336699; font-size: 12pt;"><span><span><span
  style="color: #000000;"><span><span style="font-family: Tahoma;"><span sty
 le="font-family: Tahoma;"><span style="font-family: Tahoma;"><span style="f
 ont-family: Tahoma;"><span style="font-family: Tahoma;"><span style="font-f
 amily: Tahoma;"><span style="font-family: Tahoma;"><span style="font-family
 : Tahoma;"><span style="font-family: Tahoma;"><span style="font-family: Tah
 oma;"><span style="font-family: Tahoma;"><span style="text-decoration: unde
 rline;"><em>Course Fees: </em></span><span style="text-decoration: underlin
 e;"><em><br /></em></span><span style="font-family: Tahoma;">$151/person - 
 NY Weatherization Sub-grantees</span><em><span style="font-family: Tahoma;"
 >&nbsp;&nbsp;</span></em></span></span></span></span></span></span></span><
 /span></span></span></span></span></span></span></span></span></span></span
 ></span></span></span></span></span></span></span></span></span></span></sp
 an></span></span></span></p><p><span style="color: #336699; font-size: 12pt
 ;"><span><span><span style="color: #000000;"><span><span style="font-family
 : Tahoma;"><span style="font-family: Tahoma;"><span style="font-family: Tah
 oma;"><span style="font-family: Tahoma;"><span style="font-family: Tahoma;"
 ><span style="font-family: Tahoma;"><span style="font-family: Tahoma;"><spa
 n style="font-family: Tahoma;"><span style="font-family: Tahoma;"><span sty
 le="font-family: Tahoma;"><span style="font-family: Tahoma;"><span style="c
 olor: #336699; font-size: 12pt;"><span><span><span style="color: #000000;">
 <span><span style="font-family: Tahoma;"><span style="font-family: Tahoma;"
 ><span style="font-family: Tahoma;"><span style="font-family: Tahoma;"><spa
 n style="font-family: Tahoma;"><span style="font-family: Tahoma;"><span sty
 le="font-family: Tahoma;"><span style="font-family: Tahoma;"><span style="f
 ont-family: Tahoma;"><span style="font-family: Tahoma;"><span style="font-f
 amily: Tahoma;"><span style="font-family: Tahoma;">$151/person - affiliate 
 members</span><em><span style="font-family: Tahoma;"></span></em></span></s
 pan></span></span></span></span></span></span></span></span></span></span><
 /span></span></span></span></span></span></span></span></span></span></span
 ></span></span></span></span></span></span></span></span></span></p><p><spa
 n style="color: #336699; font-size: 12pt;"><span><span><span style="color: 
 #000000;"><span><span style="font-family: Tahoma;"><span style="font-family
 : Tahoma;"><span style="font-family: Tahoma;"><span style="font-family: Tah
 oma;"><span style="font-family: Tahoma;"><span style="font-family: Tahoma;"
 ><span style="font-family: Tahoma;"><span style="font-family: Tahoma;"><spa
 n style="font-family: Tahoma;"><span style="font-family: Tahoma;"><span sty
 le="font-family: Tahoma;"><span style="color: #336699; font-size: 12pt;"><s
 pan><span><span style="color: #000000;"><span><span style="font-family: Tah
 oma;"><span style="font-family: Tahoma;"><span style="font-family: Tahoma;"
 ><span style="font-family: Tahoma;"><span style="font-family: Tahoma;"><spa
 n style="font-family: Tahoma;"><span style="font-family: Tahoma;"><span sty
 le="font-family: Tahoma;"><span style="font-family: Tahoma;"><span style="f
 ont-family: Tahoma;"><span style="font-family: Tahoma;"><span style="font-f
 amily: Tahoma;">$220/person - non-members</span><em><span style="font-famil
 y: Tahoma;"></span></em></span></span></span></span></span></span></span></
 span></span></span></span></span></span></span></span></span></span></span>
 </span></span></span></span></span></span></span></span></span></span></spa
 n></span></span></span></p><p>&nbsp;</p><p><span style="color: #336699; fon
 t-size: 12pt;"><span><span><span style="color: #000000;"><span><span style=
 "font-family: Tahoma;"><span style="font-family: Tahoma;"><span style="font
 -family: Tahoma;"><span style="font-family: Tahoma;"><span style="font-fami
 ly: Tahoma;"><span style="font-family: Tahoma;"><span style="font-family: T
 ahoma;"><span style="font-family: Tahoma;"><span style="font-family: Tahoma
 ;"><span style="font-family: Tahoma;"><span style="font-family: Tahoma;"><e
 m><strong><span style="background: white; color: #02613f; font-family: 'Geo
 rgia','serif';"><span style="font-size: small;">**Special note</span></span
 ></strong></em><span style="background: white; color: black; font-family: '
 Georgia','serif';"><span style="font-size: small;"><i><strong>&nbsp;-&nbsp;
 if you wish to become an Affiliate Member, and&nbsp;save&nbsp;off the non-m
 ember rate, please contact&nbsp;Drew Ehrlich&nbsp;(315-701-0440 ext. 225,&n
 bsp;</strong></i></span><i><strong><span id="cloakc0730ca6f61c642fc742e1e32
 e577da2">This email address is being protected from spambots. You need Java
 Script enabled to view it.</span><script type='text/javascript'>
				docume
 nt.getElementById('cloakc0730ca6f61c642fc742e1e32e577da2').innerHTML = '';

 				var prefix = 'ma' + 'il' + 'to';
				var path = 'hr' + 'ef' + '=';
				
 var addyc0730ca6f61c642fc742e1e32e577da2 = 'dehrlich' + '@';
				addyc0730c
 a6f61c642fc742e1e32e577da2 = addyc0730ca6f61c642fc742e1e32e577da2 + 'nyswda
 ' + '.' + 'org';
				var addy_textc0730ca6f61c642fc742e1e32e577da2 = '<span
  style="color: #0000ff; font-size: small;">dehrlich' + '@' + 'nyswda' + '.'
  + 'org</span>';document.getElementById('cloakc0730ca6f61c642fc742e1e32e577
 da2').innerHTML += '<a ' + path + '\'' + prefix + ':' + addyc0730ca6f61c642
 fc742e1e32e577da2 + '\'>'+addy_textc0730ca6f61c642fc742e1e32e577da2+'<\/a>'
 ;
		</script><span style="font-size: small;">)&nbsp;</span></strong></i></s
 pan><i></i><span style="font-size: small;"><strong><span style="background:
  white; color: #02613f; font-family: 'Georgia','serif';">BEFORE YOU REGISTE
 R&nbsp;</span></strong><em><b><span style="background: white; color: black;
  font-family: 'Georgia','serif';">for the course</span></b></em><strong><sp
 an style="background: white; color: black; font-family: 'Georgia','serif';"
 >.</span></strong></span></span></span></span></span></span></span></span><
 /span></span></span></span></span></span></span></span></span></p><p>&nbsp;
 </p><p><span style="color: #336699; font-size: 12pt;"><span><span><span sty
 le="color: #000000;"><span><span style="font-family: Tahoma;"><span style="
 font-family: Tahoma;"><span style="font-family: Tahoma;"><span style="font-
 family: Tahoma;"><span style="font-family: Tahoma;"><span style="font-famil
 y: Tahoma;"><span style="font-family: Tahoma;"><span style="font-family: Ta
 homa;"><span style="font-family: Tahoma;"><span style="font-family: Tahoma;
 "><span style="font-family: Tahoma;"><strong><i><span style="background: wh
 ite; color: #10704d; font-family: 'Georgia','serif'; font-size: 10pt;">Thro
 ugh the support of a grant from NYSERDA, and NYS HCR funding, we are able t
 o provide </span></i></strong><em><b><span style="background: white; color:
  #02613f; font-family: 'Georgia','serif'; font-size: 10pt;">quality trainin
 g at&nbsp;discounted rates to NYSWDA members for this course.<span style="c
 olor: #336699;"><span style="font-family: Tahoma;"><span style="font-size: 
 medium;"><span style="color: #000000;"><span style="font-size: small;"><spa
 n style="font-family: Tahoma;"><span style="font-family: Tahoma;"><span sty
 le="color: #000000;"><span style="font-family: Tahoma;"><span style="font-f
 amily: Arial, Helvetica;"><span style="color: #000000;"><span style="font-f
 amily: Tahoma;"><span style="font-family: Tahoma;"><span style="font-family
 : Tahoma;"><span style="font-family: Tahoma;"><span style="font-family: Tah
 oma;"><span style="font-family: Tahoma;"><span style="font-family: Tahoma;"
 ><span style="font-family: Tahoma;"><span style="font-family: Tahoma;"><spa
 n style="font-family: Tahoma;"><span style="font-family: Tahoma;"><span sty
 le="font-family: Tahoma;"><span style="font-family: Tahoma;"><span style="f
 ont-family: Arial, Helvetica;"><span style="font-size: x-small;"><span styl
 e="color: #000000;"><span style="font-family: Calibri;"><span style="font-s
 ize: small;"><span style="font-family: Times;"><span style="color: #000000;
 "><span style="font-family: Tahoma;"><span style="font-family: Times;"><spa
 n style="font-family: Tahoma;"><span style="font-family: Tahoma;"><span sty
 le="color: #000000;"><span style="font-size: 12pt;"><em></em></span></span>
 </span></span></span></span></span></span></span></span></span></span></spa
 n></span></span></span></span></span></span></span></span></span></span></s
 pan></span></span></span></span></span></span></span></span></span></span><
 /span></span></span></span></b></em></span></span></span></span></span></sp
 an></span></span></span></span></span></span></span></span></span></span></
 p><p><span style="color: #336699; font-size: 12pt;"><span><span><span style
 ="color: #000000;"><span><span style="font-family: Tahoma;"><span style="fo
 nt-family: Tahoma;"><span style="font-family: Tahoma;"><span style="font-fa
 mily: Tahoma;"><span style="font-family: Tahoma;"><span style="font-family:
  Tahoma;"><span style="font-family: Tahoma;"><span style="font-family: Taho
 ma;"><span style="font-family: Tahoma;"><span style="font-family: Tahoma;">
 <span style="font-family: Tahoma;"><br /><br /><span style="font-size: 14pt
 ; color: #0000ff;"><em><strong><a href="https://www.nyswda.org/index.php?op
 tion=com_civicrm&amp;task=civicrm/event/register&amp;reset=1&amp;id=14065" 
 style="color: #0000ff;">Click here to register</a></strong></em></span></sp
 an></span></span></span></span></span></span></span></span></span></span></
 span></span></span></span></span></p>
CONTACT:This email address is being protected from spambots. You need JavaScript enabled to view it.
				document.getElementById('cloake8baa73944b63e487192a35a71a34fed').innerHTML = '';
				var prefix = '&#109;a' + 'i&#108;' + '&#116;o';
				var path = 'hr' + 'ef' + '=';
				var addye8baa73944b63e487192a35a71a34fed = 'rv&#105;ss&#101;r' + '&#64;';
				addye8baa73944b63e487192a35a71a34fed = addye8baa73944b63e487192a35a71a34fed + 'nyswd&#97;' + '&#46;' + '&#111;rg';
				var addy_texte8baa73944b63e487192a35a71a34fed = 'rv&#105;ss&#101;r' + '&#64;' + 'nyswd&#97;' + '&#46;' + '&#111;rg';document.getElementById('cloake8baa73944b63e487192a35a71a34fed').innerHTML += '<a ' + path + '\'' + prefix + ':' + addye8baa73944b63e487192a35a71a34fed + '\'>'+addy_texte8baa73944b63e487192a35a71a34fed+'';
		
DTSTAMP:20260425T043107
DTSTART;TZID=America/New_York:20211025T130000
DTEND;TZID=America/New_York:20211025T160000
SEQUENCE:0
TRANSP:OPAQUE
END:VEVENT
END:VCALENDAR