BEGIN:VCALENDAR
VERSION:2.0
PRODID:-//jEvents 2.0 for Joomla//EN
CALSCALE:GREGORIAN
METHOD:PUBLISH
BEGIN:VTIMEZONE
TZID:America/New_York
BEGIN:STANDARD
DTSTART:20210102T090000
RDATE:20210314T030000
TZOFFSETFROM:-0400
TZOFFSETTO:-0500
TZNAME:America/New_York EST
END:STANDARD
BEGIN:STANDARD
DTSTART:20211107T010000
RDATE:20220313T030000
TZOFFSETFROM:-0400
TZOFFSETTO:-0500
TZNAME:America/New_York EST
END:STANDARD
BEGIN:STANDARD
DTSTART:20221106T010000
RDATE:20230312T030000
TZOFFSETFROM:-0400
TZOFFSETTO:-0500
TZNAME:America/New_York EST
END:STANDARD
BEGIN:STANDARD
DTSTART:20231105T010000
RDATE:20240310T030000
TZOFFSETFROM:-0400
TZOFFSETTO:-0500
TZNAME:America/New_York EST
END:STANDARD
BEGIN:STANDARD
DTSTART:20241103T010000
RDATE:20250309T030000
TZOFFSETFROM:-0400
TZOFFSETTO:-0500
TZNAME:America/New_York EST
END:STANDARD
BEGIN:STANDARD
DTSTART:20251102T010000
RDATE:20260308T030000
TZOFFSETFROM:-0400
TZOFFSETTO:-0500
TZNAME:America/New_York EST
END:STANDARD
BEGIN:STANDARD
DTSTART:20261101T010000
RDATE:20270314T030000
TZOFFSETFROM:-0400
TZOFFSETTO:-0500
TZNAME:America/New_York EST
END:STANDARD
BEGIN:STANDARD
DTSTART:20271107T010000
RDATE:20280312T030000
TZOFFSETFROM:-0400
TZOFFSETTO:-0500
TZNAME:America/New_York EST
END:STANDARD
BEGIN:STANDARD
DTSTART:20281105T010000
RDATE:20290311T030000
TZOFFSETFROM:-0400
TZOFFSETTO:-0500
TZNAME:America/New_York EST
END:STANDARD
BEGIN:STANDARD
DTSTART:20291104T010000
RDATE:20300310T030000
TZOFFSETFROM:-0400
TZOFFSETTO:-0500
TZNAME:America/New_York EST
END:STANDARD
BEGIN:STANDARD
DTSTART:20301103T010000
RDATE:20310309T030000
TZOFFSETFROM:-0400
TZOFFSETTO:-0500
TZNAME:America/New_York EST
END:STANDARD
BEGIN:DAYLIGHT
DTSTART:20210314T030000
RDATE:20211107T010000
TZOFFSETFROM:-0500
TZOFFSETTO:-0400
TZNAME:America/New_York EDT
END:DAYLIGHT
BEGIN:DAYLIGHT
DTSTART:20220313T030000
RDATE:20221106T010000
TZOFFSETFROM:-0500
TZOFFSETTO:-0400
TZNAME:America/New_York EDT
END:DAYLIGHT
BEGIN:DAYLIGHT
DTSTART:20230312T030000
RDATE:20231105T010000
TZOFFSETFROM:-0500
TZOFFSETTO:-0400
TZNAME:America/New_York EDT
END:DAYLIGHT
BEGIN:DAYLIGHT
DTSTART:20240310T030000
RDATE:20241103T010000
TZOFFSETFROM:-0500
TZOFFSETTO:-0400
TZNAME:America/New_York EDT
END:DAYLIGHT
BEGIN:DAYLIGHT
DTSTART:20250309T030000
RDATE:20251102T010000
TZOFFSETFROM:-0500
TZOFFSETTO:-0400
TZNAME:America/New_York EDT
END:DAYLIGHT
BEGIN:DAYLIGHT
DTSTART:20260308T030000
RDATE:20261101T010000
TZOFFSETFROM:-0500
TZOFFSETTO:-0400
TZNAME:America/New_York EDT
END:DAYLIGHT
BEGIN:DAYLIGHT
DTSTART:20270314T030000
RDATE:20271107T010000
TZOFFSETFROM:-0500
TZOFFSETTO:-0400
TZNAME:America/New_York EDT
END:DAYLIGHT
BEGIN:DAYLIGHT
DTSTART:20280312T030000
RDATE:20281105T010000
TZOFFSETFROM:-0500
TZOFFSETTO:-0400
TZNAME:America/New_York EDT
END:DAYLIGHT
BEGIN:DAYLIGHT
DTSTART:20290311T030000
RDATE:20291104T010000
TZOFFSETFROM:-0500
TZOFFSETTO:-0400
TZNAME:America/New_York EDT
END:DAYLIGHT
BEGIN:DAYLIGHT
DTSTART:20300310T030000
RDATE:20301103T010000
TZOFFSETFROM:-0500
TZOFFSETTO:-0400
TZNAME:America/New_York EDT
END:DAYLIGHT
END:VTIMEZONE
BEGIN:VEVENT
UID:c2df25ab157cdef7749687308dcef47e
CATEGORIES:At Syracuse
CREATED:20211214T152039
SUMMARY:Boot Camp for Weatherization Installers
LOCATION:NYSWDA Training Center - East Syracuse
DESCRIPTION:Boot Camp\n
 \n
Training Location: NYSWDA Training Center (Building 2) - 58
 69 Fisher Road, East Syracuse, NY 13057\n
 \n
Please note we are strictly f
 ollowing the Governor's guidelines.  NYSWDA will now be following the indoo
 r-mask mandate for all attendees regardless of vaccinatination status.  All
  those who who are not vaccinated will be required to wear a mask and to co
 mplete a Student Screening Checklist (images/Student_Screening_Checklist.pd
 f) prior to attending the class.\n
 \n
Who Should Attend;\nEntry level fiel
 d staff and weatherization contractors - see detailed below.\n
 \n
Course D
 escription;\nThis intensive 4-day training based at NYSWDA's Energy Efficie
 ncy Training Center (Building 2) in East Syracuse, is a great introduction 
 to building science principles and hands-on air sealing, dense pack and loo
 se fill cellulose insulation installation. Using our state-of-the-art reali
 stic wall, ceiling and attic props, trainees will learn the techniques need
 ed to effectively weatherize our clients' homes.\n
Â\n
During this course, 
 the trainees will be introduced to both HCR and BPI standards and regulatio
 ns on Health &amp; Safety, Lead Safe work practices and safe and proper use
  of tools and equipment. Trainees will also become proficient on the set up
  of blower doors and understand basic use of an infrared camera during air 
 sealing operations.\n
Â\n
All three HCR mandatory trainings are covered in 
 this course: \n

Air Sealing - mandatory for WX directors, energy auditors,
  post inspectors, crew chiefs and crew personnel
Health &amp; Safety - mand
 atory for WX directors, energy auditors, post inspectors, crew chiefs and h
 eating technicians
\n - Lead Safe Weatherization - mandatory for all employ
 ees who may come in contact with lead based paint while performing their du
 ties\n

Please reference the WAP Policies and Procedures manual for further
  details. The above-listed trainings are mandatory for the positions stated
 . If a subgrantee hires a new employee into one of these postions, or a cur
 rent employee transfers into one of these positions, it is mandatory that t
 hey receive this training within six (6) months of their start date. These 
 mandatory training sessions must be repeated every three (3) years by subgr
 antee personnel who occupy these positions.\n
  \n
Agenda; \nDay One\n
Mond
 ay - 11:00am - 4:30pm: Residential Health &amp; Safety Fundamentals\n
\n
Da
 y Two\n
Tuesday - 9:00am - 4:30pm: Introduction to Building Science and Air
  Sealing Techniques, introduction to infrared cameras, introduction to basi
 c residential framing details with an emphasis on common air sealing areas 
 and building codes requirements for clearance to combustibles.\n
 \n
Day Th
 ree\n
Wednesday - 9:00am - 4:30pm: Lead Safe Work Practices\n
 \n
Day Four\
 n
Thursday - 9:00am - 4:00pm: All day lab session tool/equipment safety, le
 ad safe jobsite setup, air sealing techniques, dense pack and loose fill ce
 llulose installation techniques. Afternoon lab session: fundamentals of blo
 wer door setup and operation, plus jobsite and lead safe cleanup skills, tr
 aining skills review, question and answer session, awarding of Certificates
  of Completion.\n
\nDates;\nCourse covers the dates of January 3-6, 2022\n\
 nStart Times: Monday 11:00am then Tues.-Thurs. 9:00am\n\nEnd Times: Monday 
 - Thursday 4:30pm\n
 \n
Other Notes:\nDue to the nature of the training, al
 l attendees will be required to sign a waiver of liability and a photo/vide
 o release form at the start of the training.\n
\n
Prerequisites: None\n
\nC
 lass Size: 12\n
\nBPI CEU: 16\n
\nInstructors:, Joe Ilacqua, NYSWDA\n\n
\nC
 ourse Fees; \n
$950/person - NY Weatherization Sub-grantees \n
$950/person 
 - affiliate members \n
$1,450/person - non-members \n
 \n
Lunches are inclu
 ded for each day.\n
 \n
**Special note - if you wish to become an Affiliate
  Member, and save off the non-member rate, please contact Drew Ehrlich (315
 -701-0440 ext. 225, This email address is being protected from spambots. Yo
 u need JavaScript enabled to view it.
				document.getElementById('cloakaa4
 f537d86010d07e6b023538a6ef165').innerHTML = '';
				var prefix = 'ma' + 'il
 ' + 'to';
				var path = 'hr' + 'ef' + '=';
				var addyaa4f537d86010d07e6b
 023538a6ef165 = 'dehrlich' + '@';
				addyaa4f537d86010d07e6b023538a6ef165 
 = addyaa4f537d86010d07e6b023538a6ef165 + 'nyswda' + '.' + 'org';
				var ad
 dy_textaa4f537d86010d07e6b023538a6ef165 = 'dehrlich' + '@' + 'nyswda' + '.'
  + 'org';document.getElementById('cloakaa4f537d86010d07e6b023538a6ef165').i
 nnerHTML += '<a ' + path + '\'' + prefix + ':' + addyaa4f537d86010d07e6b023
 538a6ef165 + '\'>'+addy_textaa4f537d86010d07e6b023538a6ef165+'';
		) BEFORE
  YOU REGISTER for the course.\n
 \n
NYSWDA will not be responsible for hote
 l costs, travel to and from the training, breakfast and dinner meals, or in
 cidentals.\n
 \n
Through the support of NYS HCR funding, we are able to pro
 vide quality training at discounted rates to NYSWDA members.\n
 \n
<a href=
 "index.php?option=com_civicrm&amp;task=civicrm/event/register&amp;reset=1&a
 mp;id=14074" style="color: #0000ff;">Click here to register</a> \n
X-ALT-DESC;FMTTYPE=text/html:<p><strong><span style="font-family: Tahoma, sans-serif; color: #336699; fo
 nt-size: 13.5pt;">Boot Camp</span></strong></p><p>&nbsp;</p><p><strong><spa
 n style="font-family: Tahoma, sans-serif; color: #336699; font-size: 13.5pt
 ;">Training Location: NYSWDA Training Center (Building 2) - 5869 Fisher Roa
 d, East Syracuse, NY 13057</span></strong></p><p>&nbsp;</p><p><span style="
 font-family: tahoma, arial, helvetica, sans-serif; font-size: 12pt;"><span 
 style="color: #000000;">Please note we are strictly following the Governor'
 s guidelines.</span>&nbsp; NYSWDA will now be following the indoor-mask man
 date for all attendees regardless of vaccinatination status.&nbsp; All thos
 e who who are not vaccinated will be required to wear a mask and</span><spa
 n style="color: #ff0000;"><span style="font-family: tahoma, arial, helvetic
 a, sans-serif; font-size: 14pt;"><span style="font-size: 12pt;"><span style
 ="color: #000000;">&nbsp;to complete a</span>&nbsp;</span></span><span styl
 e="color: #106141;"><em><strong><span style="font-family: tahoma, arial, he
 lvetica, sans-serif; font-size: 14pt;"><span style="color: #106141;"><a hre
 f="https://www.nyswda.org/images/Student_Screening_Checklist.pdf" style="co
 lor: #106141;">Student Screening Checklist</a></span>&nbsp;</span></strong>
 </em></span><span style="font-family: tahoma, arial, helvetica, sans-serif;
  font-size: 12pt; color: #000000;">prior to attending the class.</span></sp
 an></p><p>&nbsp;</p><p><em><span style="text-decoration: underline;"><span 
 style="font-family: Tahoma, sans-serif; color: black; text-decoration: unde
 rline;"><span style="font-size: 12pt;">Who Should Attend;<br /></span></spa
 n></span></em><span style="font-family: Tahoma, sans-serif; color: black;">
 <span style="font-size: 12pt;"><span>Entry level field staff and weatheriza
 tion contractors - see detailed below.</span></span></span></p><p><span sty
 le="font-family: Tahoma, sans-serif; color: #ffffff;"><span style="font-siz
 e: 12pt;"></span></span>&nbsp;</p><p><em><span style="text-decoration: unde
 rline;"><span style="font-family: Tahoma, sans-serif; color: black; text-de
 coration: underline;"><span style="font-size: 12pt;">Course</span></span></
 span></em><span style="text-decoration: underline;"><span style="font-famil
 y: Tahoma, sans-serif; color: black; text-decoration: underline;"><span sty
 le="font-size: 12pt;"> Description</span></span></span><span style="font-fa
 mily: Tahoma, sans-serif; color: black;"><span style="font-size: 12pt;">;<b
 r /></span></span><span style="font-family: Tahoma, sans-serif; color: blac
 k; font-size: 12pt;">This intensive 4-day training based at NYSWDA's Energy
  Efficiency Training Center (Building 2) in East Syracuse, is a great intro
 duction to building science principles and hands-on air sealing, dense pack
  and loose fill cellulose insulation installation. Using our state-of-the-a
 rt realistic wall, ceiling and attic props, trainees will learn the techniq
 ues needed to effectively weatherize our clients' homes.</span></p><p><span
  style="font-family: Tahoma, sans-serif; color: #ffffff; font-size: 12pt;">
 Â</span></p><p><span style="font-family: Tahoma, sans-serif; color: black; 
 font-size: 12pt;">During this course, the trainees will be introduced to bo
 th HCR and BPI standards and regulations on Health &amp; Safety, Lead Safe 
 work practices and safe and proper use of tools and equipment. Trainees wil
 l also become proficient on the set up of blower doors and understand basic
  use of an infrared camera during air sealing operations.</span></p><p><spa
 n style="font-family: Tahoma, sans-serif; color: #ffffff; font-size: 12pt;"
 >Â</span></p><p><span style="font-family: Tahoma, sans-serif; color: black;
  font-size: 12pt;">All three HCR mandatory trainings are covered in this co
 urse: </span></p><ul><li style="color: black;"><span style="font-family: Ta
 homa, sans-serif; font-size: 12pt;">Air Sealing - mandatory for WX director
 s, energy auditors, post inspectors, crew chiefs and crew personnel</span><
 /li><li style="color: black;"><span style="font-family: Tahoma, sans-serif;
  font-size: 12pt;">Health &amp; Safety - mandatory for WX directors, energy
  auditors, post inspectors, crew chiefs and heating technicians</span></li>
 <li><span style="font-family: Tahoma, sans-serif; color: black; font-size: 
 12pt;">Lead Safe Weatherization - mandatory for all employees who may come 
 in contact with lead based paint while performing their duties<br /></span>
 </li></ul><p><span style="font-family: Tahoma, sans-serif; color: black; fo
 nt-size: 12pt;">Please reference the WAP Policies and Procedures manual for
  further details. The above-listed trainings are mandatory for the position
 s stated. If a subgrantee hires a new employee into one of these postions, 
 or a current employee transfers into one of these positions, it is mandator
 y that they receive this training within six (6) months of their start date
 . These mandatory training sessions must be repeated every three (3) years 
 by subgrantee personnel who occupy these positions.</span></p><p>&nbsp;&nbs
 p;</p><p><span style="font-size: 12pt;"><em><span style="text-decoration: u
 nderline;"><span style="font-family: Tahoma, sans-serif; color: black; text
 -decoration: underline;">Agenda;</span></span></em></span>&nbsp;<br /><span
  style="font-size: 12pt;"><span><span style="font-family: Tahoma, sans-seri
 f; color: black;">Day One</span></span></span></p><p><span style="font-size
 : 12pt;"><span style="font-family: Tahoma, sans-serif; color: black;">Monda
 y - 11:00am - 4:30pm: Residential Health &amp; Safety Fundamentals</span></
 span></p><p><span style="font-size: 12pt; color: #ffffff;"><em><span style=
 "text-decoration: underline;"><span style="font-family: Tahoma, sans-serif;
 "></span></span></em></span></p><p><span style="font-size: 12pt;"><span sty
 le="text-decoration: underline;"><span style="font-family: Tahoma, sans-ser
 if; color: black; text-decoration: underline;">Day Two</span></span></span>
 </p><p><span style="font-size: 12pt;"><span style="font-family: Tahoma, san
 s-serif; color: black;">Tuesday - 9:00am - 4:30pm: Introduction to Building
  Science and Air Sealing Techniques, introduction to infrared cameras, intr
 oduction to basic residential framing details with an emphasis on common ai
 r sealing areas and building codes requirements for clearance to combustibl
 es.</span></span></p><p><span style="font-size: 12pt; color: #ffffff;"><spa
 n style="font-family: Tahoma, sans-serif;"></span></span>&nbsp;</p><p><span
  style="text-decoration: underline;"><span style="font-size: 12pt;"><span s
 tyle="color: black; font-family: Tahoma, sans-serif; text-decoration: under
 line;">Day Three</span></span></span></p><p><span style="font-size: 12pt;">
 <span style="font-family: Tahoma, sans-serif; color: black;">Wednesday - 9:
 00am - 4:30pm: Lead Safe Work Practices</span></span></p><p><span style="fo
 nt-size: 12pt; color: #ffffff;"><span style="font-family: Tahoma, sans-seri
 f;"></span></span>&nbsp;</p><p><span style="text-decoration: underline;"><s
 pan style="font-size: 12pt;"><span style="color: black; font-family: Tahoma
 , sans-serif; text-decoration: underline;">Day Four</span></span></span></p
 ><p><span style="font-size: 12pt;"><span style="font-family: Tahoma, sans-s
 erif; color: black;">Thursday - 9:00am - 4:00pm: All day lab session tool/e
 quipment safety, lead safe jobsite setup, air sealing techniques, dense pac
 k and loose fill cellulose installation techniques. Afternoon lab session: 
 fundamentals of blower door setup and operation, plus jobsite and lead safe
  cleanup skills, training skills review, question and answer session, award
 ing of Certificates of Completion.</span></span></p><p><span style="font-si
 ze: 12pt;"><em><span style="text-decoration: underline;"><span style="font-
 family: Tahoma, sans-serif; color: black; text-decoration: underline;"><br 
 /></span></span></em></span><span style="font-size: 12pt;"><em><span style=
 "text-decoration: underline;"><span style="font-family: Tahoma, sans-serif;
  color: black; text-decoration: underline;">Dates;<br /></span></span></em>
 </span><span style="font-family: tahoma, arial, helvetica, sans-serif; colo
 r: black; font-size: 12pt;">Course covers the dates of January 3-6, 2022<br
  /><br /></span><span style="font-family: tahoma, arial, helvetica, sans-se
 rif; color: black; font-size: 12pt;">Start Times: Monday 11:00am then Tues.
 -Thurs. 9:00am<br /><br /></span><span style="font-family: tahoma, arial, h
 elvetica, sans-serif; color: black; font-size: 12pt;">End Times: Monday - T
 hursday 4:30pm</span></p><p><span style="font-family: Arial, sans-serif; co
 lor: #ffffff; font-size: 12pt;"></span>&nbsp;</p><p><span style="font-size:
  12pt;"><em><span style="text-decoration: underline;"><span style="font-fam
 ily: Tahoma, sans-serif; color: black; text-decoration: underline;">Other N
 otes:</span></span></em><span style="font-family: Tahoma, sans-serif; color
 : black;"><br /></span></span><span style="font-size: 12pt;"><span style="f
 ont-family: Tahoma, sans-serif; color: black;">Due to the nature of the tra
 ining, all attendees will be required to sign a waiver of liability and a p
 hoto/video release form at the start of the training.</span></span></p><p><
 span style="font-family: tahoma, arial, helvetica, sans-serif; font-size: 1
 2pt;"><strong><span style="color: blue;"></span></strong></span></p><p><spa
 n style="font-size: 12pt;"><em><span style="text-decoration: underline;"><s
 pan style="font-family: Tahoma, sans-serif; color: black; text-decoration: 
 underline;">Prerequisites:</span></span></em><em><span style="font-family: 
 Tahoma, sans-serif; color: black;"> </span></em><span style="font-family: T
 ahoma, sans-serif; color: black;">None</span></span></p><p><span style="fon
 t-size: 12pt;"><em><span style="text-decoration: underline;"><span style="f
 ont-family: Tahoma, sans-serif; color: black; text-decoration: underline;">
 <br />Class Size:</span></span></em>&nbsp;<span style="font-family: Tahoma,
  sans-serif;">12</span></span></p><p><span style="font-size: 12pt;"><em><sp
 an style="text-decoration: underline;"><span style="font-family: Tahoma, sa
 ns-serif; color: black; text-decoration: underline;"><br />BPI CEU</span></
 span></em><span style="text-decoration: underline;"><span style="font-famil
 y: Tahoma, sans-serif; color: black; text-decoration: underline;">:</span><
 /span><span style="font-family: Tahoma, sans-serif; color: black;"> 16</spa
 n></span></p><p><span style="font-size: 12pt;"><em><span style="text-decora
 tion: underline;"><span style="font-family: Tahoma, sans-serif; color: blac
 k; text-decoration: underline;"><br /></span></span></em><em><span style="t
 ext-decoration: underline;"><span style="font-family: Tahoma, sans-serif; c
 olor: black; text-decoration: underline;">Instructors:</span></span></em><s
 pan style="font-family: Tahoma, sans-serif; color: black;">, Joe Ilacqua, N
 YSWDA<br /></span></span></p><p><span style="font-size: 12pt;"><em><span st
 yle="text-decoration: underline;"><span style="font-family: Tahoma, sans-se
 rif; color: black; text-decoration: underline;"><br />Course</span></span><
 /em><span style="text-decoration: underline;"><span style="font-family: Tah
 oma, sans-serif; color: black; text-decoration: underline;"> Fees;</span></
 span><span style="font-family: Tahoma, sans-serif; color: black;"> </span><
 /span></p><p><span style="color: #000000;"><span style="font-family: Tahoma
 , sans-serif; font-size: 12pt;">$950/person - NY Weatherization Sub-grantee
 s</span><span style="font-family: Tahoma, sans-serif; font-size: 12pt;"><em
 > </em></span></span></p><p><span style="font-family: Tahoma, sans-serif; c
 olor: #000000; font-size: 12pt;">$950/person - affiliate members </span></p
 ><p><span style="font-family: Tahoma, sans-serif; color: #000000; font-size
 : 12pt;">$1,450/person - non-members </span></p><p>&nbsp;</p><p><span style
 ="font-family: Tahoma; font-size: 12pt; color: #000000;">Lunches are includ
 ed for each day.</span></p><p>&nbsp;</p><p style="margin-top: 0in; margin-r
 ight: 0in; margin-bottom: 0pt;"><strong><i><span style="background: white; 
 color: #02613f; font-family: Georgia, serif;"><span style="font-size: small
 ;">**Special note</span></span></i></strong><strong><i><span style="backgro
 und: white; color: black; font-family: Georgia, serif;"><span style="font-s
 ize: small;">&nbsp;-&nbsp;if you wish to become an Affiliate Member, and&nb
 sp;save off the non-member rate, please contact&nbsp;Drew Ehrlich&nbsp;(315
 -701-0440 ext. 225,&nbsp;</span><span id="cloakaa4f537d86010d07e6b023538a6e
 f165">This email address is being protected from spambots. You need JavaScr
 ipt enabled to view it.</span><script type='text/javascript'>
				document.
 getElementById('cloakaa4f537d86010d07e6b023538a6ef165').innerHTML = '';
			
 	var prefix = 'ma' + 'il' + 'to';
				var path = 'hr' + 'ef' + '=';
				var
  addyaa4f537d86010d07e6b023538a6ef165 = 'dehrlich' + '@';
				addyaa4f537d8
 6010d07e6b023538a6ef165 = addyaa4f537d86010d07e6b023538a6ef165 + 'nyswda' +
  '.' + 'org';
				var addy_textaa4f537d86010d07e6b023538a6ef165 = '<span st
 yle="color: #0000ff; font-size: small;">dehrlich' + '@' + 'nyswda' + '.' + 
 'org</span>';document.getElementById('cloakaa4f537d86010d07e6b023538a6ef165
 ').innerHTML += '<a ' + path + '\'' + prefix + ':' + addyaa4f537d86010d07e6
 b023538a6ef165 + '\'>'+addy_textaa4f537d86010d07e6b023538a6ef165+'<\/a>';
	
 	</script><span style="font-size: small;">)&nbsp;</span></span></i></strong
 ><span style="font-size: small;"><strong><span style="background: white; co
 lor: #02613f; font-family: Georgia, serif;">BEFORE YOU REGISTER&nbsp;</span
 ></strong><em><b><span style="background: white; color: black; font-family:
  Georgia, serif;">for the course</span></b></em><strong><span style="backgr
 ound: white; color: black; font-family: Georgia, serif;">.</span></strong><
 /span></p><p><span style="color: #ff6600; font-family: tahoma, arial, helve
 tica, sans-serif; font-size: 12pt;"><span style="color: #ff6600; font-famil
 y: tahoma, arial, helvetica, sans-serif; font-size: 12pt;"><span style="fon
 t-family: 'Times New Roman'; font-size: small;"></span></span></span>&nbsp;
 </p><p><span style="color: #ffffff;"></span><span style="color: black; font
 -family: Tahoma, sans-serif; font-size: 12pt;">NYSWDA will not be responsib
 le for hotel costs, travel to and from the training, breakfast and dinner m
 eals, or incidentals.</span></p><p>&nbsp;</p><p><strong><em><span style="fo
 nt-size: 10pt; font-family: Georgia, serif; color: #10704d; background: whi
 te;">Through the support of NYS HCR funding, we are able to provide </span>
 </em></strong><em><strong><span style="font-size: 10pt; font-family: Georgi
 a, serif; color: #02613f; background: white;">quality training at&nbsp;disc
 ounted rates to NYSWDA members.</span></strong></em></p><p>&nbsp;</p><p><sp
 an style="color: #0000ff;"><em><strong><span style="font-family: tahoma, ar
 ial, helvetica, sans-serif; font-size: 14pt;"><em><span style="font-family:
  tahoma, arial, helvetica, sans-serif; font-size: 14pt; color: #0000ff;"><s
 pan style="font-family: tahoma, arial, helvetica, sans-serif; font-size: 14
 pt;"><a href="https://www.nyswda.org/index.php?option=com_civicrm&amp;task=
 civicrm/event/register&amp;reset=1&amp;id=14074" style="color: #0000ff;">Cl
 ick here to register</a>&nbsp;</span></span><span style="color: #0000ff;"><
 /span></em><span style="font-family: tahoma, arial, helvetica, sans-serif; 
 font-size: 14pt;"></span><em></em><span style="color: #0000ff;"></span></sp
 an></strong></em></span></p>
CONTACT:This email address is being protected from spambots. You need JavaScript enabled to view it.
				document.getElementById('cloakc1b56bc9db1a7a2a6d64c953d6608a38').innerHTML = '';
				var prefix = '&#109;a' + 'i&#108;' + '&#116;o';
				var path = 'hr' + 'ef' + '=';
				var addyc1b56bc9db1a7a2a6d64c953d6608a38 = 'rv&#105;ss&#101;r' + '&#64;';
				addyc1b56bc9db1a7a2a6d64c953d6608a38 = addyc1b56bc9db1a7a2a6d64c953d6608a38 + 'nyswd&#97;' + '&#46;' + '&#111;rg';
				var addy_textc1b56bc9db1a7a2a6d64c953d6608a38 = 'rv&#105;ss&#101;r' + '&#64;' + 'nyswd&#97;' + '&#46;' + '&#111;rg';document.getElementById('cloakc1b56bc9db1a7a2a6d64c953d6608a38').innerHTML += '<a ' + path + '\'' + prefix + ':' + addyc1b56bc9db1a7a2a6d64c953d6608a38 + '\'>'+addy_textc1b56bc9db1a7a2a6d64c953d6608a38+'';
		
DTSTAMP:20260424T220942
DTSTART;TZID=America/New_York:20220103T090000
DTEND;TZID=America/New_York:20220106T170000
SEQUENCE:0
TRANSP:OPAQUE
END:VEVENT
END:VCALENDAR