BEGIN:VCALENDAR
VERSION:2.0
PRODID:-//jEvents 2.0 for Joomla//EN
CALSCALE:GREGORIAN
METHOD:PUBLISH
BEGIN:VTIMEZONE
TZID:America/New_York
BEGIN:STANDARD
DTSTART:20210117T090000
RDATE:20210314T030000
TZOFFSETFROM:-0400
TZOFFSETTO:-0500
TZNAME:America/New_York EST
END:STANDARD
BEGIN:STANDARD
DTSTART:20211107T010000
RDATE:20220313T030000
TZOFFSETFROM:-0400
TZOFFSETTO:-0500
TZNAME:America/New_York EST
END:STANDARD
BEGIN:STANDARD
DTSTART:20221106T010000
RDATE:20230312T030000
TZOFFSETFROM:-0400
TZOFFSETTO:-0500
TZNAME:America/New_York EST
END:STANDARD
BEGIN:STANDARD
DTSTART:20231105T010000
RDATE:20240310T030000
TZOFFSETFROM:-0400
TZOFFSETTO:-0500
TZNAME:America/New_York EST
END:STANDARD
BEGIN:STANDARD
DTSTART:20241103T010000
RDATE:20250309T030000
TZOFFSETFROM:-0400
TZOFFSETTO:-0500
TZNAME:America/New_York EST
END:STANDARD
BEGIN:STANDARD
DTSTART:20251102T010000
RDATE:20260308T030000
TZOFFSETFROM:-0400
TZOFFSETTO:-0500
TZNAME:America/New_York EST
END:STANDARD
BEGIN:STANDARD
DTSTART:20261101T010000
RDATE:20270314T030000
TZOFFSETFROM:-0400
TZOFFSETTO:-0500
TZNAME:America/New_York EST
END:STANDARD
BEGIN:STANDARD
DTSTART:20271107T010000
RDATE:20280312T030000
TZOFFSETFROM:-0400
TZOFFSETTO:-0500
TZNAME:America/New_York EST
END:STANDARD
BEGIN:STANDARD
DTSTART:20281105T010000
RDATE:20290311T030000
TZOFFSETFROM:-0400
TZOFFSETTO:-0500
TZNAME:America/New_York EST
END:STANDARD
BEGIN:STANDARD
DTSTART:20291104T010000
RDATE:20300310T030000
TZOFFSETFROM:-0400
TZOFFSETTO:-0500
TZNAME:America/New_York EST
END:STANDARD
BEGIN:STANDARD
DTSTART:20301103T010000
RDATE:20310309T030000
TZOFFSETFROM:-0400
TZOFFSETTO:-0500
TZNAME:America/New_York EST
END:STANDARD
BEGIN:DAYLIGHT
DTSTART:20210314T030000
RDATE:20211107T010000
TZOFFSETFROM:-0500
TZOFFSETTO:-0400
TZNAME:America/New_York EDT
END:DAYLIGHT
BEGIN:DAYLIGHT
DTSTART:20220313T030000
RDATE:20221106T010000
TZOFFSETFROM:-0500
TZOFFSETTO:-0400
TZNAME:America/New_York EDT
END:DAYLIGHT
BEGIN:DAYLIGHT
DTSTART:20230312T030000
RDATE:20231105T010000
TZOFFSETFROM:-0500
TZOFFSETTO:-0400
TZNAME:America/New_York EDT
END:DAYLIGHT
BEGIN:DAYLIGHT
DTSTART:20240310T030000
RDATE:20241103T010000
TZOFFSETFROM:-0500
TZOFFSETTO:-0400
TZNAME:America/New_York EDT
END:DAYLIGHT
BEGIN:DAYLIGHT
DTSTART:20250309T030000
RDATE:20251102T010000
TZOFFSETFROM:-0500
TZOFFSETTO:-0400
TZNAME:America/New_York EDT
END:DAYLIGHT
BEGIN:DAYLIGHT
DTSTART:20260308T030000
RDATE:20261101T010000
TZOFFSETFROM:-0500
TZOFFSETTO:-0400
TZNAME:America/New_York EDT
END:DAYLIGHT
BEGIN:DAYLIGHT
DTSTART:20270314T030000
RDATE:20271107T010000
TZOFFSETFROM:-0500
TZOFFSETTO:-0400
TZNAME:America/New_York EDT
END:DAYLIGHT
BEGIN:DAYLIGHT
DTSTART:20280312T030000
RDATE:20281105T010000
TZOFFSETFROM:-0500
TZOFFSETTO:-0400
TZNAME:America/New_York EDT
END:DAYLIGHT
BEGIN:DAYLIGHT
DTSTART:20290311T030000
RDATE:20291104T010000
TZOFFSETFROM:-0500
TZOFFSETTO:-0400
TZNAME:America/New_York EDT
END:DAYLIGHT
BEGIN:DAYLIGHT
DTSTART:20300310T030000
RDATE:20301103T010000
TZOFFSETFROM:-0500
TZOFFSETTO:-0400
TZNAME:America/New_York EDT
END:DAYLIGHT
END:VTIMEZONE
BEGIN:VEVENT
UID:6f38b8c37dd81a7757654e3f9e54b7c2
CATEGORIES:WEB
CREATED:20211214T164346
SUMMARY:Weatherization Health & Safety - Online
LOCATION:NYSWDA - East Syracuse
DESCRIPTION:<p><br />&nbsp;<span style="color: #336699; font-family: tahoma,arial,helve
 tica,sans-serif; font-size: 14pt;"><span style="color: #000000;"><strong><s
 pan style="color: #336699;">Weatherization Health &amp; Safety - Online&nbs
 p;</span></strong></span></span></p><p>&nbsp;</p><p><span style="color: #33
 6699; font-family: tahoma,arial,helvetica,sans-serif; font-size: 14pt;"><sp
 an style="color: #000000;"><strong><span style="color: #336699;">GoToWebina
 r Event</span></strong></span></span></p><p><strong><span style="font-famil
 y: 'Tahoma','sans-serif'; color: #336699; font-size: 13.5pt;"></span></stro
 ng></p><p>&nbsp;</p><p><span style="font-size: 12pt;"><em><span style="text
 -decoration: underline;"><span style="font-family: 'Tahoma','sans-serif'; c
 olor: black;">Course Description:</span></span></em></span>&nbsp;</p><p><sp
 an style="font-family: Tahoma, sans-serif; color: black; font-size: 12pt;">
 This online course will be covered in one day.&nbsp; Class starts at 9:00am
  and will break at noon for an hour lunch.&nbsp; The next half session will
  start at 1:00pm and go until 4:00pm.<br /><br /></span><span style="font-f
 amily: Tahoma, sans-serif; color: black; font-size: 12pt;">Identifying heal
 th and safety issues in client homes is a fundamental task in the Weatheriz
 ation program. This course will prepare the weatherization professional to 
 perform the H&amp;S inspection as well as required tests. Areas to be cover
 ed include: CO in ambient and flue gases, CAZ depressurization, worst case 
 backdrafting, moisture/mold, asbestos, lead, clearances to combustibles, ov
 erloaded electrical circuits, unvented space heating.&nbsp;<br /><br /></sp
 an><span style="font-family: Tahoma, sans-serif; color: black; font-size: 1
 2pt;">This is an HCR mandated training for Weatherization Directors, Audito
 rs, Crew Supervisors and Crews. If you are a new Director or have new staff
 , you are strongly advised to attend.&nbsp; This training requires attendan
 ce every three (3) years.</span>&nbsp;</p><p>&nbsp;</p><p><span style="font
 -family: 'Tahoma', 'sans-serif'; color: black; font-size: 12pt;"></span></p
 ><p><span style="font-size: 12pt;"><em><span style="text-decoration: underl
 ine;"><span style="font-family: 'Tahoma','sans-serif'; color: black;">Class
  Size</span></span></em><span style="font-family: 'Tahoma','sans-serif'; co
 lor: black;">: 25</span></span>&nbsp;<span style="font-family: 'Tahoma', 's
 ans-serif'; color: black; font-size: 12pt;"></span></p><p>&nbsp;</p><p><spa
 n style="font-size: 12pt;"><em><span style="text-decoration: underline;"><s
 pan style="font-family: 'Tahoma','sans-serif'; color: black;">BPI CEU</span
 ></span></em><span style="text-decoration: underline;"><span style="font-fa
 mily: 'Tahoma','sans-serif'; color: black;">:</span></span><span style="fon
 t-family: 'Tahoma','sans-serif'; color: black;">&nbsp;6</span></span></p><p
 ><span style="font-family: 'Tahoma', 'sans-serif'; color: black; font-size:
  12pt;"></span></p><p>&nbsp;</p><p><span style="font-size: 12pt;"><span sty
 le="text-decoration: underline;"><span style="font-family: 'Tahoma','sans-s
 erif'; color: black;"><em>Instructor</em>:</span></span><span style="font-f
 amily: 'Tahoma','sans-serif'; color: black;">&nbsp; Joe Ilacqua &amp; Al Mc
 Mahon</span><span style="font-family: 'Tahoma','sans-serif'; color: black;"
 >&nbsp;- NYSWDA</span></span>&nbsp;</p><p><span style="font-family: 'Tahoma
 ', 'sans-serif'; color: black; font-size: 12pt;"></span></p><p>&nbsp;</p><p
 ><span style="font-size: 12pt;"><em><span style="text-decoration: underline
 ;"><span style="font-family: 'Tahoma','sans-serif'; color: black;">Course F
 ees:&nbsp;</span></span></em></span>&nbsp;</p><p><span style="font-size: 12
 pt;"><span style="color: black; font-family: 'Tahoma','sans-serif';">$262/p
 erson - NY&nbsp;Weatherization Sub-grantees</span></span></p><p><span style
 ="font-size: 12pt;"><span style="color: black; font-family: 'Tahoma','sans-
 serif';">$262/person - affiliate members</span><span style="color: black; f
 ont-family: 'Tahoma','sans-serif';"></span></span></p><p><span style="font-
 size: 12pt;"><span style="color: black; font-family: 'Tahoma','sans-serif';
 ">$380/person - non-members</span><span style="color: black; font-family: '
 Tahoma','sans-serif';"></span><span style="color: black; font-family: 'Taho
 ma','sans-serif';"></span><em><span style="color: black; font-family: 'Taho
 ma','sans-serif';"><br /></span></em></span></p><p>&nbsp;</p><p><span style
 ="color: #0000ff;"><em><strong><span style="font-family: tahoma, arial, hel
 vetica, sans-serif; font-size: 14pt;"><span style="color: #0000ff;"></span>
 </span></strong></em></span><span style="background-color: initial; color: 
 inherit; font-family: inherit; font-size: 1rem;"> </span><em style="backgro
 und-color: initial; color: inherit; font-family: inherit; font-size: 1rem;"
 ><strong><span style="background: white; color: #02613f; font-family: 'Geor
 gia','serif';"><span style="font-size: small;">**Special note</span></span>
 </strong></em><span style="background: white; color: black; font-family: 'G
 eorgia','serif';"><span style="font-size: small;"><i><strong>&nbsp;-&nbsp;i
 f you wish to become an Affiliate Member please contact&nbsp;Drew Ehrlich&n
 bsp;(315-701-0440 ext. 225,&nbsp;</strong></i></span><i><strong><span id="c
 loak4aa9178f9bfdbeceeeb7f61536e61197">This email address is being protected
  from spambots. You need JavaScript enabled to view it.</span><script type=
 'text/javascript'>
				document.getElementById('cloak4aa9178f9bfdbeceeeb7f6
 1536e61197').innerHTML = '';
				var prefix = 'ma' + 'il' + 'to';
				var p
 ath = 'hr' + 'ef' + '=';
				var addy4aa9178f9bfdbeceeeb7f61536e61197 = 'de
 hrlich' + '@';
				addy4aa9178f9bfdbeceeeb7f61536e61197 = addy4aa9178f9bfdb
 eceeeb7f61536e61197 + 'nyswda' + '.' + 'org';
				var addy_text4aa9178f9bfd
 beceeeb7f61536e61197 = '<span style="color: #0000ff; font-size: small;">deh
 rlich' + '@' + 'nyswda' + '.' + 'org</span>';document.getElementById('cloak
 4aa9178f9bfdbeceeeb7f61536e61197').innerHTML += '<a ' + path + '\'' + prefi
 x + ':' + addy4aa9178f9bfdbeceeeb7f61536e61197 + '\'>'+addy_text4aa9178f9bf
 dbeceeeb7f61536e61197+'<\/a>';
		</script><span style="font-size: small;">)
 &nbsp;</span></strong></i></span><i style="background-color: initial; color
 : inherit; font-family: inherit; font-size: 1rem;"></i><span style="font-si
 ze: small;"><strong><span style="background: white; color: #02613f; font-fa
 mily: 'Georgia','serif';">BEFORE YOU REGISTER&nbsp;</span></strong><em><b><
 span style="background: white; color: black; font-family: 'Georgia','serif'
 ;">for the course</span></b></em><strong><span style="background: white; co
 lor: black; font-family: 'Georgia','serif';">.</span></strong></span><span 
 style="background-color: initial; color: inherit; font-family: inherit; fon
 t-size: 1rem;"></span></p><p>&nbsp;</p><p><span style="font-family: georgia
 , palatino; font-size: 10pt;"><strong><em><span style="color: #10704d; back
 ground: white;">Through the support of NYS HCR funding, we are able to prov
 ide </span></em></strong><em><strong><span style="color: #02613f; backgroun
 d: white;">quality training at&nbsp;discounted rates to NYSWDA members.</sp
 an></strong></em></span></p><p>&nbsp;</p><p><span style="font-size: 12pt;">
 <em style="background-color: initial; color: inherit; font-family: inherit;
  font-size: 1rem;"><strong><span style="font-family: tahoma, arial, helveti
 ca, sans-serif; font-size: 14pt; color: #0000ff;"><a href="index.php?option
 =com_civicrm&amp;task=civicrm/event/register&amp;reset=1&amp;id=14076" styl
 e="color: #0000ff;">Click here to register&nbsp;</a>&nbsp;&nbsp;</span><spa
 n style="font-family: Tahoma;"></span><span style="font-family: Tahoma;"></
 span><span style="font-family: Tahoma;"></span><span style="font-family: Ar
 ial, Helvetica;"></span><span style="font-family: Tahoma;"></span><span sty
 le="font-family: Tahoma;"></span><span style="font-family: Tahoma;"></span>
 <span style="font-family: Tahoma;"></span><span style="font-family: Arial, 
 Helvetica;"></span><span style="font-family: Tahoma;"></span><em></em><span
  style="font-size: 14pt;"></span></strong></em></span></p><p><span style="f
 ont-family: 'Arial','sans-serif'; color: black; font-size: 10pt;"></span></
 p><p>&nbsp;</p><p><span style="font-family: 'Arial','sans-serif'; color: bl
 ack; font-size: 10pt;"></span></p><p>&nbsp;</p><p>&nbsp;</p><p>&nbsp;</p><p
 >&nbsp;</p><p>&nbsp;</p>
X-ALT-DESC;FMTTYPE=text/html:<p><br />&nbsp;<span style="color: #336699; font-family: tahoma,arial,helve
 tica,sans-serif; font-size: 14pt;"><span style="color: #000000;"><strong><s
 pan style="color: #336699;">Weatherization Health &amp; Safety - Online&nbs
 p;</span></strong></span></span></p><p>&nbsp;</p><p><span style="color: #33
 6699; font-family: tahoma,arial,helvetica,sans-serif; font-size: 14pt;"><sp
 an style="color: #000000;"><strong><span style="color: #336699;">GoToWebina
 r Event</span></strong></span></span></p><p><strong><span style="font-famil
 y: 'Tahoma','sans-serif'; color: #336699; font-size: 13.5pt;"></span></stro
 ng></p><p>&nbsp;</p><p><span style="font-size: 12pt;"><em><span style="text
 -decoration: underline;"><span style="font-family: 'Tahoma','sans-serif'; c
 olor: black;">Course Description:</span></span></em></span>&nbsp;</p><p><sp
 an style="font-family: Tahoma, sans-serif; color: black; font-size: 12pt;">
 This online course will be covered in one day.&nbsp; Class starts at 9:00am
  and will break at noon for an hour lunch.&nbsp; The next half session will
  start at 1:00pm and go until 4:00pm.<br /><br /></span><span style="font-f
 amily: Tahoma, sans-serif; color: black; font-size: 12pt;">Identifying heal
 th and safety issues in client homes is a fundamental task in the Weatheriz
 ation program. This course will prepare the weatherization professional to 
 perform the H&amp;S inspection as well as required tests. Areas to be cover
 ed include: CO in ambient and flue gases, CAZ depressurization, worst case 
 backdrafting, moisture/mold, asbestos, lead, clearances to combustibles, ov
 erloaded electrical circuits, unvented space heating.&nbsp;<br /><br /></sp
 an><span style="font-family: Tahoma, sans-serif; color: black; font-size: 1
 2pt;">This is an HCR mandated training for Weatherization Directors, Audito
 rs, Crew Supervisors and Crews. If you are a new Director or have new staff
 , you are strongly advised to attend.&nbsp; This training requires attendan
 ce every three (3) years.</span>&nbsp;</p><p>&nbsp;</p><p><span style="font
 -family: 'Tahoma', 'sans-serif'; color: black; font-size: 12pt;"></span></p
 ><p><span style="font-size: 12pt;"><em><span style="text-decoration: underl
 ine;"><span style="font-family: 'Tahoma','sans-serif'; color: black;">Class
  Size</span></span></em><span style="font-family: 'Tahoma','sans-serif'; co
 lor: black;">: 25</span></span>&nbsp;<span style="font-family: 'Tahoma', 's
 ans-serif'; color: black; font-size: 12pt;"></span></p><p>&nbsp;</p><p><spa
 n style="font-size: 12pt;"><em><span style="text-decoration: underline;"><s
 pan style="font-family: 'Tahoma','sans-serif'; color: black;">BPI CEU</span
 ></span></em><span style="text-decoration: underline;"><span style="font-fa
 mily: 'Tahoma','sans-serif'; color: black;">:</span></span><span style="fon
 t-family: 'Tahoma','sans-serif'; color: black;">&nbsp;6</span></span></p><p
 ><span style="font-family: 'Tahoma', 'sans-serif'; color: black; font-size:
  12pt;"></span></p><p>&nbsp;</p><p><span style="font-size: 12pt;"><span sty
 le="text-decoration: underline;"><span style="font-family: 'Tahoma','sans-s
 erif'; color: black;"><em>Instructor</em>:</span></span><span style="font-f
 amily: 'Tahoma','sans-serif'; color: black;">&nbsp; Joe Ilacqua &amp; Al Mc
 Mahon</span><span style="font-family: 'Tahoma','sans-serif'; color: black;"
 >&nbsp;- NYSWDA</span></span>&nbsp;</p><p><span style="font-family: 'Tahoma
 ', 'sans-serif'; color: black; font-size: 12pt;"></span></p><p>&nbsp;</p><p
 ><span style="font-size: 12pt;"><em><span style="text-decoration: underline
 ;"><span style="font-family: 'Tahoma','sans-serif'; color: black;">Course F
 ees:&nbsp;</span></span></em></span>&nbsp;</p><p><span style="font-size: 12
 pt;"><span style="color: black; font-family: 'Tahoma','sans-serif';">$262/p
 erson - NY&nbsp;Weatherization Sub-grantees</span></span></p><p><span style
 ="font-size: 12pt;"><span style="color: black; font-family: 'Tahoma','sans-
 serif';">$262/person - affiliate members</span><span style="color: black; f
 ont-family: 'Tahoma','sans-serif';"></span></span></p><p><span style="font-
 size: 12pt;"><span style="color: black; font-family: 'Tahoma','sans-serif';
 ">$380/person - non-members</span><span style="color: black; font-family: '
 Tahoma','sans-serif';"></span><span style="color: black; font-family: 'Taho
 ma','sans-serif';"></span><em><span style="color: black; font-family: 'Taho
 ma','sans-serif';"><br /></span></em></span></p><p>&nbsp;</p><p><span style
 ="color: #0000ff;"><em><strong><span style="font-family: tahoma, arial, hel
 vetica, sans-serif; font-size: 14pt;"><span style="color: #0000ff;"></span>
 </span></strong></em></span><span style="background-color: initial; color: 
 inherit; font-family: inherit; font-size: 1rem;"> </span><em style="backgro
 und-color: initial; color: inherit; font-family: inherit; font-size: 1rem;"
 ><strong><span style="background: white; color: #02613f; font-family: 'Geor
 gia','serif';"><span style="font-size: small;">**Special note</span></span>
 </strong></em><span style="background: white; color: black; font-family: 'G
 eorgia','serif';"><span style="font-size: small;"><i><strong>&nbsp;-&nbsp;i
 f you wish to become an Affiliate Member please contact&nbsp;Drew Ehrlich&n
 bsp;(315-701-0440 ext. 225,&nbsp;</strong></i></span><i><strong><span id="c
 loak4aa9178f9bfdbeceeeb7f61536e61197">This email address is being protected
  from spambots. You need JavaScript enabled to view it.</span><script type=
 'text/javascript'>
				document.getElementById('cloak4aa9178f9bfdbeceeeb7f6
 1536e61197').innerHTML = '';
				var prefix = 'ma' + 'il' + 'to';
				var p
 ath = 'hr' + 'ef' + '=';
				var addy4aa9178f9bfdbeceeeb7f61536e61197 = 'de
 hrlich' + '@';
				addy4aa9178f9bfdbeceeeb7f61536e61197 = addy4aa9178f9bfdb
 eceeeb7f61536e61197 + 'nyswda' + '.' + 'org';
				var addy_text4aa9178f9bfd
 beceeeb7f61536e61197 = '<span style="color: #0000ff; font-size: small;">deh
 rlich' + '@' + 'nyswda' + '.' + 'org</span>';document.getElementById('cloak
 4aa9178f9bfdbeceeeb7f61536e61197').innerHTML += '<a ' + path + '\'' + prefi
 x + ':' + addy4aa9178f9bfdbeceeeb7f61536e61197 + '\'>'+addy_text4aa9178f9bf
 dbeceeeb7f61536e61197+'<\/a>';
		</script><span style="font-size: small;">)
 &nbsp;</span></strong></i></span><i style="background-color: initial; color
 : inherit; font-family: inherit; font-size: 1rem;"></i><span style="font-si
 ze: small;"><strong><span style="background: white; color: #02613f; font-fa
 mily: 'Georgia','serif';">BEFORE YOU REGISTER&nbsp;</span></strong><em><b><
 span style="background: white; color: black; font-family: 'Georgia','serif'
 ;">for the course</span></b></em><strong><span style="background: white; co
 lor: black; font-family: 'Georgia','serif';">.</span></strong></span><span 
 style="background-color: initial; color: inherit; font-family: inherit; fon
 t-size: 1rem;"></span></p><p>&nbsp;</p><p><span style="font-family: georgia
 , palatino; font-size: 10pt;"><strong><em><span style="color: #10704d; back
 ground: white;">Through the support of NYS HCR funding, we are able to prov
 ide </span></em></strong><em><strong><span style="color: #02613f; backgroun
 d: white;">quality training at&nbsp;discounted rates to NYSWDA members.</sp
 an></strong></em></span></p><p>&nbsp;</p><p><span style="font-size: 12pt;">
 <em style="background-color: initial; color: inherit; font-family: inherit;
  font-size: 1rem;"><strong><span style="font-family: tahoma, arial, helveti
 ca, sans-serif; font-size: 14pt; color: #0000ff;"><a href="https://www.nysw
 da.org/index.php?option=com_civicrm&amp;task=civicrm/event/register&amp;res
 et=1&amp;id=14076" style="color: #0000ff;">Click here to register&nbsp;</a>
 &nbsp;&nbsp;</span><span style="font-family: Tahoma;"></span><span style="f
 ont-family: Tahoma;"></span><span style="font-family: Tahoma;"></span><span
  style="font-family: Arial, Helvetica;"></span><span style="font-family: Ta
 homa;"></span><span style="font-family: Tahoma;"></span><span style="font-f
 amily: Tahoma;"></span><span style="font-family: Tahoma;"></span><span styl
 e="font-family: Arial, Helvetica;"></span><span style="font-family: Tahoma;
 "></span><em></em><span style="font-size: 14pt;"></span></strong></em></spa
 n></p><p><span style="font-family: 'Arial','sans-serif'; color: black; font
 -size: 10pt;"></span></p><p>&nbsp;</p><p><span style="font-family: 'Arial',
 'sans-serif'; color: black; font-size: 10pt;"></span></p><p>&nbsp;</p><p>&n
 bsp;</p><p>&nbsp;</p><p>&nbsp;</p><p>&nbsp;</p>
CONTACT:This email address is being protected from spambots. You need JavaScript enabled to view it.
				document.getElementById('cloakfa1477a66c3c5e05fab208afc1d9d712').innerHTML = '';
				var prefix = '&#109;a' + 'i&#108;' + '&#116;o';
				var path = 'hr' + 'ef' + '=';
				var addyfa1477a66c3c5e05fab208afc1d9d712 = 'rv&#105;ss&#101;r' + '&#64;';
				addyfa1477a66c3c5e05fab208afc1d9d712 = addyfa1477a66c3c5e05fab208afc1d9d712 + 'nyswd&#97;' + '&#46;' + '&#111;rg';
				var addy_textfa1477a66c3c5e05fab208afc1d9d712 = 'rv&#105;ss&#101;r' + '&#64;' + 'nyswd&#97;' + '&#46;' + '&#111;rg';document.getElementById('cloakfa1477a66c3c5e05fab208afc1d9d712').innerHTML += '<a ' + path + '\'' + prefix + ':' + addyfa1477a66c3c5e05fab208afc1d9d712 + '\'>'+addy_textfa1477a66c3c5e05fab208afc1d9d712+'';
		
DTSTAMP:20260424T233343
DTSTART;TZID=America/New_York:20220118T090000
DTEND;TZID=America/New_York:20220118T160000
SEQUENCE:0
TRANSP:OPAQUE
END:VEVENT
END:VCALENDAR