BEGIN:VCALENDAR
VERSION:2.0
PRODID:-//jEvents 2.0 for Joomla//EN
CALSCALE:GREGORIAN
METHOD:PUBLISH
BEGIN:VTIMEZONE
TZID:America/New_York
BEGIN:STANDARD
DTSTART:20210118T090000
RDATE:20210314T030000
TZOFFSETFROM:-0400
TZOFFSETTO:-0500
TZNAME:America/New_York EST
END:STANDARD
BEGIN:STANDARD
DTSTART:20211107T010000
RDATE:20220313T030000
TZOFFSETFROM:-0400
TZOFFSETTO:-0500
TZNAME:America/New_York EST
END:STANDARD
BEGIN:STANDARD
DTSTART:20221106T010000
RDATE:20230312T030000
TZOFFSETFROM:-0400
TZOFFSETTO:-0500
TZNAME:America/New_York EST
END:STANDARD
BEGIN:STANDARD
DTSTART:20231105T010000
RDATE:20240310T030000
TZOFFSETFROM:-0400
TZOFFSETTO:-0500
TZNAME:America/New_York EST
END:STANDARD
BEGIN:STANDARD
DTSTART:20241103T010000
RDATE:20250309T030000
TZOFFSETFROM:-0400
TZOFFSETTO:-0500
TZNAME:America/New_York EST
END:STANDARD
BEGIN:STANDARD
DTSTART:20251102T010000
RDATE:20260308T030000
TZOFFSETFROM:-0400
TZOFFSETTO:-0500
TZNAME:America/New_York EST
END:STANDARD
BEGIN:STANDARD
DTSTART:20261101T010000
RDATE:20270314T030000
TZOFFSETFROM:-0400
TZOFFSETTO:-0500
TZNAME:America/New_York EST
END:STANDARD
BEGIN:STANDARD
DTSTART:20271107T010000
RDATE:20280312T030000
TZOFFSETFROM:-0400
TZOFFSETTO:-0500
TZNAME:America/New_York EST
END:STANDARD
BEGIN:STANDARD
DTSTART:20281105T010000
RDATE:20290311T030000
TZOFFSETFROM:-0400
TZOFFSETTO:-0500
TZNAME:America/New_York EST
END:STANDARD
BEGIN:STANDARD
DTSTART:20291104T010000
RDATE:20300310T030000
TZOFFSETFROM:-0400
TZOFFSETTO:-0500
TZNAME:America/New_York EST
END:STANDARD
BEGIN:STANDARD
DTSTART:20301103T010000
RDATE:20310309T030000
TZOFFSETFROM:-0400
TZOFFSETTO:-0500
TZNAME:America/New_York EST
END:STANDARD
BEGIN:DAYLIGHT
DTSTART:20210314T030000
RDATE:20211107T010000
TZOFFSETFROM:-0500
TZOFFSETTO:-0400
TZNAME:America/New_York EDT
END:DAYLIGHT
BEGIN:DAYLIGHT
DTSTART:20220313T030000
RDATE:20221106T010000
TZOFFSETFROM:-0500
TZOFFSETTO:-0400
TZNAME:America/New_York EDT
END:DAYLIGHT
BEGIN:DAYLIGHT
DTSTART:20230312T030000
RDATE:20231105T010000
TZOFFSETFROM:-0500
TZOFFSETTO:-0400
TZNAME:America/New_York EDT
END:DAYLIGHT
BEGIN:DAYLIGHT
DTSTART:20240310T030000
RDATE:20241103T010000
TZOFFSETFROM:-0500
TZOFFSETTO:-0400
TZNAME:America/New_York EDT
END:DAYLIGHT
BEGIN:DAYLIGHT
DTSTART:20250309T030000
RDATE:20251102T010000
TZOFFSETFROM:-0500
TZOFFSETTO:-0400
TZNAME:America/New_York EDT
END:DAYLIGHT
BEGIN:DAYLIGHT
DTSTART:20260308T030000
RDATE:20261101T010000
TZOFFSETFROM:-0500
TZOFFSETTO:-0400
TZNAME:America/New_York EDT
END:DAYLIGHT
BEGIN:DAYLIGHT
DTSTART:20270314T030000
RDATE:20271107T010000
TZOFFSETFROM:-0500
TZOFFSETTO:-0400
TZNAME:America/New_York EDT
END:DAYLIGHT
BEGIN:DAYLIGHT
DTSTART:20280312T030000
RDATE:20281105T010000
TZOFFSETFROM:-0500
TZOFFSETTO:-0400
TZNAME:America/New_York EDT
END:DAYLIGHT
BEGIN:DAYLIGHT
DTSTART:20290311T030000
RDATE:20291104T010000
TZOFFSETFROM:-0500
TZOFFSETTO:-0400
TZNAME:America/New_York EDT
END:DAYLIGHT
BEGIN:DAYLIGHT
DTSTART:20300310T030000
RDATE:20301103T010000
TZOFFSETFROM:-0500
TZOFFSETTO:-0400
TZNAME:America/New_York EDT
END:DAYLIGHT
END:VTIMEZONE
BEGIN:VEVENT
UID:ee01dc90a3df5b06cb75bca4f47bab6c
CATEGORIES:WEB
CREATED:20211214T170331
SUMMARY:Air Sealing Techniques - Online
LOCATION:NYSWDA - East Syracuse
DESCRIPTION:<p><br />&nbsp;<span style="color: #336699; font-family: tahoma,arial,helve
 tica,sans-serif; font-size: 14pt;"><span style="color: #000000;"><strong><s
 pan style="color: #336699;">Air Sealing Techniques - Online&nbsp;</span></s
 trong></span></span></p><p>&nbsp;</p><p><span style="color: #336699; font-f
 amily: tahoma,arial,helvetica,sans-serif; font-size: 14pt;"><span style="co
 lor: #000000;"><strong><span style="color: #336699;">GoToWebinar Event</spa
 n></strong></span></span></p><p><strong><span style="font-family: 'Tahoma',
 'sans-serif'; color: #336699; font-size: 13.5pt;"></span></strong></p><p>&n
 bsp;</p><p><span style="font-size: 12pt;"><em><span style="text-decoration:
  underline;"><span style="font-family: 'Tahoma','sans-serif'; color: black;
 ">Course Description:</span></span></em></span>&nbsp;</p><p><span style="fo
 nt-family: Tahoma, sans-serif; color: black; font-size: 12pt;"><span style=
 "font-family: Tahoma, sans-serif; color: black; font-size: 12pt;">This onli
 ne course will be covered in one day.&nbsp; Class starts at 9:00am and will
  break at noon for an hour lunch.&nbsp; The next half session will start at
  1:00pm and go until 4:00pm.</span><br /><br /></span><span style="font-fam
 ily: Tahoma, sans-serif; color: black; font-size: 12pt;">This training will
  review procedures meant to optimize a crew's work production so they bette
 r meet their air sealing goals.&nbsp; Using powerpoint and video, the audie
 nce will learn about basic physics that effect air flow, techniques used in
  air sealing, use of blower doors to diagnose problems, prioritizing worksc
 opes, and the use of proper air sealing materials.<br /><br /></span><span 
 style="font-family: Tahoma, sans-serif; color: black; font-size: 12pt;">Thi
 s is an HCR mandated training for Weatherization Directors, Auditors, Crew 
 Supervisors and Crews. If you are a new Director or have new staff, you are
  strongly advised to attend.&nbsp; This training requires attendance every 
 three (3) years.</span>&nbsp;</p><p>&nbsp;</p><p><span style="font-family: 
 'Tahoma', 'sans-serif'; color: black; font-size: 12pt;"></span></p><p><span
  style="font-size: 12pt;"><em><span style="text-decoration: underline;"><sp
 an style="font-family: 'Tahoma','sans-serif'; color: black;">Class Size</sp
 an></span></em><span style="font-family: 'Tahoma','sans-serif'; color: blac
 k;">: 25</span></span>&nbsp;<span style="font-family: 'Tahoma', 'sans-serif
 '; color: black; font-size: 12pt;"></span></p><p>&nbsp;</p><p><span style="
 font-size: 12pt;"><em><span style="text-decoration: underline;"><span style
 ="font-family: 'Tahoma','sans-serif'; color: black;">BPI CEU</span></span><
 /em><span style="text-decoration: underline;"><span style="font-family: 'Ta
 homa','sans-serif'; color: black;">:</span></span><span style="font-family:
  'Tahoma','sans-serif'; color: black;">&nbsp;6</span></span></p><p><span st
 yle="font-family: 'Tahoma', 'sans-serif'; color: black; font-size: 12pt;"><
 /span></p><p>&nbsp;</p><p><span style="font-size: 12pt;"><span style="text-
 decoration: underline;"><span style="font-family: 'Tahoma','sans-serif'; co
 lor: black;"><em>Instructor</em>:</span></span><span style="font-family: 'T
 ahoma','sans-serif'; color: black;">&nbsp; Joe Ilacqua &amp; Al McMahon</sp
 an><span style="font-family: 'Tahoma','sans-serif'; color: black;">&nbsp;- 
 NYSWDA</span></span>&nbsp;</p><p><span style="font-family: 'Tahoma', 'sans-
 serif'; color: black; font-size: 12pt;"></span></p><p>&nbsp;</p><p><span st
 yle="font-size: 12pt;"><em><span style="text-decoration: underline;"><span 
 style="font-family: 'Tahoma','sans-serif'; color: black;">Course Fees:&nbsp
 ;</span></span></em></span>&nbsp;</p><p><span style="font-size: 12pt;"><spa
 n style="color: black; font-family: 'Tahoma','sans-serif';">$262/person - N
 Y&nbsp;Weatherization Sub-grantees</span></span></p><p><span style="font-si
 ze: 12pt;"><span style="color: black; font-family: 'Tahoma','sans-serif';">
 $262/person - affiliate members</span><span style="color: black; font-famil
 y: 'Tahoma','sans-serif';"></span></span></p><p><span style="font-size: 12p
 t;"><span style="color: black; font-family: 'Tahoma','sans-serif';">$380/pe
 rson - non-members</span><span style="color: black; font-family: 'Tahoma','
 sans-serif';"></span><span style="color: black; font-family: 'Tahoma','sans
 -serif';"></span><em><span style="color: black; font-family: 'Tahoma','sans
 -serif';"><br /></span></em></span></p><p>&nbsp;</p><p><span style="color: 
 #0000ff;"><em><strong><span style="font-family: tahoma, arial, helvetica, s
 ans-serif; font-size: 14pt;"><span style="color: #0000ff;"></span></span></
 strong></em></span><span style="background-color: initial; color: inherit; 
 font-family: inherit; font-size: 1rem;"> </span><em style="background-color
 : initial; color: inherit; font-family: inherit; font-size: 1rem;"><strong>
 <span style="background: white; color: #02613f; font-family: 'Georgia','ser
 if';"><span style="font-size: small;">**Special note</span></span></strong>
 </em><span style="background: white; color: black; font-family: 'Georgia','
 serif';"><span style="font-size: small;"><i><strong>&nbsp;-&nbsp;if you wis
 h to become an Affiliate Member please contact&nbsp;Drew Ehrlich&nbsp;(315-
 701-0440 ext. 225,&nbsp;</strong></i></span><i><strong><span id="cloakb5278
 0f387de3e06310cd07768092b25">This email address is being protected from spa
 mbots. You need JavaScript enabled to view it.</span><script type='text/jav
 ascript'>
				document.getElementById('cloakb52780f387de3e06310cd07768092b2
 5').innerHTML = '';
				var prefix = 'ma' + 'il' + 'to';
				var path = 'hr
 ' + 'ef' + '=';
				var addyb52780f387de3e06310cd07768092b25 = 'dehrlich' +
  '@';
				addyb52780f387de3e06310cd07768092b25 = addyb52780f387de3e06310cd0
 7768092b25 + 'nyswda' + '.' + 'org';
				var addy_textb52780f387de3e06310cd
 07768092b25 = '<span style="color: #0000ff; font-size: small;">dehrlich' + 
 '@' + 'nyswda' + '.' + 'org</span>';document.getElementById('cloakb52780f38
 7de3e06310cd07768092b25').innerHTML += '<a ' + path + '\'' + prefix + ':' +
  addyb52780f387de3e06310cd07768092b25 + '\'>'+addy_textb52780f387de3e06310c
 d07768092b25+'<\/a>';
		</script><span style="font-size: small;">)&nbsp;</s
 pan></strong></i></span><i style="background-color: initial; color: inherit
 ; font-family: inherit; font-size: 1rem;"></i><span style="font-size: small
 ;"><strong><span style="background: white; color: #02613f; font-family: 'Ge
 orgia','serif';">BEFORE YOU REGISTER&nbsp;</span></strong><em><b><span styl
 e="background: white; color: black; font-family: 'Georgia','serif';">for th
 e course</span></b></em><strong><span style="background: white; color: blac
 k; font-family: 'Georgia','serif';">.</span></strong></span><span style="ba
 ckground-color: initial; color: inherit; font-family: inherit; font-size: 1
 rem;"></span></p><p>&nbsp;</p><p><strong><em><span style="font-size: 10pt; 
 font-family: Georgia, serif; color: #10704d; background: white;">Through th
 e support of NYS HCR funding, we are able to provide </span></em></strong><
 em><strong><span style="font-size: 10pt; font-family: Georgia, serif; color
 : #02613f; background: white;">quality training at&nbsp;discounted rates to
  NYSWDA members.</span></strong></em></p><p>&nbsp;</p><p>&nbsp;</p><p><em s
 tyle="background-color: initial; color: inherit; font-family: inherit; font
 -size: 1rem;"><span style="font-family: tahoma, arial, helvetica, sans-seri
 f; color: #0000ff; font-size: 14pt;"><strong><span style="color: #0000ff;">
 <a href="index.php?option=com_civicrm&amp;task=civicrm/event/register&amp;r
 eset=1&amp;id=14077" style="color: #0000ff;">Click here to register&nbsp;</
 a></span>&nbsp;</strong></span><span style="font-family: Arial, Helvetica;"
 ></span><span style="font-family: Tahoma;"></span><span style="font-family:
  Arial, Helvetica;"></span><span style="font-family: Tahoma;"></span><span 
 style="font-family: Arial, Helvetica;"></span><span style="font-family: Tah
 oma;"></span><span style="font-family: Tahoma;"></span><span style="font-fa
 mily: Tahoma;"></span><span style="font-family: Arial, Helvetica;"></span><
 span style="font-family: Tahoma;"></span><span style="font-family: Tahoma;"
 ></span><span style="font-family: Tahoma;"></span><span style="font-family:
  Tahoma;"></span><span style="font-family: Arial, Helvetica;"></span><span 
 style="font-family: Tahoma;"></span><em></em><span style="font-size: 14pt;"
 ></span></em><em><span style="font-family: Tahoma, sans-serif; color: black
 ;"><br /></span></em></p><p><span style="font-family: 'Arial','sans-serif';
  color: black; font-size: 10pt;"></span></p><p>&nbsp;</p><p><span style="fo
 nt-family: 'Arial','sans-serif'; color: black; font-size: 10pt;"></span></p
 ><p>&nbsp;</p><p>&nbsp;</p><p>&nbsp;</p><p>&nbsp;</p><p>&nbsp;</p>
X-ALT-DESC;FMTTYPE=text/html:<p><br />&nbsp;<span style="color: #336699; font-family: tahoma,arial,helve
 tica,sans-serif; font-size: 14pt;"><span style="color: #000000;"><strong><s
 pan style="color: #336699;">Air Sealing Techniques - Online&nbsp;</span></s
 trong></span></span></p><p>&nbsp;</p><p><span style="color: #336699; font-f
 amily: tahoma,arial,helvetica,sans-serif; font-size: 14pt;"><span style="co
 lor: #000000;"><strong><span style="color: #336699;">GoToWebinar Event</spa
 n></strong></span></span></p><p><strong><span style="font-family: 'Tahoma',
 'sans-serif'; color: #336699; font-size: 13.5pt;"></span></strong></p><p>&n
 bsp;</p><p><span style="font-size: 12pt;"><em><span style="text-decoration:
  underline;"><span style="font-family: 'Tahoma','sans-serif'; color: black;
 ">Course Description:</span></span></em></span>&nbsp;</p><p><span style="fo
 nt-family: Tahoma, sans-serif; color: black; font-size: 12pt;"><span style=
 "font-family: Tahoma, sans-serif; color: black; font-size: 12pt;">This onli
 ne course will be covered in one day.&nbsp; Class starts at 9:00am and will
  break at noon for an hour lunch.&nbsp; The next half session will start at
  1:00pm and go until 4:00pm.</span><br /><br /></span><span style="font-fam
 ily: Tahoma, sans-serif; color: black; font-size: 12pt;">This training will
  review procedures meant to optimize a crew's work production so they bette
 r meet their air sealing goals.&nbsp; Using powerpoint and video, the audie
 nce will learn about basic physics that effect air flow, techniques used in
  air sealing, use of blower doors to diagnose problems, prioritizing worksc
 opes, and the use of proper air sealing materials.<br /><br /></span><span 
 style="font-family: Tahoma, sans-serif; color: black; font-size: 12pt;">Thi
 s is an HCR mandated training for Weatherization Directors, Auditors, Crew 
 Supervisors and Crews. If you are a new Director or have new staff, you are
  strongly advised to attend.&nbsp; This training requires attendance every 
 three (3) years.</span>&nbsp;</p><p>&nbsp;</p><p><span style="font-family: 
 'Tahoma', 'sans-serif'; color: black; font-size: 12pt;"></span></p><p><span
  style="font-size: 12pt;"><em><span style="text-decoration: underline;"><sp
 an style="font-family: 'Tahoma','sans-serif'; color: black;">Class Size</sp
 an></span></em><span style="font-family: 'Tahoma','sans-serif'; color: blac
 k;">: 25</span></span>&nbsp;<span style="font-family: 'Tahoma', 'sans-serif
 '; color: black; font-size: 12pt;"></span></p><p>&nbsp;</p><p><span style="
 font-size: 12pt;"><em><span style="text-decoration: underline;"><span style
 ="font-family: 'Tahoma','sans-serif'; color: black;">BPI CEU</span></span><
 /em><span style="text-decoration: underline;"><span style="font-family: 'Ta
 homa','sans-serif'; color: black;">:</span></span><span style="font-family:
  'Tahoma','sans-serif'; color: black;">&nbsp;6</span></span></p><p><span st
 yle="font-family: 'Tahoma', 'sans-serif'; color: black; font-size: 12pt;"><
 /span></p><p>&nbsp;</p><p><span style="font-size: 12pt;"><span style="text-
 decoration: underline;"><span style="font-family: 'Tahoma','sans-serif'; co
 lor: black;"><em>Instructor</em>:</span></span><span style="font-family: 'T
 ahoma','sans-serif'; color: black;">&nbsp; Joe Ilacqua &amp; Al McMahon</sp
 an><span style="font-family: 'Tahoma','sans-serif'; color: black;">&nbsp;- 
 NYSWDA</span></span>&nbsp;</p><p><span style="font-family: 'Tahoma', 'sans-
 serif'; color: black; font-size: 12pt;"></span></p><p>&nbsp;</p><p><span st
 yle="font-size: 12pt;"><em><span style="text-decoration: underline;"><span 
 style="font-family: 'Tahoma','sans-serif'; color: black;">Course Fees:&nbsp
 ;</span></span></em></span>&nbsp;</p><p><span style="font-size: 12pt;"><spa
 n style="color: black; font-family: 'Tahoma','sans-serif';">$262/person - N
 Y&nbsp;Weatherization Sub-grantees</span></span></p><p><span style="font-si
 ze: 12pt;"><span style="color: black; font-family: 'Tahoma','sans-serif';">
 $262/person - affiliate members</span><span style="color: black; font-famil
 y: 'Tahoma','sans-serif';"></span></span></p><p><span style="font-size: 12p
 t;"><span style="color: black; font-family: 'Tahoma','sans-serif';">$380/pe
 rson - non-members</span><span style="color: black; font-family: 'Tahoma','
 sans-serif';"></span><span style="color: black; font-family: 'Tahoma','sans
 -serif';"></span><em><span style="color: black; font-family: 'Tahoma','sans
 -serif';"><br /></span></em></span></p><p>&nbsp;</p><p><span style="color: 
 #0000ff;"><em><strong><span style="font-family: tahoma, arial, helvetica, s
 ans-serif; font-size: 14pt;"><span style="color: #0000ff;"></span></span></
 strong></em></span><span style="background-color: initial; color: inherit; 
 font-family: inherit; font-size: 1rem;"> </span><em style="background-color
 : initial; color: inherit; font-family: inherit; font-size: 1rem;"><strong>
 <span style="background: white; color: #02613f; font-family: 'Georgia','ser
 if';"><span style="font-size: small;">**Special note</span></span></strong>
 </em><span style="background: white; color: black; font-family: 'Georgia','
 serif';"><span style="font-size: small;"><i><strong>&nbsp;-&nbsp;if you wis
 h to become an Affiliate Member please contact&nbsp;Drew Ehrlich&nbsp;(315-
 701-0440 ext. 225,&nbsp;</strong></i></span><i><strong><span id="cloakb5278
 0f387de3e06310cd07768092b25">This email address is being protected from spa
 mbots. You need JavaScript enabled to view it.</span><script type='text/jav
 ascript'>
				document.getElementById('cloakb52780f387de3e06310cd07768092b2
 5').innerHTML = '';
				var prefix = 'ma' + 'il' + 'to';
				var path = 'hr
 ' + 'ef' + '=';
				var addyb52780f387de3e06310cd07768092b25 = 'dehrlich' +
  '@';
				addyb52780f387de3e06310cd07768092b25 = addyb52780f387de3e06310cd0
 7768092b25 + 'nyswda' + '.' + 'org';
				var addy_textb52780f387de3e06310cd
 07768092b25 = '<span style="color: #0000ff; font-size: small;">dehrlich' + 
 '@' + 'nyswda' + '.' + 'org</span>';document.getElementById('cloakb52780f38
 7de3e06310cd07768092b25').innerHTML += '<a ' + path + '\'' + prefix + ':' +
  addyb52780f387de3e06310cd07768092b25 + '\'>'+addy_textb52780f387de3e06310c
 d07768092b25+'<\/a>';
		</script><span style="font-size: small;">)&nbsp;</s
 pan></strong></i></span><i style="background-color: initial; color: inherit
 ; font-family: inherit; font-size: 1rem;"></i><span style="font-size: small
 ;"><strong><span style="background: white; color: #02613f; font-family: 'Ge
 orgia','serif';">BEFORE YOU REGISTER&nbsp;</span></strong><em><b><span styl
 e="background: white; color: black; font-family: 'Georgia','serif';">for th
 e course</span></b></em><strong><span style="background: white; color: blac
 k; font-family: 'Georgia','serif';">.</span></strong></span><span style="ba
 ckground-color: initial; color: inherit; font-family: inherit; font-size: 1
 rem;"></span></p><p>&nbsp;</p><p><strong><em><span style="font-size: 10pt; 
 font-family: Georgia, serif; color: #10704d; background: white;">Through th
 e support of NYS HCR funding, we are able to provide </span></em></strong><
 em><strong><span style="font-size: 10pt; font-family: Georgia, serif; color
 : #02613f; background: white;">quality training at&nbsp;discounted rates to
  NYSWDA members.</span></strong></em></p><p>&nbsp;</p><p>&nbsp;</p><p><em s
 tyle="background-color: initial; color: inherit; font-family: inherit; font
 -size: 1rem;"><span style="font-family: tahoma, arial, helvetica, sans-seri
 f; color: #0000ff; font-size: 14pt;"><strong><span style="color: #0000ff;">
 <a href="https://www.nyswda.org/index.php?option=com_civicrm&amp;task=civic
 rm/event/register&amp;reset=1&amp;id=14077" style="color: #0000ff;">Click h
 ere to register&nbsp;</a></span>&nbsp;</strong></span><span style="font-fam
 ily: Arial, Helvetica;"></span><span style="font-family: Tahoma;"></span><s
 pan style="font-family: Arial, Helvetica;"></span><span style="font-family:
  Tahoma;"></span><span style="font-family: Arial, Helvetica;"></span><span 
 style="font-family: Tahoma;"></span><span style="font-family: Tahoma;"></sp
 an><span style="font-family: Tahoma;"></span><span style="font-family: Aria
 l, Helvetica;"></span><span style="font-family: Tahoma;"></span><span style
 ="font-family: Tahoma;"></span><span style="font-family: Tahoma;"></span><s
 pan style="font-family: Tahoma;"></span><span style="font-family: Arial, He
 lvetica;"></span><span style="font-family: Tahoma;"></span><em></em><span s
 tyle="font-size: 14pt;"></span></em><em><span style="font-family: Tahoma, s
 ans-serif; color: black;"><br /></span></em></p><p><span style="font-family
 : 'Arial','sans-serif'; color: black; font-size: 10pt;"></span></p><p>&nbsp
 ;</p><p><span style="font-family: 'Arial','sans-serif'; color: black; font-
 size: 10pt;"></span></p><p>&nbsp;</p><p>&nbsp;</p><p>&nbsp;</p><p>&nbsp;</p
 ><p>&nbsp;</p>
CONTACT:This email address is being protected from spambots. You need JavaScript enabled to view it.
				document.getElementById('cloakbeffa48f60fd0e876fd42252d3811adb').innerHTML = '';
				var prefix = '&#109;a' + 'i&#108;' + '&#116;o';
				var path = 'hr' + 'ef' + '=';
				var addybeffa48f60fd0e876fd42252d3811adb = 'rv&#105;ss&#101;r' + '&#64;';
				addybeffa48f60fd0e876fd42252d3811adb = addybeffa48f60fd0e876fd42252d3811adb + 'nyswd&#97;' + '&#46;' + '&#111;rg';
				var addy_textbeffa48f60fd0e876fd42252d3811adb = 'rv&#105;ss&#101;r' + '&#64;' + 'nyswd&#97;' + '&#46;' + '&#111;rg';document.getElementById('cloakbeffa48f60fd0e876fd42252d3811adb').innerHTML += '<a ' + path + '\'' + prefix + ':' + addybeffa48f60fd0e876fd42252d3811adb + '\'>'+addy_textbeffa48f60fd0e876fd42252d3811adb+'';
		
DTSTAMP:20260424T221120
DTSTART;TZID=America/New_York:20220119T090000
DTEND;TZID=America/New_York:20220119T160000
SEQUENCE:0
TRANSP:OPAQUE
END:VEVENT
END:VCALENDAR