BEGIN:VCALENDAR
VERSION:2.0
PRODID:-//jEvents 2.0 for Joomla//EN
CALSCALE:GREGORIAN
METHOD:PUBLISH
BEGIN:VTIMEZONE
TZID:America/New_York
BEGIN:STANDARD
DTSTART:20210119T090000
RDATE:20210314T030000
TZOFFSETFROM:-0400
TZOFFSETTO:-0500
TZNAME:America/New_York EST
END:STANDARD
BEGIN:STANDARD
DTSTART:20211107T010000
RDATE:20220313T030000
TZOFFSETFROM:-0400
TZOFFSETTO:-0500
TZNAME:America/New_York EST
END:STANDARD
BEGIN:STANDARD
DTSTART:20221106T010000
RDATE:20230312T030000
TZOFFSETFROM:-0400
TZOFFSETTO:-0500
TZNAME:America/New_York EST
END:STANDARD
BEGIN:STANDARD
DTSTART:20231105T010000
RDATE:20240310T030000
TZOFFSETFROM:-0400
TZOFFSETTO:-0500
TZNAME:America/New_York EST
END:STANDARD
BEGIN:STANDARD
DTSTART:20241103T010000
RDATE:20250309T030000
TZOFFSETFROM:-0400
TZOFFSETTO:-0500
TZNAME:America/New_York EST
END:STANDARD
BEGIN:STANDARD
DTSTART:20251102T010000
RDATE:20260308T030000
TZOFFSETFROM:-0400
TZOFFSETTO:-0500
TZNAME:America/New_York EST
END:STANDARD
BEGIN:STANDARD
DTSTART:20261101T010000
RDATE:20270314T030000
TZOFFSETFROM:-0400
TZOFFSETTO:-0500
TZNAME:America/New_York EST
END:STANDARD
BEGIN:STANDARD
DTSTART:20271107T010000
RDATE:20280312T030000
TZOFFSETFROM:-0400
TZOFFSETTO:-0500
TZNAME:America/New_York EST
END:STANDARD
BEGIN:STANDARD
DTSTART:20281105T010000
RDATE:20290311T030000
TZOFFSETFROM:-0400
TZOFFSETTO:-0500
TZNAME:America/New_York EST
END:STANDARD
BEGIN:STANDARD
DTSTART:20291104T010000
RDATE:20300310T030000
TZOFFSETFROM:-0400
TZOFFSETTO:-0500
TZNAME:America/New_York EST
END:STANDARD
BEGIN:STANDARD
DTSTART:20301103T010000
RDATE:20310309T030000
TZOFFSETFROM:-0400
TZOFFSETTO:-0500
TZNAME:America/New_York EST
END:STANDARD
BEGIN:DAYLIGHT
DTSTART:20210314T030000
RDATE:20211107T010000
TZOFFSETFROM:-0500
TZOFFSETTO:-0400
TZNAME:America/New_York EDT
END:DAYLIGHT
BEGIN:DAYLIGHT
DTSTART:20220313T030000
RDATE:20221106T010000
TZOFFSETFROM:-0500
TZOFFSETTO:-0400
TZNAME:America/New_York EDT
END:DAYLIGHT
BEGIN:DAYLIGHT
DTSTART:20230312T030000
RDATE:20231105T010000
TZOFFSETFROM:-0500
TZOFFSETTO:-0400
TZNAME:America/New_York EDT
END:DAYLIGHT
BEGIN:DAYLIGHT
DTSTART:20240310T030000
RDATE:20241103T010000
TZOFFSETFROM:-0500
TZOFFSETTO:-0400
TZNAME:America/New_York EDT
END:DAYLIGHT
BEGIN:DAYLIGHT
DTSTART:20250309T030000
RDATE:20251102T010000
TZOFFSETFROM:-0500
TZOFFSETTO:-0400
TZNAME:America/New_York EDT
END:DAYLIGHT
BEGIN:DAYLIGHT
DTSTART:20260308T030000
RDATE:20261101T010000
TZOFFSETFROM:-0500
TZOFFSETTO:-0400
TZNAME:America/New_York EDT
END:DAYLIGHT
BEGIN:DAYLIGHT
DTSTART:20270314T030000
RDATE:20271107T010000
TZOFFSETFROM:-0500
TZOFFSETTO:-0400
TZNAME:America/New_York EDT
END:DAYLIGHT
BEGIN:DAYLIGHT
DTSTART:20280312T030000
RDATE:20281105T010000
TZOFFSETFROM:-0500
TZOFFSETTO:-0400
TZNAME:America/New_York EDT
END:DAYLIGHT
BEGIN:DAYLIGHT
DTSTART:20290311T030000
RDATE:20291104T010000
TZOFFSETFROM:-0500
TZOFFSETTO:-0400
TZNAME:America/New_York EDT
END:DAYLIGHT
BEGIN:DAYLIGHT
DTSTART:20300310T030000
RDATE:20301103T010000
TZOFFSETFROM:-0500
TZOFFSETTO:-0400
TZNAME:America/New_York EDT
END:DAYLIGHT
END:VTIMEZONE
BEGIN:VEVENT
UID:5d2ed85e9333199ed545c9dbd5381808
CATEGORIES:WEB
CREATED:20211214T171017
SUMMARY:One Day Lead Safe Weatherization - Online
LOCATION:NYSWDA - East Syracuse
DESCRIPTION:<p><br />&nbsp;<span style="color: #336699; font-family: tahoma,arial,helve
 tica,sans-serif; font-size: 14pt;"><span style="color: #000000;"><strong><s
 pan style="color: #336699;">One Day Lead Safe Weatherization - Online&nbsp;
 </span></strong></span></span></p><p>&nbsp;</p><p><span style="color: #3366
 99; font-family: tahoma,arial,helvetica,sans-serif; font-size: 14pt;"><span
  style="color: #000000;"><strong><span style="color: #336699;">GoToWebinar 
 Event</span></strong></span></span></p><p><strong><span style="font-family:
  'Tahoma','sans-serif'; color: #336699; font-size: 13.5pt;"></span></strong
 ></p><p>&nbsp;</p><p><span style="font-size: 12pt;"><em><span style="text-d
 ecoration: underline;"><span style="font-family: 'Tahoma','sans-serif'; col
 or: black;">Course Description:</span></span></em></span>&nbsp;</p><p><span
  style="font-family: Tahoma, sans-serif; color: black; font-size: 12pt;"><s
 pan style="font-family: Tahoma, sans-serif; color: black; font-size: 12pt;"
 >This online course will be covered in one day.&nbsp; Class starts at 9:00a
 m and will break at noon for an hour lunch.&nbsp; The next half session wil
 l start at 1:00pm and go until 4:00pm.</span><br /><br /></span><span style
 ="font-family: tahoma, arial, helvetica, sans-serif; font-size: 12pt;">When
 ever we work on houses that were built before 1978 there is a good chance t
 hat there could be lead based paint on the inside and outside. Disturbing t
 his paint could harm us and the families we work with. This NYSWDA Lead Saf
 e Weatherization Training satisfies the HCR requirement that all Weatheriza
 tion staff working in houses built before 1978 receive training on safe wor
 k practices to reduce exposure to lead dust. NYSWDA uses the DOE curriculum
  which also satisfies the DOE and OSHA requirements for employees working a
 round lead paint. This training is also required for your sub-contractors' 
 employees who work on weatherization units.<br /><br /></span><span style="
 font-family: Tahoma, sans-serif; color: black; font-size: 12pt;">This is an
  HCR mandated training for Weatherization Directors, Auditors, Crew Supervi
 sors and Crews. If you are a new Director or have new staff, you are strong
 ly advised to attend.&nbsp; This training requires attendance every three (
 3) years.</span>&nbsp;</p><p>&nbsp;</p><p><span style="font-family: 'Tahoma
 ', 'sans-serif'; color: black; font-size: 12pt;"></span></p><p><span style=
 "font-size: 12pt;"><em><span style="text-decoration: underline;"><span styl
 e="font-family: 'Tahoma','sans-serif'; color: black;">Class Size</span></sp
 an></em><span style="font-family: 'Tahoma','sans-serif'; color: black;">: 2
 5</span></span>&nbsp;<span style="font-family: 'Tahoma', 'sans-serif'; colo
 r: black; font-size: 12pt;"></span></p><p>&nbsp;</p><p><span style="font-si
 ze: 12pt;"><em><span style="text-decoration: underline;"><span style="font-
 family: 'Tahoma','sans-serif'; color: black;">BPI CEU</span></span></em><sp
 an style="text-decoration: underline;"><span style="font-family: 'Tahoma','
 sans-serif'; color: black;">:</span></span><span style="font-family: 'Tahom
 a','sans-serif'; color: black;">&nbsp;6</span></span></p><p><span style="fo
 nt-family: 'Tahoma', 'sans-serif'; color: black; font-size: 12pt;"></span><
 /p><p>&nbsp;</p><p><span style="font-size: 12pt;"><span style="text-decorat
 ion: underline;"><span style="font-family: 'Tahoma','sans-serif'; color: bl
 ack;"><em>Instructor</em>:</span></span><span style="font-family: 'Tahoma',
 'sans-serif'; color: black;">&nbsp; Joe Ilacqua</span><span style="font-fam
 ily: 'Tahoma','sans-serif'; color: black;">&nbsp;&amp; Al McMahon - NYSWDA<
 /span></span>&nbsp;</p><p><span style="font-family: 'Tahoma', 'sans-serif';
  color: black; font-size: 12pt;"></span></p><p>&nbsp;</p><p><span style="fo
 nt-size: 12pt;"><em><span style="text-decoration: underline;"><span style="
 font-family: 'Tahoma','sans-serif'; color: black;">Course Fees:&nbsp;</span
 ></span></em></span>&nbsp;</p><p><span style="font-size: 12pt;"><span style
 ="color: black; font-family: 'Tahoma','sans-serif';">$262/person - NY&nbsp;
 Weatherization Sub-grantees</span></span></p><p><span style="font-size: 12p
 t;"><span style="color: black; font-family: 'Tahoma','sans-serif';">$262/pe
 rson - affiliate members</span><span style="color: black; font-family: 'Tah
 oma','sans-serif';"></span></span></p><p><span style="font-size: 12pt;"><sp
 an style="color: black; font-family: 'Tahoma','sans-serif';">$380/person - 
 non-members</span><span style="color: black; font-family: 'Tahoma','sans-se
 rif';"></span><span style="color: black; font-family: 'Tahoma','sans-serif'
 ;"></span><em><span style="color: black; font-family: 'Tahoma','sans-serif'
 ;"><br /></span></em></span></p><p>&nbsp;</p><p><span style="color: #0000ff
 ;"><em><strong><span style="font-family: tahoma, arial, helvetica, sans-ser
 if; font-size: 14pt;"><span style="color: #0000ff;"></span></span></strong>
 </em></span><span style="background-color: initial; color: inherit; font-fa
 mily: inherit; font-size: 1rem;"> </span><em style="background-color: initi
 al; color: inherit; font-family: inherit; font-size: 1rem;"><strong><span s
 tyle="background: white; color: #02613f; font-family: 'Georgia','serif';"><
 span style="font-size: small;">**Special note</span></span></strong></em><s
 pan style="background: white; color: black; font-family: 'Georgia','serif';
 "><span style="font-size: small;"><i><strong>&nbsp;-&nbsp;if you wish to be
 come an Affiliate Member please contact&nbsp;Drew Ehrlich&nbsp;(315-701-044
 0 ext. 225,&nbsp;</strong></i></span><i><strong><span id="cloakdb5716e1f14b
 f6bf28f4d37867deee9a">This email address is being protected from spambots. 
 You need JavaScript enabled to view it.</span><script type='text/javascript
 '>
				document.getElementById('cloakdb5716e1f14bf6bf28f4d37867deee9a').inn
 erHTML = '';
				var prefix = 'ma' + 'il' + 'to';
				var path = 'hr' + 'ef
 ' + '=';
				var addydb5716e1f14bf6bf28f4d37867deee9a = 'dehrlich' + '@';
	
 			addydb5716e1f14bf6bf28f4d37867deee9a = addydb5716e1f14bf6bf28f4d37867dee
 e9a + 'nyswda' + '.' + 'org';
				var addy_textdb5716e1f14bf6bf28f4d37867de
 ee9a = '<span style="color: #0000ff; font-size: small;">dehrlich' + '@' + '
 nyswda' + '.' + 'org</span>';document.getElementById('cloakdb5716e1f14bf6bf
 28f4d37867deee9a').innerHTML += '<a ' + path + '\'' + prefix + ':' + addydb
 5716e1f14bf6bf28f4d37867deee9a + '\'>'+addy_textdb5716e1f14bf6bf28f4d37867d
 eee9a+'<\/a>';
		</script><span style="font-size: small;">)&nbsp;</span></s
 trong></i></span><i style="background-color: initial; color: inherit; font-
 family: inherit; font-size: 1rem;"></i><span style="font-size: small;"><str
 ong><span style="background: white; color: #02613f; font-family: 'Georgia',
 'serif';">BEFORE YOU REGISTER&nbsp;</span></strong><em><b><span style="back
 ground: white; color: black; font-family: 'Georgia','serif';">for the cours
 e</span></b></em><strong><span style="background: white; color: black; font
 -family: 'Georgia','serif';">.</span></strong></span><span style="backgroun
 d-color: initial; color: inherit; font-family: inherit; font-size: 1rem;"><
 /span></p><p>&nbsp;</p><p><strong><em><span style="font-size: 10pt; font-fa
 mily: Georgia, serif; color: #10704d; background: white;">Through the suppo
 rt of NYS HCR funding, we are able to provide </span></em></strong><em><str
 ong><span style="font-size: 10pt; font-family: Georgia, serif; color: #0261
 3f; background: white;">quality training at&nbsp;discounted rates to NYSWDA
  members.</span></strong></em></p><p>&nbsp;</p><p><span style="font-family:
  tahoma, arial, helvetica, sans-serif; font-size: 14pt; color: #0000ff;"><e
 m><strong><span style="background: white;"><a href="index.php?option=com_ci
 vicrm&amp;task=civicrm/event/register&amp;reset=1&amp;id=14078" style="colo
 r: #0000ff;">Click here to register</a></span></strong></em></span><span st
 yle="font-size: 12pt;"><em style="background-color: initial; color: inherit
 ; font-family: inherit; font-size: 1rem;"><strong><span style="font-size: 1
 8pt;"></span><span style="font-size: 12pt;"></span></strong></em></span></p
 ><p><span style="font-family: 'Arial','sans-serif'; color: black; font-size
 : 10pt;"></span></p><p>&nbsp;</p><p><span style="font-family: 'Arial','sans
 -serif'; color: black; font-size: 10pt;"></span></p><p>&nbsp;</p><p>&nbsp;<
 /p><p>&nbsp;</p><p>&nbsp;</p><p>&nbsp;</p>
X-ALT-DESC;FMTTYPE=text/html:<p><br />&nbsp;<span style="color: #336699; font-family: tahoma,arial,helve
 tica,sans-serif; font-size: 14pt;"><span style="color: #000000;"><strong><s
 pan style="color: #336699;">One Day Lead Safe Weatherization - Online&nbsp;
 </span></strong></span></span></p><p>&nbsp;</p><p><span style="color: #3366
 99; font-family: tahoma,arial,helvetica,sans-serif; font-size: 14pt;"><span
  style="color: #000000;"><strong><span style="color: #336699;">GoToWebinar 
 Event</span></strong></span></span></p><p><strong><span style="font-family:
  'Tahoma','sans-serif'; color: #336699; font-size: 13.5pt;"></span></strong
 ></p><p>&nbsp;</p><p><span style="font-size: 12pt;"><em><span style="text-d
 ecoration: underline;"><span style="font-family: 'Tahoma','sans-serif'; col
 or: black;">Course Description:</span></span></em></span>&nbsp;</p><p><span
  style="font-family: Tahoma, sans-serif; color: black; font-size: 12pt;"><s
 pan style="font-family: Tahoma, sans-serif; color: black; font-size: 12pt;"
 >This online course will be covered in one day.&nbsp; Class starts at 9:00a
 m and will break at noon for an hour lunch.&nbsp; The next half session wil
 l start at 1:00pm and go until 4:00pm.</span><br /><br /></span><span style
 ="font-family: tahoma, arial, helvetica, sans-serif; font-size: 12pt;">When
 ever we work on houses that were built before 1978 there is a good chance t
 hat there could be lead based paint on the inside and outside. Disturbing t
 his paint could harm us and the families we work with. This NYSWDA Lead Saf
 e Weatherization Training satisfies the HCR requirement that all Weatheriza
 tion staff working in houses built before 1978 receive training on safe wor
 k practices to reduce exposure to lead dust. NYSWDA uses the DOE curriculum
  which also satisfies the DOE and OSHA requirements for employees working a
 round lead paint. This training is also required for your sub-contractors' 
 employees who work on weatherization units.<br /><br /></span><span style="
 font-family: Tahoma, sans-serif; color: black; font-size: 12pt;">This is an
  HCR mandated training for Weatherization Directors, Auditors, Crew Supervi
 sors and Crews. If you are a new Director or have new staff, you are strong
 ly advised to attend.&nbsp; This training requires attendance every three (
 3) years.</span>&nbsp;</p><p>&nbsp;</p><p><span style="font-family: 'Tahoma
 ', 'sans-serif'; color: black; font-size: 12pt;"></span></p><p><span style=
 "font-size: 12pt;"><em><span style="text-decoration: underline;"><span styl
 e="font-family: 'Tahoma','sans-serif'; color: black;">Class Size</span></sp
 an></em><span style="font-family: 'Tahoma','sans-serif'; color: black;">: 2
 5</span></span>&nbsp;<span style="font-family: 'Tahoma', 'sans-serif'; colo
 r: black; font-size: 12pt;"></span></p><p>&nbsp;</p><p><span style="font-si
 ze: 12pt;"><em><span style="text-decoration: underline;"><span style="font-
 family: 'Tahoma','sans-serif'; color: black;">BPI CEU</span></span></em><sp
 an style="text-decoration: underline;"><span style="font-family: 'Tahoma','
 sans-serif'; color: black;">:</span></span><span style="font-family: 'Tahom
 a','sans-serif'; color: black;">&nbsp;6</span></span></p><p><span style="fo
 nt-family: 'Tahoma', 'sans-serif'; color: black; font-size: 12pt;"></span><
 /p><p>&nbsp;</p><p><span style="font-size: 12pt;"><span style="text-decorat
 ion: underline;"><span style="font-family: 'Tahoma','sans-serif'; color: bl
 ack;"><em>Instructor</em>:</span></span><span style="font-family: 'Tahoma',
 'sans-serif'; color: black;">&nbsp; Joe Ilacqua</span><span style="font-fam
 ily: 'Tahoma','sans-serif'; color: black;">&nbsp;&amp; Al McMahon - NYSWDA<
 /span></span>&nbsp;</p><p><span style="font-family: 'Tahoma', 'sans-serif';
  color: black; font-size: 12pt;"></span></p><p>&nbsp;</p><p><span style="fo
 nt-size: 12pt;"><em><span style="text-decoration: underline;"><span style="
 font-family: 'Tahoma','sans-serif'; color: black;">Course Fees:&nbsp;</span
 ></span></em></span>&nbsp;</p><p><span style="font-size: 12pt;"><span style
 ="color: black; font-family: 'Tahoma','sans-serif';">$262/person - NY&nbsp;
 Weatherization Sub-grantees</span></span></p><p><span style="font-size: 12p
 t;"><span style="color: black; font-family: 'Tahoma','sans-serif';">$262/pe
 rson - affiliate members</span><span style="color: black; font-family: 'Tah
 oma','sans-serif';"></span></span></p><p><span style="font-size: 12pt;"><sp
 an style="color: black; font-family: 'Tahoma','sans-serif';">$380/person - 
 non-members</span><span style="color: black; font-family: 'Tahoma','sans-se
 rif';"></span><span style="color: black; font-family: 'Tahoma','sans-serif'
 ;"></span><em><span style="color: black; font-family: 'Tahoma','sans-serif'
 ;"><br /></span></em></span></p><p>&nbsp;</p><p><span style="color: #0000ff
 ;"><em><strong><span style="font-family: tahoma, arial, helvetica, sans-ser
 if; font-size: 14pt;"><span style="color: #0000ff;"></span></span></strong>
 </em></span><span style="background-color: initial; color: inherit; font-fa
 mily: inherit; font-size: 1rem;"> </span><em style="background-color: initi
 al; color: inherit; font-family: inherit; font-size: 1rem;"><strong><span s
 tyle="background: white; color: #02613f; font-family: 'Georgia','serif';"><
 span style="font-size: small;">**Special note</span></span></strong></em><s
 pan style="background: white; color: black; font-family: 'Georgia','serif';
 "><span style="font-size: small;"><i><strong>&nbsp;-&nbsp;if you wish to be
 come an Affiliate Member please contact&nbsp;Drew Ehrlich&nbsp;(315-701-044
 0 ext. 225,&nbsp;</strong></i></span><i><strong><span id="cloakdb5716e1f14b
 f6bf28f4d37867deee9a">This email address is being protected from spambots. 
 You need JavaScript enabled to view it.</span><script type='text/javascript
 '>
				document.getElementById('cloakdb5716e1f14bf6bf28f4d37867deee9a').inn
 erHTML = '';
				var prefix = 'ma' + 'il' + 'to';
				var path = 'hr' + 'ef
 ' + '=';
				var addydb5716e1f14bf6bf28f4d37867deee9a = 'dehrlich' + '@';
	
 			addydb5716e1f14bf6bf28f4d37867deee9a = addydb5716e1f14bf6bf28f4d37867dee
 e9a + 'nyswda' + '.' + 'org';
				var addy_textdb5716e1f14bf6bf28f4d37867de
 ee9a = '<span style="color: #0000ff; font-size: small;">dehrlich' + '@' + '
 nyswda' + '.' + 'org</span>';document.getElementById('cloakdb5716e1f14bf6bf
 28f4d37867deee9a').innerHTML += '<a ' + path + '\'' + prefix + ':' + addydb
 5716e1f14bf6bf28f4d37867deee9a + '\'>'+addy_textdb5716e1f14bf6bf28f4d37867d
 eee9a+'<\/a>';
		</script><span style="font-size: small;">)&nbsp;</span></s
 trong></i></span><i style="background-color: initial; color: inherit; font-
 family: inherit; font-size: 1rem;"></i><span style="font-size: small;"><str
 ong><span style="background: white; color: #02613f; font-family: 'Georgia',
 'serif';">BEFORE YOU REGISTER&nbsp;</span></strong><em><b><span style="back
 ground: white; color: black; font-family: 'Georgia','serif';">for the cours
 e</span></b></em><strong><span style="background: white; color: black; font
 -family: 'Georgia','serif';">.</span></strong></span><span style="backgroun
 d-color: initial; color: inherit; font-family: inherit; font-size: 1rem;"><
 /span></p><p>&nbsp;</p><p><strong><em><span style="font-size: 10pt; font-fa
 mily: Georgia, serif; color: #10704d; background: white;">Through the suppo
 rt of NYS HCR funding, we are able to provide </span></em></strong><em><str
 ong><span style="font-size: 10pt; font-family: Georgia, serif; color: #0261
 3f; background: white;">quality training at&nbsp;discounted rates to NYSWDA
  members.</span></strong></em></p><p>&nbsp;</p><p><span style="font-family:
  tahoma, arial, helvetica, sans-serif; font-size: 14pt; color: #0000ff;"><e
 m><strong><span style="background: white;"><a href="https://www.nyswda.org/
 index.php?option=com_civicrm&amp;task=civicrm/event/register&amp;reset=1&am
 p;id=14078" style="color: #0000ff;">Click here to register</a></span></stro
 ng></em></span><span style="font-size: 12pt;"><em style="background-color: 
 initial; color: inherit; font-family: inherit; font-size: 1rem;"><strong><s
 pan style="font-size: 18pt;"></span><span style="font-size: 12pt;"></span><
 /strong></em></span></p><p><span style="font-family: 'Arial','sans-serif'; 
 color: black; font-size: 10pt;"></span></p><p>&nbsp;</p><p><span style="fon
 t-family: 'Arial','sans-serif'; color: black; font-size: 10pt;"></span></p>
 <p>&nbsp;</p><p>&nbsp;</p><p>&nbsp;</p><p>&nbsp;</p><p>&nbsp;</p>
CONTACT:This email address is being protected from spambots. You need JavaScript enabled to view it.
				document.getElementById('cloakdd80d62bb0d4865d61a57af62804f6e5').innerHTML = '';
				var prefix = '&#109;a' + 'i&#108;' + '&#116;o';
				var path = 'hr' + 'ef' + '=';
				var addydd80d62bb0d4865d61a57af62804f6e5 = 'rv&#105;ss&#101;r' + '&#64;';
				addydd80d62bb0d4865d61a57af62804f6e5 = addydd80d62bb0d4865d61a57af62804f6e5 + 'nyswd&#97;' + '&#46;' + '&#111;rg';
				var addy_textdd80d62bb0d4865d61a57af62804f6e5 = 'rv&#105;ss&#101;r' + '&#64;' + 'nyswd&#97;' + '&#46;' + '&#111;rg';document.getElementById('cloakdd80d62bb0d4865d61a57af62804f6e5').innerHTML += '<a ' + path + '\'' + prefix + ':' + addydd80d62bb0d4865d61a57af62804f6e5 + '\'>'+addy_textdd80d62bb0d4865d61a57af62804f6e5+'';
		
DTSTAMP:20260424T233426
DTSTART;TZID=America/New_York:20220120T090000
DTEND;TZID=America/New_York:20220120T160000
SEQUENCE:0
TRANSP:OPAQUE
END:VEVENT
END:VCALENDAR