BEGIN:VCALENDAR
VERSION:2.0
PRODID:-//jEvents 2.0 for Joomla//EN
CALSCALE:GREGORIAN
METHOD:PUBLISH
BEGIN:VTIMEZONE
TZID:America/New_York
BEGIN:STANDARD
DTSTART:20211107T010000
RDATE:20220313T030000
TZOFFSETFROM:-0400
TZOFFSETTO:-0500
TZNAME:America/New_York EST
END:STANDARD
BEGIN:STANDARD
DTSTART:20221106T010000
RDATE:20230312T030000
TZOFFSETFROM:-0400
TZOFFSETTO:-0500
TZNAME:America/New_York EST
END:STANDARD
BEGIN:STANDARD
DTSTART:20231105T010000
RDATE:20240310T030000
TZOFFSETFROM:-0400
TZOFFSETTO:-0500
TZNAME:America/New_York EST
END:STANDARD
BEGIN:STANDARD
DTSTART:20241103T010000
RDATE:20250309T030000
TZOFFSETFROM:-0400
TZOFFSETTO:-0500
TZNAME:America/New_York EST
END:STANDARD
BEGIN:STANDARD
DTSTART:20251102T010000
RDATE:20260308T030000
TZOFFSETFROM:-0400
TZOFFSETTO:-0500
TZNAME:America/New_York EST
END:STANDARD
BEGIN:STANDARD
DTSTART:20261101T010000
RDATE:20270314T030000
TZOFFSETFROM:-0400
TZOFFSETTO:-0500
TZNAME:America/New_York EST
END:STANDARD
BEGIN:STANDARD
DTSTART:20271107T010000
RDATE:20280312T030000
TZOFFSETFROM:-0400
TZOFFSETTO:-0500
TZNAME:America/New_York EST
END:STANDARD
BEGIN:STANDARD
DTSTART:20281105T010000
RDATE:20290311T030000
TZOFFSETFROM:-0400
TZOFFSETTO:-0500
TZNAME:America/New_York EST
END:STANDARD
BEGIN:STANDARD
DTSTART:20291104T010000
RDATE:20300310T030000
TZOFFSETFROM:-0400
TZOFFSETTO:-0500
TZNAME:America/New_York EST
END:STANDARD
BEGIN:STANDARD
DTSTART:20301103T010000
RDATE:20310309T030000
TZOFFSETFROM:-0400
TZOFFSETTO:-0500
TZNAME:America/New_York EST
END:STANDARD
BEGIN:DAYLIGHT
DTSTART:20210410T090000
RDATE:20211107T010000
TZOFFSETFROM:-0500
TZOFFSETTO:-0400
TZNAME:America/New_York EDT
END:DAYLIGHT
BEGIN:DAYLIGHT
DTSTART:20220313T030000
RDATE:20221106T010000
TZOFFSETFROM:-0500
TZOFFSETTO:-0400
TZNAME:America/New_York EDT
END:DAYLIGHT
BEGIN:DAYLIGHT
DTSTART:20230312T030000
RDATE:20231105T010000
TZOFFSETFROM:-0500
TZOFFSETTO:-0400
TZNAME:America/New_York EDT
END:DAYLIGHT
BEGIN:DAYLIGHT
DTSTART:20240310T030000
RDATE:20241103T010000
TZOFFSETFROM:-0500
TZOFFSETTO:-0400
TZNAME:America/New_York EDT
END:DAYLIGHT
BEGIN:DAYLIGHT
DTSTART:20250309T030000
RDATE:20251102T010000
TZOFFSETFROM:-0500
TZOFFSETTO:-0400
TZNAME:America/New_York EDT
END:DAYLIGHT
BEGIN:DAYLIGHT
DTSTART:20260308T030000
RDATE:20261101T010000
TZOFFSETFROM:-0500
TZOFFSETTO:-0400
TZNAME:America/New_York EDT
END:DAYLIGHT
BEGIN:DAYLIGHT
DTSTART:20270314T030000
RDATE:20271107T010000
TZOFFSETFROM:-0500
TZOFFSETTO:-0400
TZNAME:America/New_York EDT
END:DAYLIGHT
BEGIN:DAYLIGHT
DTSTART:20280312T030000
RDATE:20281105T010000
TZOFFSETFROM:-0500
TZOFFSETTO:-0400
TZNAME:America/New_York EDT
END:DAYLIGHT
BEGIN:DAYLIGHT
DTSTART:20290311T030000
RDATE:20291104T010000
TZOFFSETFROM:-0500
TZOFFSETTO:-0400
TZNAME:America/New_York EDT
END:DAYLIGHT
BEGIN:DAYLIGHT
DTSTART:20300310T030000
RDATE:20301103T010000
TZOFFSETFROM:-0500
TZOFFSETTO:-0400
TZNAME:America/New_York EDT
END:DAYLIGHT
END:VTIMEZONE
BEGIN:VEVENT
UID:0a7d173bec97d857bead22ee8c38fae5
CATEGORIES:At Syracuse
CREATED:20220323T132234
SUMMARY:Boot Camp for Weatherization Installers
LOCATION:NYSWDA Training Center - East Syracuse
DESCRIPTION:Boot Camp\n
 \n
Training Location: NYSWDA Training Center (Building 2) - 58
 69 Fisher Road, East Syracuse, NY 13057\n
 \n
Please note we are strictly f
 ollowing the Governor's guidelines.  NYSWDA will now be following the indoo
 r-mask mandate for all attendees regardless of vaccinatination status.  All
  those who who are not vaccinated will be required to wear a mask and to co
 mplete a Student Screening Checklist (images/Student_Screening_Checklist.pd
 f) prior to attending the class.\n
 \n
Who Should Attend;\nEntry level fiel
 d staff and weatherization contractors - see detailed below.\n
 \n
Course D
 escription;\nThis intensive 4-day training based at NYSWDA's Energy Efficie
 ncy Training Center (Building 2) in East Syracuse, is a great introduction 
 to building science principles and hands-on air sealing, dense pack and loo
 se fill cellulose insulation installation. Using our state-of-the-art reali
 stic wall, ceiling and attic props, trainees will learn the techniques need
 ed to effectively weatherize our clients' homes.\n
Â\n
During this course, 
 the trainees will be introduced to both HCR and BPI standards and regulatio
 ns on Health &amp; Safety, Lead Safe work practices and safe and proper use
  of tools and equipment. Trainees will also become proficient on the set up
  of blower doors and understand basic use of an infrared camera during air 
 sealing operations.\n
Â\n
All three HCR mandatory trainings are covered in 
 this course: \n

Air Sealing - mandatory for WX directors, energy auditors,
  post inspectors, crew chiefs and crew personnel
Health &amp; Safety - mand
 atory for WX directors, energy auditors, post inspectors, crew chiefs and h
 eating technicians
\n - Lead Safe Weatherization - mandatory for all employ
 ees who may come in contact with lead based paint while performing their du
 ties\n

Please reference the WAP Policies and Procedures manual for further
  details. The above-listed trainings are mandatory for the positions stated
 . If a subgrantee hires a new employee into one of these postions, or a cur
 rent employee transfers into one of these positions, it is mandatory that t
 hey receive this training within six (6) months of their start date. These 
 mandatory training sessions must be repeated every three (3) years by subgr
 antee personnel who occupy these positions.\n
  \n
Agenda; \nDay One\n
Mond
 ay - 11:00am - 4:30pm: Residential Health &amp; Safety Fundamentals\n
\n
Da
 y Two\n
Tuesday - 9:00am - 4:30pm: Introduction to Building Science and Air
  Sealing Techniques, introduction to infrared cameras, introduction to basi
 c residential framing details with an emphasis on common air sealing areas 
 and building codes requirements for clearance to combustibles.\n
 \n
Day Th
 ree\n
Wednesday - 9:00am - 4:30pm: Lead Safe Work Practices\n
 \n
Day Four\
 n
Thursday - 9:00am - 4:00pm: All day lab session tool/equipment safety, le
 ad safe jobsite setup, air sealing techniques, dense pack and loose fill ce
 llulose installation techniques. Afternoon lab session: fundamentals of blo
 wer door setup and operation, plus jobsite and lead safe cleanup skills, tr
 aining skills review, question and answer session, awarding of Certificates
  of Completion.\n
\nDates;\nCourse covers the dates of April 11 - 14, 2022\
 n\nStart Times: Monday 11:00am then Tues.-Thurs. 9:00am\n\nEnd Times: Monda
 y - Thursday 4:30pm\n
 \n
Other Notes:\nDue to the nature of the training, 
 all attendees will be required to sign a waiver of liability and a photo/vi
 deo release form at the start of the training.\n
\n
Prerequisites: None\n
\
 nClass Size: 8\n
\nBPI CEU: 16\n
\nInstructors:, Joe Ilacqua, NYSWDA\n\n
\n
 Course Fees; \n
$950/person - NY Weatherization Sub-grantees \n
$950/person
  - affiliate members \n
$1,450/person - non-members \n
 \n
Lunches are incl
 uded for each day.\n
 \n
**Special note - if you wish to become an Affiliat
 e Member, and save off the non-member rate, please contact Drew Ehrlich (31
 5-701-0440 ext. 225, This email address is being protected from spambots. Y
 ou need JavaScript enabled to view it.
				document.getElementById('cloak82
 b9109a8062ce2b47e4ee5e8d475c53').innerHTML = '';
				var prefix = 'ma' + 'i
 l' + 'to';
				var path = 'hr' + 'ef' + '=';
				var addy82b9109a8062ce2b47
 e4ee5e8d475c53 = 'dehrlich' + '@';
				addy82b9109a8062ce2b47e4ee5e8d475c53
  = addy82b9109a8062ce2b47e4ee5e8d475c53 + 'nyswda' + '.' + 'org';
				var a
 ddy_text82b9109a8062ce2b47e4ee5e8d475c53 = 'dehrlich' + '@' + 'nyswda' + '.
 ' + 'org';document.getElementById('cloak82b9109a8062ce2b47e4ee5e8d475c53').
 innerHTML += '<a ' + path + '\'' + prefix + ':' + addy82b9109a8062ce2b47e4e
 e5e8d475c53 + '\'>'+addy_text82b9109a8062ce2b47e4ee5e8d475c53+'';
		) BEFOR
 E YOU REGISTER for the course.\n
 \n
NYSWDA will not be responsible for hot
 el costs, travel to and from the training, breakfast and dinner meals, or i
 ncidentals.\n
 \n
Through the support of NYS HCR funding, we are able to pr
 ovide quality training at discounted rates to NYSWDA members.\n
 \n
CLASS F
 ULL - call or email  This email address is being protected from spambots. Y
 ou need JavaScript enabled to view it.
				document.getElementById('cloaka0
 d24d1623060622471d009988d82d24').innerHTML = '';
				var prefix = 'ma' + 'i
 l' + 'to';
				var path = 'hr' + 'ef' + '=';
				var addya0d24d162306062247
 1d009988d82d24 = 'rvisser' + '@';
				addya0d24d1623060622471d009988d82d24 
 = addya0d24d1623060622471d009988d82d24 + 'nyswda' + '.' + 'org';
				var ad
 dy_texta0d24d1623060622471d009988d82d24 = 'rvisser' + '@' + 'nyswda' + '.' 
 + 'org';document.getElementById('cloaka0d24d1623060622471d009988d82d24').in
 nerHTML += '<a ' + path + '\'' + prefix + ':' + addya0d24d1623060622471d009
 988d82d24 + '\'>'+addy_texta0d24d1623060622471d009988d82d24+'';
		 for avai
 lability or wait list \n
X-ALT-DESC;FMTTYPE=text/html:<p><strong><span style="font-family: Tahoma, sans-serif; color: #336699; fo
 nt-size: 13.5pt;">Boot Camp</span></strong></p><p>&nbsp;</p><p><strong><spa
 n style="font-family: Tahoma, sans-serif; color: #336699; font-size: 13.5pt
 ;">Training Location: NYSWDA Training Center (Building 2) - 5869 Fisher Roa
 d, East Syracuse, NY 13057</span></strong></p><p>&nbsp;</p><p><span style="
 font-family: tahoma, arial, helvetica, sans-serif; font-size: 12pt;"><span 
 style="color: #000000;">Please note we are strictly following the Governor'
 s guidelines.</span>&nbsp; NYSWDA will now be following the indoor-mask man
 date for all attendees regardless of vaccinatination status.&nbsp; All thos
 e who who are not vaccinated will be required to wear a mask and</span><spa
 n style="color: #ff0000;"><span style="font-family: tahoma, arial, helvetic
 a, sans-serif; font-size: 14pt;"><span style="font-size: 12pt;"><span style
 ="color: #000000;">&nbsp;to complete a</span>&nbsp;</span></span><span styl
 e="color: #106141;"><em><strong><span style="font-family: tahoma, arial, he
 lvetica, sans-serif; font-size: 14pt;"><span style="color: #106141;"><a hre
 f="https://www.nyswda.org/images/Student_Screening_Checklist.pdf" style="co
 lor: #106141;">Student Screening Checklist</a></span>&nbsp;</span></strong>
 </em></span><span style="font-family: tahoma, arial, helvetica, sans-serif;
  font-size: 12pt; color: #000000;">prior to attending the class.</span></sp
 an></p><p>&nbsp;</p><p><em><span style="text-decoration: underline;"><span 
 style="font-family: Tahoma, sans-serif; color: black; text-decoration: unde
 rline;"><span style="font-size: 12pt;">Who Should Attend;<br /></span></spa
 n></span></em><span style="font-family: Tahoma, sans-serif; color: black;">
 <span style="font-size: 12pt;"><span>Entry level field staff and weatheriza
 tion contractors - see detailed below.</span></span></span></p><p><span sty
 le="font-family: Tahoma, sans-serif; color: #ffffff;"><span style="font-siz
 e: 12pt;"></span></span>&nbsp;</p><p><em><span style="text-decoration: unde
 rline;"><span style="font-family: Tahoma, sans-serif; color: black; text-de
 coration: underline;"><span style="font-size: 12pt;">Course</span></span></
 span></em><span style="text-decoration: underline;"><span style="font-famil
 y: Tahoma, sans-serif; color: black; text-decoration: underline;"><span sty
 le="font-size: 12pt;"> Description</span></span></span><span style="font-fa
 mily: Tahoma, sans-serif; color: black;"><span style="font-size: 12pt;">;<b
 r /></span></span><span style="font-family: Tahoma, sans-serif; color: blac
 k; font-size: 12pt;">This intensive 4-day training based at NYSWDA's Energy
  Efficiency Training Center (Building 2) in East Syracuse, is a great intro
 duction to building science principles and hands-on air sealing, dense pack
  and loose fill cellulose insulation installation. Using our state-of-the-a
 rt realistic wall, ceiling and attic props, trainees will learn the techniq
 ues needed to effectively weatherize our clients' homes.</span></p><p><span
  style="font-family: Tahoma, sans-serif; color: #ffffff; font-size: 12pt;">
 Â</span></p><p><span style="font-family: Tahoma, sans-serif; color: black; 
 font-size: 12pt;">During this course, the trainees will be introduced to bo
 th HCR and BPI standards and regulations on Health &amp; Safety, Lead Safe 
 work practices and safe and proper use of tools and equipment. Trainees wil
 l also become proficient on the set up of blower doors and understand basic
  use of an infrared camera during air sealing operations.</span></p><p><spa
 n style="font-family: Tahoma, sans-serif; color: #ffffff; font-size: 12pt;"
 >Â</span></p><p><span style="font-family: Tahoma, sans-serif; color: black;
  font-size: 12pt;">All three HCR mandatory trainings are covered in this co
 urse: </span></p><ul><li style="color: black;"><span style="font-family: Ta
 homa, sans-serif; font-size: 12pt;">Air Sealing - mandatory for WX director
 s, energy auditors, post inspectors, crew chiefs and crew personnel</span><
 /li><li style="color: black;"><span style="font-family: Tahoma, sans-serif;
  font-size: 12pt;">Health &amp; Safety - mandatory for WX directors, energy
  auditors, post inspectors, crew chiefs and heating technicians</span></li>
 <li><span style="font-family: Tahoma, sans-serif; color: black; font-size: 
 12pt;">Lead Safe Weatherization - mandatory for all employees who may come 
 in contact with lead based paint while performing their duties<br /></span>
 </li></ul><p><span style="font-family: Tahoma, sans-serif; color: black; fo
 nt-size: 12pt;">Please reference the WAP Policies and Procedures manual for
  further details. The above-listed trainings are mandatory for the position
 s stated. If a subgrantee hires a new employee into one of these postions, 
 or a current employee transfers into one of these positions, it is mandator
 y that they receive this training within six (6) months of their start date
 . These mandatory training sessions must be repeated every three (3) years 
 by subgrantee personnel who occupy these positions.</span></p><p>&nbsp;&nbs
 p;</p><p><span style="font-size: 12pt;"><em><span style="text-decoration: u
 nderline;"><span style="font-family: Tahoma, sans-serif; color: black; text
 -decoration: underline;">Agenda;</span></span></em></span>&nbsp;<br /><span
  style="font-size: 12pt;"><span><span style="font-family: Tahoma, sans-seri
 f; color: black;">Day One</span></span></span></p><p><span style="font-size
 : 12pt;"><span style="font-family: Tahoma, sans-serif; color: black;">Monda
 y - 11:00am - 4:30pm: Residential Health &amp; Safety Fundamentals</span></
 span></p><p><span style="font-size: 12pt; color: #ffffff;"><em><span style=
 "text-decoration: underline;"><span style="font-family: Tahoma, sans-serif;
 "></span></span></em></span></p><p><span style="font-size: 12pt;"><span sty
 le="text-decoration: underline;"><span style="font-family: Tahoma, sans-ser
 if; color: black; text-decoration: underline;">Day Two</span></span></span>
 </p><p><span style="font-size: 12pt;"><span style="font-family: Tahoma, san
 s-serif; color: black;">Tuesday - 9:00am - 4:30pm: Introduction to Building
  Science and Air Sealing Techniques, introduction to infrared cameras, intr
 oduction to basic residential framing details with an emphasis on common ai
 r sealing areas and building codes requirements for clearance to combustibl
 es.</span></span></p><p><span style="font-size: 12pt; color: #ffffff;"><spa
 n style="font-family: Tahoma, sans-serif;"></span></span>&nbsp;</p><p><span
  style="text-decoration: underline;"><span style="font-size: 12pt;"><span s
 tyle="color: black; font-family: Tahoma, sans-serif; text-decoration: under
 line;">Day Three</span></span></span></p><p><span style="font-size: 12pt;">
 <span style="font-family: Tahoma, sans-serif; color: black;">Wednesday - 9:
 00am - 4:30pm: Lead Safe Work Practices</span></span></p><p><span style="fo
 nt-size: 12pt; color: #ffffff;"><span style="font-family: Tahoma, sans-seri
 f;"></span></span>&nbsp;</p><p><span style="text-decoration: underline;"><s
 pan style="font-size: 12pt;"><span style="color: black; font-family: Tahoma
 , sans-serif; text-decoration: underline;">Day Four</span></span></span></p
 ><p><span style="font-size: 12pt;"><span style="font-family: Tahoma, sans-s
 erif; color: black;">Thursday - 9:00am - 4:00pm: All day lab session tool/e
 quipment safety, lead safe jobsite setup, air sealing techniques, dense pac
 k and loose fill cellulose installation techniques. Afternoon lab session: 
 fundamentals of blower door setup and operation, plus jobsite and lead safe
  cleanup skills, training skills review, question and answer session, award
 ing of Certificates of Completion.</span></span></p><p><span style="font-si
 ze: 12pt;"><em><span style="text-decoration: underline;"><span style="font-
 family: Tahoma, sans-serif; color: black; text-decoration: underline;"><br 
 /></span></span></em></span><span style="font-size: 12pt;"><em><span style=
 "text-decoration: underline;"><span style="font-family: Tahoma, sans-serif;
  color: black; text-decoration: underline;">Dates;<br /></span></span></em>
 </span><span style="font-family: tahoma, arial, helvetica, sans-serif; colo
 r: black; font-size: 12pt;">Course covers the dates of April 11 - 14, 2022<
 br /><br /></span><span style="font-family: tahoma, arial, helvetica, sans-
 serif; color: black; font-size: 12pt;">Start Times: Monday 11:00am then Tue
 s.-Thurs. 9:00am<br /><br /></span><span style="font-family: tahoma, arial,
  helvetica, sans-serif; color: black; font-size: 12pt;">End Times: Monday -
  Thursday 4:30pm</span></p><p><span style="font-family: Arial, sans-serif; 
 color: #ffffff; font-size: 12pt;"></span>&nbsp;</p><p><span style="font-siz
 e: 12pt;"><em><span style="text-decoration: underline;"><span style="font-f
 amily: Tahoma, sans-serif; color: black; text-decoration: underline;">Other
  Notes:</span></span></em><span style="font-family: Tahoma, sans-serif; col
 or: black;"><br /></span></span><span style="font-size: 12pt;"><span style=
 "font-family: Tahoma, sans-serif; color: black;">Due to the nature of the t
 raining, all attendees will be required to sign a waiver of liability and a
  photo/video release form at the start of the training.</span></span></p><p
 ><span style="font-family: tahoma, arial, helvetica, sans-serif; font-size:
  12pt;"><strong><span style="color: blue;"></span></strong></span></p><p><s
 pan style="font-size: 12pt;"><em><span style="text-decoration: underline;">
 <span style="font-family: Tahoma, sans-serif; color: black; text-decoration
 : underline;">Prerequisites:</span></span></em><em><span style="font-family
 : Tahoma, sans-serif; color: black;"> </span></em><span style="font-family:
  Tahoma, sans-serif; color: black;">None</span></span></p><p><span style="f
 ont-size: 12pt;"><em><span style="text-decoration: underline;"><span style=
 "font-family: Tahoma, sans-serif; color: black; text-decoration: underline;
 "><br />Class Size:</span></span></em>&nbsp;<span style="font-family: Tahom
 a, sans-serif;">8</span></span></p><p><span style="font-size: 12pt;"><em><s
 pan style="text-decoration: underline;"><span style="font-family: Tahoma, s
 ans-serif; color: black; text-decoration: underline;"><br />BPI CEU</span><
 /span></em><span style="text-decoration: underline;"><span style="font-fami
 ly: Tahoma, sans-serif; color: black; text-decoration: underline;">:</span>
 </span><span style="font-family: Tahoma, sans-serif; color: black;"> 16</sp
 an></span></p><p><span style="font-size: 12pt;"><em><span style="text-decor
 ation: underline;"><span style="font-family: Tahoma, sans-serif; color: bla
 ck; text-decoration: underline;"><br /></span></span></em><em><span style="
 text-decoration: underline;"><span style="font-family: Tahoma, sans-serif; 
 color: black; text-decoration: underline;">Instructors:</span></span></em><
 span style="font-family: Tahoma, sans-serif; color: black;">, Joe Ilacqua, 
 NYSWDA<br /></span></span></p><p><span style="font-size: 12pt;"><em><span s
 tyle="text-decoration: underline;"><span style="font-family: Tahoma, sans-s
 erif; color: black; text-decoration: underline;"><br />Course</span></span>
 </em><span style="text-decoration: underline;"><span style="font-family: Ta
 homa, sans-serif; color: black; text-decoration: underline;"> Fees;</span><
 /span><span style="font-family: Tahoma, sans-serif; color: black;"> </span>
 </span></p><p><span style="color: #000000;"><span style="font-family: Tahom
 a, sans-serif; font-size: 12pt;">$950/person - NY Weatherization Sub-grante
 es</span><span style="font-family: Tahoma, sans-serif; font-size: 12pt;"><e
 m> </em></span></span></p><p><span style="font-family: Tahoma, sans-serif; 
 color: #000000; font-size: 12pt;">$950/person - affiliate members </span></
 p><p><span style="font-family: Tahoma, sans-serif; color: #000000; font-siz
 e: 12pt;">$1,450/person - non-members </span></p><p>&nbsp;</p><p><span styl
 e="font-family: Tahoma; font-size: 12pt; color: #000000;">Lunches are inclu
 ded for each day.</span></p><p>&nbsp;</p><p style="margin-top: 0in; margin-
 right: 0in; margin-bottom: 0pt;"><strong><i><span style="background: white;
  color: #02613f; font-family: Georgia, serif;"><span style="font-size: smal
 l;">**Special note</span></span></i></strong><strong><i><span style="backgr
 ound: white; color: black; font-family: Georgia, serif;"><span style="font-
 size: small;">&nbsp;-&nbsp;if you wish to become an Affiliate Member, and&n
 bsp;save off the non-member rate, please contact&nbsp;Drew Ehrlich&nbsp;(31
 5-701-0440 ext. 225,&nbsp;</span><span id="cloak82b9109a8062ce2b47e4ee5e8d4
 75c53">This email address is being protected from spambots. You need JavaSc
 ript enabled to view it.</span><script type='text/javascript'>
				document
 .getElementById('cloak82b9109a8062ce2b47e4ee5e8d475c53').innerHTML = '';
		
 		var prefix = 'ma' + 'il' + 'to';
				var path = 'hr' + 'ef' + '=';
				va
 r addy82b9109a8062ce2b47e4ee5e8d475c53 = 'dehrlich' + '@';
				addy82b9109a
 8062ce2b47e4ee5e8d475c53 = addy82b9109a8062ce2b47e4ee5e8d475c53 + 'nyswda' 
 + '.' + 'org';
				var addy_text82b9109a8062ce2b47e4ee5e8d475c53 = '<span s
 tyle="color: #0000ff; font-size: small;">dehrlich' + '@' + 'nyswda' + '.' +
  'org</span>';document.getElementById('cloak82b9109a8062ce2b47e4ee5e8d475c5
 3').innerHTML += '<a ' + path + '\'' + prefix + ':' + addy82b9109a8062ce2b4
 7e4ee5e8d475c53 + '\'>'+addy_text82b9109a8062ce2b47e4ee5e8d475c53+'<\/a>';

 		</script><span style="font-size: small;">)&nbsp;</span></span></i></stron
 g><span style="font-size: small;"><strong><span style="background: white; c
 olor: #02613f; font-family: Georgia, serif;">BEFORE YOU REGISTER&nbsp;</spa
 n></strong><em><b><span style="background: white; color: black; font-family
 : Georgia, serif;">for the course</span></b></em><strong><span style="backg
 round: white; color: black; font-family: Georgia, serif;">.</span></strong>
 </span></p><p><span style="color: #ff6600; font-family: tahoma, arial, helv
 etica, sans-serif; font-size: 12pt;"><span style="color: #ff6600; font-fami
 ly: tahoma, arial, helvetica, sans-serif; font-size: 12pt;"><span style="fo
 nt-family: 'Times New Roman'; font-size: small;"></span></span></span>&nbsp
 ;</p><p><span style="color: #ffffff;"></span><span style="color: black; fon
 t-family: Tahoma, sans-serif; font-size: 12pt;">NYSWDA will not be responsi
 ble for hotel costs, travel to and from the training, breakfast and dinner 
 meals, or incidentals.</span></p><p>&nbsp;</p><p><strong><em><span style="f
 ont-size: 10pt; font-family: Georgia, serif; color: #10704d; background: wh
 ite;">Through the support of NYS HCR funding, we are able to provide </span
 ></em></strong><em><strong><span style="font-size: 10pt; font-family: Georg
 ia, serif; color: #02613f; background: white;">quality training at&nbsp;dis
 counted rates to NYSWDA members.</span></strong></em></p><p>&nbsp;</p><p><s
 pan style="color: #0000ff;"><em><strong><span style="font-family: tahoma, a
 rial, helvetica, sans-serif; font-size: 14pt;"><span style="color: #0000ff;
 "><span style="font-family: tahoma, arial, helvetica, sans-serif; font-size
 : 14pt;"><span style="font-family: tahoma,arial,helvetica,sans-serif; font-
 size: 14pt;"><strong><em><strong><span style="color: #ffffff; font-family: 
 tahoma,arial,helvetica,sans-serif; font-size: 14pt;"><span style="color: #f
 f0000;">CLASS FULL - call or email</span>&nbsp; <span id="cloaka0d24d162306
 0622471d009988d82d24">This email address is being protected from spambots. 
 You need JavaScript enabled to view it.</span><script type='text/javascript
 '>
				document.getElementById('cloaka0d24d1623060622471d009988d82d24').inn
 erHTML = '';
				var prefix = 'ma' + 'il' + 'to';
				var path = 'hr' + 'ef
 ' + '=';
				var addya0d24d1623060622471d009988d82d24 = 'rvisser' + '@';
		
 		addya0d24d1623060622471d009988d82d24 = addya0d24d1623060622471d009988d82d
 24 + 'nyswda' + '.' + 'org';
				var addy_texta0d24d1623060622471d009988d82
 d24 = '<span style="color: #0066cc;">rvisser' + '@' + 'nyswda' + '.' + 'org
 </span>';document.getElementById('cloaka0d24d1623060622471d009988d82d24').i
 nnerHTML += '<a ' + path + '\'' + prefix + ':' + addya0d24d1623060622471d00
 9988d82d24 + '\'>'+addy_texta0d24d1623060622471d009988d82d24+'<\/a>';
		</s
 cript> <span style="color: #ff0000;">for availability or wait list</span></
 span></strong></em><span style="color: #ffffff;"></span></strong><span styl
 e="font-family: tahoma, arial, helvetica, sans-serif; font-size: 14pt;"></s
 pan></span><span style="font-family: tahoma, arial, helvetica, sans-serif; 
 font-size: 14pt;"></span><span style="font-family: tahoma, arial, helvetica
 , sans-serif; font-size: 14pt;"></span></span><em></em><span style="color: 
 #0000ff;"></span>&nbsp;</span></span></strong></em></span></p>
CONTACT:This email address is being protected from spambots. You need JavaScript enabled to view it.
				document.getElementById('cloak2afeccdfb82b42178d6377e10f19b45c').innerHTML = '';
				var prefix = '&#109;a' + 'i&#108;' + '&#116;o';
				var path = 'hr' + 'ef' + '=';
				var addy2afeccdfb82b42178d6377e10f19b45c = 'rv&#105;ss&#101;r' + '&#64;';
				addy2afeccdfb82b42178d6377e10f19b45c = addy2afeccdfb82b42178d6377e10f19b45c + 'nyswd&#97;' + '&#46;' + '&#111;rg';
				var addy_text2afeccdfb82b42178d6377e10f19b45c = 'rv&#105;ss&#101;r' + '&#64;' + 'nyswd&#97;' + '&#46;' + '&#111;rg';document.getElementById('cloak2afeccdfb82b42178d6377e10f19b45c').innerHTML += '<a ' + path + '\'' + prefix + ':' + addy2afeccdfb82b42178d6377e10f19b45c + '\'>'+addy_text2afeccdfb82b42178d6377e10f19b45c+'';
		
DTSTAMP:20260424T233347
DTSTART;TZID=America/New_York:20220411T090000
DTEND;TZID=America/New_York:20220414T170000
SEQUENCE:0
TRANSP:OPAQUE
END:VEVENT
END:VCALENDAR