BEGIN:VCALENDAR
VERSION:2.0
PRODID:-//jEvents 2.0 for Joomla//EN
CALSCALE:GREGORIAN
METHOD:PUBLISH
BEGIN:VTIMEZONE
TZID:America/New_York
BEGIN:STANDARD
DTSTART:20211107T010000
RDATE:20220313T030000
TZOFFSETFROM:-0400
TZOFFSETTO:-0500
TZNAME:America/New_York EST
END:STANDARD
BEGIN:STANDARD
DTSTART:20221106T010000
RDATE:20230312T030000
TZOFFSETFROM:-0400
TZOFFSETTO:-0500
TZNAME:America/New_York EST
END:STANDARD
BEGIN:STANDARD
DTSTART:20231105T010000
RDATE:20240310T030000
TZOFFSETFROM:-0400
TZOFFSETTO:-0500
TZNAME:America/New_York EST
END:STANDARD
BEGIN:STANDARD
DTSTART:20241103T010000
RDATE:20250309T030000
TZOFFSETFROM:-0400
TZOFFSETTO:-0500
TZNAME:America/New_York EST
END:STANDARD
BEGIN:STANDARD
DTSTART:20251102T010000
RDATE:20260308T030000
TZOFFSETFROM:-0400
TZOFFSETTO:-0500
TZNAME:America/New_York EST
END:STANDARD
BEGIN:STANDARD
DTSTART:20261101T010000
RDATE:20270314T030000
TZOFFSETFROM:-0400
TZOFFSETTO:-0500
TZNAME:America/New_York EST
END:STANDARD
BEGIN:STANDARD
DTSTART:20271107T010000
RDATE:20280312T030000
TZOFFSETFROM:-0400
TZOFFSETTO:-0500
TZNAME:America/New_York EST
END:STANDARD
BEGIN:STANDARD
DTSTART:20281105T010000
RDATE:20290311T030000
TZOFFSETFROM:-0400
TZOFFSETTO:-0500
TZNAME:America/New_York EST
END:STANDARD
BEGIN:STANDARD
DTSTART:20291104T010000
RDATE:20300310T030000
TZOFFSETFROM:-0400
TZOFFSETTO:-0500
TZNAME:America/New_York EST
END:STANDARD
BEGIN:STANDARD
DTSTART:20301103T010000
RDATE:20310309T030000
TZOFFSETFROM:-0400
TZOFFSETTO:-0500
TZNAME:America/New_York EST
END:STANDARD
BEGIN:DAYLIGHT
DTSTART:20210419T090000
RDATE:20211107T010000
TZOFFSETFROM:-0500
TZOFFSETTO:-0400
TZNAME:America/New_York EDT
END:DAYLIGHT
BEGIN:DAYLIGHT
DTSTART:20220313T030000
RDATE:20221106T010000
TZOFFSETFROM:-0500
TZOFFSETTO:-0400
TZNAME:America/New_York EDT
END:DAYLIGHT
BEGIN:DAYLIGHT
DTSTART:20230312T030000
RDATE:20231105T010000
TZOFFSETFROM:-0500
TZOFFSETTO:-0400
TZNAME:America/New_York EDT
END:DAYLIGHT
BEGIN:DAYLIGHT
DTSTART:20240310T030000
RDATE:20241103T010000
TZOFFSETFROM:-0500
TZOFFSETTO:-0400
TZNAME:America/New_York EDT
END:DAYLIGHT
BEGIN:DAYLIGHT
DTSTART:20250309T030000
RDATE:20251102T010000
TZOFFSETFROM:-0500
TZOFFSETTO:-0400
TZNAME:America/New_York EDT
END:DAYLIGHT
BEGIN:DAYLIGHT
DTSTART:20260308T030000
RDATE:20261101T010000
TZOFFSETFROM:-0500
TZOFFSETTO:-0400
TZNAME:America/New_York EDT
END:DAYLIGHT
BEGIN:DAYLIGHT
DTSTART:20270314T030000
RDATE:20271107T010000
TZOFFSETFROM:-0500
TZOFFSETTO:-0400
TZNAME:America/New_York EDT
END:DAYLIGHT
BEGIN:DAYLIGHT
DTSTART:20280312T030000
RDATE:20281105T010000
TZOFFSETFROM:-0500
TZOFFSETTO:-0400
TZNAME:America/New_York EDT
END:DAYLIGHT
BEGIN:DAYLIGHT
DTSTART:20290311T030000
RDATE:20291104T010000
TZOFFSETFROM:-0500
TZOFFSETTO:-0400
TZNAME:America/New_York EDT
END:DAYLIGHT
BEGIN:DAYLIGHT
DTSTART:20300310T030000
RDATE:20301103T010000
TZOFFSETFROM:-0500
TZOFFSETTO:-0400
TZNAME:America/New_York EDT
END:DAYLIGHT
END:VTIMEZONE
BEGIN:VEVENT
UID:b12cb8c2c4a1cae46da596c4b2a20d9e
CATEGORIES:At Syracuse
CREATED:20220411T164828
SUMMARY:EPA RRP Lead Renovator Certification
LOCATION:NYSWDA Training Center - East Syracuse
DESCRIPTION:EPA RRP Lead Renovator (Initial) \n
 \n
Location:  NYSWDA Training Center -
  5869 Fisher Road, East Syracuse, NY  13057\n
 \n
Please note we are strict
 ly following the Governor's guidelines.  NYSWDA will now allow vaccinated a
 ttendees to be unmasked at the training center.  All those who who are not 
 vaccinated will be required to wear a mask and to complete a Student Screen
 ing Checklist (images/Student_Screening_Checklist.pdf) prior to attending t
 he class.\n
 \n
This training is for:\nClass open to all attendees, includi
 ng construction and weatherization contractors.\n\n\nCourse Description:\nT
 he US Environmental Protection Agency (EPA) published the Lead; Renovation,
  Repair and Painting Program that requires each contractor working on pre-1
 978 residences to have an EPA Certified Renovator on-site while jobs are se
 t up and cleaned up. The certified person will be responsible for documenti
 ng that all work was done in a lead safe manner. \n\nThis is a 1-day course
  with approximately 6 hours classroom and 2 hours hands-on lab work, follow
 ed by a multiple choice written test. Upon course completion, attendees wil
 l receive a Lead Renovator card from the training provider (NYSWDA). This c
 ertification requires a five year renewal.\n\n\nPrerequisites: \nfor WAP on
 ly- must have completed the One-Day Lead Safe Weatherization training\n\n\n
 Class Size: 8\n\n\nBPI CEU: 4\n\n\nInstructor: \nAl McMahon, EPA qualified 
 RRP Lead Renovator Instructor\n\n\nCourse Fees: \n$172/person - NY Weatheri
 zation Sub-grantees\n$172/person - affiliate members\n$250/person - non-mem
 bers \n
 \n
Course fees include DO NOT lunch \n
 \n
**Special note - if you
  wish to become an Affiliate Member, and save off the non-member rate, plea
 se contact Karen McMahon (315-701-0440 ext. 223, This email address is bein
 g protected from spambots. You need JavaScript enabled to view it.
				docu
 ment.getElementById('cloak03c327ffe58b83ca3363735df7830d9b').innerHTML = ''
 ;
				var prefix = 'ma' + 'il' + 'to';
				var path = 'hr' + 'ef' + '=';
		
 		var addy03c327ffe58b83ca3363735df7830d9b = 'dehrlich' + '@';
				addy03c3
 27ffe58b83ca3363735df7830d9b = addy03c327ffe58b83ca3363735df7830d9b + 'nysw
 da' + '.' + 'org';
				var addy_text03c327ffe58b83ca3363735df7830d9b = 'kmc
 mahon' + '@' + 'nyswda' + '.' + 'org';document.getElementById('cloak03c327f
 fe58b83ca3363735df7830d9b').innerHTML += '<a ' + path + '\'' + prefix + ':'
  + addy03c327ffe58b83ca3363735df7830d9b + '\'>'+addy_text03c327ffe58b83ca33
 63735df7830d9b+'';
		) BEFORE YOU REGISTER for the course.\n
 \n
<a href="i
 ndex.php?option=com_civicrm&amp;task=civicrm/event/register&amp;reset=1&amp
 ;id=14096" style="color: #0000ff;">Click here to register</a>\n
X-ALT-DESC;FMTTYPE=text/html:<p><span style="color: #336699;"><span style="font-family: Tahoma;"><span s
 tyle="font-size: medium;"><span style="color: #000000;"><span style="font-f
 amily: Arial, Helvetica;"><span style="font-size: x-small;"><span style="fo
 nt-family: Tahoma;"><span style="font-size: small;"><span style="font-famil
 y: Tahoma;"><span style="font-family: Tahoma;"><span style="font-family: Ta
 homa;"><span style="font-family: Arial, Helvetica;"><span style="font-size:
  x-small;"><span style="font-family: Tahoma;"><span style="font-size: small
 ;"><span style="font-family: Tahoma;"><span style="font-family: Tahoma;"><s
 pan style="font-family: Arial, Helvetica;"><span style="font-size: x-small;
 "><span style="font-family: Tahoma;"><span style="font-size: small;"><span 
 style="font-family: Arial, Helvetica;"><span style="font-size: x-small;"><s
 pan style="font-family: Tahoma;"><span style="font-size: small;"><span styl
 e="font-family: Arial, Helvetica;"><span style="font-size: x-small;"><span 
 style="font-family: Tahoma;"><span style="font-size: small;"><span style="f
 ont-family: Arial, Helvetica;"><span style="font-size: x-small;"><span styl
 e="color: #000000;"><span style="font-family: Tahoma;"><span style="font-si
 ze: small;"><span style="color: #000000;"><span style="font-family: Tahoma;
 "><span style="font-family: Tahoma;"><span><span style="color: #336699;"><s
 pan style="font-family: Tahoma;"><span style="font-size: medium;"></span></
 span></span><span style="color: #336699; font-family: tahoma,arial,helvetic
 a,sans-serif; font-size: 14pt;"><span><span><span style="color: #000000;"><
 span><span><span><strong><span style="color: #336699;">EPA RRP Lead Renovat
 or (Initial) </span></strong></span></span></span></span></span></span></sp
 an></span></span></span></span></span></span></span></span></span></span></
 span></span></span></span></span></span></span></span></span></span></span>
 </span></span></span></span></span></span></span></span></span></span></spa
 n></span></span></span></span></span></span></p><p>&nbsp;</p><p><span style
 ="color: #336699;"><span style="font-family: Tahoma;"><span style="font-siz
 e: medium;"><span style="color: #000000;"><span style="font-family: Arial, 
 Helvetica;"><span style="font-size: x-small;"><span style="font-family: Tah
 oma;"><span style="font-size: small;"><span style="font-family: Tahoma;"><s
 pan style="font-family: Tahoma;"><span style="font-family: Tahoma;"><span s
 tyle="font-family: Arial, Helvetica;"><span style="font-size: x-small;"><sp
 an style="font-family: Tahoma;"><span style="font-size: small;"><span style
 ="font-family: Tahoma;"><span style="font-family: Tahoma;"><span style="fon
 t-family: Arial, Helvetica;"><span style="font-size: x-small;"><span style=
 "font-family: Tahoma;"><span style="font-size: small;"><span style="font-fa
 mily: Arial, Helvetica;"><span style="font-size: x-small;"><span style="fon
 t-family: Tahoma;"><span style="font-size: small;"><span style="font-family
 : Arial, Helvetica;"><span style="font-size: x-small;"><span style="font-fa
 mily: Tahoma;"><span style="font-size: small;"><span style="font-family: Ar
 ial, Helvetica;"><span style="font-size: x-small;"><span style="color: #000
 000;"><span style="font-family: Tahoma;"><span style="font-size: small;"><s
 pan style="color: #000000;"><span style="font-family: Tahoma;"><span style=
 "font-family: Tahoma;"><span><span style="color: #336699; font-family: taho
 ma,arial,helvetica,sans-serif; font-size: 14pt;"><span><span><span style="c
 olor: #000000;"><span><span><span><strong><span style="color: #336699;">Loc
 ation:&nbsp; NYSWDA Training Center - 5869 Fisher Road, East Syracuse, NY&n
 bsp; 13057</span></strong></span></span></span></span></span></span></span>
 </span></span></span></span></span></span></span></span></span></span></spa
 n></span></span></span></span></span></span></span></span></span></span></s
 pan></span></span></span></span></span></span></span></span></span></span><
 /span></span></span></span></span></span></p><p>&nbsp;</p><p><span style="f
 ont-family: tahoma, arial, helvetica, sans-serif; font-size: 12pt;"><span s
 tyle="color: #000000;">Please note we are strictly following the Governor's
  guidelines.</span>&nbsp; NYSWDA will now allow vaccinated attendees to be 
 unmasked at the training center.&nbsp; All those who who are not vaccinated
  will be required to wear a mask and</span><span style="color: #ff0000;"><s
 pan style="font-family: tahoma, arial, helvetica, sans-serif; font-size: 14
 pt;"><span style="font-size: 12pt;"><span style="color: #000000;">&nbsp;to 
 complete a</span>&nbsp;</span></span><span style="color: #106141;"><em><str
 ong><span style="font-family: tahoma, arial, helvetica, sans-serif; font-si
 ze: 14pt;"><span style="color: #106141;"><a href="https://www.nyswda.org/im
 ages/Student_Screening_Checklist.pdf" style="color: #106141;">Student Scree
 ning Checklist</a></span>&nbsp;</span></strong></em></span><span style="fon
 t-family: tahoma, arial, helvetica, sans-serif; font-size: 12pt; color: #00
 0000;">prior to attending the class.</span></span></p><p><span style="color
 : #336699;"><span style="font-family: Tahoma;"><span style="font-size: medi
 um;"><span style="color: #000000;"><span style="font-family: Arial, Helveti
 ca;"><span style="font-size: x-small;"><span style="font-family: Tahoma;"><
 span style="font-size: small;"><span style="font-family: Tahoma;"><span sty
 le="font-family: Tahoma;"><span style="font-family: Tahoma;"><span style="f
 ont-family: Arial, Helvetica;"><span style="font-size: x-small;"><span styl
 e="font-family: Tahoma;"><span style="font-size: small;"><span style="font-
 family: Tahoma;"><span style="font-family: Tahoma;"><span style="font-famil
 y: Arial, Helvetica;"><span style="font-size: x-small;"><span style="font-f
 amily: Tahoma;"><span style="font-size: small;"><span style="font-family: A
 rial, Helvetica;"><span style="font-size: x-small;"><span style="font-famil
 y: Tahoma;"><span style="font-size: small;"><span style="font-family: Arial
 , Helvetica;"><span style="font-size: x-small;"><span style="font-family: T
 ahoma;"><span style="font-size: small;"><span style="font-family: Arial, He
 lvetica;"><span style="font-size: x-small;"><span style="color: #000000;"><
 span style="font-family: Tahoma;"><span style="font-size: small;"><span sty
 le="color: #000000;"><span style="font-family: Tahoma;"><span style="font-f
 amily: Tahoma;"><span><span style="color: #336699;"><span style="font-famil
 y: Tahoma;"><span style="font-size: medium;"><span style="color: #000000;">
 <span style="font-family: Arial, Helvetica;"><span style="font-size: x-smal
 l;"><span><span style="font-size: small;"></span></span></span></span></spa
 n></span></span></span></span></span></span></span></span></span></span></s
 pan></span></span></span></span></span></span></span></span></span></span><
 /span></span></span></span></span></span></span></span></span></span></span
 ></span></span></span></span></span></span></span></span></span>&nbsp;</p><
 p><span style="color: #336699;"><span style="font-family: Tahoma;"><span st
 yle="font-size: medium;"><span style="color: #000000;"><span style="font-fa
 mily: Arial, Helvetica;"><span style="font-size: x-small;"><span style="fon
 t-family: Tahoma;"><span style="font-size: small;"><span style="font-family
 : Tahoma;"><span style="font-family: Tahoma;"><span style="font-family: Tah
 oma;"><span style="font-family: Arial, Helvetica;"><span style="font-size: 
 x-small;"><span style="font-family: Tahoma;"><span style="font-size: small;
 "><span style="font-family: Tahoma;"><span style="font-family: Tahoma;"><sp
 an style="font-family: Arial, Helvetica;"><span style="font-size: x-small;"
 ><span style="font-family: Tahoma;"><span style="font-size: small;"><span s
 tyle="font-family: Arial, Helvetica;"><span style="font-size: x-small;"><sp
 an style="font-family: Tahoma;"><span style="font-size: small;"><span style
 ="font-family: Arial, Helvetica;"><span style="font-size: x-small;"><span s
 tyle="font-family: Tahoma;"><span style="font-size: small;"><span style="fo
 nt-family: Arial, Helvetica;"><span style="font-size: x-small;"><span style
 ="color: #000000;"><span style="font-family: Tahoma;"><span style="font-siz
 e: small;"><span style="color: #000000;"><span style="font-family: Tahoma;"
 ><span style="font-family: Tahoma;"><span><span style="color: #336699;"><sp
 an style="font-family: Tahoma;"><span style="font-size: medium;"><span styl
 e="color: #000000;"><span style="font-family: Arial, Helvetica;"><span styl
 e="font-size: x-small;"><span><span style="font-size: small;"><span style="
 font-size: 12pt;"><span style="text-decoration: underline;"><span style="fo
 nt-family: Tahoma;"><em>This training is for:</em></span></span><span style
 ="font-family: Tahoma;"><span style="font-family: Tahoma;"><br /></span></s
 pan></span></span><span style="font-size: small;"><span style="font-family:
  Tahoma;"><span style="font-family: Tahoma;"><span style="font-family: Taho
 ma;"><span style="font-size: 12pt;">Class open to all attendees, including 
 construction and weatherization contractors.</span><span style="font-family
 : Arial, Helvetica;"><span style="font-size: x-small;"><br /><span style="f
 ont-family: Tahoma;"><span style="font-size: small;"><br /><span style="fon
 t-size: 12pt;"><br /><em><span style="text-decoration: underline;">Course D
 escription</span>:<br /></em></span><span style="font-family: Tahoma;"><spa
 n style="font-family: Tahoma;"><span style="font-size: 12pt;">The US Enviro
 nmental Protection Agency (EPA) published the Lead; Renovation, Repair and 
 Painting Program that requires each contractor working on pre-1978 residenc
 es to have an EPA Certified Renovator on-site while jobs are set up and cle
 aned up. The certified person will be responsible for documenting that all 
 work was done in a lead safe manner. <br /><br />This is a <span style="tex
 t-decoration: underline;">1-day</span> course with approximately 6 hours cl
 assroom and 2 hours hands-on lab work, followed by a multiple choice writte
 n test. Upon course completion, attendees will receive a Lead Renovator car
 d from the training provider (NYSWDA). This certification requires a five y
 ear renewal.</span><span style="font-family: Arial, Helvetica;"><span style
 ="font-size: x-small;"><br /><span style="font-family: Tahoma;"><span style
 ="font-size: small;"><br /><span style="font-family: Arial, Helvetica;"><sp
 an style="font-size: x-small;"><br /><span style="font-family: Tahoma;"><sp
 an style="font-size: small;"><span style="font-family: Arial, Helvetica;"><
 span style="font-size: x-small;"><span style="font-family: Tahoma;"><span s
 tyle="font-size: small;"><span style="font-family: Arial, Helvetica;"><span
  style="font-size: x-small;"><span style="color: #000000;"><span style="fon
 t-size: 12pt;"><span style="font-family: Tahoma;"><span><span style="color:
  #000000;"><em><span style="text-decoration: underline;">Prerequisites</spa
 n>:</em></span></span></span><span><span style="color: #000000;"><em> </em>
 </span></span></span><span style="font-family: Tahoma;"><span style="font-s
 ize: small;"><span style="color: #000000;"><br /><span style="font-size: 12
 pt;">for WAP only- must have completed the One-Day Lead Safe Weatherization
  training</span><span style="font-family: Tahoma;"><br /><br /><br /><span 
 style="font-size: 12pt;"><em><span style="text-decoration: underline;">Clas
 s Size</span>: 8</em><br /><em><br /><br /><span style="text-decoration: un
 derline;">BPI CEU:</span> </em>4<em><br /><br /><br /><span style="text-dec
 oration: underline;"><span style="font-family: Tahoma;">Instructor:</span> 
 </span></em></span><span style="font-family: Tahoma;"><br /><span style="fo
 nt-size: 12pt;">Al McMahon, EPA qualified RRP Lead Renovator Instructor<br 
 /><em><br /><br /><span style="text-decoration: underline;">Course Fees:</s
 pan> <br /></em></span><span><span style="font-size: 12pt;">$172/person - N
 Y Weatherization Sub-grantees<br /></span></span></span></span></span></spa
 n></span></span></span></span></span></span></span></span></span></span></s
 pan></span></span></span></span></span></span></span></span></span></span><
 /span></span></span></span></span></span></span></span></span></span></span
 ></span></span></span></span></span></span></span></span></span></span></sp
 an></span></span></span></span></span></span></span></span></span></span></
 span></span></span></span></span></span></span></span></span></span></span>
 </span></span></span></span></span></span></span><span style="color: #33669
 9;"><span style="font-family: Tahoma;"><span style="font-size: medium;"><sp
 an style="color: #000000;"><span style="font-family: Arial, Helvetica;"><sp
 an style="font-size: x-small;"><span style="font-family: Tahoma;"><span sty
 le="font-size: small;"><span><span><span><span style="font-family: Arial, H
 elvetica;"><span style="font-size: x-small;"><span style="font-family: Taho
 ma;"><span style="font-size: small;"><span><span><span style="font-family: 
 Arial, Helvetica;"><span style="font-size: x-small;"><span style="font-fami
 ly: Tahoma;"><span style="font-size: small;"><span style="font-family: Aria
 l, Helvetica;"><span style="font-size: x-small;"><span style="font-family: 
 Tahoma;"><span style="font-size: small;"><span style="font-family: Arial, H
 elvetica;"><span style="font-size: x-small;"><span style="font-family: Taho
 ma;"><span style="font-size: small;"><span style="font-family: Arial, Helve
 tica;"><span style="font-size: x-small;"><span><span style="font-family: Ta
 homa;"><span style="font-size: small;"><span><span><span><span style="color
 : #336699;"><span><span style="font-size: medium;"><span style="color: #000
 000;"><span style="font-family: Arial, Helvetica;"><span style="font-size: 
 x-small;"><span style="font-size: small;"><span style="font-family: Tahoma;
 "><span><span><span style="font-family: Arial, Helvetica;"><span style="fon
 t-size: x-small;"><span style="font-family: Tahoma;"><span style="font-size
 : small;"><span><span><span style="font-family: Arial, Helvetica;"><span st
 yle="font-size: x-small;"><span style="font-family: Tahoma;"><span style="f
 ont-size: small;"><span style="font-family: Arial, Helvetica;"><span style=
 "font-size: x-small;"><span style="font-family: Tahoma;"><span style="font-
 size: small;"><span style="font-family: Arial, Helvetica;"><span style="fon
 t-size: x-small;"><span style="font-family: Tahoma;"><span style="font-size
 : small;"><span style="font-family: Arial, Helvetica;"><span style="font-si
 ze: x-small;"><span><span style="font-family: Tahoma;"><span style="font-si
 ze: small;"><span><span><span><span style="font-size: 12pt;">$172/person - 
 affiliate members<br /></span></span></span></span></span></span></span></s
 pan></span></span></span></span></span></span></span></span></span></span><
 /span></span></span></span></span></span></span></span></span></span></span
 ></span></span></span></span></span></span></span></span></span></span></sp
 an></span></span></span></span></span></span></span></span></span></span></
 span></span></span></span></span></span></span></span></span></span></span>
 </span></span></span></span></span></span></span></span></span></span></spa
 n></span></span><span style="color: #336699;"><span style="font-family: Tah
 oma;"><span style="font-size: medium;"><span style="color: #000000;"><span 
 style="font-family: Arial, Helvetica;"><span style="font-size: x-small;"><s
 pan style="font-family: Tahoma;"><span style="font-size: small;"><span><spa
 n><span><span style="font-family: Arial, Helvetica;"><span style="font-size
 : x-small;"><span style="font-family: Tahoma;"><span style="font-size: smal
 l;"><span><span><span style="font-family: Arial, Helvetica;"><span style="f
 ont-size: x-small;"><span style="font-family: Tahoma;"><span style="font-si
 ze: small;"><span style="font-family: Arial, Helvetica;"><span style="font-
 size: x-small;"><span style="font-family: Tahoma;"><span style="font-size: 
 small;"><span style="font-family: Arial, Helvetica;"><span style="font-size
 : x-small;"><span style="font-family: Tahoma;"><span style="font-size: smal
 l;"><span style="font-family: Arial, Helvetica;"><span style="font-size: x-
 small;"><span><span style="font-family: Tahoma;"><span style="font-size: sm
 all;"><span><span><span><span style="color: #336699;"><span><span style="fo
 nt-size: medium;"><span style="color: #000000;"><span style="font-family: A
 rial, Helvetica;"><span style="font-size: x-small;"><span style="font-size:
  small;"><span style="font-family: Tahoma;"><span><span><span style="font-f
 amily: Arial, Helvetica;"><span style="font-size: x-small;"><span style="fo
 nt-family: Tahoma;"><span style="font-size: small;"><span><span><span style
 ="font-family: Arial, Helvetica;"><span style="font-size: x-small;"><span s
 tyle="font-family: Tahoma;"><span style="font-size: small;"><span style="fo
 nt-family: Arial, Helvetica;"><span style="font-size: x-small;"><span style
 ="font-family: Tahoma;"><span style="font-size: small;"><span style="font-f
 amily: Arial, Helvetica;"><span style="font-size: x-small;"><span style="fo
 nt-family: Tahoma;"><span style="font-size: small;"><span style="font-famil
 y: Arial, Helvetica;"><span style="font-size: x-small;"><span><span style="
 font-family: Tahoma;"><span style="font-size: small;"><span><span><span><sp
 an style="font-size: 12pt;">$250/person - non-members&nbsp;</span></span></
 span></span></span></span></span></span></span></span></span></span></span>
 </span></span></span></span></span></span></span></span></span></span></spa
 n></span></span></span></span></span></span></span></span></span></span></s
 pan></span></span></span></span></span></span></span></span></span></span><
 /span></span></span></span></span></span></span></span></span></span></span
 ></span></span></span></span></span></span></span></span></span></span></sp
 an></span></span></span></span></span></span></span></p><p>&nbsp;</p><p><sp
 an style="color: #000000;"><strong><span style="font-family: tahoma, arial,
  helvetica, sans-serif; font-size: 14pt;"><em><em><span style="font-family:
  tahoma, arial, helvetica, sans-serif; font-size: 14pt;"><span style="font-
 family: tahoma, arial, helvetica, sans-serif; font-size: 12pt;"><strong><em
 >Course fees include DO NOT lunch</em></strong></span>&nbsp;</span></em></e
 m></span></strong></span></p><p>&nbsp;</p><p><em><strong><span style="backg
 round: white; color: #02613f; font-family: 'Georgia','serif';"><span style=
 "font-size: small;">**Special note</span></span></strong></em><span style="
 background: white; color: black; font-family: 'Georgia','serif';"><span sty
 le="font-size: small;"><i><strong>&nbsp;-&nbsp;if you wish to become an Aff
 iliate Member, and&nbsp;save off the non-member rate, please contact&nbsp;K
 aren McMahon (315-701-0440 ext. 223,&nbsp;</strong></i></span><i><strong><s
 pan id="cloak03c327ffe58b83ca3363735df7830d9b">This email address is being 
 protected from spambots. You need JavaScript enabled to view it.</span><scr
 ipt type='text/javascript'>
				document.getElementById('cloak03c327ffe58b8
 3ca3363735df7830d9b').innerHTML = '';
				var prefix = 'ma' + 'il' + 'to';

 				var path = 'hr' + 'ef' + '=';
				var addy03c327ffe58b83ca3363735df7830
 d9b = 'dehrlich' + '@';
				addy03c327ffe58b83ca3363735df7830d9b = addy03c3
 27ffe58b83ca3363735df7830d9b + 'nyswda' + '.' + 'org';
				var addy_text03c
 327ffe58b83ca3363735df7830d9b = '<span style="color: #0000ff; font-size: sm
 all;">kmcmahon' + '@' + 'nyswda' + '.' + 'org</span>';document.getElementBy
 Id('cloak03c327ffe58b83ca3363735df7830d9b').innerHTML += '<a ' + path + '\'
 ' + prefix + ':' + addy03c327ffe58b83ca3363735df7830d9b + '\'>'+addy_text03
 c327ffe58b83ca3363735df7830d9b+'<\/a>';
		</script><span style="font-size: 
 small;">)&nbsp;</span></strong></i></span><i></i><span style="font-size: sm
 all;"><strong><span style="background: white; color: #02613f; font-family: 
 'Georgia','serif';">BEFORE YOU REGISTER&nbsp;</span></strong><em><b><span s
 tyle="background: white; color: black; font-family: 'Georgia','serif';">for
  the course</span></b></em><strong><span style="background: white; color: b
 lack; font-family: 'Georgia','serif';">.</span></strong></span></p><p>&nbsp
 ;</p><p><span style="color: #0000ff;"><em><strong><span style="font-family:
  tahoma, arial, helvetica, sans-serif; font-size: 14pt;"><a href="https://w
 ww.nyswda.org/index.php?option=com_civicrm&amp;task=civicrm/event/register&
 amp;reset=1&amp;id=14096" style="color: #0000ff;">Click here to register</a
 ></span></strong></em></span></p>
CONTACT:Robyn Visser
DTSTAMP:20260424T220834
DTSTART;TZID=America/New_York:20220420T090000
DTEND;TZID=America/New_York:20220420T170000
SEQUENCE:0
TRANSP:OPAQUE
END:VEVENT
END:VCALENDAR