BEGIN:VCALENDAR
VERSION:2.0
PRODID:-//jEvents 2.0 for Joomla//EN
CALSCALE:GREGORIAN
METHOD:PUBLISH
BEGIN:VTIMEZONE
TZID:America/New_York
BEGIN:STANDARD
DTSTART:20211107T010000
RDATE:20220313T030000
TZOFFSETFROM:-0400
TZOFFSETTO:-0500
TZNAME:America/New_York EST
END:STANDARD
BEGIN:STANDARD
DTSTART:20221106T010000
RDATE:20230312T030000
TZOFFSETFROM:-0400
TZOFFSETTO:-0500
TZNAME:America/New_York EST
END:STANDARD
BEGIN:STANDARD
DTSTART:20231105T010000
RDATE:20240310T030000
TZOFFSETFROM:-0400
TZOFFSETTO:-0500
TZNAME:America/New_York EST
END:STANDARD
BEGIN:STANDARD
DTSTART:20241103T010000
RDATE:20250309T030000
TZOFFSETFROM:-0400
TZOFFSETTO:-0500
TZNAME:America/New_York EST
END:STANDARD
BEGIN:STANDARD
DTSTART:20251102T010000
RDATE:20260308T030000
TZOFFSETFROM:-0400
TZOFFSETTO:-0500
TZNAME:America/New_York EST
END:STANDARD
BEGIN:STANDARD
DTSTART:20261101T010000
RDATE:20270314T030000
TZOFFSETFROM:-0400
TZOFFSETTO:-0500
TZNAME:America/New_York EST
END:STANDARD
BEGIN:STANDARD
DTSTART:20271107T010000
RDATE:20280312T030000
TZOFFSETFROM:-0400
TZOFFSETTO:-0500
TZNAME:America/New_York EST
END:STANDARD
BEGIN:STANDARD
DTSTART:20281105T010000
RDATE:20290311T030000
TZOFFSETFROM:-0400
TZOFFSETTO:-0500
TZNAME:America/New_York EST
END:STANDARD
BEGIN:STANDARD
DTSTART:20291104T010000
RDATE:20300310T030000
TZOFFSETFROM:-0400
TZOFFSETTO:-0500
TZNAME:America/New_York EST
END:STANDARD
BEGIN:STANDARD
DTSTART:20301103T010000
RDATE:20310309T030000
TZOFFSETFROM:-0400
TZOFFSETTO:-0500
TZNAME:America/New_York EST
END:STANDARD
BEGIN:DAYLIGHT
DTSTART:20210517T090000
RDATE:20211107T010000
TZOFFSETFROM:-0500
TZOFFSETTO:-0400
TZNAME:America/New_York EDT
END:DAYLIGHT
BEGIN:DAYLIGHT
DTSTART:20220313T030000
RDATE:20221106T010000
TZOFFSETFROM:-0500
TZOFFSETTO:-0400
TZNAME:America/New_York EDT
END:DAYLIGHT
BEGIN:DAYLIGHT
DTSTART:20230312T030000
RDATE:20231105T010000
TZOFFSETFROM:-0500
TZOFFSETTO:-0400
TZNAME:America/New_York EDT
END:DAYLIGHT
BEGIN:DAYLIGHT
DTSTART:20240310T030000
RDATE:20241103T010000
TZOFFSETFROM:-0500
TZOFFSETTO:-0400
TZNAME:America/New_York EDT
END:DAYLIGHT
BEGIN:DAYLIGHT
DTSTART:20250309T030000
RDATE:20251102T010000
TZOFFSETFROM:-0500
TZOFFSETTO:-0400
TZNAME:America/New_York EDT
END:DAYLIGHT
BEGIN:DAYLIGHT
DTSTART:20260308T030000
RDATE:20261101T010000
TZOFFSETFROM:-0500
TZOFFSETTO:-0400
TZNAME:America/New_York EDT
END:DAYLIGHT
BEGIN:DAYLIGHT
DTSTART:20270314T030000
RDATE:20271107T010000
TZOFFSETFROM:-0500
TZOFFSETTO:-0400
TZNAME:America/New_York EDT
END:DAYLIGHT
BEGIN:DAYLIGHT
DTSTART:20280312T030000
RDATE:20281105T010000
TZOFFSETFROM:-0500
TZOFFSETTO:-0400
TZNAME:America/New_York EDT
END:DAYLIGHT
BEGIN:DAYLIGHT
DTSTART:20290311T030000
RDATE:20291104T010000
TZOFFSETFROM:-0500
TZOFFSETTO:-0400
TZNAME:America/New_York EDT
END:DAYLIGHT
BEGIN:DAYLIGHT
DTSTART:20300310T030000
RDATE:20301103T010000
TZOFFSETFROM:-0500
TZOFFSETTO:-0400
TZNAME:America/New_York EDT
END:DAYLIGHT
END:VTIMEZONE
BEGIN:VEVENT
UID:84495eeebf0a9e6612bce188cbdd7c0d
CATEGORIES:WEB
CREATED:20220503T133822
SUMMARY:ARPA Project Assessment and Roofing Basics and Estimating - Online
LOCATION:NYSWDA - East Syracuse
DESCRIPTION:\n ARPA Project Assessment and Roofing Basics and Estimating - Online (East
 )\n
 \n
GoToWebinar Event\n
 \n
Course Description: \n
Part 1:  Project Ass
 essment - Finding the Right Project\n
Finding the right fit for a project t
 hat is within the parameters of ARPA will be critical to the success of the
  program.  This short course will discuss program goals, workscope options,
  and roadblocks to look for as you select clients and homes to move into yo
 ur ARPA schedule.\n
  \n
15 minute break\n
 \n
 Part 2:  Roofing Basics and
  Estimating\n
Leaking roofs are a major source of deferral in the Weatheriz
 ation Assistance Program. Now, with funding made available through the Amer
 ican Rescue Plan Act (ARPA) local agencies will have the ability to repair 
 and replace residential roofing. This short course will introduce local pro
 grams to the various components of a roof, typical roofing materials, and s
 pecifics on what to look for when writing a scope of work to address the ro
 of. The course will also instruct students on how to properly measure a roo
 f and discuss potential issues they may run into. A sample specification an
 d bid sheet will be provided.\n
  \n
Class handouts:  PowerPoint, ARPA Chec
 klist, Roof Specs/Bid Sheet\n
 \n
This course is limited to WAP personnel a
 nd designed for attendance by Directors and Energy Auditors.\n
 \n
Class Si
 ze: 30\n
  \n
BPI CEU: 3\n
\n
 \n
Instructors:  Andy Stone - NYSWDA \n
 \n

 Course Fees:  None\n
  \n
Click here to register (index.php?option=com_civi
 crm&amp;task=civicrm/event/register&amp;reset=1&amp;id=14099)\n
 \n
\n
 \n

  \n
 \n
 \n
 \n
X-ALT-DESC;FMTTYPE=text/html:<p><br />&nbsp;<span style="color: #336699; font-family: tahoma, arial, hel
 vetica, sans-serif; font-size: 14pt;"><span style="color: #000000;"><strong
 ><span style="color: #336699;">ARPA Project Assessment and Roofing Basics a
 nd Estimating - Online (East)</span></strong></span></span></p><p>&nbsp;</p
 ><p><span style="color: #336699; font-family: tahoma, arial, helvetica, san
 s-serif; font-size: 14pt;"><span style="color: #000000;"><strong><span styl
 e="color: #336699;">GoToWebinar Event</span></strong></span></span></p><p><
 strong><span style="font-family: Tahoma, 'sans-serif'; color: #336699; font
 -size: 13.5pt;"></span></strong>&nbsp;</p><p><span style="font-size: 12pt;"
 ><em><span style="text-decoration: underline;"><span style="font-family: Ta
 homa, 'sans-serif'; color: black; text-decoration: underline;">Course Descr
 iption:</span></span></em></span>&nbsp;</p><p><strong><span style="font-fam
 ily: Tahoma, sans-serif; color: black; font-size: 12pt;"><span style="font-
 family: Tahoma, sans-serif; color: black; font-size: 12pt;">Part 1:&nbsp; P
 roject Assessment - Finding the Right Project</span></span></strong></p><p>
 <span style="font-family: Tahoma, sans-serif; color: black; font-size: 12pt
 ;"><span style="font-family: Tahoma, sans-serif; color: black; font-size: 1
 2pt;">Finding the right fit for a project that is within the parameters of 
 ARPA will be critical to the success of the program.&nbsp; This short cours
 e will discuss program goals, workscope options, and roadblocks to look for
  as you select clients and homes to move into your ARPA schedule.</span></s
 pan></p><p>&nbsp;&nbsp;</p><p><strong><span style="font-family: Tahoma, san
 s-serif; color: black; font-size: 12pt;"><span style="font-family: Tahoma, 
 sans-serif; color: black; font-size: 12pt;">15 minute break</span></span></
 strong></p><p>&nbsp;</p><p><span style="color: #000000;">&nbsp;<strong><spa
 n style="font-family: tahoma, arial, helvetica, sans-serif; font-size: 12pt
 ;">Part 2:&nbsp; Roofing Basics and Estimating</span></strong></span></p><p
 ><span style="font-family: tahoma, arial, helvetica, sans-serif; font-size:
  12pt; color: #000000;">Leaking roofs are a major source of deferral in the
  Weatherization Assistance Program. Now, with funding made available throug
 h the American Rescue Plan Act (ARPA) local agencies will have the ability 
 to repair and replace residential roofing. This short course will introduce
  local programs to the various components of a roof, typical roofing materi
 als, and specifics on what to look for when writing a scope of work to addr
 ess the roof. The course will also instruct students on how to properly mea
 sure a roof and discuss potential issues they may run into. A sample specif
 ication and bid sheet will be provided.</span></p><p><span style="color: #0
 00000;">&nbsp;&nbsp;</span></p><p><span style="font-family: tahoma, arial, 
 helvetica, sans-serif; font-size: 12pt; color: #000000;"><em><span style="t
 ext-decoration: underline;">Class handouts:</span>&nbsp;</em>&nbsp;</span><
 span style="font-family: tahoma, arial, helvetica, sans-serif; font-size: 1
 2pt; color: #000000;">PowerPoint, ARPA Checklist, Roof Specs/Bid Sheet</spa
 n></p><p><span style="font-family: tahoma, arial, helvetica, sans-serif; fo
 nt-size: 12pt;"></span>&nbsp;</p><p><span style="font-family: tahoma, arial
 , helvetica, sans-serif; font-size: 12pt; color: #ff0000;"><strong>This cou
 rse is limited to WAP personnel and designed for attendance by Directors an
 d Energy Auditors.</strong></span></p><p>&nbsp;<span style="font-family: Ta
 homa, 'sans-serif'; color: black; font-size: 12pt;"></span></p><p><span sty
 le="font-size: 12pt; color: black;"><em><span style="text-decoration: under
 line;"><span style="font-family: Tahoma, 'sans-serif';">Class Size</span></
 span></em><span style="font-family: Tahoma, 'sans-serif';">: 30</span></spa
 n></p><p><span style="color: black;">&nbsp;&nbsp;</span></p><p><span style=
 "font-size: 12pt; color: black;"><em><span style="text-decoration: underlin
 e;"><span style="font-family: Tahoma, 'sans-serif';">BPI CEU</span></span><
 /em><span style="text-decoration: underline;"><span style="font-family: Tah
 oma, 'sans-serif';">:</span></span><span style="font-family: Tahoma, 'sans-
 serif';">&nbsp;3</span></span></p><p><span style="color: black;"></span></p
 ><p>&nbsp;</p><p><span style="color: black;"><span style="font-size: 12pt;"
 ><span style="text-decoration: underline;"><span style="font-family: Tahoma
 , 'sans-serif';"><em>Instructors</em>:</span></span><span style="font-famil
 y: Tahoma, 'sans-serif';">&nbsp; Andy Stone</span><span style="font-family:
  Tahoma, 'sans-serif';">&nbsp;- NYSWDA</span></span>&nbsp;</span></p><p><sp
 an style="font-family: Tahoma, 'sans-serif'; color: black; font-size: 12pt;
 "></span>&nbsp;</p><p><span style="color: black;"><span style="font-size: 1
 2pt;"><em><span style="text-decoration: underline;"><span style="font-famil
 y: Tahoma, 'sans-serif';">Course Fees</span></span><span style="font-family
 : Tahoma, 'sans-serif';">:&nbsp;&nbsp;</span></em></span></span><span style
 ="color: black;"><span style="font-size: 12pt;"><span style="font-family: T
 ahoma, 'sans-serif';">None</span></span><span style="font-size: 12pt;"><spa
 n style="font-family: Tahoma, 'sans-serif';"></span></span></span></p><p>&n
 bsp;&nbsp;</p><p><span style="font-family: Arial, 'sans-serif'; color: blac
 k; font-size: 10pt;"><span style="color: #0000ff;"><em><strong><span style=
 "font-family: tahoma, arial, helvetica, sans-serif;"><a href="https://www.n
 yswda.org/index.php?option=com_civicrm&amp;task=civicrm/event/register&amp;
 reset=1&amp;id=14099" style="color: #0000ff;"><span style="font-size: 14pt;
 ">Click here to register</span></a></span></strong></em></span></span></p><
 p>&nbsp;</p><p><span style="font-family: Arial, 'sans-serif'; color: black;
  font-size: 10pt;"></span></p><p>&nbsp;</p><p>&nbsp;</p><p>&nbsp;</p><p>&nb
 sp;</p><p>&nbsp;</p>
CONTACT:This email address is being protected from spambots. You need JavaScript enabled to view it.
				document.getElementById('cloak7cff160770c7168f753ff6e08ba73bc6').innerHTML = '';
				var prefix = '&#109;a' + 'i&#108;' + '&#116;o';
				var path = 'hr' + 'ef' + '=';
				var addy7cff160770c7168f753ff6e08ba73bc6 = 'rv&#105;ss&#101;r' + '&#64;';
				addy7cff160770c7168f753ff6e08ba73bc6 = addy7cff160770c7168f753ff6e08ba73bc6 + 'nyswd&#97;' + '&#46;' + '&#111;rg';
				var addy_text7cff160770c7168f753ff6e08ba73bc6 = 'rv&#105;ss&#101;r' + '&#64;' + 'nyswd&#97;' + '&#46;' + '&#111;rg';document.getElementById('cloak7cff160770c7168f753ff6e08ba73bc6').innerHTML += '<a ' + path + '\'' + prefix + ':' + addy7cff160770c7168f753ff6e08ba73bc6 + '\'>'+addy_text7cff160770c7168f753ff6e08ba73bc6+'';
		
DTSTAMP:20260424T233347
DTSTART;TZID=America/New_York:20220518T090000
DTEND;TZID=America/New_York:20220518T120000
SEQUENCE:0
TRANSP:OPAQUE
END:VEVENT
END:VCALENDAR