BEGIN:VCALENDAR
VERSION:2.0
PRODID:-//jEvents 2.0 for Joomla//EN
CALSCALE:GREGORIAN
METHOD:PUBLISH
BEGIN:VTIMEZONE
TZID:America/New_York
BEGIN:STANDARD
DTSTART:20211107T010000
RDATE:20220313T030000
TZOFFSETFROM:-0400
TZOFFSETTO:-0500
TZNAME:America/New_York EST
END:STANDARD
BEGIN:STANDARD
DTSTART:20221106T010000
RDATE:20230312T030000
TZOFFSETFROM:-0400
TZOFFSETTO:-0500
TZNAME:America/New_York EST
END:STANDARD
BEGIN:STANDARD
DTSTART:20231105T010000
RDATE:20240310T030000
TZOFFSETFROM:-0400
TZOFFSETTO:-0500
TZNAME:America/New_York EST
END:STANDARD
BEGIN:STANDARD
DTSTART:20241103T010000
RDATE:20250309T030000
TZOFFSETFROM:-0400
TZOFFSETTO:-0500
TZNAME:America/New_York EST
END:STANDARD
BEGIN:STANDARD
DTSTART:20251102T010000
RDATE:20260308T030000
TZOFFSETFROM:-0400
TZOFFSETTO:-0500
TZNAME:America/New_York EST
END:STANDARD
BEGIN:STANDARD
DTSTART:20261101T010000
RDATE:20270314T030000
TZOFFSETFROM:-0400
TZOFFSETTO:-0500
TZNAME:America/New_York EST
END:STANDARD
BEGIN:STANDARD
DTSTART:20271107T010000
RDATE:20280312T030000
TZOFFSETFROM:-0400
TZOFFSETTO:-0500
TZNAME:America/New_York EST
END:STANDARD
BEGIN:STANDARD
DTSTART:20281105T010000
RDATE:20290311T030000
TZOFFSETFROM:-0400
TZOFFSETTO:-0500
TZNAME:America/New_York EST
END:STANDARD
BEGIN:STANDARD
DTSTART:20291104T010000
RDATE:20300310T030000
TZOFFSETFROM:-0400
TZOFFSETTO:-0500
TZNAME:America/New_York EST
END:STANDARD
BEGIN:STANDARD
DTSTART:20301103T010000
RDATE:20310309T030000
TZOFFSETFROM:-0400
TZOFFSETTO:-0500
TZNAME:America/New_York EST
END:STANDARD
BEGIN:DAYLIGHT
DTSTART:20210524T090000
RDATE:20211107T010000
TZOFFSETFROM:-0500
TZOFFSETTO:-0400
TZNAME:America/New_York EDT
END:DAYLIGHT
BEGIN:DAYLIGHT
DTSTART:20220313T030000
RDATE:20221106T010000
TZOFFSETFROM:-0500
TZOFFSETTO:-0400
TZNAME:America/New_York EDT
END:DAYLIGHT
BEGIN:DAYLIGHT
DTSTART:20230312T030000
RDATE:20231105T010000
TZOFFSETFROM:-0500
TZOFFSETTO:-0400
TZNAME:America/New_York EDT
END:DAYLIGHT
BEGIN:DAYLIGHT
DTSTART:20240310T030000
RDATE:20241103T010000
TZOFFSETFROM:-0500
TZOFFSETTO:-0400
TZNAME:America/New_York EDT
END:DAYLIGHT
BEGIN:DAYLIGHT
DTSTART:20250309T030000
RDATE:20251102T010000
TZOFFSETFROM:-0500
TZOFFSETTO:-0400
TZNAME:America/New_York EDT
END:DAYLIGHT
BEGIN:DAYLIGHT
DTSTART:20260308T030000
RDATE:20261101T010000
TZOFFSETFROM:-0500
TZOFFSETTO:-0400
TZNAME:America/New_York EDT
END:DAYLIGHT
BEGIN:DAYLIGHT
DTSTART:20270314T030000
RDATE:20271107T010000
TZOFFSETFROM:-0500
TZOFFSETTO:-0400
TZNAME:America/New_York EDT
END:DAYLIGHT
BEGIN:DAYLIGHT
DTSTART:20280312T030000
RDATE:20281105T010000
TZOFFSETFROM:-0500
TZOFFSETTO:-0400
TZNAME:America/New_York EDT
END:DAYLIGHT
BEGIN:DAYLIGHT
DTSTART:20290311T030000
RDATE:20291104T010000
TZOFFSETFROM:-0500
TZOFFSETTO:-0400
TZNAME:America/New_York EDT
END:DAYLIGHT
BEGIN:DAYLIGHT
DTSTART:20300310T030000
RDATE:20301103T010000
TZOFFSETFROM:-0500
TZOFFSETTO:-0400
TZNAME:America/New_York EDT
END:DAYLIGHT
END:VTIMEZONE
BEGIN:VEVENT
UID:8a176d186634c0ea2b50008a448d4beb
CATEGORIES:WEB
CREATED:20220503T181840
SUMMARY:ARPA Project Assessment and Roofing Basics and Estimating - Online
LOCATION:NYSWDA - East Syracuse
DESCRIPTION:<p><br />&nbsp;<span style="color: #336699; font-family: tahoma, arial, hel
 vetica, sans-serif; font-size: 14pt;"><span style="color: #000000;"><strong
 ><span style="color: #336699;">ARPA Project Assessment and Roofing Basics a
 nd Estimating - Online (West)</span></strong></span></span></p><p>&nbsp;</p
 ><p><span style="color: #336699; font-family: tahoma, arial, helvetica, san
 s-serif; font-size: 14pt;"><span style="color: #000000;"><strong><span styl
 e="color: #336699;">GoToWebinar Event</span></strong></span></span></p><p><
 strong><span style="font-family: Tahoma, 'sans-serif'; color: #336699; font
 -size: 13.5pt;"></span></strong>&nbsp;</p><p><span style="font-size: 12pt;"
 ><em><span style="text-decoration: underline;"><span style="font-family: Ta
 homa, 'sans-serif'; color: black; text-decoration: underline;">Course Descr
 iption:</span></span></em></span>&nbsp;</p><p><strong><span style="font-fam
 ily: Tahoma, sans-serif; color: black; font-size: 12pt;"><span style="font-
 family: Tahoma, sans-serif; color: black; font-size: 12pt;">Part 1:&nbsp; P
 roject Assessment - Finding the Right Project</span></span></strong></p><p>
 <span style="font-family: Tahoma, sans-serif; color: black; font-size: 12pt
 ;"><span style="font-family: Tahoma, sans-serif; color: black; font-size: 1
 2pt;">Finding the right fit for a project that is within the parameters of 
 ARPA will be critical to the success of the program.&nbsp; This short cours
 e will discuss program goals, workscope options, and roadblocks to look for
  as you select clients and homes to move into your ARPA schedule.</span></s
 pan></p><p>&nbsp;&nbsp;</p><p><strong><span style="font-family: Tahoma, san
 s-serif; color: black; font-size: 12pt;"><span style="font-family: Tahoma, 
 sans-serif; color: black; font-size: 12pt;">15 minute break</span></span></
 strong></p><p>&nbsp;</p><p><span style="color: #000000;">&nbsp;<strong><spa
 n style="font-family: tahoma, arial, helvetica, sans-serif; font-size: 12pt
 ;">Part 2:&nbsp; Roofing Basics and Estimating</span></strong></span></p><p
 ><span style="font-family: tahoma, arial, helvetica, sans-serif; font-size:
  12pt; color: #000000;">Leaking roofs are a major source of deferral in the
  Weatherization Assistance Program. Now, with funding made available throug
 h the American Rescue Plan Act (ARPA) local agencies will have the ability 
 to repair and replace residential roofing. This short course will introduce
  local programs to the various components of a roof, typical roofing materi
 als, and specifics on what to look for when writing a scope of work to addr
 ess the roof. The course will also instruct students on how to properly mea
 sure a roof and discuss potential issues they may run into. A sample specif
 ication and bid sheet will be provided.</span></p><p><span style="color: #0
 00000;">&nbsp;&nbsp;</span></p><p><span style="font-family: tahoma, arial, 
 helvetica, sans-serif; font-size: 12pt; color: #000000;"><em><span style="t
 ext-decoration: underline;">Class handouts:</span>&nbsp;</em>&nbsp;</span><
 span style="font-family: tahoma, arial, helvetica, sans-serif; font-size: 1
 2pt; color: #000000;">PowerPoint, ARPA Checklist, Roof Specs/Bid Sheet</spa
 n></p><p><span style="font-family: tahoma, arial, helvetica, sans-serif; fo
 nt-size: 12pt;"></span>&nbsp;</p><p><span style="font-family: tahoma, arial
 , helvetica, sans-serif; font-size: 12pt; color: #ff0000;"><strong>This cou
 rse is limited to WAP personnel and designed for attendance by Directors an
 d Energy Auditors.</strong></span></p><p>&nbsp;<span style="font-family: Ta
 homa, 'sans-serif'; color: black; font-size: 12pt;"></span></p><p><span sty
 le="font-size: 12pt; color: black;"><em><span style="text-decoration: under
 line;"><span style="font-family: Tahoma, 'sans-serif';">Class Size</span></
 span></em><span style="font-family: Tahoma, 'sans-serif';">: 30</span></spa
 n></p><p><span style="color: black;">&nbsp;&nbsp;</span></p><p><span style=
 "font-size: 12pt; color: black;"><em><span style="text-decoration: underlin
 e;"><span style="font-family: Tahoma, 'sans-serif';">BPI CEU</span></span><
 /em><span style="text-decoration: underline;"><span style="font-family: Tah
 oma, 'sans-serif';">:</span></span><span style="font-family: Tahoma, 'sans-
 serif';">&nbsp;3</span></span></p><p><span style="color: black;"></span></p
 ><p>&nbsp;</p><p><span style="color: black;"><span style="font-size: 12pt;"
 ><span style="text-decoration: underline;"><span style="font-family: Tahoma
 , 'sans-serif';"><em>Instructors</em>:</span></span><span style="font-famil
 y: Tahoma, 'sans-serif';">&nbsp; Andy Stone &amp; Joe Maggiore</span><span 
 style="font-family: Tahoma, 'sans-serif';">&nbsp;- NYSWDA</span></span>&nbs
 p;</span></p><p><span style="font-family: Tahoma, 'sans-serif'; color: blac
 k; font-size: 12pt;"></span>&nbsp;</p><p><span style="color: black;"><span 
 style="font-size: 12pt;"><em><span style="text-decoration: underline;"><spa
 n style="font-family: Tahoma, 'sans-serif';">Course Fees</span></span><span
  style="font-family: Tahoma, 'sans-serif';">:&nbsp;&nbsp;</span></em></span
 ></span><span style="color: black;"><span style="font-size: 12pt;"><span st
 yle="font-family: Tahoma, 'sans-serif';">None</span></span><span style="fon
 t-size: 12pt;"><span style="font-family: Tahoma, 'sans-serif';"></span></sp
 an></span></p><p>&nbsp;&nbsp;</p><p><span style="font-family: Arial, 'sans-
 serif'; color: black; font-size: 10pt;"><span style="color: #0000ff;"><em><
 strong><span style="font-family: tahoma, arial, helvetica, sans-serif;"><a 
 href="index.php?option=com_civicrm&amp;task=civicrm/event/register&amp;rese
 t=1&amp;id=14100" style="color: #0000ff;"><span style="font-size: 14pt;">Cl
 ick here to register</span></a></span></strong></em></span></span></p><p>&n
 bsp;</p><p><span style="font-family: Arial, 'sans-serif'; color: black; fon
 t-size: 10pt;"></span></p><p>&nbsp;</p><p>&nbsp;</p><p>&nbsp;</p><p>&nbsp;<
 /p><p>&nbsp;</p>
X-ALT-DESC;FMTTYPE=text/html:<p><br />&nbsp;<span style="color: #336699; font-family: tahoma, arial, hel
 vetica, sans-serif; font-size: 14pt;"><span style="color: #000000;"><strong
 ><span style="color: #336699;">ARPA Project Assessment and Roofing Basics a
 nd Estimating - Online (West)</span></strong></span></span></p><p>&nbsp;</p
 ><p><span style="color: #336699; font-family: tahoma, arial, helvetica, san
 s-serif; font-size: 14pt;"><span style="color: #000000;"><strong><span styl
 e="color: #336699;">GoToWebinar Event</span></strong></span></span></p><p><
 strong><span style="font-family: Tahoma, 'sans-serif'; color: #336699; font
 -size: 13.5pt;"></span></strong>&nbsp;</p><p><span style="font-size: 12pt;"
 ><em><span style="text-decoration: underline;"><span style="font-family: Ta
 homa, 'sans-serif'; color: black; text-decoration: underline;">Course Descr
 iption:</span></span></em></span>&nbsp;</p><p><strong><span style="font-fam
 ily: Tahoma, sans-serif; color: black; font-size: 12pt;"><span style="font-
 family: Tahoma, sans-serif; color: black; font-size: 12pt;">Part 1:&nbsp; P
 roject Assessment - Finding the Right Project</span></span></strong></p><p>
 <span style="font-family: Tahoma, sans-serif; color: black; font-size: 12pt
 ;"><span style="font-family: Tahoma, sans-serif; color: black; font-size: 1
 2pt;">Finding the right fit for a project that is within the parameters of 
 ARPA will be critical to the success of the program.&nbsp; This short cours
 e will discuss program goals, workscope options, and roadblocks to look for
  as you select clients and homes to move into your ARPA schedule.</span></s
 pan></p><p>&nbsp;&nbsp;</p><p><strong><span style="font-family: Tahoma, san
 s-serif; color: black; font-size: 12pt;"><span style="font-family: Tahoma, 
 sans-serif; color: black; font-size: 12pt;">15 minute break</span></span></
 strong></p><p>&nbsp;</p><p><span style="color: #000000;">&nbsp;<strong><spa
 n style="font-family: tahoma, arial, helvetica, sans-serif; font-size: 12pt
 ;">Part 2:&nbsp; Roofing Basics and Estimating</span></strong></span></p><p
 ><span style="font-family: tahoma, arial, helvetica, sans-serif; font-size:
  12pt; color: #000000;">Leaking roofs are a major source of deferral in the
  Weatherization Assistance Program. Now, with funding made available throug
 h the American Rescue Plan Act (ARPA) local agencies will have the ability 
 to repair and replace residential roofing. This short course will introduce
  local programs to the various components of a roof, typical roofing materi
 als, and specifics on what to look for when writing a scope of work to addr
 ess the roof. The course will also instruct students on how to properly mea
 sure a roof and discuss potential issues they may run into. A sample specif
 ication and bid sheet will be provided.</span></p><p><span style="color: #0
 00000;">&nbsp;&nbsp;</span></p><p><span style="font-family: tahoma, arial, 
 helvetica, sans-serif; font-size: 12pt; color: #000000;"><em><span style="t
 ext-decoration: underline;">Class handouts:</span>&nbsp;</em>&nbsp;</span><
 span style="font-family: tahoma, arial, helvetica, sans-serif; font-size: 1
 2pt; color: #000000;">PowerPoint, ARPA Checklist, Roof Specs/Bid Sheet</spa
 n></p><p><span style="font-family: tahoma, arial, helvetica, sans-serif; fo
 nt-size: 12pt;"></span>&nbsp;</p><p><span style="font-family: tahoma, arial
 , helvetica, sans-serif; font-size: 12pt; color: #ff0000;"><strong>This cou
 rse is limited to WAP personnel and designed for attendance by Directors an
 d Energy Auditors.</strong></span></p><p>&nbsp;<span style="font-family: Ta
 homa, 'sans-serif'; color: black; font-size: 12pt;"></span></p><p><span sty
 le="font-size: 12pt; color: black;"><em><span style="text-decoration: under
 line;"><span style="font-family: Tahoma, 'sans-serif';">Class Size</span></
 span></em><span style="font-family: Tahoma, 'sans-serif';">: 30</span></spa
 n></p><p><span style="color: black;">&nbsp;&nbsp;</span></p><p><span style=
 "font-size: 12pt; color: black;"><em><span style="text-decoration: underlin
 e;"><span style="font-family: Tahoma, 'sans-serif';">BPI CEU</span></span><
 /em><span style="text-decoration: underline;"><span style="font-family: Tah
 oma, 'sans-serif';">:</span></span><span style="font-family: Tahoma, 'sans-
 serif';">&nbsp;3</span></span></p><p><span style="color: black;"></span></p
 ><p>&nbsp;</p><p><span style="color: black;"><span style="font-size: 12pt;"
 ><span style="text-decoration: underline;"><span style="font-family: Tahoma
 , 'sans-serif';"><em>Instructors</em>:</span></span><span style="font-famil
 y: Tahoma, 'sans-serif';">&nbsp; Andy Stone &amp; Joe Maggiore</span><span 
 style="font-family: Tahoma, 'sans-serif';">&nbsp;- NYSWDA</span></span>&nbs
 p;</span></p><p><span style="font-family: Tahoma, 'sans-serif'; color: blac
 k; font-size: 12pt;"></span>&nbsp;</p><p><span style="color: black;"><span 
 style="font-size: 12pt;"><em><span style="text-decoration: underline;"><spa
 n style="font-family: Tahoma, 'sans-serif';">Course Fees</span></span><span
  style="font-family: Tahoma, 'sans-serif';">:&nbsp;&nbsp;</span></em></span
 ></span><span style="color: black;"><span style="font-size: 12pt;"><span st
 yle="font-family: Tahoma, 'sans-serif';">None</span></span><span style="fon
 t-size: 12pt;"><span style="font-family: Tahoma, 'sans-serif';"></span></sp
 an></span></p><p>&nbsp;&nbsp;</p><p><span style="font-family: Arial, 'sans-
 serif'; color: black; font-size: 10pt;"><span style="color: #0000ff;"><em><
 strong><span style="font-family: tahoma, arial, helvetica, sans-serif;"><a 
 href="https://www.nyswda.org/index.php?option=com_civicrm&amp;task=civicrm/
 event/register&amp;reset=1&amp;id=14100" style="color: #0000ff;"><span styl
 e="font-size: 14pt;">Click here to register</span></a></span></strong></em>
 </span></span></p><p>&nbsp;</p><p><span style="font-family: Arial, 'sans-se
 rif'; color: black; font-size: 10pt;"></span></p><p>&nbsp;</p><p>&nbsp;</p>
 <p>&nbsp;</p><p>&nbsp;</p><p>&nbsp;</p>
CONTACT:This email address is being protected from spambots. You need JavaScript enabled to view it.
				document.getElementById('cloak84afaed57a032f1e2f76ea6bc681663f').innerHTML = '';
				var prefix = '&#109;a' + 'i&#108;' + '&#116;o';
				var path = 'hr' + 'ef' + '=';
				var addy84afaed57a032f1e2f76ea6bc681663f = 'rv&#105;ss&#101;r' + '&#64;';
				addy84afaed57a032f1e2f76ea6bc681663f = addy84afaed57a032f1e2f76ea6bc681663f + 'nyswd&#97;' + '&#46;' + '&#111;rg';
				var addy_text84afaed57a032f1e2f76ea6bc681663f = 'rv&#105;ss&#101;r' + '&#64;' + 'nyswd&#97;' + '&#46;' + '&#111;rg';document.getElementById('cloak84afaed57a032f1e2f76ea6bc681663f').innerHTML += '<a ' + path + '\'' + prefix + ':' + addy84afaed57a032f1e2f76ea6bc681663f + '\'>'+addy_text84afaed57a032f1e2f76ea6bc681663f+'';
		
DTSTAMP:20260424T233419
DTSTART;TZID=America/New_York:20220525T090000
DTEND;TZID=America/New_York:20220525T120000
SEQUENCE:0
TRANSP:OPAQUE
END:VEVENT
END:VCALENDAR