BEGIN:VCALENDAR
VERSION:2.0
PRODID:-//jEvents 2.0 for Joomla//EN
CALSCALE:GREGORIAN
METHOD:PUBLISH
BEGIN:VTIMEZONE
TZID:America/New_York
BEGIN:STANDARD
DTSTART:20211107T010000
RDATE:20220313T030000
TZOFFSETFROM:-0400
TZOFFSETTO:-0500
TZNAME:America/New_York EST
END:STANDARD
BEGIN:STANDARD
DTSTART:20221106T010000
RDATE:20230312T030000
TZOFFSETFROM:-0400
TZOFFSETTO:-0500
TZNAME:America/New_York EST
END:STANDARD
BEGIN:STANDARD
DTSTART:20231105T010000
RDATE:20240310T030000
TZOFFSETFROM:-0400
TZOFFSETTO:-0500
TZNAME:America/New_York EST
END:STANDARD
BEGIN:STANDARD
DTSTART:20241103T010000
RDATE:20250309T030000
TZOFFSETFROM:-0400
TZOFFSETTO:-0500
TZNAME:America/New_York EST
END:STANDARD
BEGIN:STANDARD
DTSTART:20251102T010000
RDATE:20260308T030000
TZOFFSETFROM:-0400
TZOFFSETTO:-0500
TZNAME:America/New_York EST
END:STANDARD
BEGIN:STANDARD
DTSTART:20261101T010000
RDATE:20270314T030000
TZOFFSETFROM:-0400
TZOFFSETTO:-0500
TZNAME:America/New_York EST
END:STANDARD
BEGIN:STANDARD
DTSTART:20271107T010000
RDATE:20280312T030000
TZOFFSETFROM:-0400
TZOFFSETTO:-0500
TZNAME:America/New_York EST
END:STANDARD
BEGIN:STANDARD
DTSTART:20281105T010000
RDATE:20290311T030000
TZOFFSETFROM:-0400
TZOFFSETTO:-0500
TZNAME:America/New_York EST
END:STANDARD
BEGIN:STANDARD
DTSTART:20291104T010000
RDATE:20300310T030000
TZOFFSETFROM:-0400
TZOFFSETTO:-0500
TZNAME:America/New_York EST
END:STANDARD
BEGIN:STANDARD
DTSTART:20301103T010000
RDATE:20310309T030000
TZOFFSETFROM:-0400
TZOFFSETTO:-0500
TZNAME:America/New_York EST
END:STANDARD
BEGIN:DAYLIGHT
DTSTART:20210607T090000
RDATE:20211107T010000
TZOFFSETFROM:-0500
TZOFFSETTO:-0400
TZNAME:America/New_York EDT
END:DAYLIGHT
BEGIN:DAYLIGHT
DTSTART:20220313T030000
RDATE:20221106T010000
TZOFFSETFROM:-0500
TZOFFSETTO:-0400
TZNAME:America/New_York EDT
END:DAYLIGHT
BEGIN:DAYLIGHT
DTSTART:20230312T030000
RDATE:20231105T010000
TZOFFSETFROM:-0500
TZOFFSETTO:-0400
TZNAME:America/New_York EDT
END:DAYLIGHT
BEGIN:DAYLIGHT
DTSTART:20240310T030000
RDATE:20241103T010000
TZOFFSETFROM:-0500
TZOFFSETTO:-0400
TZNAME:America/New_York EDT
END:DAYLIGHT
BEGIN:DAYLIGHT
DTSTART:20250309T030000
RDATE:20251102T010000
TZOFFSETFROM:-0500
TZOFFSETTO:-0400
TZNAME:America/New_York EDT
END:DAYLIGHT
BEGIN:DAYLIGHT
DTSTART:20260308T030000
RDATE:20261101T010000
TZOFFSETFROM:-0500
TZOFFSETTO:-0400
TZNAME:America/New_York EDT
END:DAYLIGHT
BEGIN:DAYLIGHT
DTSTART:20270314T030000
RDATE:20271107T010000
TZOFFSETFROM:-0500
TZOFFSETTO:-0400
TZNAME:America/New_York EDT
END:DAYLIGHT
BEGIN:DAYLIGHT
DTSTART:20280312T030000
RDATE:20281105T010000
TZOFFSETFROM:-0500
TZOFFSETTO:-0400
TZNAME:America/New_York EDT
END:DAYLIGHT
BEGIN:DAYLIGHT
DTSTART:20290311T030000
RDATE:20291104T010000
TZOFFSETFROM:-0500
TZOFFSETTO:-0400
TZNAME:America/New_York EDT
END:DAYLIGHT
BEGIN:DAYLIGHT
DTSTART:20300310T030000
RDATE:20301103T010000
TZOFFSETFROM:-0500
TZOFFSETTO:-0400
TZNAME:America/New_York EDT
END:DAYLIGHT
END:VTIMEZONE
BEGIN:VEVENT
UID:300cf1e96b756338c91c4773431c29fa
CATEGORIES:WEB
CREATED:20220503T182100
SUMMARY:ARPA Project Assessment and Roofing Basics and Estimating - Online
LOCATION:NYSWDA - East Syracuse
DESCRIPTION:<p><br />&nbsp;<span style="color: #336699; font-family: tahoma, arial, hel
 vetica, sans-serif; font-size: 14pt;"><span style="color: #000000;"><strong
 ><span style="color: #336699;">ARPA Project Assessment and Roofing Basics a
 nd Estimating - Online (overflow)</span></strong></span></span></p><p>&nbsp
 ;</p><p><span style="color: #336699; font-family: tahoma, arial, helvetica,
  sans-serif; font-size: 14pt;"><span style="color: #000000;"><strong><span 
 style="color: #336699;">GoToWebinar Event</span></strong></span></span></p>
 <p><strong><span style="font-family: Tahoma, 'sans-serif'; color: #336699; 
 font-size: 13.5pt;"></span></strong>&nbsp;</p><p><span style="font-size: 12
 pt;"><em><span style="text-decoration: underline;"><span style="font-family
 : Tahoma, 'sans-serif'; color: black; text-decoration: underline;">Course D
 escription:</span></span></em></span>&nbsp;</p><p><strong><span style="font
 -family: Tahoma, sans-serif; color: black; font-size: 12pt;"><span style="f
 ont-family: Tahoma, sans-serif; color: black; font-size: 12pt;">Part 1:&nbs
 p; Project Assessment - Finding the Right Project</span></span></strong></p
 ><p><span style="font-family: Tahoma, sans-serif; color: black; font-size: 
 12pt;"><span style="font-family: Tahoma, sans-serif; color: black; font-siz
 e: 12pt;">Finding the right fit for a project that is within the parameters
  of ARPA will be critical to the success of the program.&nbsp; This short c
 ourse will discuss program goals, workscope options, and roadblocks to look
  for as you select clients and homes to move into your ARPA schedule.</span
 ></span></p><p>&nbsp;&nbsp;</p><p><strong><span style="font-family: Tahoma,
  sans-serif; color: black; font-size: 12pt;"><span style="font-family: Taho
 ma, sans-serif; color: black; font-size: 12pt;">15 minute break</span></spa
 n></strong></p><p>&nbsp;</p><p><span style="color: #000000;">&nbsp;<strong>
 <span style="font-family: tahoma, arial, helvetica, sans-serif; font-size: 
 12pt;">Part 2:&nbsp; Roofing Basics and Estimating</span></strong></span></
 p><p><span style="font-family: tahoma, arial, helvetica, sans-serif; font-s
 ize: 12pt; color: #000000;">Leaking roofs are a major source of deferral in
  the Weatherization Assistance Program. Now, with funding made available th
 rough the American Rescue Plan Act (ARPA) local agencies will have the abil
 ity to repair and replace residential roofing. This short course will intro
 duce local programs to the various components of a roof, typical roofing ma
 terials, and specifics on what to look for when writing a scope of work to 
 address the roof. The course will also instruct students on how to properly
  measure a roof and discuss potential issues they may run into. A sample sp
 ecification and bid sheet will be provided.</span></p><p><span style="color
 : #000000;">&nbsp;&nbsp;</span></p><p><span style="font-family: tahoma, ari
 al, helvetica, sans-serif; font-size: 12pt; color: #000000;"><em><span styl
 e="text-decoration: underline;">Class handouts:</span>&nbsp;</em>&nbsp;</sp
 an><span style="font-family: tahoma, arial, helvetica, sans-serif; font-siz
 e: 12pt; color: #000000;">PowerPoint, ARPA Checklist, Roof Specs/Bid Sheet<
 /span></p><p><span style="font-family: tahoma, arial, helvetica, sans-serif
 ; font-size: 12pt;"></span>&nbsp;</p><p><span style="font-family: tahoma, a
 rial, helvetica, sans-serif; font-size: 12pt; color: #ff0000;"><strong>This
  course is limited to WAP personnel and designed for attendance by Director
 s and Energy Auditors.</strong></span></p><p>&nbsp;<span style="font-family
 : Tahoma, 'sans-serif'; color: black; font-size: 12pt;"></span></p><p><span
  style="font-size: 12pt; color: black;"><em><span style="text-decoration: u
 nderline;"><span style="font-family: Tahoma, 'sans-serif';">Class Size</spa
 n></span></em><span style="font-family: Tahoma, 'sans-serif';">: 30</span><
 /span></p><p><span style="color: black;">&nbsp;&nbsp;</span></p><p><span st
 yle="font-size: 12pt; color: black;"><em><span style="text-decoration: unde
 rline;"><span style="font-family: Tahoma, 'sans-serif';">BPI CEU</span></sp
 an></em><span style="text-decoration: underline;"><span style="font-family:
  Tahoma, 'sans-serif';">:</span></span><span style="font-family: Tahoma, 's
 ans-serif';">&nbsp;3</span></span></p><p><span style="color: black;"></span
 ></p><p>&nbsp;</p><p><span style="color: black;"><span style="font-size: 12
 pt;"><span style="text-decoration: underline;"><span style="font-family: Ta
 homa, 'sans-serif';"><em>Instructors</em>:</span></span><span style="font-f
 amily: Tahoma, 'sans-serif';">&nbsp; Andy Stone &amp; Joe Maggiore</span><s
 pan style="font-family: Tahoma, 'sans-serif';">&nbsp;- NYSWDA</span></span>
 &nbsp;</span></p><p><span style="font-family: Tahoma, 'sans-serif'; color: 
 black; font-size: 12pt;"></span>&nbsp;</p><p><span style="color: black;"><s
 pan style="font-size: 12pt;"><em><span style="text-decoration: underline;">
 <span style="font-family: Tahoma, 'sans-serif';">Course Fees</span></span><
 span style="font-family: Tahoma, 'sans-serif';">:&nbsp;&nbsp;</span></em></
 span></span><span style="color: black;"><span style="font-size: 12pt;"><spa
 n style="font-family: Tahoma, 'sans-serif';">None</span></span><span style=
 "font-size: 12pt;"><span style="font-family: Tahoma, 'sans-serif';"></span>
 </span></span></p><p>&nbsp;&nbsp;</p><p><span style="font-family: Arial, 's
 ans-serif'; color: black; font-size: 10pt;"><span style="color: #0000ff;"><
 em><strong><span style="font-family: tahoma, arial, helvetica, sans-serif;"
 ><a href="index.php?option=com_civicrm&amp;task=civicrm/event/register&amp;
 reset=1&amp;id=14101" style="color: #0000ff;"><span style="font-size: 14pt;
 ">Click here to register</span></a></span></strong></em></span></span></p><
 p>&nbsp;</p><p><span style="font-family: Arial, 'sans-serif'; color: black;
  font-size: 10pt;"></span></p><p>&nbsp;</p><p>&nbsp;</p><p>&nbsp;</p><p>&nb
 sp;</p><p>&nbsp;</p>
X-ALT-DESC;FMTTYPE=text/html:<p><br />&nbsp;<span style="color: #336699; font-family: tahoma, arial, hel
 vetica, sans-serif; font-size: 14pt;"><span style="color: #000000;"><strong
 ><span style="color: #336699;">ARPA Project Assessment and Roofing Basics a
 nd Estimating - Online (overflow)</span></strong></span></span></p><p>&nbsp
 ;</p><p><span style="color: #336699; font-family: tahoma, arial, helvetica,
  sans-serif; font-size: 14pt;"><span style="color: #000000;"><strong><span 
 style="color: #336699;">GoToWebinar Event</span></strong></span></span></p>
 <p><strong><span style="font-family: Tahoma, 'sans-serif'; color: #336699; 
 font-size: 13.5pt;"></span></strong>&nbsp;</p><p><span style="font-size: 12
 pt;"><em><span style="text-decoration: underline;"><span style="font-family
 : Tahoma, 'sans-serif'; color: black; text-decoration: underline;">Course D
 escription:</span></span></em></span>&nbsp;</p><p><strong><span style="font
 -family: Tahoma, sans-serif; color: black; font-size: 12pt;"><span style="f
 ont-family: Tahoma, sans-serif; color: black; font-size: 12pt;">Part 1:&nbs
 p; Project Assessment - Finding the Right Project</span></span></strong></p
 ><p><span style="font-family: Tahoma, sans-serif; color: black; font-size: 
 12pt;"><span style="font-family: Tahoma, sans-serif; color: black; font-siz
 e: 12pt;">Finding the right fit for a project that is within the parameters
  of ARPA will be critical to the success of the program.&nbsp; This short c
 ourse will discuss program goals, workscope options, and roadblocks to look
  for as you select clients and homes to move into your ARPA schedule.</span
 ></span></p><p>&nbsp;&nbsp;</p><p><strong><span style="font-family: Tahoma,
  sans-serif; color: black; font-size: 12pt;"><span style="font-family: Taho
 ma, sans-serif; color: black; font-size: 12pt;">15 minute break</span></spa
 n></strong></p><p>&nbsp;</p><p><span style="color: #000000;">&nbsp;<strong>
 <span style="font-family: tahoma, arial, helvetica, sans-serif; font-size: 
 12pt;">Part 2:&nbsp; Roofing Basics and Estimating</span></strong></span></
 p><p><span style="font-family: tahoma, arial, helvetica, sans-serif; font-s
 ize: 12pt; color: #000000;">Leaking roofs are a major source of deferral in
  the Weatherization Assistance Program. Now, with funding made available th
 rough the American Rescue Plan Act (ARPA) local agencies will have the abil
 ity to repair and replace residential roofing. This short course will intro
 duce local programs to the various components of a roof, typical roofing ma
 terials, and specifics on what to look for when writing a scope of work to 
 address the roof. The course will also instruct students on how to properly
  measure a roof and discuss potential issues they may run into. A sample sp
 ecification and bid sheet will be provided.</span></p><p><span style="color
 : #000000;">&nbsp;&nbsp;</span></p><p><span style="font-family: tahoma, ari
 al, helvetica, sans-serif; font-size: 12pt; color: #000000;"><em><span styl
 e="text-decoration: underline;">Class handouts:</span>&nbsp;</em>&nbsp;</sp
 an><span style="font-family: tahoma, arial, helvetica, sans-serif; font-siz
 e: 12pt; color: #000000;">PowerPoint, ARPA Checklist, Roof Specs/Bid Sheet<
 /span></p><p><span style="font-family: tahoma, arial, helvetica, sans-serif
 ; font-size: 12pt;"></span>&nbsp;</p><p><span style="font-family: tahoma, a
 rial, helvetica, sans-serif; font-size: 12pt; color: #ff0000;"><strong>This
  course is limited to WAP personnel and designed for attendance by Director
 s and Energy Auditors.</strong></span></p><p>&nbsp;<span style="font-family
 : Tahoma, 'sans-serif'; color: black; font-size: 12pt;"></span></p><p><span
  style="font-size: 12pt; color: black;"><em><span style="text-decoration: u
 nderline;"><span style="font-family: Tahoma, 'sans-serif';">Class Size</spa
 n></span></em><span style="font-family: Tahoma, 'sans-serif';">: 30</span><
 /span></p><p><span style="color: black;">&nbsp;&nbsp;</span></p><p><span st
 yle="font-size: 12pt; color: black;"><em><span style="text-decoration: unde
 rline;"><span style="font-family: Tahoma, 'sans-serif';">BPI CEU</span></sp
 an></em><span style="text-decoration: underline;"><span style="font-family:
  Tahoma, 'sans-serif';">:</span></span><span style="font-family: Tahoma, 's
 ans-serif';">&nbsp;3</span></span></p><p><span style="color: black;"></span
 ></p><p>&nbsp;</p><p><span style="color: black;"><span style="font-size: 12
 pt;"><span style="text-decoration: underline;"><span style="font-family: Ta
 homa, 'sans-serif';"><em>Instructors</em>:</span></span><span style="font-f
 amily: Tahoma, 'sans-serif';">&nbsp; Andy Stone &amp; Joe Maggiore</span><s
 pan style="font-family: Tahoma, 'sans-serif';">&nbsp;- NYSWDA</span></span>
 &nbsp;</span></p><p><span style="font-family: Tahoma, 'sans-serif'; color: 
 black; font-size: 12pt;"></span>&nbsp;</p><p><span style="color: black;"><s
 pan style="font-size: 12pt;"><em><span style="text-decoration: underline;">
 <span style="font-family: Tahoma, 'sans-serif';">Course Fees</span></span><
 span style="font-family: Tahoma, 'sans-serif';">:&nbsp;&nbsp;</span></em></
 span></span><span style="color: black;"><span style="font-size: 12pt;"><spa
 n style="font-family: Tahoma, 'sans-serif';">None</span></span><span style=
 "font-size: 12pt;"><span style="font-family: Tahoma, 'sans-serif';"></span>
 </span></span></p><p>&nbsp;&nbsp;</p><p><span style="font-family: Arial, 's
 ans-serif'; color: black; font-size: 10pt;"><span style="color: #0000ff;"><
 em><strong><span style="font-family: tahoma, arial, helvetica, sans-serif;"
 ><a href="https://www.nyswda.org/index.php?option=com_civicrm&amp;task=civi
 crm/event/register&amp;reset=1&amp;id=14101" style="color: #0000ff;"><span 
 style="font-size: 14pt;">Click here to register</span></a></span></strong><
 /em></span></span></p><p>&nbsp;</p><p><span style="font-family: Arial, 'san
 s-serif'; color: black; font-size: 10pt;"></span></p><p>&nbsp;</p><p>&nbsp;
 </p><p>&nbsp;</p><p>&nbsp;</p><p>&nbsp;</p>
CONTACT:This email address is being protected from spambots. You need JavaScript enabled to view it.
				document.getElementById('cloak7e146f8cc5705b3a30bbb6ee8a44665f').innerHTML = '';
				var prefix = '&#109;a' + 'i&#108;' + '&#116;o';
				var path = 'hr' + 'ef' + '=';
				var addy7e146f8cc5705b3a30bbb6ee8a44665f = 'rv&#105;ss&#101;r' + '&#64;';
				addy7e146f8cc5705b3a30bbb6ee8a44665f = addy7e146f8cc5705b3a30bbb6ee8a44665f + 'nyswd&#97;' + '&#46;' + '&#111;rg';
				var addy_text7e146f8cc5705b3a30bbb6ee8a44665f = 'rv&#105;ss&#101;r' + '&#64;' + 'nyswd&#97;' + '&#46;' + '&#111;rg';document.getElementById('cloak7e146f8cc5705b3a30bbb6ee8a44665f').innerHTML += '<a ' + path + '\'' + prefix + ':' + addy7e146f8cc5705b3a30bbb6ee8a44665f + '\'>'+addy_text7e146f8cc5705b3a30bbb6ee8a44665f+'';
		
DTSTAMP:20260424T233339
DTSTART;TZID=America/New_York:20220608T090000
DTEND;TZID=America/New_York:20220608T120000
SEQUENCE:0
TRANSP:OPAQUE
END:VEVENT
END:VCALENDAR