BEGIN:VCALENDAR
VERSION:2.0
PRODID:-//jEvents 2.0 for Joomla//EN
CALSCALE:GREGORIAN
METHOD:PUBLISH
BEGIN:VTIMEZONE
TZID:America/New_York
BEGIN:STANDARD
DTSTART:20211107T010000
RDATE:20220313T030000
TZOFFSETFROM:-0400
TZOFFSETTO:-0500
TZNAME:America/New_York EST
END:STANDARD
BEGIN:STANDARD
DTSTART:20221106T010000
RDATE:20230312T030000
TZOFFSETFROM:-0400
TZOFFSETTO:-0500
TZNAME:America/New_York EST
END:STANDARD
BEGIN:STANDARD
DTSTART:20231105T010000
RDATE:20240310T030000
TZOFFSETFROM:-0400
TZOFFSETTO:-0500
TZNAME:America/New_York EST
END:STANDARD
BEGIN:STANDARD
DTSTART:20241103T010000
RDATE:20250309T030000
TZOFFSETFROM:-0400
TZOFFSETTO:-0500
TZNAME:America/New_York EST
END:STANDARD
BEGIN:STANDARD
DTSTART:20251102T010000
RDATE:20260308T030000
TZOFFSETFROM:-0400
TZOFFSETTO:-0500
TZNAME:America/New_York EST
END:STANDARD
BEGIN:STANDARD
DTSTART:20261101T010000
RDATE:20270314T030000
TZOFFSETFROM:-0400
TZOFFSETTO:-0500
TZNAME:America/New_York EST
END:STANDARD
BEGIN:STANDARD
DTSTART:20271107T010000
RDATE:20280312T030000
TZOFFSETFROM:-0400
TZOFFSETTO:-0500
TZNAME:America/New_York EST
END:STANDARD
BEGIN:STANDARD
DTSTART:20281105T010000
RDATE:20290311T030000
TZOFFSETFROM:-0400
TZOFFSETTO:-0500
TZNAME:America/New_York EST
END:STANDARD
BEGIN:STANDARD
DTSTART:20291104T010000
RDATE:20300310T030000
TZOFFSETFROM:-0400
TZOFFSETTO:-0500
TZNAME:America/New_York EST
END:STANDARD
BEGIN:STANDARD
DTSTART:20301103T010000
RDATE:20310309T030000
TZOFFSETFROM:-0400
TZOFFSETTO:-0500
TZNAME:America/New_York EST
END:STANDARD
BEGIN:DAYLIGHT
DTSTART:20210518T090000
RDATE:20211107T010000
TZOFFSETFROM:-0500
TZOFFSETTO:-0400
TZNAME:America/New_York EDT
END:DAYLIGHT
BEGIN:DAYLIGHT
DTSTART:20220313T030000
RDATE:20221106T010000
TZOFFSETFROM:-0500
TZOFFSETTO:-0400
TZNAME:America/New_York EDT
END:DAYLIGHT
BEGIN:DAYLIGHT
DTSTART:20230312T030000
RDATE:20231105T010000
TZOFFSETFROM:-0500
TZOFFSETTO:-0400
TZNAME:America/New_York EDT
END:DAYLIGHT
BEGIN:DAYLIGHT
DTSTART:20240310T030000
RDATE:20241103T010000
TZOFFSETFROM:-0500
TZOFFSETTO:-0400
TZNAME:America/New_York EDT
END:DAYLIGHT
BEGIN:DAYLIGHT
DTSTART:20250309T030000
RDATE:20251102T010000
TZOFFSETFROM:-0500
TZOFFSETTO:-0400
TZNAME:America/New_York EDT
END:DAYLIGHT
BEGIN:DAYLIGHT
DTSTART:20260308T030000
RDATE:20261101T010000
TZOFFSETFROM:-0500
TZOFFSETTO:-0400
TZNAME:America/New_York EDT
END:DAYLIGHT
BEGIN:DAYLIGHT
DTSTART:20270314T030000
RDATE:20271107T010000
TZOFFSETFROM:-0500
TZOFFSETTO:-0400
TZNAME:America/New_York EDT
END:DAYLIGHT
BEGIN:DAYLIGHT
DTSTART:20280312T030000
RDATE:20281105T010000
TZOFFSETFROM:-0500
TZOFFSETTO:-0400
TZNAME:America/New_York EDT
END:DAYLIGHT
BEGIN:DAYLIGHT
DTSTART:20290311T030000
RDATE:20291104T010000
TZOFFSETFROM:-0500
TZOFFSETTO:-0400
TZNAME:America/New_York EDT
END:DAYLIGHT
BEGIN:DAYLIGHT
DTSTART:20300310T030000
RDATE:20301103T010000
TZOFFSETFROM:-0500
TZOFFSETTO:-0400
TZNAME:America/New_York EDT
END:DAYLIGHT
END:VTIMEZONE
BEGIN:VEVENT
UID:3c261e479460aec7fa0729216771d751
CATEGORIES:WEB
CREATED:20220504T134733
SUMMARY:Introduction to Radon Mitigation - Online
LOCATION:NYSWDA - East Syracuse
DESCRIPTION:<p><br />&nbsp;<span style="color: #336699; font-family: tahoma, arial, hel
 vetica, sans-serif; font-size: 14pt;"><span style="color: #000000;"><strong
 ><span style="color: #336699;">Introduction to Radon Mitigation - Online (E
 ast)</span></strong></span></span></p><p>&nbsp;</p><p><span style="color: #
 336699; font-family: tahoma, arial, helvetica, sans-serif; font-size: 14pt;
 "><span style="color: #000000;"><strong><span style="color: #336699;">GoToW
 ebinar Event</span></strong></span></span></p><p><strong><span style="font-
 family: Tahoma, 'sans-serif'; color: #336699; font-size: 13.5pt;"></span></
 strong>&nbsp;</p><p><span style="font-size: 12pt;"><em><span style="text-de
 coration: underline;"><span style="font-family: Tahoma, 'sans-serif'; color
 : black; text-decoration: underline;">Course Description:</span></span></em
 ></span>&nbsp;</p><p><span style="font-family: tahoma, arial, helvetica, sa
 ns-serif; font-size: 12pt;">Radon is a naturally occurring, radioactive ele
 ment—meaning it gives off radiation— that can move through buildings as a c
 olorless, odorless, tasteless gas.&nbsp; It can be found in buildings all o
 ver New York State, including single and multi-family homes. Long term expo
 sure to radon can be dangerous and is thought to be the second largest cont
 ributor to lung cancer after smoking.<br /><br />Options are available to t
 he WAP network through ARPA funding on how to manage or remediate radon in 
 client housing. This course will provide background on radon awareness and 
 review HCR/DOE policy on precautionary measures as they are generally accep
 ted as the first step in reducing radon as part a good radon plan. The cour
 se will also introduce students to testing protocols, provide guidance on w
 ork specifications, advice on the management of an active mitigation system
 , and protocols for a good post inspection. &nbsp;&nbsp;&nbsp;</span></p><p
 >&nbsp;&nbsp;</p><p><span style="text-decoration: underline;"><em><span sty
 le="font-family: Tahoma, sans-serif; color: black; font-size: 12pt;"><span 
 style="font-family: Tahoma, sans-serif; color: black; font-size: 12pt; text
 -decoration: underline;">Course Modules:</span></span></em></span>&nbsp;</p
 ><ol><li><span style="font-family: tahoma, arial, helvetica, sans-serif; fo
 nt-size: 12pt; color: #000000;">Radon: Background and Awareness</span></li>
 <li><span style="font-family: tahoma, arial, helvetica, sans-serif; font-si
 ze: 12pt; color: #000000;">Review of Precautionary Measures</span></li><li>
 <span style="font-family: tahoma, arial, helvetica, sans-serif; font-size: 
 12pt; color: #000000;">Introduction to Active Mitigation Systems</span></li
 ><li><span style="font-family: tahoma, arial, helvetica, sans-serif; font-s
 ize: 12pt; color: #000000;">Testing Specifications and Management of a New 
 System</span></li></ol><p><span style="color: #000000;">&nbsp;&nbsp;</span>
 </p><p><span style="font-family: tahoma, arial, helvetica, sans-serif; font
 -size: 12pt; color: #000000;"><em><span style="text-decoration: underline;"
 >Class Handouts:</span>&nbsp;</em>&nbsp;<br />PowerPoint, EPA Basic Radon F
 act Sheet, Informed Consent form, OSHA Radon Worker Safety sheet, (possible
  example of a basement zonal testing form)</span></p><p><span style="font-f
 amily: tahoma, arial, helvetica, sans-serif; font-size: 12pt;"></span>&nbsp
 ;</p><p><span style="font-family: tahoma, arial, helvetica, sans-serif; fon
 t-size: 12pt; color: #ff0000;"><strong>This course is limited to WAP person
 nel and designed for attendance by Directors and Energy Auditors.</strong><
 /span></p><p>&nbsp;<span style="font-family: Tahoma, 'sans-serif'; color: b
 lack; font-size: 12pt;"></span></p><p><span style="font-size: 12pt; color: 
 black;"><em><span style="text-decoration: underline;"><span style="font-fam
 ily: Tahoma, 'sans-serif';">Class Size</span></span></em><span style="font-
 family: Tahoma, 'sans-serif';">: 30</span></span></p><p><span style="color:
  black;">&nbsp;&nbsp;</span></p><p><span style="font-size: 12pt; color: bla
 ck;"><em><span style="text-decoration: underline;"><span style="font-family
 : Tahoma, 'sans-serif';">BPI CEU</span></span></em><span style="text-decora
 tion: underline;"><span style="font-family: Tahoma, 'sans-serif';">:</span>
 </span><span style="font-family: Tahoma, 'sans-serif';">&nbsp;3</span></spa
 n></p><p><span style="color: black;"></span></p><p>&nbsp;</p><p><span style
 ="color: black;"><span style="font-size: 12pt;"><span style="text-decoratio
 n: underline;"><span style="font-family: Tahoma, 'sans-serif';"><em>Instruc
 tors</em>:</span></span><span style="font-family: Tahoma, 'sans-serif';">&n
 bsp; Andy Stone &amp; Joe Maggiore</span><span style="font-family: Tahoma, 
 'sans-serif';">&nbsp;- NYSWDA</span></span>&nbsp;</span></p><p><span style=
 "font-family: Tahoma, 'sans-serif'; color: black; font-size: 12pt;"></span>
 &nbsp;</p><p><span style="color: black;"><span style="font-size: 12pt;"><em
 ><span style="text-decoration: underline;"><span style="font-family: Tahoma
 , 'sans-serif';">Course Fees</span></span><span style="font-family: Tahoma,
  'sans-serif';">:&nbsp;&nbsp;</span></em></span></span><span style="color: 
 black;"><span style="font-size: 12pt;"><span style="font-family: Tahoma, 's
 ans-serif';">None</span></span><span style="font-size: 12pt;"><span style="
 font-family: Tahoma, 'sans-serif';"></span></span></span></p><p>&nbsp;&nbsp
 ;</p><p><span style="font-family: Arial, 'sans-serif'; color: black; font-s
 ize: 10pt;"><span style="color: #0000ff;"><em><strong><span style="font-fam
 ily: tahoma, arial, helvetica, sans-serif;"><a href="index.php?option=com_c
 ivicrm&amp;task=civicrm/event/register&amp;reset=1&amp;id=14102" style="col
 or: #0000ff;"><span style="font-size: 14pt;">Click here to register</span><
 /a></span></strong></em></span></span></p><p>&nbsp;</p><p><span style="font
 -family: Arial, 'sans-serif'; color: black; font-size: 10pt;"></span></p><p
 >&nbsp;</p><p>&nbsp;</p><p>&nbsp;</p><p>&nbsp;</p><p>&nbsp;</p>
X-ALT-DESC;FMTTYPE=text/html:<p><br />&nbsp;<span style="color: #336699; font-family: tahoma, arial, hel
 vetica, sans-serif; font-size: 14pt;"><span style="color: #000000;"><strong
 ><span style="color: #336699;">Introduction to Radon Mitigation - Online (E
 ast)</span></strong></span></span></p><p>&nbsp;</p><p><span style="color: #
 336699; font-family: tahoma, arial, helvetica, sans-serif; font-size: 14pt;
 "><span style="color: #000000;"><strong><span style="color: #336699;">GoToW
 ebinar Event</span></strong></span></span></p><p><strong><span style="font-
 family: Tahoma, 'sans-serif'; color: #336699; font-size: 13.5pt;"></span></
 strong>&nbsp;</p><p><span style="font-size: 12pt;"><em><span style="text-de
 coration: underline;"><span style="font-family: Tahoma, 'sans-serif'; color
 : black; text-decoration: underline;">Course Description:</span></span></em
 ></span>&nbsp;</p><p><span style="font-family: tahoma, arial, helvetica, sa
 ns-serif; font-size: 12pt;">Radon is a naturally occurring, radioactive ele
 ment—meaning it gives off radiation— that can move through buildings as a c
 olorless, odorless, tasteless gas.&nbsp; It can be found in buildings all o
 ver New York State, including single and multi-family homes. Long term expo
 sure to radon can be dangerous and is thought to be the second largest cont
 ributor to lung cancer after smoking.<br /><br />Options are available to t
 he WAP network through ARPA funding on how to manage or remediate radon in 
 client housing. This course will provide background on radon awareness and 
 review HCR/DOE policy on precautionary measures as they are generally accep
 ted as the first step in reducing radon as part a good radon plan. The cour
 se will also introduce students to testing protocols, provide guidance on w
 ork specifications, advice on the management of an active mitigation system
 , and protocols for a good post inspection. &nbsp;&nbsp;&nbsp;</span></p><p
 >&nbsp;&nbsp;</p><p><span style="text-decoration: underline;"><em><span sty
 le="font-family: Tahoma, sans-serif; color: black; font-size: 12pt;"><span 
 style="font-family: Tahoma, sans-serif; color: black; font-size: 12pt; text
 -decoration: underline;">Course Modules:</span></span></em></span>&nbsp;</p
 ><ol><li><span style="font-family: tahoma, arial, helvetica, sans-serif; fo
 nt-size: 12pt; color: #000000;">Radon: Background and Awareness</span></li>
 <li><span style="font-family: tahoma, arial, helvetica, sans-serif; font-si
 ze: 12pt; color: #000000;">Review of Precautionary Measures</span></li><li>
 <span style="font-family: tahoma, arial, helvetica, sans-serif; font-size: 
 12pt; color: #000000;">Introduction to Active Mitigation Systems</span></li
 ><li><span style="font-family: tahoma, arial, helvetica, sans-serif; font-s
 ize: 12pt; color: #000000;">Testing Specifications and Management of a New 
 System</span></li></ol><p><span style="color: #000000;">&nbsp;&nbsp;</span>
 </p><p><span style="font-family: tahoma, arial, helvetica, sans-serif; font
 -size: 12pt; color: #000000;"><em><span style="text-decoration: underline;"
 >Class Handouts:</span>&nbsp;</em>&nbsp;<br />PowerPoint, EPA Basic Radon F
 act Sheet, Informed Consent form, OSHA Radon Worker Safety sheet, (possible
  example of a basement zonal testing form)</span></p><p><span style="font-f
 amily: tahoma, arial, helvetica, sans-serif; font-size: 12pt;"></span>&nbsp
 ;</p><p><span style="font-family: tahoma, arial, helvetica, sans-serif; fon
 t-size: 12pt; color: #ff0000;"><strong>This course is limited to WAP person
 nel and designed for attendance by Directors and Energy Auditors.</strong><
 /span></p><p>&nbsp;<span style="font-family: Tahoma, 'sans-serif'; color: b
 lack; font-size: 12pt;"></span></p><p><span style="font-size: 12pt; color: 
 black;"><em><span style="text-decoration: underline;"><span style="font-fam
 ily: Tahoma, 'sans-serif';">Class Size</span></span></em><span style="font-
 family: Tahoma, 'sans-serif';">: 30</span></span></p><p><span style="color:
  black;">&nbsp;&nbsp;</span></p><p><span style="font-size: 12pt; color: bla
 ck;"><em><span style="text-decoration: underline;"><span style="font-family
 : Tahoma, 'sans-serif';">BPI CEU</span></span></em><span style="text-decora
 tion: underline;"><span style="font-family: Tahoma, 'sans-serif';">:</span>
 </span><span style="font-family: Tahoma, 'sans-serif';">&nbsp;3</span></spa
 n></p><p><span style="color: black;"></span></p><p>&nbsp;</p><p><span style
 ="color: black;"><span style="font-size: 12pt;"><span style="text-decoratio
 n: underline;"><span style="font-family: Tahoma, 'sans-serif';"><em>Instruc
 tors</em>:</span></span><span style="font-family: Tahoma, 'sans-serif';">&n
 bsp; Andy Stone &amp; Joe Maggiore</span><span style="font-family: Tahoma, 
 'sans-serif';">&nbsp;- NYSWDA</span></span>&nbsp;</span></p><p><span style=
 "font-family: Tahoma, 'sans-serif'; color: black; font-size: 12pt;"></span>
 &nbsp;</p><p><span style="color: black;"><span style="font-size: 12pt;"><em
 ><span style="text-decoration: underline;"><span style="font-family: Tahoma
 , 'sans-serif';">Course Fees</span></span><span style="font-family: Tahoma,
  'sans-serif';">:&nbsp;&nbsp;</span></em></span></span><span style="color: 
 black;"><span style="font-size: 12pt;"><span style="font-family: Tahoma, 's
 ans-serif';">None</span></span><span style="font-size: 12pt;"><span style="
 font-family: Tahoma, 'sans-serif';"></span></span></span></p><p>&nbsp;&nbsp
 ;</p><p><span style="font-family: Arial, 'sans-serif'; color: black; font-s
 ize: 10pt;"><span style="color: #0000ff;"><em><strong><span style="font-fam
 ily: tahoma, arial, helvetica, sans-serif;"><a href="https://www.nyswda.org
 /index.php?option=com_civicrm&amp;task=civicrm/event/register&amp;reset=1&a
 mp;id=14102" style="color: #0000ff;"><span style="font-size: 14pt;">Click h
 ere to register</span></a></span></strong></em></span></span></p><p>&nbsp;<
 /p><p><span style="font-family: Arial, 'sans-serif'; color: black; font-siz
 e: 10pt;"></span></p><p>&nbsp;</p><p>&nbsp;</p><p>&nbsp;</p><p>&nbsp;</p><p
 >&nbsp;</p>
CONTACT:This email address is being protected from spambots. You need JavaScript enabled to view it.
				document.getElementById('cloakbfa49aaabdbbeb58245a01335845e786').innerHTML = '';
				var prefix = '&#109;a' + 'i&#108;' + '&#116;o';
				var path = 'hr' + 'ef' + '=';
				var addybfa49aaabdbbeb58245a01335845e786 = 'rv&#105;ss&#101;r' + '&#64;';
				addybfa49aaabdbbeb58245a01335845e786 = addybfa49aaabdbbeb58245a01335845e786 + 'nyswd&#97;' + '&#46;' + '&#111;rg';
				var addy_textbfa49aaabdbbeb58245a01335845e786 = 'rv&#105;ss&#101;r' + '&#64;' + 'nyswd&#97;' + '&#46;' + '&#111;rg';document.getElementById('cloakbfa49aaabdbbeb58245a01335845e786').innerHTML += '<a ' + path + '\'' + prefix + ':' + addybfa49aaabdbbeb58245a01335845e786 + '\'>'+addy_textbfa49aaabdbbeb58245a01335845e786+'';
		
DTSTAMP:20260424T233342
DTSTART;TZID=America/New_York:20220519T090000
DTEND;TZID=America/New_York:20220519T120000
SEQUENCE:0
TRANSP:OPAQUE
END:VEVENT
END:VCALENDAR