BEGIN:VCALENDAR
VERSION:2.0
PRODID:-//jEvents 2.0 for Joomla//EN
CALSCALE:GREGORIAN
METHOD:PUBLISH
BEGIN:VTIMEZONE
TZID:America/New_York
BEGIN:STANDARD
DTSTART:20211107T010000
RDATE:20220313T030000
TZOFFSETFROM:-0400
TZOFFSETTO:-0500
TZNAME:America/New_York EST
END:STANDARD
BEGIN:STANDARD
DTSTART:20221106T010000
RDATE:20230312T030000
TZOFFSETFROM:-0400
TZOFFSETTO:-0500
TZNAME:America/New_York EST
END:STANDARD
BEGIN:STANDARD
DTSTART:20231105T010000
RDATE:20240310T030000
TZOFFSETFROM:-0400
TZOFFSETTO:-0500
TZNAME:America/New_York EST
END:STANDARD
BEGIN:STANDARD
DTSTART:20241103T010000
RDATE:20250309T030000
TZOFFSETFROM:-0400
TZOFFSETTO:-0500
TZNAME:America/New_York EST
END:STANDARD
BEGIN:STANDARD
DTSTART:20251102T010000
RDATE:20260308T030000
TZOFFSETFROM:-0400
TZOFFSETTO:-0500
TZNAME:America/New_York EST
END:STANDARD
BEGIN:STANDARD
DTSTART:20261101T010000
RDATE:20270314T030000
TZOFFSETFROM:-0400
TZOFFSETTO:-0500
TZNAME:America/New_York EST
END:STANDARD
BEGIN:STANDARD
DTSTART:20271107T010000
RDATE:20280312T030000
TZOFFSETFROM:-0400
TZOFFSETTO:-0500
TZNAME:America/New_York EST
END:STANDARD
BEGIN:STANDARD
DTSTART:20281105T010000
RDATE:20290311T030000
TZOFFSETFROM:-0400
TZOFFSETTO:-0500
TZNAME:America/New_York EST
END:STANDARD
BEGIN:STANDARD
DTSTART:20291104T010000
RDATE:20300310T030000
TZOFFSETFROM:-0400
TZOFFSETTO:-0500
TZNAME:America/New_York EST
END:STANDARD
BEGIN:STANDARD
DTSTART:20301103T010000
RDATE:20310309T030000
TZOFFSETFROM:-0400
TZOFFSETTO:-0500
TZNAME:America/New_York EST
END:STANDARD
BEGIN:DAYLIGHT
DTSTART:20210525T090000
RDATE:20211107T010000
TZOFFSETFROM:-0500
TZOFFSETTO:-0400
TZNAME:America/New_York EDT
END:DAYLIGHT
BEGIN:DAYLIGHT
DTSTART:20220313T030000
RDATE:20221106T010000
TZOFFSETFROM:-0500
TZOFFSETTO:-0400
TZNAME:America/New_York EDT
END:DAYLIGHT
BEGIN:DAYLIGHT
DTSTART:20230312T030000
RDATE:20231105T010000
TZOFFSETFROM:-0500
TZOFFSETTO:-0400
TZNAME:America/New_York EDT
END:DAYLIGHT
BEGIN:DAYLIGHT
DTSTART:20240310T030000
RDATE:20241103T010000
TZOFFSETFROM:-0500
TZOFFSETTO:-0400
TZNAME:America/New_York EDT
END:DAYLIGHT
BEGIN:DAYLIGHT
DTSTART:20250309T030000
RDATE:20251102T010000
TZOFFSETFROM:-0500
TZOFFSETTO:-0400
TZNAME:America/New_York EDT
END:DAYLIGHT
BEGIN:DAYLIGHT
DTSTART:20260308T030000
RDATE:20261101T010000
TZOFFSETFROM:-0500
TZOFFSETTO:-0400
TZNAME:America/New_York EDT
END:DAYLIGHT
BEGIN:DAYLIGHT
DTSTART:20270314T030000
RDATE:20271107T010000
TZOFFSETFROM:-0500
TZOFFSETTO:-0400
TZNAME:America/New_York EDT
END:DAYLIGHT
BEGIN:DAYLIGHT
DTSTART:20280312T030000
RDATE:20281105T010000
TZOFFSETFROM:-0500
TZOFFSETTO:-0400
TZNAME:America/New_York EDT
END:DAYLIGHT
BEGIN:DAYLIGHT
DTSTART:20290311T030000
RDATE:20291104T010000
TZOFFSETFROM:-0500
TZOFFSETTO:-0400
TZNAME:America/New_York EDT
END:DAYLIGHT
BEGIN:DAYLIGHT
DTSTART:20300310T030000
RDATE:20301103T010000
TZOFFSETFROM:-0500
TZOFFSETTO:-0400
TZNAME:America/New_York EDT
END:DAYLIGHT
END:VTIMEZONE
BEGIN:VEVENT
UID:66e4d9aefe0f1a43a7782ecdbbe30f9f
CATEGORIES:WEB
CREATED:20220504T135427
SUMMARY:Introduction to Radon Mitigation - Online
LOCATION:NYSWDA - East Syracuse
DESCRIPTION:\n Introduction to Radon Mitigation - Online (West)\n
 \n
GoToWebinar Event
 \n
 \n
Course Description: \n
Radon is a naturally occurring, radioactive e
 lement—meaning it gives off radiation— that can move through buildings as a
  colorless, odorless, tasteless gas.  It can be found in buildings all over
  New York State, including single and multi-family homes. Long term exposur
 e to radon can be dangerous and is thought to be the second largest contrib
 utor to lung cancer after smoking.\n\nOptions are available to the WAP netw
 ork through ARPA funding on how to manage or remediate radon in client hous
 ing. This course will provide background on radon awareness and review HCR/
 DOE policy on precautionary measures as they are generally accepted as the 
 first step in reducing radon as part a good radon plan. The course will als
 o introduce students to testing protocols, provide guidance on work specifi
 cations, advice on the management of an active mitigation system, and proto
 cols for a good post inspection.    \n
  \n
Course Modules: \n

\n - Radon:
  Background and Awareness
\n - Review of Precautionary Measures
\n - Introd
 uction to Active Mitigation Systems
\n - Testing Specifications and Managem
 ent of a New System

  \n
Class Handouts:  \nPowerPoint, EPA Basic Radon Fa
 ct Sheet, Informed Consent form, OSHA Radon Worker Safety sheet, (possible 
 example of a basement zonal testing form)\n
 \n
This course is limited to W
 AP personnel and designed for attendance by Directors and Energy Auditors.\
 n
 \n
Class Size: 30\n
  \n
BPI CEU: 3\n
\n
 \n
Instructors:  Andy Stone - 
 NYSWDA \n
 \n
Course Fees:  None\n
  \n
Click here to register (index.php?o
 ption=com_civicrm&amp;task=civicrm/event/register&amp;reset=1&amp;id=14103)
 \n
 \n
\n
 \n
 \n
 \n
 \n
 \n
X-ALT-DESC;FMTTYPE=text/html:<p><br />&nbsp;<span style="color: #336699; font-family: tahoma, arial, hel
 vetica, sans-serif; font-size: 14pt;"><span style="color: #000000;"><strong
 ><span style="color: #336699;">Introduction to Radon Mitigation - Online (W
 est)</span></strong></span></span></p><p>&nbsp;</p><p><span style="color: #
 336699; font-family: tahoma, arial, helvetica, sans-serif; font-size: 14pt;
 "><span style="color: #000000;"><strong><span style="color: #336699;">GoToW
 ebinar Event</span></strong></span></span></p><p><strong><span style="font-
 family: Tahoma, 'sans-serif'; color: #336699; font-size: 13.5pt;"></span></
 strong>&nbsp;</p><p><span style="font-size: 12pt;"><em><span style="text-de
 coration: underline;"><span style="font-family: Tahoma, 'sans-serif'; color
 : black; text-decoration: underline;">Course Description:</span></span></em
 ></span>&nbsp;</p><p><span style="font-family: tahoma, arial, helvetica, sa
 ns-serif; font-size: 12pt;"><span style="color: #000000;">Radon is a natura
 lly occurring, radioactive element—meaning it gives off radiation— that can
  move through buildings as a colorless, odorless, tasteless gas.&nbsp; It c
 an be found in buildings all over New York State, including single and mult
 i-family homes. Long term exposure to radon can be dangerous and is thought
  to be the second largest contributor to lung cancer after smoking.<br /><b
 r />Options are available to the WAP network through ARPA funding on how to
  manage or remediate radon in client housing. This course will provide back
 ground on radon awareness and review HCR/DOE policy on precautionary measur
 es as they are generally accepted as the first step in reducing radon as pa
 rt a good radon plan. The course will also introduce students to testing pr
 otocols, provide guidance on work specifications, advice on the management 
 of an active mitigation system, and protocols for a good post inspection.</
 span> &nbsp;&nbsp;&nbsp;</span></p><p>&nbsp;&nbsp;</p><p><span style="text-
 decoration: underline;"><em><span style="font-family: Tahoma, sans-serif; c
 olor: black; font-size: 12pt;"><span style="font-family: Tahoma, sans-serif
 ; color: black; font-size: 12pt; text-decoration: underline;">Course Module
 s:</span></span></em></span>&nbsp;</p><ol><li><span style="font-family: tah
 oma, arial, helvetica, sans-serif; font-size: 12pt; color: #000000;">Radon:
  Background and Awareness</span></li><li><span style="font-family: tahoma, 
 arial, helvetica, sans-serif; font-size: 12pt; color: #000000;">Review of P
 recautionary Measures</span></li><li><span style="font-family: tahoma, aria
 l, helvetica, sans-serif; font-size: 12pt; color: #000000;">Introduction to
  Active Mitigation Systems</span></li><li><span style="font-family: tahoma,
  arial, helvetica, sans-serif; font-size: 12pt; color: #000000;">Testing Sp
 ecifications and Management of a New System</span></li></ol><p><span style=
 "color: #000000;">&nbsp;&nbsp;</span></p><p><span style="font-family: tahom
 a, arial, helvetica, sans-serif; font-size: 12pt; color: #000000;"><em><spa
 n style="text-decoration: underline;">Class Handouts:</span>&nbsp;</em>&nbs
 p;<br />PowerPoint, EPA Basic Radon Fact Sheet, Informed Consent form, OSHA
  Radon Worker Safety sheet, (possible example of a basement zonal testing f
 orm)</span></p><p><span style="font-family: tahoma, arial, helvetica, sans-
 serif; font-size: 12pt;"></span>&nbsp;</p><p><span style="font-family: taho
 ma, arial, helvetica, sans-serif; font-size: 12pt; color: #ff0000;"><strong
 >This course is limited to WAP personnel and designed for attendance by Dir
 ectors and Energy Auditors.</strong></span></p><p>&nbsp;<span style="font-f
 amily: Tahoma, 'sans-serif'; color: black; font-size: 12pt;"></span></p><p>
 <span style="font-size: 12pt; color: black;"><em><span style="text-decorati
 on: underline;"><span style="font-family: Tahoma, 'sans-serif';">Class Size
 </span></span></em><span style="font-family: Tahoma, 'sans-serif';">: 30</s
 pan></span></p><p><span style="color: black;">&nbsp;&nbsp;</span></p><p><sp
 an style="font-size: 12pt; color: black;"><em><span style="text-decoration:
  underline;"><span style="font-family: Tahoma, 'sans-serif';">BPI CEU</span
 ></span></em><span style="text-decoration: underline;"><span style="font-fa
 mily: Tahoma, 'sans-serif';">:</span></span><span style="font-family: Tahom
 a, 'sans-serif';">&nbsp;3</span></span></p><p><span style="color: black;"><
 /span></p><p>&nbsp;</p><p><span style="color: black;"><span style="font-siz
 e: 12pt;"><span style="text-decoration: underline;"><span style="font-famil
 y: Tahoma, 'sans-serif';"><em>Instructors</em>:</span></span><span style="f
 ont-family: Tahoma, 'sans-serif';">&nbsp; Andy Stone&nbsp;</span><span styl
 e="font-family: Tahoma, 'sans-serif';">- NYSWDA</span></span>&nbsp;</span><
 /p><p><span style="font-family: Tahoma, 'sans-serif'; color: black; font-si
 ze: 12pt;"></span>&nbsp;</p><p><span style="color: black;"><span style="fon
 t-size: 12pt;"><em><span style="text-decoration: underline;"><span style="f
 ont-family: Tahoma, 'sans-serif';">Course Fees</span></span><span style="fo
 nt-family: Tahoma, 'sans-serif';">:&nbsp;&nbsp;</span></em></span></span><s
 pan style="color: black;"><span style="font-size: 12pt;"><span style="font-
 family: Tahoma, 'sans-serif';">None</span></span><span style="font-size: 12
 pt;"><span style="font-family: Tahoma, 'sans-serif';"></span></span></span>
 </p><p>&nbsp;&nbsp;</p><p><span style="font-family: Arial, 'sans-serif'; co
 lor: black; font-size: 10pt;"><span style="color: #0000ff;"><em><strong><sp
 an style="font-family: tahoma, arial, helvetica, sans-serif;"><a href="http
 s://www.nyswda.org/index.php?option=com_civicrm&amp;task=civicrm/event/regi
 ster&amp;reset=1&amp;id=14103" style="color: #0000ff;"><span style="font-si
 ze: 14pt;">Click here to register</span></a></span></strong></em></span></s
 pan></p><p>&nbsp;</p><p><span style="font-family: Arial, 'sans-serif'; colo
 r: black; font-size: 10pt;"></span></p><p>&nbsp;</p><p>&nbsp;</p><p>&nbsp;<
 /p><p>&nbsp;</p><p>&nbsp;</p>
CONTACT:This email address is being protected from spambots. You need JavaScript enabled to view it.
				document.getElementById('cloakc84333dd6b6d710c987322d4b4295080').innerHTML = '';
				var prefix = '&#109;a' + 'i&#108;' + '&#116;o';
				var path = 'hr' + 'ef' + '=';
				var addyc84333dd6b6d710c987322d4b4295080 = 'rv&#105;ss&#101;r' + '&#64;';
				addyc84333dd6b6d710c987322d4b4295080 = addyc84333dd6b6d710c987322d4b4295080 + 'nyswd&#97;' + '&#46;' + '&#111;rg';
				var addy_textc84333dd6b6d710c987322d4b4295080 = 'rv&#105;ss&#101;r' + '&#64;' + 'nyswd&#97;' + '&#46;' + '&#111;rg';document.getElementById('cloakc84333dd6b6d710c987322d4b4295080').innerHTML += '<a ' + path + '\'' + prefix + ':' + addyc84333dd6b6d710c987322d4b4295080 + '\'>'+addy_textc84333dd6b6d710c987322d4b4295080+'';
		
DTSTAMP:20260424T232644
DTSTART;TZID=America/New_York:20220526T090000
DTEND;TZID=America/New_York:20220526T120000
SEQUENCE:0
TRANSP:OPAQUE
END:VEVENT
END:VCALENDAR