BEGIN:VCALENDAR
VERSION:2.0
PRODID:-//jEvents 2.0 for Joomla//EN
CALSCALE:GREGORIAN
METHOD:PUBLISH
BEGIN:VTIMEZONE
TZID:America/New_York
BEGIN:STANDARD
DTSTART:20211107T010000
RDATE:20220313T030000
TZOFFSETFROM:-0400
TZOFFSETTO:-0500
TZNAME:America/New_York EST
END:STANDARD
BEGIN:STANDARD
DTSTART:20221106T010000
RDATE:20230312T030000
TZOFFSETFROM:-0400
TZOFFSETTO:-0500
TZNAME:America/New_York EST
END:STANDARD
BEGIN:STANDARD
DTSTART:20231105T010000
RDATE:20240310T030000
TZOFFSETFROM:-0400
TZOFFSETTO:-0500
TZNAME:America/New_York EST
END:STANDARD
BEGIN:STANDARD
DTSTART:20241103T010000
RDATE:20250309T030000
TZOFFSETFROM:-0400
TZOFFSETTO:-0500
TZNAME:America/New_York EST
END:STANDARD
BEGIN:STANDARD
DTSTART:20251102T010000
RDATE:20260308T030000
TZOFFSETFROM:-0400
TZOFFSETTO:-0500
TZNAME:America/New_York EST
END:STANDARD
BEGIN:STANDARD
DTSTART:20261101T010000
RDATE:20270314T030000
TZOFFSETFROM:-0400
TZOFFSETTO:-0500
TZNAME:America/New_York EST
END:STANDARD
BEGIN:STANDARD
DTSTART:20271107T010000
RDATE:20280312T030000
TZOFFSETFROM:-0400
TZOFFSETTO:-0500
TZNAME:America/New_York EST
END:STANDARD
BEGIN:STANDARD
DTSTART:20281105T010000
RDATE:20290311T030000
TZOFFSETFROM:-0400
TZOFFSETTO:-0500
TZNAME:America/New_York EST
END:STANDARD
BEGIN:STANDARD
DTSTART:20291104T010000
RDATE:20300310T030000
TZOFFSETFROM:-0400
TZOFFSETTO:-0500
TZNAME:America/New_York EST
END:STANDARD
BEGIN:STANDARD
DTSTART:20301103T010000
RDATE:20310309T030000
TZOFFSETFROM:-0400
TZOFFSETTO:-0500
TZNAME:America/New_York EST
END:STANDARD
BEGIN:DAYLIGHT
DTSTART:20210518T130000
RDATE:20211107T010000
TZOFFSETFROM:-0500
TZOFFSETTO:-0400
TZNAME:America/New_York EDT
END:DAYLIGHT
BEGIN:DAYLIGHT
DTSTART:20220313T030000
RDATE:20221106T010000
TZOFFSETFROM:-0500
TZOFFSETTO:-0400
TZNAME:America/New_York EDT
END:DAYLIGHT
BEGIN:DAYLIGHT
DTSTART:20230312T030000
RDATE:20231105T010000
TZOFFSETFROM:-0500
TZOFFSETTO:-0400
TZNAME:America/New_York EDT
END:DAYLIGHT
BEGIN:DAYLIGHT
DTSTART:20240310T030000
RDATE:20241103T010000
TZOFFSETFROM:-0500
TZOFFSETTO:-0400
TZNAME:America/New_York EDT
END:DAYLIGHT
BEGIN:DAYLIGHT
DTSTART:20250309T030000
RDATE:20251102T010000
TZOFFSETFROM:-0500
TZOFFSETTO:-0400
TZNAME:America/New_York EDT
END:DAYLIGHT
BEGIN:DAYLIGHT
DTSTART:20260308T030000
RDATE:20261101T010000
TZOFFSETFROM:-0500
TZOFFSETTO:-0400
TZNAME:America/New_York EDT
END:DAYLIGHT
BEGIN:DAYLIGHT
DTSTART:20270314T030000
RDATE:20271107T010000
TZOFFSETFROM:-0500
TZOFFSETTO:-0400
TZNAME:America/New_York EDT
END:DAYLIGHT
BEGIN:DAYLIGHT
DTSTART:20280312T030000
RDATE:20281105T010000
TZOFFSETFROM:-0500
TZOFFSETTO:-0400
TZNAME:America/New_York EDT
END:DAYLIGHT
BEGIN:DAYLIGHT
DTSTART:20290311T030000
RDATE:20291104T010000
TZOFFSETFROM:-0500
TZOFFSETTO:-0400
TZNAME:America/New_York EDT
END:DAYLIGHT
BEGIN:DAYLIGHT
DTSTART:20300310T030000
RDATE:20301103T010000
TZOFFSETFROM:-0500
TZOFFSETTO:-0400
TZNAME:America/New_York EDT
END:DAYLIGHT
END:VTIMEZONE
BEGIN:VEVENT
UID:1105c32ed724d26149ac8a7cf084ad30
CATEGORIES:WEB
CREATED:20220504T141442
SUMMARY:Residential Electrification - Online
LOCATION:NYSWDA - East Syracuse
DESCRIPTION:\n Residential Electrification - Online (East)\n
 \n
GoToWebinar Event\n
 \
 n
Course Description: \n
Funding made available through the American Rescue
  Plan Act (ARPA) will be dedicated to the goal of “Electrifying New York” w
 ith measures that until now were not part of the WAP program. This short co
 urse session is designed to provide basic knowledge of the electrification 
 process. The course will cover what to look for when evaluating a service p
 anel and its functions as well as health and safety protocols for the safe 
 removal of knob and tube wiring. The course will also provide guidance on h
 ow to accurately create a proper scope of work and manage the project.\n
  
 \n
Class Handouts:  PowerPoint, Specification Template\n
 \n
This course is
  limited to WAP personnel and designed for attendance by Directors and Ener
 gy Auditors.\n
 \n
Class Size: 30\n
  \n
BPI CEU: 2\n
\n
 \n
Instructors:  
 Joe Maggiore - NYSWDA \n
 \n
Course Fees:  None\n
  \n
Click here to regist
 er (index.php?option=com_civicrm&amp;task=civicrm/event/register&amp;reset=
 1&amp;id=14105)\n
 \n
\n
 \n
 \n
 \n
 \n
 \n
X-ALT-DESC;FMTTYPE=text/html:<p><br />&nbsp;<span style="color: #336699; font-family: tahoma, arial, hel
 vetica, sans-serif; font-size: 14pt;"><span style="color: #000000;"><strong
 ><span style="color: #336699;">Residential Electrification - Online (East)<
 /span></strong></span></span></p><p>&nbsp;</p><p><span style="color: #33669
 9; font-family: tahoma, arial, helvetica, sans-serif; font-size: 14pt;"><sp
 an style="color: #000000;"><strong><span style="color: #336699;">GoToWebina
 r Event</span></strong></span></span></p><p><strong><span style="font-famil
 y: Tahoma, 'sans-serif'; color: #336699; font-size: 13.5pt;"></span></stron
 g>&nbsp;</p><p><span style="font-size: 12pt;"><em><span style="text-decorat
 ion: underline;"><span style="font-family: Tahoma, 'sans-serif'; color: bla
 ck; text-decoration: underline;">Course Description:</span></span></em></sp
 an>&nbsp;</p><p><span style="color: #000000; font-family: tahoma, arial, he
 lvetica, sans-serif; font-size: 12pt;">Funding made available through the A
 merican Rescue Plan Act (ARPA) will be dedicated to the goal of “Electrifyi
 ng New York” with measures that until now were not part of the WAP program.
  This short course session is designed to provide basic knowledge of the el
 ectrification process. The course will cover what to look for when evaluati
 ng a service panel and its functions as well as health and safety protocols
  for the safe removal of knob and tube wiring. The course will also provide
  guidance on how to accurately create a proper scope of work and manage the
  project.</span></p><p><span style="color: #000000;">&nbsp;&nbsp;</span></p
 ><p><span style="font-family: tahoma, arial, helvetica, sans-serif; font-si
 ze: 12pt; color: #000000;"><em><span style="text-decoration: underline;">Cl
 ass Handouts:</span>&nbsp;&nbsp;</em>PowerPoint, Specification Template</sp
 an></p><p><span style="font-family: tahoma, arial, helvetica, sans-serif; f
 ont-size: 12pt;"></span>&nbsp;</p><p><span style="font-family: tahoma, aria
 l, helvetica, sans-serif; font-size: 12pt; color: #ff0000;"><strong>This co
 urse is limited to WAP personnel and designed for attendance by Directors a
 nd Energy Auditors.</strong></span></p><p>&nbsp;<span style="font-family: T
 ahoma, 'sans-serif'; color: black; font-size: 12pt;"></span></p><p><span st
 yle="font-size: 12pt; color: black;"><em><span style="text-decoration: unde
 rline;"><span style="font-family: Tahoma, 'sans-serif';">Class Size</span><
 /span></em><span style="font-family: Tahoma, 'sans-serif';">: 30</span></sp
 an></p><p><span style="color: black;">&nbsp;&nbsp;</span></p><p><span style
 ="font-size: 12pt; color: black;"><em><span style="text-decoration: underli
 ne;"><span style="font-family: Tahoma, 'sans-serif';">BPI CEU</span></span>
 </em><span style="text-decoration: underline;"><span style="font-family: Ta
 homa, 'sans-serif';">:</span></span><span style="font-family: Tahoma, 'sans
 -serif';">&nbsp;2</span></span></p><p><span style="color: black;"></span></
 p><p>&nbsp;</p><p><span style="color: black;"><span style="font-size: 12pt;
 "><span style="text-decoration: underline;"><span style="font-family: Tahom
 a, 'sans-serif';"><em>Instructors</em>:</span></span><span style="font-fami
 ly: Tahoma, 'sans-serif';">&nbsp; Joe Maggiore&nbsp;</span><span style="fon
 t-family: Tahoma, 'sans-serif';">- NYSWDA</span></span>&nbsp;</span></p><p>
 <span style="font-family: Tahoma, 'sans-serif'; color: black; font-size: 12
 pt;"></span>&nbsp;</p><p><span style="color: black;"><span style="font-size
 : 12pt;"><em><span style="text-decoration: underline;"><span style="font-fa
 mily: Tahoma, 'sans-serif';">Course Fees</span></span><span style="font-fam
 ily: Tahoma, 'sans-serif';">:&nbsp;&nbsp;</span></em></span></span><span st
 yle="color: black;"><span style="font-size: 12pt;"><span style="font-family
 : Tahoma, 'sans-serif';">None</span></span><span style="font-size: 12pt;"><
 span style="font-family: Tahoma, 'sans-serif';"></span></span></span></p><p
 >&nbsp;&nbsp;</p><p><span style="font-family: Arial, 'sans-serif'; color: b
 lack; font-size: 10pt;"><span style="color: #0000ff;"><em><strong><span sty
 le="font-family: tahoma, arial, helvetica, sans-serif;"><a href="https://ww
 w.nyswda.org/index.php?option=com_civicrm&amp;task=civicrm/event/register&a
 mp;reset=1&amp;id=14105" style="color: #0000ff;"><span style="font-size: 14
 pt;">Click here to register</span></a></span></strong></em></span></span></
 p><p>&nbsp;</p><p><span style="font-family: Arial, 'sans-serif'; color: bla
 ck; font-size: 10pt;"></span></p><p>&nbsp;</p><p>&nbsp;</p><p>&nbsp;</p><p>
 &nbsp;</p><p>&nbsp;</p>
CONTACT:This email address is being protected from spambots. You need JavaScript enabled to view it.
				document.getElementById('cloak790da9a8193b789d416f76425b1c2736').innerHTML = '';
				var prefix = '&#109;a' + 'i&#108;' + '&#116;o';
				var path = 'hr' + 'ef' + '=';
				var addy790da9a8193b789d416f76425b1c2736 = 'rv&#105;ss&#101;r' + '&#64;';
				addy790da9a8193b789d416f76425b1c2736 = addy790da9a8193b789d416f76425b1c2736 + 'nyswd&#97;' + '&#46;' + '&#111;rg';
				var addy_text790da9a8193b789d416f76425b1c2736 = 'rv&#105;ss&#101;r' + '&#64;' + 'nyswd&#97;' + '&#46;' + '&#111;rg';document.getElementById('cloak790da9a8193b789d416f76425b1c2736').innerHTML += '<a ' + path + '\'' + prefix + ':' + addy790da9a8193b789d416f76425b1c2736 + '\'>'+addy_text790da9a8193b789d416f76425b1c2736+'';
		
DTSTAMP:20260424T233201
DTSTART;TZID=America/New_York:20220519T130000
DTEND;TZID=America/New_York:20220519T150000
SEQUENCE:0
TRANSP:OPAQUE
END:VEVENT
END:VCALENDAR