BEGIN:VCALENDAR
VERSION:2.0
PRODID:-//jEvents 2.0 for Joomla//EN
CALSCALE:GREGORIAN
METHOD:PUBLISH
BEGIN:VTIMEZONE
TZID:America/New_York
BEGIN:STANDARD
DTSTART:20211107T010000
RDATE:20220313T030000
TZOFFSETFROM:-0400
TZOFFSETTO:-0500
TZNAME:America/New_York EST
END:STANDARD
BEGIN:STANDARD
DTSTART:20221106T010000
RDATE:20230312T030000
TZOFFSETFROM:-0400
TZOFFSETTO:-0500
TZNAME:America/New_York EST
END:STANDARD
BEGIN:STANDARD
DTSTART:20231105T010000
RDATE:20240310T030000
TZOFFSETFROM:-0400
TZOFFSETTO:-0500
TZNAME:America/New_York EST
END:STANDARD
BEGIN:STANDARD
DTSTART:20241103T010000
RDATE:20250309T030000
TZOFFSETFROM:-0400
TZOFFSETTO:-0500
TZNAME:America/New_York EST
END:STANDARD
BEGIN:STANDARD
DTSTART:20251102T010000
RDATE:20260308T030000
TZOFFSETFROM:-0400
TZOFFSETTO:-0500
TZNAME:America/New_York EST
END:STANDARD
BEGIN:STANDARD
DTSTART:20261101T010000
RDATE:20270314T030000
TZOFFSETFROM:-0400
TZOFFSETTO:-0500
TZNAME:America/New_York EST
END:STANDARD
BEGIN:STANDARD
DTSTART:20271107T010000
RDATE:20280312T030000
TZOFFSETFROM:-0400
TZOFFSETTO:-0500
TZNAME:America/New_York EST
END:STANDARD
BEGIN:STANDARD
DTSTART:20281105T010000
RDATE:20290311T030000
TZOFFSETFROM:-0400
TZOFFSETTO:-0500
TZNAME:America/New_York EST
END:STANDARD
BEGIN:STANDARD
DTSTART:20291104T010000
RDATE:20300310T030000
TZOFFSETFROM:-0400
TZOFFSETTO:-0500
TZNAME:America/New_York EST
END:STANDARD
BEGIN:STANDARD
DTSTART:20301103T010000
RDATE:20310309T030000
TZOFFSETFROM:-0400
TZOFFSETTO:-0500
TZNAME:America/New_York EST
END:STANDARD
BEGIN:DAYLIGHT
DTSTART:20210608T130000
RDATE:20211107T010000
TZOFFSETFROM:-0500
TZOFFSETTO:-0400
TZNAME:America/New_York EDT
END:DAYLIGHT
BEGIN:DAYLIGHT
DTSTART:20220313T030000
RDATE:20221106T010000
TZOFFSETFROM:-0500
TZOFFSETTO:-0400
TZNAME:America/New_York EDT
END:DAYLIGHT
BEGIN:DAYLIGHT
DTSTART:20230312T030000
RDATE:20231105T010000
TZOFFSETFROM:-0500
TZOFFSETTO:-0400
TZNAME:America/New_York EDT
END:DAYLIGHT
BEGIN:DAYLIGHT
DTSTART:20240310T030000
RDATE:20241103T010000
TZOFFSETFROM:-0500
TZOFFSETTO:-0400
TZNAME:America/New_York EDT
END:DAYLIGHT
BEGIN:DAYLIGHT
DTSTART:20250309T030000
RDATE:20251102T010000
TZOFFSETFROM:-0500
TZOFFSETTO:-0400
TZNAME:America/New_York EDT
END:DAYLIGHT
BEGIN:DAYLIGHT
DTSTART:20260308T030000
RDATE:20261101T010000
TZOFFSETFROM:-0500
TZOFFSETTO:-0400
TZNAME:America/New_York EDT
END:DAYLIGHT
BEGIN:DAYLIGHT
DTSTART:20270314T030000
RDATE:20271107T010000
TZOFFSETFROM:-0500
TZOFFSETTO:-0400
TZNAME:America/New_York EDT
END:DAYLIGHT
BEGIN:DAYLIGHT
DTSTART:20280312T030000
RDATE:20281105T010000
TZOFFSETFROM:-0500
TZOFFSETTO:-0400
TZNAME:America/New_York EDT
END:DAYLIGHT
BEGIN:DAYLIGHT
DTSTART:20290311T030000
RDATE:20291104T010000
TZOFFSETFROM:-0500
TZOFFSETTO:-0400
TZNAME:America/New_York EDT
END:DAYLIGHT
BEGIN:DAYLIGHT
DTSTART:20300310T030000
RDATE:20301103T010000
TZOFFSETFROM:-0500
TZOFFSETTO:-0400
TZNAME:America/New_York EDT
END:DAYLIGHT
END:VTIMEZONE
BEGIN:VEVENT
UID:b0b69066316cbb966b4d50f739ab3215
CATEGORIES:WEB
CREATED:20220504T142132
SUMMARY:Residential Electrification - Online
LOCATION:NYSWDA - East Syracuse
DESCRIPTION:\n Residential Electrification - Online (overflow)\n
 \n
GoToWebinar Event\
 n
 \n
Course Description: \n
Funding made available through the American Re
 scue Plan Act (ARPA) will be dedicated to the goal of “Electrifying New Yor
 k” with measures that until now were not part of the WAP program. This shor
 t course session is designed to provide basic knowledge of the electrificat
 ion process. The course will cover what to look for when evaluating a servi
 ce panel and its functions as well as health and safety protocols for the s
 afe removal of knob and tube wiring. The course will also provide guidance 
 on how to accurately create a proper scope of work and manage the project.\
 n
  \n
Class Handouts:  PowerPoint, Specification Template\n
 \n
This cours
 e is limited to WAP personnel and designed for attendance by Directors and 
 Energy Auditors.\n
 \n
Class Size: 30\n
  \n
BPI CEU: 2\n
\n
 \n
Instructor
 s:  Joe Maggiore - NYSWDA \n
 \n
Course Fees:  None\n
  \n
Click here to re
 gister (index.php?option=com_civicrm&amp;task=civicrm/event/register&amp;re
 set=1&amp;id=14107)\n
 \n
\n
 \n
 \n
 \n
 \n
 \n
X-ALT-DESC;FMTTYPE=text/html:<p><br />&nbsp;<span style="color: #336699; font-family: tahoma, arial, hel
 vetica, sans-serif; font-size: 14pt;"><span style="color: #000000;"><strong
 ><span style="color: #336699;">Residential Electrification - Online (overfl
 ow)</span></strong></span></span></p><p>&nbsp;</p><p><span style="color: #3
 36699; font-family: tahoma, arial, helvetica, sans-serif; font-size: 14pt;"
 ><span style="color: #000000;"><strong><span style="color: #336699;">GoToWe
 binar Event</span></strong></span></span></p><p><strong><span style="font-f
 amily: Tahoma, 'sans-serif'; color: #336699; font-size: 13.5pt;"></span></s
 trong>&nbsp;</p><p><span style="font-size: 12pt;"><em><span style="text-dec
 oration: underline;"><span style="font-family: Tahoma, 'sans-serif'; color:
  black; text-decoration: underline;">Course Description:</span></span></em>
 </span>&nbsp;</p><p><span style="color: #000000; font-family: tahoma, arial
 , helvetica, sans-serif; font-size: 12pt;">Funding made available through t
 he American Rescue Plan Act (ARPA) will be dedicated to the goal of “Electr
 ifying New York” with measures that until now were not part of the WAP prog
 ram. This short course session is designed to provide basic knowledge of th
 e electrification process. The course will cover what to look for when eval
 uating a service panel and its functions as well as health and safety proto
 cols for the safe removal of knob and tube wiring. The course will also pro
 vide guidance on how to accurately create a proper scope of work and manage
  the project.</span></p><p><span style="color: #000000;">&nbsp;&nbsp;</span
 ></p><p><span style="font-family: tahoma, arial, helvetica, sans-serif; fon
 t-size: 12pt; color: #000000;"><em><span style="text-decoration: underline;
 ">Class Handouts:</span>&nbsp;&nbsp;</em>PowerPoint, Specification Template
 </span></p><p><span style="font-family: tahoma, arial, helvetica, sans-seri
 f; font-size: 12pt;"></span>&nbsp;</p><p><span style="font-family: tahoma, 
 arial, helvetica, sans-serif; font-size: 12pt; color: #ff0000;"><strong>Thi
 s course is limited to WAP personnel and designed for attendance by Directo
 rs and Energy Auditors.</strong></span></p><p>&nbsp;<span style="font-famil
 y: Tahoma, 'sans-serif'; color: black; font-size: 12pt;"></span></p><p><spa
 n style="font-size: 12pt; color: black;"><em><span style="text-decoration: 
 underline;"><span style="font-family: Tahoma, 'sans-serif';">Class Size</sp
 an></span></em><span style="font-family: Tahoma, 'sans-serif';">: 30</span>
 </span></p><p><span style="color: black;">&nbsp;&nbsp;</span></p><p><span s
 tyle="font-size: 12pt; color: black;"><em><span style="text-decoration: und
 erline;"><span style="font-family: Tahoma, 'sans-serif';">BPI CEU</span></s
 pan></em><span style="text-decoration: underline;"><span style="font-family
 : Tahoma, 'sans-serif';">:</span></span><span style="font-family: Tahoma, '
 sans-serif';">&nbsp;2</span></span></p><p><span style="color: black;"></spa
 n></p><p>&nbsp;</p><p><span style="color: black;"><span style="font-size: 1
 2pt;"><span style="text-decoration: underline;"><span style="font-family: T
 ahoma, 'sans-serif';"><em>Instructors</em>:</span></span><span style="font-
 family: Tahoma, 'sans-serif';">&nbsp; Joe Maggiore&nbsp;</span><span style=
 "font-family: Tahoma, 'sans-serif';">- NYSWDA</span></span>&nbsp;</span></p
 ><p><span style="font-family: Tahoma, 'sans-serif'; color: black; font-size
 : 12pt;"></span>&nbsp;</p><p><span style="color: black;"><span style="font-
 size: 12pt;"><em><span style="text-decoration: underline;"><span style="fon
 t-family: Tahoma, 'sans-serif';">Course Fees</span></span><span style="font
 -family: Tahoma, 'sans-serif';">:&nbsp;&nbsp;</span></em></span></span><spa
 n style="color: black;"><span style="font-size: 12pt;"><span style="font-fa
 mily: Tahoma, 'sans-serif';">None</span></span><span style="font-size: 12pt
 ;"><span style="font-family: Tahoma, 'sans-serif';"></span></span></span></
 p><p>&nbsp;&nbsp;</p><p><span style="font-family: Arial, 'sans-serif'; colo
 r: black; font-size: 10pt;"><span style="color: #0000ff;"><em><strong><span
  style="font-family: tahoma, arial, helvetica, sans-serif;"><a href="https:
 //www.nyswda.org/index.php?option=com_civicrm&amp;task=civicrm/event/regist
 er&amp;reset=1&amp;id=14107" style="color: #0000ff;"><span style="font-size
 : 14pt;">Click here to register</span></a></span></strong></em></span></spa
 n></p><p>&nbsp;</p><p><span style="font-family: Arial, 'sans-serif'; color:
  black; font-size: 10pt;"></span></p><p>&nbsp;</p><p>&nbsp;</p><p>&nbsp;</p
 ><p>&nbsp;</p><p>&nbsp;</p>
CONTACT:This email address is being protected from spambots. You need JavaScript enabled to view it.
				document.getElementById('cloake4587187d6ef295d43e7b3e183b4518f').innerHTML = '';
				var prefix = '&#109;a' + 'i&#108;' + '&#116;o';
				var path = 'hr' + 'ef' + '=';
				var addye4587187d6ef295d43e7b3e183b4518f = 'rv&#105;ss&#101;r' + '&#64;';
				addye4587187d6ef295d43e7b3e183b4518f = addye4587187d6ef295d43e7b3e183b4518f + 'nyswd&#97;' + '&#46;' + '&#111;rg';
				var addy_texte4587187d6ef295d43e7b3e183b4518f = 'rv&#105;ss&#101;r' + '&#64;' + 'nyswd&#97;' + '&#46;' + '&#111;rg';document.getElementById('cloake4587187d6ef295d43e7b3e183b4518f').innerHTML += '<a ' + path + '\'' + prefix + ':' + addye4587187d6ef295d43e7b3e183b4518f + '\'>'+addy_texte4587187d6ef295d43e7b3e183b4518f+'';
		
DTSTAMP:20260424T233215
DTSTART;TZID=America/New_York:20220609T130000
DTEND;TZID=America/New_York:20220609T150000
SEQUENCE:0
TRANSP:OPAQUE
END:VEVENT
END:VCALENDAR