BEGIN:VCALENDAR
VERSION:2.0
PRODID:-//jEvents 2.0 for Joomla//EN
CALSCALE:GREGORIAN
METHOD:PUBLISH
BEGIN:VTIMEZONE
TZID:America/New_York
BEGIN:STANDARD
DTSTART:20211107T010000
RDATE:20220313T030000
TZOFFSETFROM:-0400
TZOFFSETTO:-0500
TZNAME:America/New_York EST
END:STANDARD
BEGIN:STANDARD
DTSTART:20221106T010000
RDATE:20230312T030000
TZOFFSETFROM:-0400
TZOFFSETTO:-0500
TZNAME:America/New_York EST
END:STANDARD
BEGIN:STANDARD
DTSTART:20231105T010000
RDATE:20240310T030000
TZOFFSETFROM:-0400
TZOFFSETTO:-0500
TZNAME:America/New_York EST
END:STANDARD
BEGIN:STANDARD
DTSTART:20241103T010000
RDATE:20250309T030000
TZOFFSETFROM:-0400
TZOFFSETTO:-0500
TZNAME:America/New_York EST
END:STANDARD
BEGIN:STANDARD
DTSTART:20251102T010000
RDATE:20260308T030000
TZOFFSETFROM:-0400
TZOFFSETTO:-0500
TZNAME:America/New_York EST
END:STANDARD
BEGIN:STANDARD
DTSTART:20261101T010000
RDATE:20270314T030000
TZOFFSETFROM:-0400
TZOFFSETTO:-0500
TZNAME:America/New_York EST
END:STANDARD
BEGIN:STANDARD
DTSTART:20271107T010000
RDATE:20280312T030000
TZOFFSETFROM:-0400
TZOFFSETTO:-0500
TZNAME:America/New_York EST
END:STANDARD
BEGIN:STANDARD
DTSTART:20281105T010000
RDATE:20290311T030000
TZOFFSETFROM:-0400
TZOFFSETTO:-0500
TZNAME:America/New_York EST
END:STANDARD
BEGIN:STANDARD
DTSTART:20291104T010000
RDATE:20300310T030000
TZOFFSETFROM:-0400
TZOFFSETTO:-0500
TZNAME:America/New_York EST
END:STANDARD
BEGIN:STANDARD
DTSTART:20301103T010000
RDATE:20310309T030000
TZOFFSETFROM:-0400
TZOFFSETTO:-0500
TZNAME:America/New_York EST
END:STANDARD
BEGIN:DAYLIGHT
DTSTART:20210607T090000
RDATE:20211107T010000
TZOFFSETFROM:-0500
TZOFFSETTO:-0400
TZNAME:America/New_York EDT
END:DAYLIGHT
BEGIN:DAYLIGHT
DTSTART:20220313T030000
RDATE:20221106T010000
TZOFFSETFROM:-0500
TZOFFSETTO:-0400
TZNAME:America/New_York EDT
END:DAYLIGHT
BEGIN:DAYLIGHT
DTSTART:20230312T030000
RDATE:20231105T010000
TZOFFSETFROM:-0500
TZOFFSETTO:-0400
TZNAME:America/New_York EDT
END:DAYLIGHT
BEGIN:DAYLIGHT
DTSTART:20240310T030000
RDATE:20241103T010000
TZOFFSETFROM:-0500
TZOFFSETTO:-0400
TZNAME:America/New_York EDT
END:DAYLIGHT
BEGIN:DAYLIGHT
DTSTART:20250309T030000
RDATE:20251102T010000
TZOFFSETFROM:-0500
TZOFFSETTO:-0400
TZNAME:America/New_York EDT
END:DAYLIGHT
BEGIN:DAYLIGHT
DTSTART:20260308T030000
RDATE:20261101T010000
TZOFFSETFROM:-0500
TZOFFSETTO:-0400
TZNAME:America/New_York EDT
END:DAYLIGHT
BEGIN:DAYLIGHT
DTSTART:20270314T030000
RDATE:20271107T010000
TZOFFSETFROM:-0500
TZOFFSETTO:-0400
TZNAME:America/New_York EDT
END:DAYLIGHT
BEGIN:DAYLIGHT
DTSTART:20280312T030000
RDATE:20281105T010000
TZOFFSETFROM:-0500
TZOFFSETTO:-0400
TZNAME:America/New_York EDT
END:DAYLIGHT
BEGIN:DAYLIGHT
DTSTART:20290311T030000
RDATE:20291104T010000
TZOFFSETFROM:-0500
TZOFFSETTO:-0400
TZNAME:America/New_York EDT
END:DAYLIGHT
BEGIN:DAYLIGHT
DTSTART:20300310T030000
RDATE:20301103T010000
TZOFFSETFROM:-0500
TZOFFSETTO:-0400
TZNAME:America/New_York EDT
END:DAYLIGHT
END:VTIMEZONE
BEGIN:VEVENT
UID:816a3449d42322d22ee84df88dd5eaae
CATEGORIES:At Syracuse
CREATED:20220510T151946
SUMMARY:EPA RRP Lead Renovator Certification
LOCATION:NYSWDA Training Center - East Syracuse
DESCRIPTION:EPA RRP Lead Renovator (Initial) \n
 \n
Location:  NYSWDA Training Center -
  5869 Fisher Road, East Syracuse, NY  13057\n
 \n
Please note we are strict
 ly following the Governor's guidelines.  NYSWDA will now allow vaccinated a
 ttendees to be unmasked at the training center.  All those who who are not 
 vaccinated will be required to wear a mask and to complete a Student Screen
 ing Checklist (images/Student_Screening_Checklist.pdf) prior to attending t
 he class.\n
 \n
This training is for:\nClass open to all attendees, includi
 ng construction and weatherization contractors.\n\n\nCourse Description:\nT
 he US Environmental Protection Agency (EPA) published the Lead; Renovation,
  Repair and Painting Program that requires each contractor working on pre-1
 978 residences to have an EPA Certified Renovator on-site while jobs are se
 t up and cleaned up. The certified person will be responsible for documenti
 ng that all work was done in a lead safe manner. \n\nThis is a 1-day course
  with approximately 6 hours classroom and 2 hours hands-on lab work, follow
 ed by a multiple choice written test. Upon course completion, attendees wil
 l receive a Lead Renovator card from the training provider (NYSWDA). This c
 ertification requires a five year renewal.\n\n\nPrerequisites: \nfor WAP on
 ly- must have completed the One-Day Lead Safe Weatherization training\n\n\n
 Class Size: 8\n\n\nBPI CEU: 4\n\n\nInstructor: \nAl McMahon, EPA qualified 
 RRP Lead Renovator Instructor\n\n\nCourse Fees: \n$172/person - NY Weatheri
 zation Sub-grantees\n$172/person - affiliate members\n$250/person - non-mem
 bers \n
 \n
Course fees include DO NOT include lunch \n
 \n
**Special note 
 - if you wish to become an Affiliate Member, and save off the non-member ra
 te, please contact Karen McMahon (315-701-0440 ext. 223, This email address
  is being protected from spambots. You need JavaScript enabled to view it.

 				document.getElementById('cloakebe53b4ee6c5bc12d93cb74ce44b63a6').innerH
 TML = '';
				var prefix = 'ma' + 'il' + 'to';
				var path = 'hr' + 'ef' +
  '=';
				var addyebe53b4ee6c5bc12d93cb74ce44b63a6 = 'kmcmahon' + '@';
				
 addyebe53b4ee6c5bc12d93cb74ce44b63a6 = addyebe53b4ee6c5bc12d93cb74ce44b63a6
  + 'nyswda' + '.' + 'org';
				var addy_textebe53b4ee6c5bc12d93cb74ce44b63a
 6 = 'kmcmahon' + '@' + 'nyswda' + '.' + 'org';document.getElementById('cloa
 kebe53b4ee6c5bc12d93cb74ce44b63a6').innerHTML += '<a ' + path + '\'' + pref
 ix + ':' + addyebe53b4ee6c5bc12d93cb74ce44b63a6 + '\'>'+addy_textebe53b4ee6
 c5bc12d93cb74ce44b63a6+'';
		) BEFORE YOU REGISTER for the course.\n
 \n
CL
 ASS FULL - call or email  This email address is being protected from spambo
 ts. You need JavaScript enabled to view it.
				document.getElementById('cl
 oak0b6e81c11176b58c48573182fb51753c').innerHTML = '';
				var prefix = 'ma'
  + 'il' + 'to';
				var path = 'hr' + 'ef' + '=';
				var addy0b6e81c11176b
 58c48573182fb51753c = 'rvisser' + '@';
				addy0b6e81c11176b58c48573182fb51
 753c = addy0b6e81c11176b58c48573182fb51753c + 'nyswda' + '.' + 'org';
				v
 ar addy_text0b6e81c11176b58c48573182fb51753c = 'rvisser' + '@' + 'nyswda' +
  '.' + 'org';document.getElementById('cloak0b6e81c11176b58c48573182fb51753c
 ').innerHTML += '<a ' + path + '\'' + prefix + ':' + addy0b6e81c11176b58c48
 573182fb51753c + '\'>'+addy_text0b6e81c11176b58c48573182fb51753c+'';
		 for
  availability or wait list\n
X-ALT-DESC;FMTTYPE=text/html:<p><span style="color: #336699;"><span style="font-family: Tahoma;"><span s
 tyle="font-size: medium;"><span style="color: #000000;"><span style="font-f
 amily: Arial, Helvetica;"><span style="font-size: x-small;"><span style="fo
 nt-family: Tahoma;"><span style="font-size: small;"><span style="font-famil
 y: Tahoma;"><span style="font-family: Tahoma;"><span style="font-family: Ta
 homa;"><span style="font-family: Arial, Helvetica;"><span style="font-size:
  x-small;"><span style="font-family: Tahoma;"><span style="font-size: small
 ;"><span style="font-family: Tahoma;"><span style="font-family: Tahoma;"><s
 pan style="font-family: Arial, Helvetica;"><span style="font-size: x-small;
 "><span style="font-family: Tahoma;"><span style="font-size: small;"><span 
 style="font-family: Arial, Helvetica;"><span style="font-size: x-small;"><s
 pan style="font-family: Tahoma;"><span style="font-size: small;"><span styl
 e="font-family: Arial, Helvetica;"><span style="font-size: x-small;"><span 
 style="font-family: Tahoma;"><span style="font-size: small;"><span style="f
 ont-family: Arial, Helvetica;"><span style="font-size: x-small;"><span styl
 e="color: #000000;"><span style="font-family: Tahoma;"><span style="font-si
 ze: small;"><span style="color: #000000;"><span style="font-family: Tahoma;
 "><span style="font-family: Tahoma;"><span><span style="color: #336699;"><s
 pan style="font-family: Tahoma;"><span style="font-size: medium;"></span></
 span></span><span style="color: #336699; font-family: tahoma,arial,helvetic
 a,sans-serif; font-size: 14pt;"><span><span><span style="color: #000000;"><
 span><span><span><strong><span style="color: #336699;">EPA RRP Lead Renovat
 or (Initial) </span></strong></span></span></span></span></span></span></sp
 an></span></span></span></span></span></span></span></span></span></span></
 span></span></span></span></span></span></span></span></span></span></span>
 </span></span></span></span></span></span></span></span></span></span></spa
 n></span></span></span></span></span></span></p><p>&nbsp;</p><p><span style
 ="color: #336699;"><span style="font-family: Tahoma;"><span style="font-siz
 e: medium;"><span style="color: #000000;"><span style="font-family: Arial, 
 Helvetica;"><span style="font-size: x-small;"><span style="font-family: Tah
 oma;"><span style="font-size: small;"><span style="font-family: Tahoma;"><s
 pan style="font-family: Tahoma;"><span style="font-family: Tahoma;"><span s
 tyle="font-family: Arial, Helvetica;"><span style="font-size: x-small;"><sp
 an style="font-family: Tahoma;"><span style="font-size: small;"><span style
 ="font-family: Tahoma;"><span style="font-family: Tahoma;"><span style="fon
 t-family: Arial, Helvetica;"><span style="font-size: x-small;"><span style=
 "font-family: Tahoma;"><span style="font-size: small;"><span style="font-fa
 mily: Arial, Helvetica;"><span style="font-size: x-small;"><span style="fon
 t-family: Tahoma;"><span style="font-size: small;"><span style="font-family
 : Arial, Helvetica;"><span style="font-size: x-small;"><span style="font-fa
 mily: Tahoma;"><span style="font-size: small;"><span style="font-family: Ar
 ial, Helvetica;"><span style="font-size: x-small;"><span style="color: #000
 000;"><span style="font-family: Tahoma;"><span style="font-size: small;"><s
 pan style="color: #000000;"><span style="font-family: Tahoma;"><span style=
 "font-family: Tahoma;"><span><span style="color: #336699; font-family: taho
 ma,arial,helvetica,sans-serif; font-size: 14pt;"><span><span><span style="c
 olor: #000000;"><span><span><span><strong><span style="color: #336699;">Loc
 ation:&nbsp; NYSWDA Training Center - 5869 Fisher Road, East Syracuse, NY&n
 bsp; 13057</span></strong></span></span></span></span></span></span></span>
 </span></span></span></span></span></span></span></span></span></span></spa
 n></span></span></span></span></span></span></span></span></span></span></s
 pan></span></span></span></span></span></span></span></span></span></span><
 /span></span></span></span></span></span></p><p>&nbsp;</p><p><span style="f
 ont-family: tahoma, arial, helvetica, sans-serif; font-size: 12pt;"><span s
 tyle="color: #000000;">Please note we are strictly following the Governor's
  guidelines.</span>&nbsp; <span style="color: #000000;">NYSWDA will now all
 ow vaccinated attendees to be unmasked at the training center.&nbsp; All th
 ose who who are not vaccinated will be required to wear a mask and</span></
 span><span style="color: #ff0000;"><span style="font-family: tahoma, arial,
  helvetica, sans-serif; font-size: 14pt;"><span style="font-size: 12pt;"><s
 pan style="color: #000000;">&nbsp;to complete a</span>&nbsp;</span></span><
 span style="color: #106141;"><em><strong><span style="font-family: tahoma, 
 arial, helvetica, sans-serif; font-size: 14pt;"><span style="color: #106141
 ;"><a href="https://www.nyswda.org/images/Student_Screening_Checklist.pdf" 
 style="color: #106141;">Student Screening Checklist</a></span>&nbsp;</span>
 </strong></em></span><span style="font-family: tahoma, arial, helvetica, sa
 ns-serif; font-size: 12pt; color: #000000;">prior to attending the class.</
 span></span></p><p><span style="color: #336699;"><span style="font-family: 
 Tahoma;"><span style="font-size: medium;"><span style="color: #000000;"><sp
 an style="font-family: Arial, Helvetica;"><span style="font-size: x-small;"
 ><span style="font-family: Tahoma;"><span style="font-size: small;"><span s
 tyle="font-family: Tahoma;"><span style="font-family: Tahoma;"><span style=
 "font-family: Tahoma;"><span style="font-family: Arial, Helvetica;"><span s
 tyle="font-size: x-small;"><span style="font-family: Tahoma;"><span style="
 font-size: small;"><span style="font-family: Tahoma;"><span style="font-fam
 ily: Tahoma;"><span style="font-family: Arial, Helvetica;"><span style="fon
 t-size: x-small;"><span style="font-family: Tahoma;"><span style="font-size
 : small;"><span style="font-family: Arial, Helvetica;"><span style="font-si
 ze: x-small;"><span style="font-family: Tahoma;"><span style="font-size: sm
 all;"><span style="font-family: Arial, Helvetica;"><span style="font-size: 
 x-small;"><span style="font-family: Tahoma;"><span style="font-size: small;
 "><span style="font-family: Arial, Helvetica;"><span style="font-size: x-sm
 all;"><span style="color: #000000;"><span style="font-family: Tahoma;"><spa
 n style="font-size: small;"><span style="color: #000000;"><span style="font
 -family: Tahoma;"><span style="font-family: Tahoma;"><span><span style="col
 or: #336699;"><span style="font-family: Tahoma;"><span style="font-size: me
 dium;"><span style="color: #000000;"><span style="font-family: Arial, Helve
 tica;"><span style="font-size: x-small;"><span><span style="font-size: smal
 l;"></span></span></span></span></span></span></span></span></span></span><
 /span></span></span></span></span></span></span></span></span></span></span
 ></span></span></span></span></span></span></span></span></span></span></sp
 an></span></span></span></span></span></span></span></span></span></span></
 span></span></span></span>&nbsp;</p><p><span style="color: #336699;"><span 
 style="font-family: Tahoma;"><span style="font-size: medium;"><span style="
 color: #000000;"><span style="font-family: Arial, Helvetica;"><span style="
 font-size: x-small;"><span style="font-family: Tahoma;"><span style="font-s
 ize: small;"><span style="font-family: Tahoma;"><span style="font-family: T
 ahoma;"><span style="font-family: Tahoma;"><span style="font-family: Arial,
  Helvetica;"><span style="font-size: x-small;"><span style="font-family: Ta
 homa;"><span style="font-size: small;"><span style="font-family: Tahoma;"><
 span style="font-family: Tahoma;"><span style="font-family: Arial, Helvetic
 a;"><span style="font-size: x-small;"><span style="font-family: Tahoma;"><s
 pan style="font-size: small;"><span style="font-family: Arial, Helvetica;">
 <span style="font-size: x-small;"><span style="font-family: Tahoma;"><span 
 style="font-size: small;"><span style="font-family: Arial, Helvetica;"><spa
 n style="font-size: x-small;"><span style="font-family: Tahoma;"><span styl
 e="font-size: small;"><span style="font-family: Arial, Helvetica;"><span st
 yle="font-size: x-small;"><span style="color: #000000;"><span style="font-f
 amily: Tahoma;"><span style="font-size: small;"><span style="color: #000000
 ;"><span style="font-family: Tahoma;"><span style="font-family: Tahoma;"><s
 pan><span style="color: #336699;"><span style="font-family: Tahoma;"><span 
 style="font-size: medium;"><span style="color: #000000;"><span style="font-
 family: Arial, Helvetica;"><span style="font-size: x-small;"><span><span st
 yle="font-size: small;"><span style="font-size: 12pt;"><span style="text-de
 coration: underline;"><span style="font-family: Tahoma;"><em>This training 
 is for:</em></span></span><span style="font-family: Tahoma;"><span style="f
 ont-family: Tahoma;"><br /></span></span></span></span><span style="font-si
 ze: small;"><span style="font-family: Tahoma;"><span style="font-family: Ta
 homa;"><span style="font-family: Tahoma;"><span style="font-size: 12pt;">Cl
 ass open to all attendees, including construction and weatherization contra
 ctors.</span><span style="font-family: Arial, Helvetica;"><span style="font
 -size: x-small;"><br /><span style="font-family: Tahoma;"><span style="font
 -size: small;"><br /><span style="font-size: 12pt;"><br /><em><span style="
 text-decoration: underline;">Course Description</span>:<br /></em></span><s
 pan style="font-family: Tahoma;"><span style="font-family: Tahoma;"><span s
 tyle="font-size: 12pt;">The US Environmental Protection Agency (EPA) publis
 hed the Lead; Renovation, Repair and Painting Program that requires each co
 ntractor working on pre-1978 residences to have an EPA Certified Renovator 
 on-site while jobs are set up and cleaned up. The certified person will be 
 responsible for documenting that all work was done in a lead safe manner. <
 br /><br />This is a <span style="text-decoration: underline;">1-day</span>
  course with approximately 6 hours classroom and 2 hours hands-on lab work,
  followed by a multiple choice written test. Upon course completion, attend
 ees will receive a Lead Renovator card from the training provider (NYSWDA).
  This certification requires a five year renewal.</span><span style="font-f
 amily: Arial, Helvetica;"><span style="font-size: x-small;"><br /><span sty
 le="font-family: Tahoma;"><span style="font-size: small;"><br /><span style
 ="font-family: Arial, Helvetica;"><span style="font-size: x-small;"><br /><
 span style="font-family: Tahoma;"><span style="font-size: small;"><span sty
 le="font-family: Arial, Helvetica;"><span style="font-size: x-small;"><span
  style="font-family: Tahoma;"><span style="font-size: small;"><span style="
 font-family: Arial, Helvetica;"><span style="font-size: x-small;"><span sty
 le="color: #000000;"><span style="font-size: 12pt;"><span style="font-famil
 y: Tahoma;"><span><span style="color: #000000;"><em><span style="text-decor
 ation: underline;">Prerequisites</span>:</em></span></span></span><span><sp
 an style="color: #000000;"><em> </em></span></span></span><span style="font
 -family: Tahoma;"><span style="font-size: small;"><span style="color: #0000
 00;"><br /><span style="font-size: 12pt;">for WAP only- must have completed
  the One-Day Lead Safe Weatherization training</span><span style="font-fami
 ly: Tahoma;"><br /><br /><br /><span style="font-size: 12pt;"><em><span sty
 le="text-decoration: underline;">Class Size</span>: 8</em><br /><em><br /><
 br /><span style="text-decoration: underline;">BPI CEU:</span> </em>4<em><b
 r /><br /><br /><span style="text-decoration: underline;"><span style="font
 -family: Tahoma;">Instructor:</span> </span></em></span><span style="font-f
 amily: Tahoma;"><br /><span style="font-size: 12pt;">Al McMahon, EPA qualif
 ied RRP Lead Renovator Instructor<br /><em><br /><br /><span style="text-de
 coration: underline;">Course Fees:</span> <br /></em></span><span><span sty
 le="font-size: 12pt;">$172/person - NY Weatherization Sub-grantees<br /></s
 pan></span></span></span></span></span></span></span></span></span></span><
 /span></span></span></span></span></span></span></span></span></span></span
 ></span></span></span></span></span></span></span></span></span></span></sp
 an></span></span></span></span></span></span></span></span></span></span></
 span></span></span></span></span></span></span></span></span></span></span>
 </span></span></span></span></span></span></span></span></span></span></spa
 n></span></span></span></span></span></span></span></span></span></span></s
 pan></span><span style="color: #336699;"><span style="font-family: Tahoma;"
 ><span style="font-size: medium;"><span style="color: #000000;"><span style
 ="font-family: Arial, Helvetica;"><span style="font-size: x-small;"><span s
 tyle="font-family: Tahoma;"><span style="font-size: small;"><span><span><sp
 an><span style="font-family: Arial, Helvetica;"><span style="font-size: x-s
 mall;"><span style="font-family: Tahoma;"><span style="font-size: small;"><
 span><span><span style="font-family: Arial, Helvetica;"><span style="font-s
 ize: x-small;"><span style="font-family: Tahoma;"><span style="font-size: s
 mall;"><span style="font-family: Arial, Helvetica;"><span style="font-size:
  x-small;"><span style="font-family: Tahoma;"><span style="font-size: small
 ;"><span style="font-family: Arial, Helvetica;"><span style="font-size: x-s
 mall;"><span style="font-family: Tahoma;"><span style="font-size: small;"><
 span style="font-family: Arial, Helvetica;"><span style="font-size: x-small
 ;"><span><span style="font-family: Tahoma;"><span style="font-size: small;"
 ><span><span><span><span style="color: #336699;"><span><span style="font-si
 ze: medium;"><span style="color: #000000;"><span style="font-family: Arial,
  Helvetica;"><span style="font-size: x-small;"><span style="font-size: smal
 l;"><span style="font-family: Tahoma;"><span><span><span style="font-family
 : Arial, Helvetica;"><span style="font-size: x-small;"><span style="font-fa
 mily: Tahoma;"><span style="font-size: small;"><span><span><span style="fon
 t-family: Arial, Helvetica;"><span style="font-size: x-small;"><span style=
 "font-family: Tahoma;"><span style="font-size: small;"><span style="font-fa
 mily: Arial, Helvetica;"><span style="font-size: x-small;"><span style="fon
 t-family: Tahoma;"><span style="font-size: small;"><span style="font-family
 : Arial, Helvetica;"><span style="font-size: x-small;"><span style="font-fa
 mily: Tahoma;"><span style="font-size: small;"><span style="font-family: Ar
 ial, Helvetica;"><span style="font-size: x-small;"><span><span style="font-
 family: Tahoma;"><span style="font-size: small;"><span><span><span><span st
 yle="font-size: 12pt;">$172/person - affiliate members<br /></span></span><
 /span></span></span></span></span></span></span></span></span></span></span
 ></span></span></span></span></span></span></span></span></span></span></sp
 an></span></span></span></span></span></span></span></span></span></span></
 span></span></span></span></span></span></span></span></span></span></span>
 </span></span></span></span></span></span></span></span></span></span></spa
 n></span></span></span></span></span></span></span></span></span></span></s
 pan></span></span></span></span></span></span></span><span style="color: #3
 36699;"><span style="font-family: Tahoma;"><span style="font-size: medium;"
 ><span style="color: #000000;"><span style="font-family: Arial, Helvetica;"
 ><span style="font-size: x-small;"><span style="font-family: Tahoma;"><span
  style="font-size: small;"><span><span><span><span style="font-family: Aria
 l, Helvetica;"><span style="font-size: x-small;"><span style="font-family: 
 Tahoma;"><span style="font-size: small;"><span><span><span style="font-fami
 ly: Arial, Helvetica;"><span style="font-size: x-small;"><span style="font-
 family: Tahoma;"><span style="font-size: small;"><span style="font-family: 
 Arial, Helvetica;"><span style="font-size: x-small;"><span style="font-fami
 ly: Tahoma;"><span style="font-size: small;"><span style="font-family: Aria
 l, Helvetica;"><span style="font-size: x-small;"><span style="font-family: 
 Tahoma;"><span style="font-size: small;"><span style="font-family: Arial, H
 elvetica;"><span style="font-size: x-small;"><span><span style="font-family
 : Tahoma;"><span style="font-size: small;"><span><span><span><span style="c
 olor: #336699;"><span><span style="font-size: medium;"><span style="color: 
 #000000;"><span style="font-family: Arial, Helvetica;"><span style="font-si
 ze: x-small;"><span style="font-size: small;"><span style="font-family: Tah
 oma;"><span><span><span style="font-family: Arial, Helvetica;"><span style=
 "font-size: x-small;"><span style="font-family: Tahoma;"><span style="font-
 size: small;"><span><span><span style="font-family: Arial, Helvetica;"><spa
 n style="font-size: x-small;"><span style="font-family: Tahoma;"><span styl
 e="font-size: small;"><span style="font-family: Arial, Helvetica;"><span st
 yle="font-size: x-small;"><span style="font-family: Tahoma;"><span style="f
 ont-size: small;"><span style="font-family: Arial, Helvetica;"><span style=
 "font-size: x-small;"><span style="font-family: Tahoma;"><span style="font-
 size: small;"><span style="font-family: Arial, Helvetica;"><span style="fon
 t-size: x-small;"><span><span style="font-family: Tahoma;"><span style="fon
 t-size: small;"><span><span><span><span style="font-size: 12pt;">$250/perso
 n - non-members&nbsp;</span></span></span></span></span></span></span></spa
 n></span></span></span></span></span></span></span></span></span></span></s
 pan></span></span></span></span></span></span></span></span></span></span><
 /span></span></span></span></span></span></span></span></span></span></span
 ></span></span></span></span></span></span></span></span></span></span></sp
 an></span></span></span></span></span></span></span></span></span></span></
 span></span></span></span></span></span></span></span></span></span></span>
 </span></span></p><p>&nbsp;</p><p><span style="color: #000000;"><strong><sp
 an style="font-family: tahoma, arial, helvetica, sans-serif; font-size: 14p
 t;"><em><em><span style="font-family: tahoma, arial, helvetica, sans-serif;
  font-size: 14pt;"><span style="font-family: tahoma, arial, helvetica, sans
 -serif; font-size: 12pt;"><strong><em>Course fees include DO NOT include lu
 nch</em></strong></span>&nbsp;</span></em></em></span></strong></span></p><
 p>&nbsp;</p><p><em><strong><span style="background: white; color: #02613f; 
 font-family: 'Georgia','serif';"><span style="font-size: small;">**Special 
 note</span></span></strong></em><span style="background: white; color: blac
 k; font-family: 'Georgia','serif';"><span style="font-size: small;"><i><str
 ong>&nbsp;-&nbsp;if you wish to become an Affiliate Member, and&nbsp;save o
 ff the non-member rate, please contact&nbsp;Karen McMahon (315-701-0440 ext
 . 223,&nbsp;</strong></i></span><i><strong><span id="cloakebe53b4ee6c5bc12d
 93cb74ce44b63a6">This email address is being protected from spambots. You n
 eed JavaScript enabled to view it.</span><script type='text/javascript'>
		
 		document.getElementById('cloakebe53b4ee6c5bc12d93cb74ce44b63a6').innerHTM
 L = '';
				var prefix = 'ma' + 'il' + 'to';
				var path = 'hr' + 'ef' + '
 =';
				var addyebe53b4ee6c5bc12d93cb74ce44b63a6 = 'kmcmahon' + '@';
				ad
 dyebe53b4ee6c5bc12d93cb74ce44b63a6 = addyebe53b4ee6c5bc12d93cb74ce44b63a6 +
  'nyswda' + '.' + 'org';
				var addy_textebe53b4ee6c5bc12d93cb74ce44b63a6 
 = '<span style="color: #0000ff; font-size: small;">kmcmahon' + '@' + 'nyswd
 a' + '.' + 'org</span>';document.getElementById('cloakebe53b4ee6c5bc12d93cb
 74ce44b63a6').innerHTML += '<a ' + path + '\'' + prefix + ':' + addyebe53b4
 ee6c5bc12d93cb74ce44b63a6 + '\'>'+addy_textebe53b4ee6c5bc12d93cb74ce44b63a6
 +'<\/a>';
		</script><span style="font-size: small;">)&nbsp;</span></strong
 ></i></span><i></i><span style="font-size: small;"><strong><span style="bac
 kground: white; color: #02613f; font-family: 'Georgia','serif';">BEFORE YOU
  REGISTER&nbsp;</span></strong><em><b><span style="background: white; color
 : black; font-family: 'Georgia','serif';">for the course</span></b></em><st
 rong><span style="background: white; color: black; font-family: 'Georgia','
 serif';">.</span></strong></span></p><p>&nbsp;</p><p><span style="color: #0
 000ff;"><em><strong><span style="font-family: tahoma, arial, helvetica, san
 s-serif; font-size: 14pt;"><span style="font-family: tahoma, arial, helveti
 ca, sans-serif; font-size: 14pt;"><span style="font-family: tahoma,arial,he
 lvetica,sans-serif; font-size: 14pt;"><strong><em><strong><span style="colo
 r: #ffffff; font-family: tahoma,arial,helvetica,sans-serif; font-size: 14pt
 ;"><span style="color: #ff0000;">CLASS FULL - call or email</span>&nbsp; <s
 pan id="cloak0b6e81c11176b58c48573182fb51753c">This email address is being 
 protected from spambots. You need JavaScript enabled to view it.</span><scr
 ipt type='text/javascript'>
				document.getElementById('cloak0b6e81c11176b
 58c48573182fb51753c').innerHTML = '';
				var prefix = 'ma' + 'il' + 'to';

 				var path = 'hr' + 'ef' + '=';
				var addy0b6e81c11176b58c48573182fb517
 53c = 'rvisser' + '@';
				addy0b6e81c11176b58c48573182fb51753c = addy0b6e8
 1c11176b58c48573182fb51753c + 'nyswda' + '.' + 'org';
				var addy_text0b6e
 81c11176b58c48573182fb51753c = '<span style="color: #0066cc;">rvisser' + '@
 ' + 'nyswda' + '.' + 'org</span>';document.getElementById('cloak0b6e81c1117
 6b58c48573182fb51753c').innerHTML += '<a ' + path + '\'' + prefix + ':' + a
 ddy0b6e81c11176b58c48573182fb51753c + '\'>'+addy_text0b6e81c11176b58c485731
 82fb51753c+'<\/a>';
		</script> <span style="color: #ff0000;">for availabil
 ity or wait list</span></span></strong></em><span style="color: #ffffff;"><
 /span></strong><span style="font-family: tahoma, arial, helvetica, sans-ser
 if; font-size: 14pt;"></span></span><span style="font-family: tahoma, arial
 , helvetica, sans-serif; font-size: 14pt;"></span></span><em></em><span sty
 le="color: #0000ff;"></span></span></strong></em></span></p>
CONTACT:Robyn Visser
DTSTAMP:20260424T220958
DTSTART;TZID=America/New_York:20220608T090000
DTEND;TZID=America/New_York:20220608T170000
SEQUENCE:0
TRANSP:OPAQUE
END:VEVENT
END:VCALENDAR