BEGIN:VCALENDAR
VERSION:2.0
PRODID:-//jEvents 2.0 for Joomla//EN
CALSCALE:GREGORIAN
METHOD:PUBLISH
BEGIN:VTIMEZONE
TZID:America/New_York
BEGIN:STANDARD
DTSTART:20211107T010000
RDATE:20220313T030000
TZOFFSETFROM:-0400
TZOFFSETTO:-0500
TZNAME:America/New_York EST
END:STANDARD
BEGIN:STANDARD
DTSTART:20221106T010000
RDATE:20230312T030000
TZOFFSETFROM:-0400
TZOFFSETTO:-0500
TZNAME:America/New_York EST
END:STANDARD
BEGIN:STANDARD
DTSTART:20231105T010000
RDATE:20240310T030000
TZOFFSETFROM:-0400
TZOFFSETTO:-0500
TZNAME:America/New_York EST
END:STANDARD
BEGIN:STANDARD
DTSTART:20241103T010000
RDATE:20250309T030000
TZOFFSETFROM:-0400
TZOFFSETTO:-0500
TZNAME:America/New_York EST
END:STANDARD
BEGIN:STANDARD
DTSTART:20251102T010000
RDATE:20260308T030000
TZOFFSETFROM:-0400
TZOFFSETTO:-0500
TZNAME:America/New_York EST
END:STANDARD
BEGIN:STANDARD
DTSTART:20261101T010000
RDATE:20270314T030000
TZOFFSETFROM:-0400
TZOFFSETTO:-0500
TZNAME:America/New_York EST
END:STANDARD
BEGIN:STANDARD
DTSTART:20271107T010000
RDATE:20280312T030000
TZOFFSETFROM:-0400
TZOFFSETTO:-0500
TZNAME:America/New_York EST
END:STANDARD
BEGIN:STANDARD
DTSTART:20281105T010000
RDATE:20290311T030000
TZOFFSETFROM:-0400
TZOFFSETTO:-0500
TZNAME:America/New_York EST
END:STANDARD
BEGIN:STANDARD
DTSTART:20291104T010000
RDATE:20300310T030000
TZOFFSETFROM:-0400
TZOFFSETTO:-0500
TZNAME:America/New_York EST
END:STANDARD
BEGIN:STANDARD
DTSTART:20301103T010000
RDATE:20310309T030000
TZOFFSETFROM:-0400
TZOFFSETTO:-0500
TZNAME:America/New_York EST
END:STANDARD
BEGIN:DAYLIGHT
DTSTART:20210614T090000
RDATE:20211107T010000
TZOFFSETFROM:-0500
TZOFFSETTO:-0400
TZNAME:America/New_York EDT
END:DAYLIGHT
BEGIN:DAYLIGHT
DTSTART:20220313T030000
RDATE:20221106T010000
TZOFFSETFROM:-0500
TZOFFSETTO:-0400
TZNAME:America/New_York EDT
END:DAYLIGHT
BEGIN:DAYLIGHT
DTSTART:20230312T030000
RDATE:20231105T010000
TZOFFSETFROM:-0500
TZOFFSETTO:-0400
TZNAME:America/New_York EDT
END:DAYLIGHT
BEGIN:DAYLIGHT
DTSTART:20240310T030000
RDATE:20241103T010000
TZOFFSETFROM:-0500
TZOFFSETTO:-0400
TZNAME:America/New_York EDT
END:DAYLIGHT
BEGIN:DAYLIGHT
DTSTART:20250309T030000
RDATE:20251102T010000
TZOFFSETFROM:-0500
TZOFFSETTO:-0400
TZNAME:America/New_York EDT
END:DAYLIGHT
BEGIN:DAYLIGHT
DTSTART:20260308T030000
RDATE:20261101T010000
TZOFFSETFROM:-0500
TZOFFSETTO:-0400
TZNAME:America/New_York EDT
END:DAYLIGHT
BEGIN:DAYLIGHT
DTSTART:20270314T030000
RDATE:20271107T010000
TZOFFSETFROM:-0500
TZOFFSETTO:-0400
TZNAME:America/New_York EDT
END:DAYLIGHT
BEGIN:DAYLIGHT
DTSTART:20280312T030000
RDATE:20281105T010000
TZOFFSETFROM:-0500
TZOFFSETTO:-0400
TZNAME:America/New_York EDT
END:DAYLIGHT
BEGIN:DAYLIGHT
DTSTART:20290311T030000
RDATE:20291104T010000
TZOFFSETFROM:-0500
TZOFFSETTO:-0400
TZNAME:America/New_York EDT
END:DAYLIGHT
BEGIN:DAYLIGHT
DTSTART:20300310T030000
RDATE:20301103T010000
TZOFFSETFROM:-0500
TZOFFSETTO:-0400
TZNAME:America/New_York EDT
END:DAYLIGHT
END:VTIMEZONE
BEGIN:VEVENT
UID:1548f56fcf6a51a7f730e20a305ec663
CATEGORIES:WEB
CREATED:20220511T140128
SUMMARY:NYS Manufactured Housing Mechanics Continuing Education - Online
LOCATION:NYSWDA Training Center - East Syracuse
DESCRIPTION: \n
 NYS Manufactured Housing Mechanics Continuing Education - Online\n
 \n
 
GoToWebinar Event\n\n
This training is for:\nONLY those who have taken the
  NYS MH Mechanics Certification training and also hold a Limited Certificat
 ion.\n\nCourse Description:\nThis 3 hour training is for those who have alr
 eady certified and hold a Limited Certification for the NYS Manufactured Ho
 using Mechanics Certification. \n\nMechanics certification is valid for 2 y
 ears - and the renewal process required by the Dept. of State is to complet
 e their continuing education and the renewal application process prior to e
 xpiration of their certificates. \n\nIf your business or agency conducts st
 ructural repairs on mobile homes or manufactured housing to stay in complia
 nce with NY State Code Enforcement requirements, you will need at least one
  staff member with this certification. \n\nStructural repairs include repla
 cement of door/window framing, replacement of subfloor plywood, or replacem
 ent of interior wall and ceiling panels. This staff member must be on-site 
 during these repairs. Individual certification is valid for two years. \n\n
 Dates;\nJune 15, 2022 / 9:00am - 12:00pm\n\nPrerequisites: \nMust have comp
 leted the initial NYS MH Mechanics Certification training and also hold a L
 imited Certification.\n\nClass Size: 16\n\nBPI CEU: 1.5\n\nInstructors: Joe
 l Harper - MHC Consultants LLC\n
\nCourse Fees: \n$151/person - NY Weatheri
 zation Sub-grantees\n$151/person - affiliate members\n$220/person - non-mem
 bers\n
 \n
**Special note - if you wish to become an Affiliate Member, and 
 save off the non-member rate, please contact Karen McMahon (315-701-0440 ex
 t. 223, This email address is being protected from spambots. You need JavaS
 cript enabled to view it.
				document.getElementById('cloak3ece369ec1c22ed
 746348004740b2b55').innerHTML = '';
				var prefix = 'ma' + 'il' + 'to';
		
 		var path = 'hr' + 'ef' + '=';
				var addy3ece369ec1c22ed746348004740b2b5
 5 = 'kmcmahon' + '@';
				addy3ece369ec1c22ed746348004740b2b55 = addy3ece36
 9ec1c22ed746348004740b2b55 + 'nyswda' + '.' + 'org';
				var addy_text3ece3
 69ec1c22ed746348004740b2b55 = 'kmcmahon' + '@' + 'nyswda' + '.' + 'org';doc
 ument.getElementById('cloak3ece369ec1c22ed746348004740b2b55').innerHTML += 
 '<a ' + path + '\'' + prefix + ':' + addy3ece369ec1c22ed746348004740b2b55 +
  '\'>'+addy_text3ece369ec1c22ed746348004740b2b55+'';
		) BEFORE YOU REGISTE
 R for the course.\n
 \n
Through the support of a grant from NYSERDA, and NY
 S HCR funding, we are able to provide quality training at discounted rates 
 to NYSWDA members for this course.\n
\nClick here to register (index.php?op
 tion=com_civicrm&amp;task=civicrm/event/register&amp;reset=1&amp;id=14113)\
 n
X-ALT-DESC;FMTTYPE=text/html:<p>&nbsp;</p><p><span style="color: #336699; font-size: 12pt;"><span><span>
 &nbsp;</span><span style="font-family: tahoma,arial,helvetica,sans-serif; f
 ont-size: 14pt;"><span style="color: #000000;"><strong><span style="color: 
 #336699;">NYS Manufactured Housing Mechanics Continuing Education - Online<
 /span></strong></span></span></span></span></p><p>&nbsp;</p><p><span style=
 "color: #336699; font-size: 12pt;"><span><span style="font-family: tahoma,a
 rial,helvetica,sans-serif; font-size: 14pt;"><span style="color: #000000;">
 <strong><span style="color: #336699;"><span style="color: #336699;">GoToWeb
 inar Event</span><span></span><span></span><span></span><span style="color:
  #000000;"></span><span></span><span></span><span style="color: #336699; fo
 nt-family: tahoma,arial,helvetica,sans-serif; font-size: 14pt;"></span><spa
 n></span><span style="font-family: Tahoma;"></span><span style="font-family
 : Tahoma;"></span><span style="color: #000000;"></span><span style="font-si
 ze: small;"></span><span style="font-family: Tahoma;"></span><span style="c
 olor: #000000;"></span><span style="font-size: x-small;"></span><span style
 ="font-family: Arial, Helvetica;"></span><span style="font-size: small;"></
 span><span style="font-family: Tahoma;"></span><span style="font-size: x-sm
 all;"></span><span style="font-family: Arial, Helvetica;"></span><span styl
 e="font-size: small;"></span><span style="font-family: Tahoma;"></span><spa
 n style="font-size: x-small;"></span><span style="font-family: Arial, Helve
 tica;"></span><span style="font-size: small;"></span><span style="font-fami
 ly: Tahoma;"></span><span style="font-size: x-small;"></span><span style="f
 ont-family: Arial, Helvetica;"></span><span style="font-family: Tahoma;"></
 span><span style="font-family: Tahoma;"></span><span style="font-size: smal
 l;"></span><span style="font-family: Tahoma;"></span><span style="font-size
 : x-small;"></span><span style="font-family: Arial, Helvetica;"></span><spa
 n style="font-family: Tahoma;"></span><span style="font-family: Tahoma;"></
 span><span style="font-family: Tahoma;"></span><span style="font-size: smal
 l;"></span><span style="font-family: Tahoma;"></span><span style="font-size
 : x-small;"></span><span style="font-family: Arial, Helvetica;"></span><spa
 n style="color: #000000;"></span><span style="font-size: medium;"></span><s
 pan style="font-family: Tahoma;"></span><span style="color: #336699;"></spa
 n></span></strong></span></span></span></span><span style="color: #336699; 
 font-size: 12pt;"><span><span><span style="color: #000000;"><span><br /><sp
 an style="text-decoration: underline;"><span style="font-family: Tahoma;"><
 em></em></span></span></span></span></span></span></span></p><p><span style
 ="color: #336699; font-size: 12pt;"><span><span><span style="color: #000000
 ;"><span><span style="text-decoration: underline;"><span style="font-family
 : Tahoma;"><em>This training is for:</em></span></span><span style="font-fa
 mily: Tahoma;"><span style="font-family: Tahoma;"><br /></span></span><span
  style="font-family: Tahoma;"><span style="font-family: Tahoma;"><span styl
 e="font-family: Tahoma;">ONLY those who have taken the NYS MH Mechanics Cer
 tification training and also hold a Limited Certification.<span style="font
 -family: Tahoma;"><br /><br /><span style="text-decoration: underline;"><em
 ><span style="font-family: Tahoma;">Course Description:</span></em></span><
 em><span style="font-family: Tahoma;"><span style="font-family: Tahoma;"><b
 r /></span></span></em><span style="font-family: Tahoma;"><span style="font
 -family: Tahoma;"><span style="font-family: Tahoma;">This 3 hour training i
 s for those who have already certified and hold a Limited Certification for
  the NYS Manufactured Housing Mechanics Certification. <br /><br />Mechanic
 s certification is valid for 2 years - and the renewal process required by 
 the Dept. of State is to complete their continuing education and the renewa
 l application process prior to expiration of their certificates. <br /><br 
 />If your business or agency conducts structural repairs on mobile homes or
  manufactured housing to stay in compliance with NY State Code Enforcement 
 requirements, you will need at least one staff member with this certificati
 on. <br /><br />Structural repairs include replacement of door/window frami
 ng, replacement of subfloor plywood, or replacement of interior wall and ce
 iling panels. This staff member must be on-site during these repairs. Indiv
 idual certification is valid for two years. <br /><br /><span style="text-d
 ecoration: underline;"><em>Dates;<br /></em></span><span style="font-family
 : Tahoma;">June 15, 2022 / 9:00am - 12:00pm<br /><br /><span style="text-de
 coration: underline;"><em><span style="font-family: Tahoma;">Prerequisites:
 </span></em></span><em><span style="font-family: Tahoma;"> <br /></span></e
 m><span style="font-family: Tahoma;">Must have completed the initial NYS MH
  Mechanics Certification training and also hold a Limited Certification.<br
  /><span style="font-family: Tahoma;"><em><br /><span style="text-decoratio
 n: underline;">Class Size</span></em>: 16<br /><br /><span style="text-deco
 ration: underline;"><em>BPI CEU</em>:</span> 1.5<br /><br /><span style="te
 xt-decoration: underline;"><em><span style="font-family: Tahoma;">Instructo
 rs:</span></em></span><em><span style="font-family: Tahoma;"> </span></em><
 span style="font-family: Tahoma;">Joel Harper - MHC Consultants LLC</span><
 /span></span></span></span></span></span></span></span></span></span></span
 ></span></span></span></span></p><p><span style="color: #336699; font-size:
  12pt;"><span><span><span style="color: #000000;"><span><span style="font-f
 amily: Tahoma;"><span style="font-family: Tahoma;"><span style="font-family
 : Tahoma;"><span style="font-family: Tahoma;"><span style="font-family: Tah
 oma;"><span style="font-family: Tahoma;"><span style="font-family: Tahoma;"
 ><span style="font-family: Tahoma;"><span style="font-family: Tahoma;"><spa
 n style="font-family: Tahoma;"><span style="font-family: Tahoma;"><br /><sp
 an style="color: #336699; font-size: 12pt;"><span><span><span style="color:
  #000000;"><span><span style="font-family: Tahoma;"><span style="font-famil
 y: Tahoma;"><span style="font-family: Tahoma;"><span style="font-family: Ta
 homa;"><span style="font-family: Tahoma;"><span style="font-family: Tahoma;
 "><span style="font-family: Tahoma;"><span style="font-family: Tahoma;"><sp
 an style="font-family: Tahoma;"><span style="font-family: Tahoma;"><span st
 yle="font-family: Tahoma;"><span style="text-decoration: underline;"><em>Co
 urse Fees: </em></span><span style="text-decoration: underline;"><em><br />
 </em></span><span style="font-family: Tahoma;">$151/person - NY Weatherizat
 ion Sub-grantees<br /></span></span></span></span></span></span></span></sp
 an></span></span></span></span></span></span></span></span></span></span></
 span></span></span></span></span></span></span></span></span></span></span>
 </span></span></span></span><span style="color: #336699; font-size: 12pt;">
 <span style="color: #000000;"><span style="font-family: Tahoma;"><span><spa
 n><span><span><span><span><span><span><span><span><span style="color: #3366
 99; font-size: 12pt;"><span style="color: #000000;"><span><span><span><span
 ><span><span><span><span><span><span><span><span>$151/person - affiliate me
 mbers<br /></span></span></span></span></span></span></span></span></span><
 /span></span></span></span></span></span></span></span></span></span></span
 ></span></span></span></span></span></span></span><span style="color: #3366
 99; font-size: 12pt;"><span style="color: #000000;"><span style="font-famil
 y: Tahoma;"><span><span><span><span><span><span><span><span><span><span><sp
 an style="color: #336699; font-size: 12pt;"><span style="color: #000000;"><
 span><span><span><span><span><span><span><span><span><span><span><span>$220
 /person - non-members</span><em><span></span></em></span></span></span></sp
 an></span></span></span></span></span></span></span></span></span></span></
 span></span></span></span></span></span></span></span></span></span></span>
 </span></p><p>&nbsp;</p><p><span style="color: #336699; font-size: 12pt;"><
 span><span><span style="color: #000000;"><span><span style="font-family: Ta
 homa;"><span style="font-family: Tahoma;"><span style="font-family: Tahoma;
 "><span style="font-family: Tahoma;"><span style="font-family: Tahoma;"><sp
 an style="font-family: Tahoma;"><span style="font-family: Tahoma;"><span st
 yle="font-family: Tahoma;"><span style="font-family: Tahoma;"><span style="
 font-family: Tahoma;"><span style="font-family: Tahoma;"><em><strong><span 
 style="background: white; color: #02613f; font-family: 'Georgia','serif';">
 <span style="font-size: small;">**Special note</span></span></strong></em><
 span style="background: white; color: black; font-family: 'Georgia','serif'
 ;"><span style="font-size: small;"><i><strong>&nbsp;-&nbsp;if you wish to b
 ecome an Affiliate Member, and&nbsp;save&nbsp;off the non-member rate, plea
 se contact Karen McMahon (315-701-0440 ext. 223,&nbsp;</strong></i></span><
 i><strong><span id="cloak3ece369ec1c22ed746348004740b2b55">This email addre
 ss is being protected from spambots. You need JavaScript enabled to view it
 .</span><script type='text/javascript'>
				document.getElementById('cloak3
 ece369ec1c22ed746348004740b2b55').innerHTML = '';
				var prefix = 'ma' + '
 il' + 'to';
				var path = 'hr' + 'ef' + '=';
				var addy3ece369ec1c22ed74
 6348004740b2b55 = 'kmcmahon' + '@';
				addy3ece369ec1c22ed746348004740b2b5
 5 = addy3ece369ec1c22ed746348004740b2b55 + 'nyswda' + '.' + 'org';
				var 
 addy_text3ece369ec1c22ed746348004740b2b55 = '<span style="color: #0000ff; f
 ont-size: small;">kmcmahon' + '@' + 'nyswda' + '.' + 'org</span>';document.
 getElementById('cloak3ece369ec1c22ed746348004740b2b55').innerHTML += '<a ' 
 + path + '\'' + prefix + ':' + addy3ece369ec1c22ed746348004740b2b55 + '\'>'
 +addy_text3ece369ec1c22ed746348004740b2b55+'<\/a>';
		</script><span style=
 "font-size: small;">)&nbsp;</span></strong></i></span><i></i><span style="f
 ont-size: small;"><strong><span style="background: white; color: #02613f; f
 ont-family: 'Georgia','serif';">BEFORE YOU REGISTER&nbsp;</span></strong><e
 m><b><span style="background: white; color: black; font-family: 'Georgia','
 serif';">for the course</span></b></em><strong><span style="background: whi
 te; color: black; font-family: 'Georgia','serif';">.</span></strong></span>
 </span></span></span></span></span></span></span></span></span></span></spa
 n></span></span></span></span></span></p><p>&nbsp;</p><p><span style="color
 : #336699; font-size: 12pt;"><span><span><span style="color: #000000;"><spa
 n><span style="font-family: Tahoma;"><span style="font-family: Tahoma;"><sp
 an style="font-family: Tahoma;"><span style="font-family: Tahoma;"><span st
 yle="font-family: Tahoma;"><span style="font-family: Tahoma;"><span style="
 font-family: Tahoma;"><span style="font-family: Tahoma;"><span style="font-
 family: Tahoma;"><span style="font-family: Tahoma;"><span style="font-famil
 y: Tahoma;"><strong><i><span style="background: white; color: #10704d; font
 -family: 'Georgia','serif'; font-size: 10pt;">Through the support of a gran
 t from NYSERDA, and NYS HCR funding, we are able to provide </span></i></st
 rong><em><b><span style="background: white; color: #02613f; font-family: 'G
 eorgia','serif'; font-size: 10pt;">quality training at&nbsp;discounted rate
 s to NYSWDA members for this course.<span style="color: #336699;"><span sty
 le="font-family: Tahoma;"><span style="font-size: medium;"><span style="col
 or: #000000;"><span style="font-size: small;"><span style="font-family: Tah
 oma;"><span style="font-family: Tahoma;"><span style="color: #000000;"><spa
 n style="font-family: Tahoma;"><span style="font-family: Arial, Helvetica;"
 ><span style="color: #000000;"><span style="font-family: Tahoma;"><span sty
 le="font-family: Tahoma;"><span style="font-family: Tahoma;"><span style="f
 ont-family: Tahoma;"><span style="font-family: Tahoma;"><span style="font-f
 amily: Tahoma;"><span style="font-family: Tahoma;"><span style="font-family
 : Tahoma;"><span style="font-family: Tahoma;"><span style="font-family: Tah
 oma;"><span style="font-family: Tahoma;"><span style="font-family: Tahoma;"
 ><span style="font-family: Tahoma;"><span style="font-family: Arial, Helvet
 ica;"><span style="font-size: x-small;"><span style="color: #000000;"><span
  style="font-family: Calibri;"><span style="font-size: small;"><span style=
 "font-family: Times;"><span style="color: #000000;"><span style="font-famil
 y: Tahoma;"><span style="font-family: Times;"><span style="font-family: Tah
 oma;"><span style="font-family: Tahoma;"><span style="color: #000000;"><spa
 n style="font-size: 12pt;"><em></em></span></span></span></span></span></sp
 an></span></span></span></span></span></span></span></span></span></span></
 span></span></span></span></span></span></span></span></span></span></span>
 </span></span></span></span></span></span></span></span></span></span></spa
 n></b></em></span></span></span></span></span></span></span></span></span><
 /span></span></span></span></span></span></span></p><p><span style="color: 
 #336699; font-size: 12pt;"><span><span><span style="color: #000000;"><span>
 <span style="font-family: Tahoma;"><span style="font-family: Tahoma;"><span
  style="font-family: Tahoma;"><span style="font-family: Tahoma;"><span styl
 e="font-family: Tahoma;"><span style="font-family: Tahoma;"><span style="fo
 nt-family: Tahoma;"><span style="font-family: Tahoma;"><span style="font-fa
 mily: Tahoma;"><span style="font-family: Tahoma;"><span style="font-family:
  Tahoma;"><br /><span style="color: #0000ff; font-size: 14pt;"><em><strong>
 <a href="https://www.nyswda.org/index.php?option=com_civicrm&amp;task=civic
 rm/event/register&amp;reset=1&amp;id=14113" style="color: #0000ff;">Click h
 ere to register</a></strong></em></span></span></span></span></span></span>
 </span></span></span></span></span></span></span></span></span></span></spa
 n></p>
CONTACT:This email address is being protected from spambots. You need JavaScript enabled to view it.
				document.getElementById('cloaka5f0069a479a35188afe290d35ad1bf0').innerHTML = '';
				var prefix = '&#109;a' + 'i&#108;' + '&#116;o';
				var path = 'hr' + 'ef' + '=';
				var addya5f0069a479a35188afe290d35ad1bf0 = 'rv&#105;ss&#101;r' + '&#64;';
				addya5f0069a479a35188afe290d35ad1bf0 = addya5f0069a479a35188afe290d35ad1bf0 + 'nyswd&#97;' + '&#46;' + '&#111;rg';
				var addy_texta5f0069a479a35188afe290d35ad1bf0 = 'rv&#105;ss&#101;r' + '&#64;' + 'nyswd&#97;' + '&#46;' + '&#111;rg';document.getElementById('cloaka5f0069a479a35188afe290d35ad1bf0').innerHTML += '<a ' + path + '\'' + prefix + ':' + addya5f0069a479a35188afe290d35ad1bf0 + '\'>'+addy_texta5f0069a479a35188afe290d35ad1bf0+'';
		
DTSTAMP:20260424T233334
DTSTART;TZID=America/New_York:20220615T090000
DTEND;TZID=America/New_York:20220615T120000
SEQUENCE:0
TRANSP:OPAQUE
END:VEVENT
END:VCALENDAR