BEGIN:VCALENDAR
VERSION:2.0
PRODID:-//jEvents 2.0 for Joomla//EN
CALSCALE:GREGORIAN
METHOD:PUBLISH
BEGIN:VTIMEZONE
TZID:America/New_York
BEGIN:STANDARD
DTSTART:20211107T010000
RDATE:20220313T030000
TZOFFSETFROM:-0400
TZOFFSETTO:-0500
TZNAME:America/New_York EST
END:STANDARD
BEGIN:STANDARD
DTSTART:20221106T010000
RDATE:20230312T030000
TZOFFSETFROM:-0400
TZOFFSETTO:-0500
TZNAME:America/New_York EST
END:STANDARD
BEGIN:STANDARD
DTSTART:20231105T010000
RDATE:20240310T030000
TZOFFSETFROM:-0400
TZOFFSETTO:-0500
TZNAME:America/New_York EST
END:STANDARD
BEGIN:STANDARD
DTSTART:20241103T010000
RDATE:20250309T030000
TZOFFSETFROM:-0400
TZOFFSETTO:-0500
TZNAME:America/New_York EST
END:STANDARD
BEGIN:STANDARD
DTSTART:20251102T010000
RDATE:20260308T030000
TZOFFSETFROM:-0400
TZOFFSETTO:-0500
TZNAME:America/New_York EST
END:STANDARD
BEGIN:STANDARD
DTSTART:20261101T010000
RDATE:20270314T030000
TZOFFSETFROM:-0400
TZOFFSETTO:-0500
TZNAME:America/New_York EST
END:STANDARD
BEGIN:STANDARD
DTSTART:20271107T010000
RDATE:20280312T030000
TZOFFSETFROM:-0400
TZOFFSETTO:-0500
TZNAME:America/New_York EST
END:STANDARD
BEGIN:STANDARD
DTSTART:20281105T010000
RDATE:20290311T030000
TZOFFSETFROM:-0400
TZOFFSETTO:-0500
TZNAME:America/New_York EST
END:STANDARD
BEGIN:STANDARD
DTSTART:20291104T010000
RDATE:20300310T030000
TZOFFSETFROM:-0400
TZOFFSETTO:-0500
TZNAME:America/New_York EST
END:STANDARD
BEGIN:STANDARD
DTSTART:20301103T010000
RDATE:20310309T030000
TZOFFSETFROM:-0400
TZOFFSETTO:-0500
TZNAME:America/New_York EST
END:STANDARD
BEGIN:DAYLIGHT
DTSTART:20210620T100000
RDATE:20211107T010000
TZOFFSETFROM:-0500
TZOFFSETTO:-0400
TZNAME:America/New_York EDT
END:DAYLIGHT
BEGIN:DAYLIGHT
DTSTART:20220313T030000
RDATE:20221106T010000
TZOFFSETFROM:-0500
TZOFFSETTO:-0400
TZNAME:America/New_York EDT
END:DAYLIGHT
BEGIN:DAYLIGHT
DTSTART:20230312T030000
RDATE:20231105T010000
TZOFFSETFROM:-0500
TZOFFSETTO:-0400
TZNAME:America/New_York EDT
END:DAYLIGHT
BEGIN:DAYLIGHT
DTSTART:20240310T030000
RDATE:20241103T010000
TZOFFSETFROM:-0500
TZOFFSETTO:-0400
TZNAME:America/New_York EDT
END:DAYLIGHT
BEGIN:DAYLIGHT
DTSTART:20250309T030000
RDATE:20251102T010000
TZOFFSETFROM:-0500
TZOFFSETTO:-0400
TZNAME:America/New_York EDT
END:DAYLIGHT
BEGIN:DAYLIGHT
DTSTART:20260308T030000
RDATE:20261101T010000
TZOFFSETFROM:-0500
TZOFFSETTO:-0400
TZNAME:America/New_York EDT
END:DAYLIGHT
BEGIN:DAYLIGHT
DTSTART:20270314T030000
RDATE:20271107T010000
TZOFFSETFROM:-0500
TZOFFSETTO:-0400
TZNAME:America/New_York EDT
END:DAYLIGHT
BEGIN:DAYLIGHT
DTSTART:20280312T030000
RDATE:20281105T010000
TZOFFSETFROM:-0500
TZOFFSETTO:-0400
TZNAME:America/New_York EDT
END:DAYLIGHT
BEGIN:DAYLIGHT
DTSTART:20290311T030000
RDATE:20291104T010000
TZOFFSETFROM:-0500
TZOFFSETTO:-0400
TZNAME:America/New_York EDT
END:DAYLIGHT
BEGIN:DAYLIGHT
DTSTART:20300310T030000
RDATE:20301103T010000
TZOFFSETFROM:-0500
TZOFFSETTO:-0400
TZNAME:America/New_York EDT
END:DAYLIGHT
END:VTIMEZONE
BEGIN:VEVENT
UID:a46c009650ea1d8da6607fa375be99d3
CATEGORIES:At Syracuse
CREATED:20220513T182116
SUMMARY:Air Source Heat Pumps 101
LOCATION:NYSWDA Training Center - East Syracuse
DESCRIPTION:Air Source Heat Pumps 101\n
 \n
 Location:  NYSWDA Training Center - 5869 F
 isher Road, East Syracuse, NY  13057\n
 \n
Please note we are strictly foll
 owing the Governor's guidelines.  NYSWDA will now allow vaccinated attendee
 s to be unmasked at the training center.  All those who who are not vaccina
 ted will be required to wear a mask and to complete a Student Screening Che
 cklist (images/Student_Screening_Checklist.pdf) prior to attending the clas
 s.\n
 \n
This training is for:\nThis course is limited to WAP personnel and
  designed for attendance by Directors and Energy Auditors.\n\n
\nCourse Des
 cription:\nHeat Pumps have been installed and running in cold climates for 
 decades. They have been saving many homeowner and business owners money on 
 their heating costs. Currently air source heat pumps are being used with, o
 il furnaces, propane furnaces, natural gas furnaces and fan coils with elec
 tric back up. Heat pumps are ductless as well and they mount in the area to
  be conditioned.\n\nOnce an auditor has secured the heat loss/gain we will 
 walk thru the process of determining what heat pump is the best for the hom
 e depending on the existing system and condition of the duct distribution s
 ystem. Additionally, we will review what requirements must be available in 
 the home for each different system. The course will review best installatio
 n and commissioning practices for the whole house system as well as the duc
 tless system.\n
 \n
Course Modules:\n\n
    1. Heat Pump Readiness\n
    2.
  Different types of heat pumps\n
    3. Efficiency of ASHP based on tempera
 ture\n
    4. Proper steps to install an ASHP\n
    5. Specification Templa
 te\n
 \n
Class Size: \n10\n\nBPI CEU: 2\n\nInstructor: \nDave Hill - HVAC N
 YSWDA trainer\n\nCourse Fees: \nNone\n
 \n
<a href="index.php?option=com_ci
 vicrm&amp;task=civicrm/event/register&amp;reset=1&amp;id=14117" style="colo
 r: #0000ff;">Click here to register </a>\n
X-ALT-DESC;FMTTYPE=text/html:<p><span style="color: #336699;"><span style="font-family: Tahoma;"><span s
 tyle="font-size: medium;"><span style="color: #000000;"><span style="font-f
 amily: Arial, Helvetica;"><span style="font-size: x-small;"><span style="fo
 nt-family: Tahoma;"><span style="font-size: small;"><span style="font-famil
 y: Tahoma;"><span style="font-family: Tahoma;"><span style="font-family: Ta
 homa;"><span style="font-family: Arial, Helvetica;"><span style="font-size:
  x-small;"><span style="font-family: Tahoma;"><span style="font-size: small
 ;"><span style="font-family: Tahoma;"><span style="font-family: Tahoma;"><s
 pan style="font-family: Arial, Helvetica;"><span style="font-size: x-small;
 "><span style="font-family: Tahoma;"><span style="font-size: small;"><span 
 style="font-family: Arial, Helvetica;"><span style="font-size: x-small;"><s
 pan style="font-family: Tahoma;"><span style="font-size: small;"><span styl
 e="font-family: Arial, Helvetica;"><span style="font-size: x-small;"><span 
 style="font-family: Tahoma;"><span style="font-size: small;"><span style="f
 ont-family: Arial, Helvetica;"><span style="font-size: x-small;"><span styl
 e="color: #000000;"><span style="font-family: Tahoma;"><span style="font-si
 ze: small;"><span style="color: #000000;"><span style="font-family: Tahoma;
 "><span style="font-family: Tahoma;"><span><span style="color: #336699;"><s
 pan style="font-family: Tahoma;"><span style="font-size: medium;"></span></
 span></span><span style="color: #336699; font-family: tahoma, arial, helvet
 ica, sans-serif; font-size: 14pt;"><span><span><span style="color: #000000;
 "><span><span><span><strong><span style="color: #336699;">Air Source Heat P
 umps 101</span></strong></span></span></span></span></span></span></span></
 span></span></span></span></span></span></span></span></span></span></span>
 </span></span></span></span></span></span></span></span></span></span></spa
 n></span></span></span></span></span></span></span></span></span></span></s
 pan></span></span></span></span></span></p><p>&nbsp;</p><p><span style="col
 or: #336699;"><span style="font-family: Tahoma;"><span style="font-size: me
 dium;"><span style="color: #000000;"><span style="font-family: Arial, Helve
 tica;"><span style="font-size: x-small;"><span style="font-family: Tahoma;"
 ><span style="font-size: small;"><span style="font-family: Tahoma;"><span s
 tyle="font-family: Tahoma;"><span style="font-family: Tahoma;"><span style=
 "font-family: Arial, Helvetica;"><span style="font-size: x-small;"><span st
 yle="font-family: Tahoma;"><span style="font-size: small;"><span style="fon
 t-family: Tahoma;"><span style="font-family: Tahoma;"><span style="font-fam
 ily: Arial, Helvetica;"><span style="font-size: x-small;"><span style="font
 -family: Tahoma;"><span style="font-size: small;"><span style="font-family:
  Arial, Helvetica;"><span style="font-size: x-small;"><span style="font-fam
 ily: Tahoma;"><span style="font-size: small;"><span style="font-family: Ari
 al, Helvetica;"><span style="font-size: x-small;"><span style="font-family:
  Tahoma;"><span style="font-size: small;"><span style="font-family: Arial, 
 Helvetica;"><span style="font-size: x-small;"><span style="color: #000000;"
 ><span style="font-family: Tahoma;"><span style="font-size: small;"><span s
 tyle="color: #000000;"><span style="font-family: Tahoma;"><span style="font
 -family: Tahoma;"><span><span style="color: #336699; font-family: tahoma, a
 rial, helvetica, sans-serif; font-size: 14pt;"><span><span><span style="col
 or: #000000;"><span><span><span><strong><span style="color: #336699;"> Loca
 tion:&nbsp; NYSWDA Training Center<span style="color: #336699;">&nbsp;- 586
 9 Fisher Road, East Syracuse, NY&nbsp; 13057</span></span></strong></span><
 /span></span></span></span></span></span></span></span></span></span></span
 ></span></span></span></span></span></span></span></span></span></span></sp
 an></span></span></span></span></span></span></span></span></span></span></
 span></span></span></span></span></span></span></span></span></span></span>
 </span></p><p>&nbsp;</p><p><span style="font-family: tahoma, arial, helveti
 ca, sans-serif; font-size: 12pt;"><span style="color: #000000;">Please note
  we are strictly following the Governor's guidelines.</span>&nbsp; <span st
 yle="color: #000000;">NYSWDA will now allow vaccinated attendees to be unma
 sked at the training center.&nbsp; All those who who are not vaccinated wil
 l be required to wear a mask and</span></span><span style="color: #ff0000;"
 ><span style="font-family: tahoma, arial, helvetica, sans-serif; font-size:
  14pt;"><span style="font-size: 12pt;"><span style="color: #000000;">&nbsp;
 to complete a</span>&nbsp;</span></span><span style="color: #106141;"><em><
 strong><span style="font-family: tahoma, arial, helvetica, sans-serif; font
 -size: 14pt;"><span style="color: #106141;"><a href="https://www.nyswda.org
 /images/Student_Screening_Checklist.pdf" style="color: #106141;">Student Sc
 reening Checklist</a></span>&nbsp;</span></strong></em></span><span style="
 font-family: tahoma, arial, helvetica, sans-serif; font-size: 12pt; color: 
 #000000;">prior to attending the class.</span></span></p><p><span style="co
 lor: #336699;"><span style="font-family: Tahoma;"><span style="font-size: m
 edium;"><span style="color: #000000;"><span style="font-family: Arial, Helv
 etica;"><span style="font-size: x-small;"><span style="font-family: Tahoma;
 "><span style="font-size: small;"><span style="font-family: Tahoma;"><span 
 style="font-family: Tahoma;"><span style="font-family: Tahoma;"><span style
 ="font-family: Arial, Helvetica;"><span style="font-size: x-small;"><span s
 tyle="font-family: Tahoma;"><span style="font-size: small;"><span style="fo
 nt-family: Tahoma;"><span style="font-family: Tahoma;"><span style="font-fa
 mily: Arial, Helvetica;"><span style="font-size: x-small;"><span style="fon
 t-family: Tahoma;"><span style="font-size: small;"><span style="font-family
 : Arial, Helvetica;"><span style="font-size: x-small;"><span style="font-fa
 mily: Tahoma;"><span style="font-size: small;"><span style="font-family: Ar
 ial, Helvetica;"><span style="font-size: x-small;"><span style="font-family
 : Tahoma;"><span style="font-size: small;"><span style="font-family: Arial,
  Helvetica;"><span style="font-size: x-small;"><span style="color: #000000;
 "><span style="font-family: Tahoma;"><span style="font-size: small;"><span 
 style="color: #000000;"><span style="font-family: Tahoma;"><span style="fon
 t-family: Tahoma;"><span><span style="color: #336699;"><span style="font-fa
 mily: Tahoma;"><span style="font-size: medium;"><span style="color: #000000
 ;"><span style="font-family: Arial, Helvetica;"><span style="font-size: x-s
 mall;"><span><span style="font-size: small;"></span></span></span></span></
 span></span></span></span></span></span></span></span></span></span></span>
 </span></span></span></span></span></span></span></span></span></span></spa
 n></span></span></span></span></span></span></span></span></span></span></s
 pan></span></span></span></span></span></span></span></span></span>&nbsp;</
 p><p><span style="color: #000000;"><span style="font-family: Tahoma;"><span
  style="font-size: medium;"><span style="font-family: Arial, Helvetica;"><s
 pan style="font-size: x-small;"><span style="font-family: Tahoma;"><span st
 yle="font-size: small;"><span style="font-family: Tahoma;"><span style="fon
 t-family: Tahoma;"><span style="font-family: Tahoma;"><span style="font-fam
 ily: Arial, Helvetica;"><span style="font-size: x-small;"><span style="font
 -family: Tahoma;"><span style="font-size: small;"><span style="font-family:
  Tahoma;"><span style="font-family: Tahoma;"><span style="font-family: Aria
 l, Helvetica;"><span style="font-size: x-small;"><span style="font-family: 
 Tahoma;"><span style="font-size: small;"><span style="font-family: Arial, H
 elvetica;"><span style="font-size: x-small;"><span style="font-family: Taho
 ma;"><span style="font-size: small;"><span style="font-family: Arial, Helve
 tica;"><span style="font-size: x-small;"><span style="font-family: Tahoma;"
 ><span style="font-size: small;"><span style="font-family: Arial, Helvetica
 ;"><span style="font-size: x-small;"><span style="font-family: Tahoma;"><sp
 an style="font-size: small;"><span style="font-family: Tahoma;"><span style
 ="font-family: Tahoma;"><span style="font-family: Tahoma;"><span style="fon
 t-size: medium;"><span style="font-family: Arial, Helvetica;"><span style="
 font-size: x-small;"><span style="font-size: small;"><span style="font-size
 : 12pt;"><span style="text-decoration: underline;"><span style="font-family
 : Tahoma;"><em>This training is for:<br /></em></span></span></span></span>
 </span></span></span></span></span></span></span></span></span></span></spa
 n></span></span></span></span></span></span></span></span></span></span></s
 pan></span></span></span></span></span></span></span></span></span></span><
 /span></span></span></span></span><span style="font-size: 12pt;"><span styl
 e="color: #ff0000; font-family: tahoma, arial, helvetica, sans-serif;"><str
 ong>This course is limited to WAP personnel and designed for attendance by 
 Directors and Energy Auditors.</strong></span><span style="font-family: tah
 oma, arial, helvetica, sans-serif; color: #ff0000;"></span></span><br /></s
 pan></p><p><span style="color: #336699;"><span style="font-family: Tahoma;"
 ><span style="font-size: medium;"><span style="color: #000000;"><span style
 ="font-family: Arial, Helvetica;"><span style="font-size: x-small;"><span s
 tyle="font-family: Tahoma;"><span style="font-size: small;"><span style="fo
 nt-family: Tahoma;"><span style="font-family: Tahoma;"><span style="font-fa
 mily: Tahoma;"><span style="font-family: Arial, Helvetica;"><span style="fo
 nt-size: x-small;"><span style="font-family: Tahoma;"><span style="font-siz
 e: small;"><span style="font-family: Tahoma;"><span style="font-family: Tah
 oma;"><span style="font-family: Arial, Helvetica;"><span style="font-size: 
 x-small;"><span style="font-family: Tahoma;"><span style="font-size: small;
 "><span style="font-family: Arial, Helvetica;"><span style="font-size: x-sm
 all;"><span style="font-family: Tahoma;"><span style="font-size: small;"><s
 pan style="font-family: Arial, Helvetica;"><span style="font-size: x-small;
 "><span style="font-family: Tahoma;"><span style="font-size: small;"><span 
 style="font-family: Arial, Helvetica;"><span style="font-size: x-small;"><s
 pan style="color: #000000;"><span style="font-family: Tahoma;"><span style=
 "font-size: small;"><span style="color: #000000;"><span style="font-family:
  Tahoma;"><span style="font-family: Tahoma;"><span><span style="color: #336
 699;"><span style="font-family: Tahoma;"><span style="font-size: medium;"><
 span style="color: #000000;"><span style="font-family: Arial, Helvetica;"><
 span style="font-size: x-small;"><span><span style="font-size: small;"><spa
 n style="font-family: Tahoma;"><span style="font-family: Tahoma;"><span sty
 le="font-family: Tahoma;"><span style="font-family: Arial, Helvetica;"><spa
 n style="font-size: x-small;"><span style="font-family: Tahoma;"><span styl
 e="font-size: small;"><span style="font-size: 12pt;"><br /><em><span style=
 "text-decoration: underline;">Course Description</span>:<br /></em></span><
 /span></span></span></span></span></span></span></span></span></span></span
 ></span></span></span></span></span></span></span></span></span></span></sp
 an></span></span></span></span></span></span></span></span></span></span></
 span></span></span></span></span></span></span></span></span></span></span>
 </span></span></span></span></span></span></span></span></span></span><span
  style="font-family: tahoma, arial, helvetica, sans-serif; color: #000000; 
 font-size: 12pt;">Heat Pumps have been installed and running in cold climat
 es for decades. They have been saving many homeowner and business owners mo
 ney on their heating costs. Currently air source heat pumps are being used 
 with, oil furnaces, propane furnaces, natural gas furnaces and fan coils wi
 th electric back up. Heat pumps are ductless as well and they mount in the 
 area to be conditioned.<br /><br />Once an auditor has secured the heat los
 s/gain we will walk thru the process of determining what heat pump is the b
 est for the home depending on the existing system and condition of the duct
  distribution system. Additionally, we will review what requirements must b
 e available in the home for each different system. The course will review b
 est installation and commissioning practices for the whole house system as 
 well as the ductless system.</span></p><p>&nbsp;</p><p><span style="font-fa
 mily: tahoma, arial, helvetica, sans-serif; font-size: 12pt;"><em><span sty
 le="color: #000000;"><span style="text-decoration: underline;">Course Modul
 es</span>:<br /></span></em></span></p><p><span style="font-family: tahoma,
  arial, helvetica, sans-serif; font-size: 12pt; color: #000000;">&nbsp; &nb
 sp; 1. Heat Pump Readiness</span></p><p><span style="font-family: tahoma, a
 rial, helvetica, sans-serif; font-size: 12pt; color: #000000;">&nbsp; &nbsp
 ; 2. Different types of heat pumps</span></p><p><span style="font-family: t
 ahoma, arial, helvetica, sans-serif; font-size: 12pt; color: #000000;">&nbs
 p; &nbsp; 3. Efficiency of ASHP based on temperature</span></p><p><span sty
 le="font-family: tahoma, arial, helvetica, sans-serif; font-size: 12pt; col
 or: #000000;">&nbsp; &nbsp; 4. Proper steps to install an ASHP</span></p><p
 ><span style="font-family: tahoma, arial, helvetica, sans-serif; font-size:
  12pt; color: #000000;">&nbsp; &nbsp; 5. Specification Template</span></p><
 p>&nbsp;</p><p><span style="color: #336699;"><span style="font-family: Taho
 ma;"><span style="font-size: medium;"><span style="color: #000000;"><span s
 tyle="font-family: Arial, Helvetica;"><span style="font-size: x-small;"><sp
 an style="font-family: Tahoma;"><span style="font-size: small;"><span style
 ="font-family: Tahoma;"><span style="font-family: Tahoma;"><span style="fon
 t-family: Tahoma;"><span style="font-family: Arial, Helvetica;"><span style
 ="font-size: x-small;"><span style="font-family: Tahoma;"><span style="font
 -size: small;"><span style="font-family: Tahoma;"><span style="font-family:
  Tahoma;"><span style="font-family: Arial, Helvetica;"><span style="font-si
 ze: x-small;"><span style="font-family: Tahoma;"><span style="font-size: sm
 all;"><span style="font-family: Arial, Helvetica;"><span style="font-size: 
 x-small;"><span style="font-family: Tahoma;"><span style="font-size: small;
 "><span style="font-family: Arial, Helvetica;"><span style="font-size: x-sm
 all;"><span style="font-family: Tahoma;"><span style="font-size: small;"><s
 pan style="font-family: Arial, Helvetica;"><span style="font-size: x-small;
 "><span style="color: #000000;"><span style="font-family: Tahoma;"><span st
 yle="font-size: small;"><span style="color: #000000;"><span style="font-fam
 ily: Tahoma;"><span style="font-family: Tahoma;"><span><span style="color: 
 #336699;"><span style="font-family: Tahoma;"><span style="font-size: medium
 ;"><span style="color: #000000;"><span style="font-family: Arial, Helvetica
 ;"><span style="font-size: x-small;"><span><span style="font-size: small;">
 <span style="font-family: Tahoma;"><span style="font-family: Tahoma;"><span
  style="font-family: Tahoma;"><span style="font-family: Arial, Helvetica;">
 <span style="font-size: x-small;"><span style="font-family: Tahoma;"><span 
 style="font-size: small;"><span style="font-family: Tahoma;"><span style="f
 ont-family: Tahoma;"><span style="font-family: Arial, Helvetica;"><span sty
 le="font-size: x-small;"><span style="font-family: Tahoma;"><span style="fo
 nt-size: small;"><span style="font-family: Arial, Helvetica;"><span style="
 font-size: x-small;"><span style="font-family: Tahoma;"><span style="font-s
 ize: small;"><span style="font-family: Arial, Helvetica;"><span style="font
 -size: x-small;"><span style="font-family: Tahoma;"><span style="font-size:
  small;"><span style="font-family: Arial, Helvetica;"><span style="font-siz
 e: x-small;"><span style="color: #000000;"><span style="font-family: Tahoma
 ;"><span style="font-size: small;"><span style="color: #000000;"><span styl
 e="font-family: Tahoma;"><span style="font-size: 12pt;"><em><span style="te
 xt-decoration: underline;">Class Size</span></em>:<em> <br /></em>10<br /><
 br /><span style="text-decoration: underline;"><em>BPI CEU</em>:</span> 2<b
 r /><br /><em><span style="text-decoration: underline;"><span style="font-f
 amily: Tahoma;">Instructor:</span> </span></em></span><span style="font-fam
 ily: Tahoma;"><br /><span style="font-size: 12pt;">Dave Hill - HVAC NYSWDA 
 trainer<br /><em><br /><span style="text-decoration: underline;">Course Fee
 s:</span></em> <span style="color: #eb501b;"><em></em></span><br /></span><
 /span></span></span></span></span></span></span></span></span></span></span
 ></span></span></span></span></span></span></span></span></span></span></sp
 an></span></span></span></span></span></span></span></span></span></span></
 span></span></span></span></span></span></span></span></span></span></span>
 </span></span></span></span></span></span></span></span></span></span></spa
 n></span></span></span></span></span></span></span></span></span></span></s
 pan></span></span></span></span></span></span></span></span></span></span><
 span style="color: #000000;"><span style="font-family: Tahoma;"><span style
 ="font-size: medium;"><span style="font-family: Arial, Helvetica;"><span st
 yle="font-size: x-small;"><span style="font-family: Tahoma;"><span style="f
 ont-size: small;"><span style="font-family: Tahoma;"><span style="font-fami
 ly: Tahoma;"><span style="font-family: Tahoma;"><span style="font-family: A
 rial, Helvetica;"><span style="font-size: x-small;"><span style="font-famil
 y: Tahoma;"><span style="font-size: small;"><span style="font-family: Tahom
 a;"><span style="font-family: Tahoma;"><span style="font-family: Arial, Hel
 vetica;"><span style="font-size: x-small;"><span style="font-family: Tahoma
 ;"><span style="font-size: small;"><span style="font-family: Arial, Helveti
 ca;"><span style="font-size: x-small;"><span style="font-family: Tahoma;"><
 span style="font-size: small;"><span style="font-family: Arial, Helvetica;"
 ><span style="font-size: x-small;"><span style="font-family: Tahoma;"><span
  style="font-size: small;"><span style="font-family: Arial, Helvetica;"><sp
 an style="font-size: x-small;"><span style="font-family: Tahoma;"><span sty
 le="font-size: small;"><span style="font-family: Tahoma;"><span style="font
 -family: Tahoma;"><span style="font-family: Tahoma;"><span style="font-size
 : medium;"><span style="font-family: Arial, Helvetica;"><span style="font-s
 ize: x-small;"><span style="font-size: small;"><span style="font-family: Ta
 homa;"><span style="font-family: Tahoma;"><span style="font-family: Tahoma;
 "><span style="font-family: Arial, Helvetica;"><span style="font-size: x-sm
 all;"><span style="font-family: Tahoma;"><span style="font-size: small;"><s
 pan style="font-family: Tahoma;"><span style="font-family: Tahoma;"><span s
 tyle="font-family: Arial, Helvetica;"><span style="font-size: x-small;"><sp
 an style="font-family: Tahoma;"><span style="font-size: small;"><span style
 ="font-family: Arial, Helvetica;"><span style="font-size: x-small;"><span s
 tyle="font-family: Tahoma;"><span style="font-size: small;"><span style="fo
 nt-family: Arial, Helvetica;"><span style="font-size: x-small;"><span style
 ="font-family: Tahoma;"><span style="font-size: small;"><span style="font-f
 amily: Arial, Helvetica;"><span style="font-size: x-small;"><span style="fo
 nt-family: Tahoma;"><span style="font-size: small;"><span style="font-famil
 y: Tahoma;"><span style="font-family: Tahoma;"><span style="font-size: 12pt
 ;">None</span></span></span></span></span></span></span></span></span></spa
 n></span></span></span></span></span></span></span></span></span></span></s
 pan></span></span></span></span></span></span></span></span></span></span><
 /span></span></span></span></span></span></span></span></span></span></span
 ></span></span></span></span></span></span></span></span></span></span></sp
 an></span></span></span></span></span></span></span></span></span></span></
 span></span></span></span></p><p>&nbsp;</p><p><span style="color: #0000ff;"
 ><em><strong><span style="font-family: tahoma, arial, helvetica, sans-serif
 ; font-size: 14pt;"><a href="https://www.nyswda.org/index.php?option=com_ci
 vicrm&amp;task=civicrm/event/register&amp;reset=1&amp;id=14117" style="colo
 r: #0000ff;">Click here to register&nbsp;</a></span></strong></em></span></
 p>
CONTACT:Robyn Visser
DTSTAMP:20260424T233328
DTSTART;TZID=America/New_York:20220621T100000
DTEND;TZID=America/New_York:20220621T140000
SEQUENCE:0
TRANSP:OPAQUE
END:VEVENT
END:VCALENDAR