BEGIN:VCALENDAR
VERSION:2.0
PRODID:-//jEvents 2.0 for Joomla//EN
CALSCALE:GREGORIAN
METHOD:PUBLISH
BEGIN:VTIMEZONE
TZID:America/New_York
BEGIN:STANDARD
DTSTART:20211107T010000
RDATE:20220313T030000
TZOFFSETFROM:-0400
TZOFFSETTO:-0500
TZNAME:America/New_York EST
END:STANDARD
BEGIN:STANDARD
DTSTART:20221106T010000
RDATE:20230312T030000
TZOFFSETFROM:-0400
TZOFFSETTO:-0500
TZNAME:America/New_York EST
END:STANDARD
BEGIN:STANDARD
DTSTART:20231105T010000
RDATE:20240310T030000
TZOFFSETFROM:-0400
TZOFFSETTO:-0500
TZNAME:America/New_York EST
END:STANDARD
BEGIN:STANDARD
DTSTART:20241103T010000
RDATE:20250309T030000
TZOFFSETFROM:-0400
TZOFFSETTO:-0500
TZNAME:America/New_York EST
END:STANDARD
BEGIN:STANDARD
DTSTART:20251102T010000
RDATE:20260308T030000
TZOFFSETFROM:-0400
TZOFFSETTO:-0500
TZNAME:America/New_York EST
END:STANDARD
BEGIN:STANDARD
DTSTART:20261101T010000
RDATE:20270314T030000
TZOFFSETFROM:-0400
TZOFFSETTO:-0500
TZNAME:America/New_York EST
END:STANDARD
BEGIN:STANDARD
DTSTART:20271107T010000
RDATE:20280312T030000
TZOFFSETFROM:-0400
TZOFFSETTO:-0500
TZNAME:America/New_York EST
END:STANDARD
BEGIN:STANDARD
DTSTART:20281105T010000
RDATE:20290311T030000
TZOFFSETFROM:-0400
TZOFFSETTO:-0500
TZNAME:America/New_York EST
END:STANDARD
BEGIN:STANDARD
DTSTART:20291104T010000
RDATE:20300310T030000
TZOFFSETFROM:-0400
TZOFFSETTO:-0500
TZNAME:America/New_York EST
END:STANDARD
BEGIN:STANDARD
DTSTART:20301103T010000
RDATE:20310309T030000
TZOFFSETFROM:-0400
TZOFFSETTO:-0500
TZNAME:America/New_York EST
END:STANDARD
BEGIN:DAYLIGHT
DTSTART:20210801T090000
RDATE:20211107T010000
TZOFFSETFROM:-0500
TZOFFSETTO:-0400
TZNAME:America/New_York EDT
END:DAYLIGHT
BEGIN:DAYLIGHT
DTSTART:20220313T030000
RDATE:20221106T010000
TZOFFSETFROM:-0500
TZOFFSETTO:-0400
TZNAME:America/New_York EDT
END:DAYLIGHT
BEGIN:DAYLIGHT
DTSTART:20230312T030000
RDATE:20231105T010000
TZOFFSETFROM:-0500
TZOFFSETTO:-0400
TZNAME:America/New_York EDT
END:DAYLIGHT
BEGIN:DAYLIGHT
DTSTART:20240310T030000
RDATE:20241103T010000
TZOFFSETFROM:-0500
TZOFFSETTO:-0400
TZNAME:America/New_York EDT
END:DAYLIGHT
BEGIN:DAYLIGHT
DTSTART:20250309T030000
RDATE:20251102T010000
TZOFFSETFROM:-0500
TZOFFSETTO:-0400
TZNAME:America/New_York EDT
END:DAYLIGHT
BEGIN:DAYLIGHT
DTSTART:20260308T030000
RDATE:20261101T010000
TZOFFSETFROM:-0500
TZOFFSETTO:-0400
TZNAME:America/New_York EDT
END:DAYLIGHT
BEGIN:DAYLIGHT
DTSTART:20270314T030000
RDATE:20271107T010000
TZOFFSETFROM:-0500
TZOFFSETTO:-0400
TZNAME:America/New_York EDT
END:DAYLIGHT
BEGIN:DAYLIGHT
DTSTART:20280312T030000
RDATE:20281105T010000
TZOFFSETFROM:-0500
TZOFFSETTO:-0400
TZNAME:America/New_York EDT
END:DAYLIGHT
BEGIN:DAYLIGHT
DTSTART:20290311T030000
RDATE:20291104T010000
TZOFFSETFROM:-0500
TZOFFSETTO:-0400
TZNAME:America/New_York EDT
END:DAYLIGHT
BEGIN:DAYLIGHT
DTSTART:20300310T030000
RDATE:20301103T010000
TZOFFSETFROM:-0500
TZOFFSETTO:-0400
TZNAME:America/New_York EDT
END:DAYLIGHT
END:VTIMEZONE
BEGIN:VEVENT
UID:8d9de43242ed6136c0c4ffaee7ccbd11
CATEGORIES:At Syracuse
CREATED:20220629T111525
SUMMARY:BPI Heating Professional
LOCATION:NYSWDA Training Center - East Syracuse
DESCRIPTION:BPI Heating Professional\n
 \n
Training Location: NYSWDA Training Center (B
 uilding 1) – 5869 Fisher Road, East Syracuse, NY 13057 \n
 \n
Course Descri
 ption:\nThis four day course, which includes classroom and heating lab sess
 ions, will prepare you to take the BPI Heating Professional written and fie
 ld tests. Using NYSWDA's state-of-the art Heating Lab, attendees will train
  on 15 of the most common residential heating systems, from 70% efficient a
 tmospheric furnaces to 90%+ efficient two-stage ECM blower furnaces. Additi
 onally, trainees will become knowledgeable on gas and oil-fired hydronic bo
 ilers, their controls and components. Attendees will be introduced to syste
 m load and sizing concepts, system design, duct system diagnostics, and pro
 per maintenance and efficiency analysis. This is a challenging course, and 
 as such, NYSWDA strongly recommends that attendees hold BPI Building Analys
 t certification and have strong HVAC experience. After the trainees success
 fully complete the written portion of the test, we will schedule them to re
 turn for the field test.  Candidates have one year from the time they pass 
 the written test to complete their field test.  \n
 \n
Agenda \nDay 1: AM -
  classroom / PM - Heating Lab \nDay 2: AM - classroom / PM - Heating Lab \n
 Day 3: AM - all day labs \nDay 4: AM - review / PM - written test\n
 \n
Who
  Should Attend:\nAuditors, Building Analysts, HVAC professionals\n
 \n
Date
 s;\nCourse covers the dates of August 2-5, 2022\n
 \n
Start Time: Tuesday-F
 riday 9:00am\nEnd Time: Tuesday-Thursday 4:00pm / Friday test starts at 10:
 00am with 1 1/2 hours to complete\n
 \n
Prerequisites: BPI Building Analyst
  certification\n
 \n
Class Size: 6\n
 \n
BPI CEU: 6\n
 \n
Instructors:\nDav
 e Hill / NYSWDA HVAC trainer\n
 \n
Course Fees;\n$725/person - NY Weatheriz
 ation Sub-grantees \n$725/person - affiliate members \n$1,450/person - non-
 members \n
 \n
**Special note - if you wish to become an Affiliate Member a
 nd save off the non-member rate, please contact Karen McMahon (315-701-0440
  ext. 223, This email address is being protected from spambots. You need Ja
 vaScript enabled to view it.
				document.getElementById('cloak0b1afec02e12
 50ff55cacd08d03ad86d').innerHTML = '';
				var prefix = 'ma' + 'il' + 'to';
 
				var path = 'hr' + 'ef' + '=';
				var addy0b1afec02e1250ff55cacd08d03a
 d86d = 'kmcmahon' + '@';
				addy0b1afec02e1250ff55cacd08d03ad86d = addy0b1
 afec02e1250ff55cacd08d03ad86d + 'nyswda' + '.' + 'org';
				var addy_text0b
 1afec02e1250ff55cacd08d03ad86d = 'kmcmahon' + '@' + 'nyswda' + '.' + 'org';
 document.getElementById('cloak0b1afec02e1250ff55cacd08d03ad86d').innerHTML 
 += '<a ' + path + '\'' + prefix + ':' + addy0b1afec02e1250ff55cacd08d03ad86
 d + '\'>'+addy_text0b1afec02e1250ff55cacd08d03ad86d+'';
		) BEFORE YOU REGI
 STER for the course.\n
 \n
NYSWDA will not be responsible for hotel costs, 
 travel to and from the training, breakfast and dinner meals, or incidentals
 . Lunches are ARE NOT included.\n\n(Financial assistance may be available f
 rom local NYS Department of Labor One-Stop Centers)\n\nBPI Fees;\n$200/pers
 on - 50-question written test\n$500/person - Field test\n
 \n
Click here to
  register (index.php?option=com_civicrm&amp;task=civicrm/event/register&amp
 ;reset=1&amp;id=14127)\n
X-ALT-DESC;FMTTYPE=text/html:<p><span style="color: #336699;"><strong><span style="font-family: Tahoma;"
 ><span style="font-size: medium;"><span style="font-family: tahoma,arial,he
 lvetica,sans-serif;"><em></em></span><span style="font-size: 14pt;"><strong
 ><span style="color: #336699;">BPI Heating Professional</span></strong></sp
 an></span></span></strong></span></p><p>&nbsp;</p><p><span style="color: #3
 36699;"><strong><span style="font-family: Tahoma;"><span style="font-size: 
 medium;"><strong><span style="color: #336699; font-size: 13.5pt;">Training<
 /span><span style="color: #336699; font-size: 13.5pt;"> Location: NYSWDA Tr
 aining Center (Building 1) – 5869 Fisher Road, East Syracuse, NY 13057</spa
 n></strong></span></span></strong></span>&nbsp;</p><p>&nbsp;</p><p><span st
 yle="color: #ff0000;"><span style="font-family: tahoma, arial, helvetica, s
 ans-serif; font-size: 12pt; color: #000000;"></span></span><span style="col
 or: #336699;"><span style="font-family: Tahoma; font-size: 12pt;"><span sty
 le="color: #000000;"><span style="text-decoration: underline;"><em><span>Co
 urse Description:<br /></span></em></span></span></span></span><span style=
 "color: #336699;"><span style="font-family: Tahoma; font-size: 12pt;"><span
  style="color: #000000;"><span>This four day course, which includes classro
 om and heating lab sessions, will prepare you to take the BPI Heating Profe
 ssional written and field tests. Using NYSWDA's state-of-the art Heating La
 b, attendees will train on 15 of the most common residential heating system
 s, from 70% efficient atmospheric furnaces to 90%+ efficient two-stage ECM 
 blower furnaces. Additionally, trainees will become knowledgeable on gas an
 d oil-fired hydronic boilers, their controls and components. Attendees will
  be introduced to system load and sizing concepts, system design, duct syst
 em diagnostics, and proper maintenance and efficiency analysis. This is a c
 hallenging course, and as such, NYSWDA strongly recommends that attendees h
 old BPI Building Analyst certification and have strong HVAC experience. Aft
 er the trainees successfully complete the written portion of the test, we w
 ill schedule them to return for the field test.&nbsp; Candidates have&nbsp;
 one year from the time they&nbsp;pass the written test to&nbsp;complete the
 ir field test.&nbsp;&nbsp;</span></span></span></span></p><p>&nbsp;</p><p><
 span style="color: #336699;"><span style="font-family: Tahoma; font-size: 1
 2pt;"><span><span style="color: #000000;"><span><span style="font-family: T
 ahoma;"><span style="color: #000000;"><span style="text-decoration: underli
 ne;"><em>Agenda</em><span style="font-family: Arial, Helvetica;"> <br /><sp
 an style="color: #000000;"></span></span></span><span style="font-family: A
 rial, Helvetica;"><span style="color: #000000;"><span style="font-family: T
 imes;"><strong><span style="font-family: Tahoma;">Day 1: </span></strong><s
 pan style="font-family: Tahoma;">AM - classroom / PM - Heating Lab <br /><s
 trong>Day 2: </strong>AM - classroom / PM - Heating Lab <br /><strong>Day 3
 : </strong>AM - all day labs <br /><strong>Day 4: </strong>AM - review / PM
  - written test</span></span></span></span></span></span></span></span></sp
 an></span></span></p><p>&nbsp;</p><p><span style="color: #336699;"><span st
 yle="font-family: Tahoma; font-size: 12pt;"><span><span style="color: #0000
 00;"><span><span style="font-family: Tahoma;"><span style="color: #000000;"
 ><span style="font-family: Arial, Helvetica;"><span style="color: #000000;"
 ><span style="font-family: Times;"><span style="font-family: Tahoma;"><span
  style="text-decoration: underline;"><em>Who Should Attend:<br /></em></spa
 n><em><span style="font-family: Tahoma;"></span></em><span style="font-fami
 ly: Tahoma;"><span style="font-family: Tahoma;">Auditors, Building Analysts
 , HVAC professionals</span></span></span></span></span></span></span></span
 ></span></span></span></span></span></p><p>&nbsp;</p><p><span style="color:
  #336699;"><span style="font-family: Tahoma; font-size: 12pt;"><span><span 
 style="color: #000000;"><span><span style="font-family: Tahoma;"><span styl
 e="color: #000000;"><span style="font-family: Arial, Helvetica;"><span styl
 e="color: #000000;"><span style="font-family: Times;"><span style="font-fam
 ily: Tahoma;"><span style="font-family: Tahoma;"><span style="font-family: 
 Tahoma;"><span style="font-family: Tahoma;"><span style="text-decoration: u
 nderline;"><em><span style="font-family: Tahoma;">Dates;<br /></span></em><
 /span><em><span style="font-family: Tahoma;"><span style="font-family: Taho
 ma;"></span></span></em><span style="font-family: Tahoma;"><span style="fon
 t-family: Tahoma;">Course covers the dates of August 2-5, 2022</span></span
 ></span></span></span></span></span></span></span></span></span></span></sp
 an></span></span></span></p><p>&nbsp;</p><p><span style="color: #336699;"><
 span style="font-family: Tahoma; font-size: 12pt;"><span><span style="color
 : #000000;"><span><span style="font-family: Tahoma;"><span style="color: #0
 00000;"><span style="font-family: Arial, Helvetica;"><span style="color: #0
 00000;"><span style="font-family: Times;"><span style="font-family: Tahoma;
 "><span style="font-family: Tahoma;"><span style="font-family: Tahoma;"><sp
 an style="font-family: Tahoma;"><span style="font-family: Tahoma;"><span st
 yle="font-family: Tahoma;"><span style="color: #336699;"><span style="font-
 family: Tahoma; font-size: 12pt;"><span><span style="color: #000000;"><span
 ><span style="font-family: Tahoma;"><span style="color: #000000;"><span sty
 le="font-family: Arial, Helvetica;"><span style="color: #000000;"><span sty
 le="font-family: Times;"><span style="font-family: Tahoma;"><span style="fo
 nt-family: Tahoma;"><span style="font-family: Tahoma;"><span style="font-fa
 mily: Tahoma;"><span style="font-family: Tahoma;"><span style="font-family:
  Tahoma;">Start Time: Tuesday-Friday 9:00am<br />End Time: Tuesday-Thursday
  4:00pm / Friday test starts at 10:00am with 1 1/2 hours to complete</span>
 </span></span></span></span></span></span></span></span></span></span></spa
 n></span></span></span></span></span></span></span></span></span></span></s
 pan></span></span></span></span></span></span></span></span></span></p><p>&
 nbsp;</p><p><span style="color: #336699;"><span style="font-family: Tahoma;
  font-size: 12pt;"><span><span style="color: #000000;"><span><span style="f
 ont-family: Tahoma;"><span style="color: #000000;"><span style="font-family
 : Arial, Helvetica;"><span style="color: #000000;"><span style="font-family
 : Times;"><span style="font-family: Tahoma;"><span style="font-family: Taho
 ma;"><span style="font-family: Tahoma;"><span style="font-family: Tahoma;">
 <span style="font-family: Tahoma;"><span style="font-family: Tahoma;"><span
  style="color: #336699;"><span style="font-family: Tahoma; font-size: 12pt;
 "><span><span style="color: #000000;"><span><span style="font-family: Tahom
 a;"><span style="color: #000000;"><span style="font-family: Arial, Helvetic
 a;"><span style="color: #000000;"><span style="font-family: Times;"><span s
 tyle="font-family: Tahoma;"><span style="font-family: Tahoma;"><span style=
 "font-family: Tahoma;"><span style="font-family: Tahoma;"><span style="font
 -family: Tahoma;"><span style="font-family: Tahoma;"><span style="text-deco
 ration: underline;"><em><span style="font-family: Tahoma;">Prerequisites:</
 span></em></span><em><span style="font-family: Tahoma;"> </span></em><span 
 style="font-family: Tahoma;"><span style="font-family: Tahoma;">BPI Buildin
 g Analyst certification</span></span></span></span></span></span></span></s
 pan></span></span></span></span></span></span></span></span></span></span><
 /span></span></span></span></span></span></span></span></span></span></span
 ></span></span></span></span></span></p><p>&nbsp;</p><p><span style="color:
  #336699;"><span style="font-family: Tahoma; font-size: 12pt;"><span><span 
 style="color: #000000;"><span><span style="font-family: Tahoma;"><span styl
 e="color: #000000;"><span style="font-family: Arial, Helvetica;"><span styl
 e="color: #000000;"><span style="font-family: Times;"><span style="font-fam
 ily: Tahoma;"><span style="font-family: Tahoma;"><span style="font-family: 
 Tahoma;"><span style="font-family: Tahoma;"><span style="font-family: Tahom
 a;"><span style="font-family: Tahoma;"><span style="color: #336699;"><span 
 style="font-family: Tahoma; font-size: 12pt;"><span><span style="color: #00
 0000;"><span><span style="font-family: Tahoma;"><span style="color: #000000
 ;"><span style="font-family: Arial, Helvetica;"><span style="color: #000000
 ;"><span style="font-family: Times;"><span style="font-family: Tahoma;"><sp
 an style="font-family: Tahoma;"><span style="font-family: Tahoma;"><span st
 yle="font-family: Tahoma;"><span style="font-family: Tahoma;"><span style="
 font-family: Tahoma;"><span style="font-family: Tahoma;"><span style="font-
 family: Tahoma;"><span style="font-family: Tahoma;"><span style="font-famil
 y: Tahoma;"><span style="text-decoration: underline;"><em>Class Size</em></
 span>: 6</span></span></span></span></span></span></span></span></span></sp
 an></span></span></span></span></span></span></span></span></span></span></
 span></span></span></span></span></span></span></span></span></span></span>
 </span></span></span></span></span></p><p>&nbsp;</p><p><span style="color: 
 #336699;"><span style="font-family: Tahoma; font-size: 12pt;"><span><span s
 tyle="color: #000000;"><span><span style="font-family: Tahoma;"><span style
 ="color: #000000;"><span style="font-family: Arial, Helvetica;"><span style
 ="color: #000000;"><span style="font-family: Times;"><span style="font-fami
 ly: Tahoma;"><span style="font-family: Tahoma;"><span style="font-family: T
 ahoma;"><span style="font-family: Tahoma;"><span style="font-family: Tahoma
 ;"><span style="font-family: Tahoma;"><span style="color: #336699;"><span s
 tyle="font-family: Tahoma; font-size: 12pt;"><span><span style="color: #000
 000;"><span><span style="font-family: Tahoma;"><span style="color: #000000;
 "><span style="font-family: Arial, Helvetica;"><span style="color: #000000;
 "><span style="font-family: Times;"><span style="font-family: Tahoma;"><spa
 n style="font-family: Tahoma;"><span style="font-family: Tahoma;"><span sty
 le="font-family: Tahoma;"><span style="font-family: Tahoma;"><span style="f
 ont-family: Tahoma;"><span style="font-family: Tahoma;"><span style="font-f
 amily: Tahoma;"><span style="font-family: Tahoma;"><span style="font-family
 : Tahoma;"><span style="text-decoration: underline;"><em>BPI CEU</em>:</spa
 n> 6</span></span></span></span></span></span></span></span></span></span><
 /span></span></span></span></span></span></span></span></span></span></span
 ></span></span></span></span></span></span></span></span></span></span></sp
 an></span></span></span></span></p><p>&nbsp;</p><p><span style="color: #336
 699;"><span style="font-family: Tahoma; font-size: 12pt;"><span><span style
 ="color: #000000;"><span><span style="font-family: Tahoma;"><span style="co
 lor: #000000;"><span style="font-family: Arial, Helvetica;"><span style="co
 lor: #000000;"><span style="font-family: Times;"><span style="font-family: 
 Tahoma;"><span style="font-family: Tahoma;"><span style="font-family: Tahom
 a;"><span style="font-family: Tahoma;"><span style="font-family: Tahoma;"><
 span style="font-family: Tahoma;"><span style="color: #336699;"><span style
 ="font-family: Tahoma; font-size: 12pt;"><span><span style="color: #000000;
 "><span><span style="font-family: Tahoma;"><span style="color: #000000;"><s
 pan style="font-family: Arial, Helvetica;"><span style="color: #000000;"><s
 pan style="font-family: Times;"><span style="font-family: Tahoma;"><span st
 yle="font-family: Tahoma;"><span style="font-family: Tahoma;"><span style="
 font-family: Tahoma;"><span style="font-family: Tahoma;"><span style="font-
 family: Tahoma;"><span style="font-family: Tahoma;"><span style="font-famil
 y: Tahoma;"><span style="font-family: Tahoma;"><span style="font-family: Ta
 homa;"><span style="text-decoration: underline;"><em><span style="font-fami
 ly: Tahoma;">Instructors:<br /></span></em></span><span style="font-family:
  Tahoma;">Dave Hill / NYSWDA HVAC trainer</span></span></span></span></span
 ></span></span></span></span></span></span></span></span></span></span></sp
 an></span></span></span></span></span></span></span></span></span></span></
 span></span></span></span></span></span></span></span></span></span></span>
 </p><p>&nbsp;</p><p><span style="color: #336699;"><span style="font-family:
  Tahoma; font-size: 12pt;"><span><span style="color: #000000;"><span><span 
 style="font-family: Tahoma;"><span style="color: #000000;"><span style="fon
 t-family: Arial, Helvetica;"><span style="color: #000000;"><span style="fon
 t-family: Times;"><span style="font-family: Tahoma;"><span style="font-fami
 ly: Tahoma;"><span style="font-family: Tahoma;"><span style="font-family: T
 ahoma;"><span style="font-family: Tahoma;"><span style="font-family: Tahoma
 ;"><span style="color: #336699;"><span style="font-family: Tahoma; font-siz
 e: 12pt;"><span><span style="color: #000000;"><span><span style="font-famil
 y: Tahoma;"><span style="color: #000000;"><span style="font-family: Arial, 
 Helvetica;"><span style="color: #000000;"><span style="font-family: Times;"
 ><span style="font-family: Tahoma;"><span style="font-family: Tahoma;"><spa
 n style="font-family: Tahoma;"><span style="font-family: Tahoma;"><span sty
 le="font-family: Tahoma;"><span style="font-family: Tahoma;"><span style="f
 ont-family: Tahoma;"><span style="font-family: Tahoma;"><span style="font-f
 amily: Tahoma;"><span style="font-family: Tahoma;"><span style="font-family
 : Tahoma;"><span style="font-family: Tahoma;"><span style="font-family: Tah
 oma;"><span style="font-family: Times;"><span style="font-family: Tahoma;">
 <span style="text-decoration: underline;"><em><span style="font-family: Tah
 oma;">Course Fees;</span></em></span><em><span style="font-family: Tahoma;"
 ><br /></span></em><span style="font-family: Tahoma;"><span style="font-fam
 ily: Tahoma;">$725/person - NY Weatherization Sub-grantees<span style="colo
 r: #ff6600;"> </span><br />$725/person - affiliate members&nbsp;<br />$1,45
 0/person - non-members </span></span></span></span></span></span></span></s
 pan></span></span></span></span></span></span></span></span></span></span><
 /span></span></span></span></span></span></span></span></span></span></span
 ></span></span></span></span></span></span></span></span></span></span></sp
 an></span></span></span></p><p>&nbsp;</p><p style="margin-top: 0in; margin-
 right: 0in; margin-bottom: 0pt;"><strong><i><span style="background: white;
  color: #02613f; font-family: 'Georgia','serif';"><span style="font-size: s
 mall;">**Special note</span></span></i></strong><strong><i><span style="bac
 kground: white; color: black; font-family: 'Georgia','serif';"><span style=
 "font-size: small;">&nbsp;-&nbsp;if you wish to become an Affiliate Member 
 and&nbsp;save off the non-member rate, please contact&nbsp;Karen McMahon (3
 15-701-0440 ext. 223,&nbsp;</span><span id="cloak0b1afec02e1250ff55cacd08d0
 3ad86d">This email address is being protected from spambots. You need JavaS
 cript enabled to view it.</span><script type='text/javascript'>
				documen
 t.getElementById('cloak0b1afec02e1250ff55cacd08d03ad86d').innerHTML = '';
	
 			var prefix = 'ma' + 'il' + 'to';
				var path = 'hr' + 'ef' + '=';
				v
 ar addy0b1afec02e1250ff55cacd08d03ad86d = 'kmcmahon' + '@';
				addy0b1afec
 02e1250ff55cacd08d03ad86d = addy0b1afec02e1250ff55cacd08d03ad86d + 'nyswda'
  + '.' + 'org';
				var addy_text0b1afec02e1250ff55cacd08d03ad86d = '<span 
 style="color: #0000ff; font-size: small;">kmcmahon' + '@' + 'nyswda' + '.' 
 + 'org</span>';document.getElementById('cloak0b1afec02e1250ff55cacd08d03ad8
 6d').innerHTML += '<a ' + path + '\'' + prefix + ':' + addy0b1afec02e1250ff
 55cacd08d03ad86d + '\'>'+addy_text0b1afec02e1250ff55cacd08d03ad86d+'<\/a>';
 
		</script><span style="font-size: small;">)&nbsp;</span></span></i></stro
 ng><span style="font-size: small;"><strong><span style="background: white; 
 color: #02613f; font-family: 'Georgia','serif';">BEFORE YOU REGISTER&nbsp;<
 /span></strong><em><b><span style="background: white; color: black; font-fa
 mily: 'Georgia','serif';">for the course</span></b></em><strong><span style
 ="background: white; color: black; font-family: 'Georgia','serif';">.</span
 ></strong></span></p><p>&nbsp;</p><p><span style="color: #ff6600; font-fami
 ly: tahoma,arial,helvetica,sans-serif; font-size: 12pt;"><span style="font-
 family: Times New Roman; font-size: small;"></span></span><span style="colo
 r: #336699;"><span style="font-family: Tahoma; font-size: 12pt;"><span><spa
 n style="color: #000000;"><span><span style="font-family: Tahoma;"><span st
 yle="color: #000000;"><span style="font-family: Arial, Helvetica;"><span st
 yle="color: #000000;"><span style="font-family: Times;"><span style="font-f
 amily: Tahoma;"><span style="font-family: Tahoma;"><span style="font-family
 : Tahoma;"><span style="font-family: Tahoma;"><span style="font-family: Tah
 oma;"><span style="font-family: Tahoma;"><span style="font-family: Tahoma;"
 ><span style="font-family: Tahoma;"><span style="font-family: Tahoma;"><spa
 n style="font-family: Tahoma;"><span style="font-family: Tahoma;"><span sty
 le="font-family: Tahoma;"><span style="font-family: Tahoma;"><span style="f
 ont-family: Times;"><span style="font-family: Tahoma;"><span style="font-fa
 mily: Tahoma;"><span style="font-family: Tahoma;"><span style="font-family:
  Tahoma;">NYSWDA will not be responsible for hotel costs, travel to and fro
 m the training, breakfast and dinner meals, or incidentals. Lunches are ARE
  NOT included.<br /><br /><em>(Financial assistance may be available from l
 ocal NYS Department of Labor One-Stop Centers)</em><span style="font-family
 : Times;"><br /><span style="font-family: Tahoma;"><br /><span style="text-
 decoration: underline;"><em>BPI Fees;<br /></em></span><span style="font-fa
 mily: Tahoma;">$200/person - 50-question written test<br />$500/person - Fi
 eld test</span></span></span></span></span></span></span></span></span></sp
 an></span></span></span></span></span></span></span></span></span></span></
 span></span></span></span></span></span></span></span></span></span></span>
 </p><p>&nbsp;</p><p><span style="color: #0000ff;"><em><strong><span style="
 font-size: 14pt;"><span style="font-family: Tahoma;"><span style="font-fami
 ly: Tahoma;"><span style="font-family: Arial, Helvetica;"><span style="font
 -family: Times;"><span style="font-family: Tahoma;"><span style="font-famil
 y: Tahoma;"><span style="font-family: Tahoma;"><span style="font-family: Ta
 homa;"><span style="font-family: Tahoma;"><span style="font-family: Tahoma;
 "><span style="font-family: Tahoma;"><span style="font-family: Tahoma;"><sp
 an style="font-family: Tahoma;"><span style="font-family: Tahoma;"><span st
 yle="font-family: Tahoma;"><span style="font-family: Tahoma;"><span style="
 font-family: Tahoma;"><span style="font-family: Times;"><span style="font-f
 amily: Tahoma;"><span style="font-family: Tahoma;"><span style="font-family
 : Tahoma;"><span style="font-family: Tahoma;"><span style="font-family: Tim
 es;"><span style="font-family: Tahoma;"><span style="font-family: Tahoma;">
 <a href="https://www.nyswda.org/index.php?option=com_civicrm&amp;task=civic
 rm/event/register&amp;reset=1&amp;id=14127" style="color: #0000ff;">Click h
 ere to register</a></span></span></span></span></span></span></span></span>
 </span></span></span></span></span></span></span></span></span></span></spa
 n></span></span></span></span></span></span></span></strong></em></span></p
 >
CONTACT:This email address is being protected from spambots. You need JavaScript enabled to view it.
				document.getElementById('cloak8587568f55ad8742d5c45855def5cbba').innerHTML = '';
				var prefix = '&#109;a' + 'i&#108;' + '&#116;o';
				var path = 'hr' + 'ef' + '=';
				var addy8587568f55ad8742d5c45855def5cbba = 'rv&#105;ss&#101;r' + '&#64;';
				addy8587568f55ad8742d5c45855def5cbba = addy8587568f55ad8742d5c45855def5cbba + 'nyswd&#97;' + '&#46;' + '&#111;rg';
				var addy_text8587568f55ad8742d5c45855def5cbba = 'rv&#105;ss&#101;r' + '&#64;' + 'nyswd&#97;' + '&#46;' + '&#111;rg';document.getElementById('cloak8587568f55ad8742d5c45855def5cbba').innerHTML += '<a ' + path + '\'' + prefix + ':' + addy8587568f55ad8742d5c45855def5cbba + '\'>'+addy_text8587568f55ad8742d5c45855def5cbba+'';
		
DTSTAMP:20260424T233321
DTSTART;TZID=America/New_York:20220802T090000
DTEND;TZID=America/New_York:20220805T170000
SEQUENCE:0
TRANSP:OPAQUE
END:VEVENT
END:VCALENDAR