BEGIN:VCALENDAR
VERSION:2.0
PRODID:-//jEvents 2.0 for Joomla//EN
CALSCALE:GREGORIAN
METHOD:PUBLISH
BEGIN:VTIMEZONE
TZID:America/New_York
BEGIN:STANDARD
DTSTART:20211107T010000
RDATE:20220313T030000
TZOFFSETFROM:-0400
TZOFFSETTO:-0500
TZNAME:America/New_York EST
END:STANDARD
BEGIN:STANDARD
DTSTART:20221106T010000
RDATE:20230312T030000
TZOFFSETFROM:-0400
TZOFFSETTO:-0500
TZNAME:America/New_York EST
END:STANDARD
BEGIN:STANDARD
DTSTART:20231105T010000
RDATE:20240310T030000
TZOFFSETFROM:-0400
TZOFFSETTO:-0500
TZNAME:America/New_York EST
END:STANDARD
BEGIN:STANDARD
DTSTART:20241103T010000
RDATE:20250309T030000
TZOFFSETFROM:-0400
TZOFFSETTO:-0500
TZNAME:America/New_York EST
END:STANDARD
BEGIN:STANDARD
DTSTART:20251102T010000
RDATE:20260308T030000
TZOFFSETFROM:-0400
TZOFFSETTO:-0500
TZNAME:America/New_York EST
END:STANDARD
BEGIN:STANDARD
DTSTART:20261101T010000
RDATE:20270314T030000
TZOFFSETFROM:-0400
TZOFFSETTO:-0500
TZNAME:America/New_York EST
END:STANDARD
BEGIN:STANDARD
DTSTART:20271107T010000
RDATE:20280312T030000
TZOFFSETFROM:-0400
TZOFFSETTO:-0500
TZNAME:America/New_York EST
END:STANDARD
BEGIN:STANDARD
DTSTART:20281105T010000
RDATE:20290311T030000
TZOFFSETFROM:-0400
TZOFFSETTO:-0500
TZNAME:America/New_York EST
END:STANDARD
BEGIN:STANDARD
DTSTART:20291104T010000
RDATE:20300310T030000
TZOFFSETFROM:-0400
TZOFFSETTO:-0500
TZNAME:America/New_York EST
END:STANDARD
BEGIN:STANDARD
DTSTART:20301103T010000
RDATE:20310309T030000
TZOFFSETFROM:-0400
TZOFFSETTO:-0500
TZNAME:America/New_York EST
END:STANDARD
BEGIN:DAYLIGHT
DTSTART:20210816T090000
RDATE:20211107T010000
TZOFFSETFROM:-0500
TZOFFSETTO:-0400
TZNAME:America/New_York EDT
END:DAYLIGHT
BEGIN:DAYLIGHT
DTSTART:20220313T030000
RDATE:20221106T010000
TZOFFSETFROM:-0500
TZOFFSETTO:-0400
TZNAME:America/New_York EDT
END:DAYLIGHT
BEGIN:DAYLIGHT
DTSTART:20230312T030000
RDATE:20231105T010000
TZOFFSETFROM:-0500
TZOFFSETTO:-0400
TZNAME:America/New_York EDT
END:DAYLIGHT
BEGIN:DAYLIGHT
DTSTART:20240310T030000
RDATE:20241103T010000
TZOFFSETFROM:-0500
TZOFFSETTO:-0400
TZNAME:America/New_York EDT
END:DAYLIGHT
BEGIN:DAYLIGHT
DTSTART:20250309T030000
RDATE:20251102T010000
TZOFFSETFROM:-0500
TZOFFSETTO:-0400
TZNAME:America/New_York EDT
END:DAYLIGHT
BEGIN:DAYLIGHT
DTSTART:20260308T030000
RDATE:20261101T010000
TZOFFSETFROM:-0500
TZOFFSETTO:-0400
TZNAME:America/New_York EDT
END:DAYLIGHT
BEGIN:DAYLIGHT
DTSTART:20270314T030000
RDATE:20271107T010000
TZOFFSETFROM:-0500
TZOFFSETTO:-0400
TZNAME:America/New_York EDT
END:DAYLIGHT
BEGIN:DAYLIGHT
DTSTART:20280312T030000
RDATE:20281105T010000
TZOFFSETFROM:-0500
TZOFFSETTO:-0400
TZNAME:America/New_York EDT
END:DAYLIGHT
BEGIN:DAYLIGHT
DTSTART:20290311T030000
RDATE:20291104T010000
TZOFFSETFROM:-0500
TZOFFSETTO:-0400
TZNAME:America/New_York EDT
END:DAYLIGHT
BEGIN:DAYLIGHT
DTSTART:20300310T030000
RDATE:20301103T010000
TZOFFSETFROM:-0500
TZOFFSETTO:-0400
TZNAME:America/New_York EDT
END:DAYLIGHT
END:VTIMEZONE
BEGIN:VEVENT
UID:a51b2305adfaaa52e1815cce1ec4ba4a
CATEGORIES:At Syracuse
CREATED:20220725T171341
SUMMARY:OSHA 10 Hour Construction Safety Certification
LOCATION:NYSWDA Training Center - East Syracuse
DESCRIPTION: \n
 OSHA 10 Hour Construction Safety Certification\n
 \n
Training Location
 : NYSWDA Training Center – 5869 Fisher Road, East Syracuse, NY 13057\n\nThi
 s training is for;\nAll Weatherization field staff and general construction
  trade contractors.\n
 \n
\nCourse Description;\nWorking in a safe manner o
 n the job is as much an employee responsibility as it is for management to 
 provide a safe work environment.  This two-day course is an OSHA-authorized
  educational outreach program and will result in the issue of an OSHA 10-Ho
 ur Construction Safety Certificate upon successful completion of both days.
   NYSWDA has examined the OSHA requirements and created a program focusing 
 on the Weatherization jobsite and general construction safety.\n
 \n
Dates;
 \nAugust 17-18, 2022 - DAY ONE 9:00am - 4:30pm  and DAY TWO 9:00am - 1:00pm
 \n
 \n
 \n
Class Size; 10\n
\n\nBPI CEU; 5\n
 \n
\nInstructors; Joe Ilacqua
  - NYSWDA\n
\n\nCourse Fees; \n$131/person (WAP sub-grantees)  \n
$131/pers
 on (affiliate members)   \n
$190/person (non-members) \n
 \n
Course fees do
  not include lunch\n
  \n
**Special note - if you wish to become an Affilia
 te Member, and save off the non-member rate, please contact Karen McMahon (
 315-701-0440, This email address is being protected from spambots. You need
  JavaScript enabled to view it.
				document.getElementById('cloakeefee3a67
 918c075ded13502c75d8485').innerHTML = '';
				var prefix = 'ma' + 'il' + 't
 o';
				var path = 'hr' + 'ef' + '=';
				var addyeefee3a67918c075ded13502c
 75d8485 = 'kmcmahon' + '@';
				addyeefee3a67918c075ded13502c75d8485 = addy
 eefee3a67918c075ded13502c75d8485 + 'nyswda' + '.' + 'org';
				var addy_tex
 teefee3a67918c075ded13502c75d8485 = 'kmcmahon' + '@' + 'nyswda' + '.' + 'or
 g';document.getElementById('cloakeefee3a67918c075ded13502c75d8485').innerHT
 ML += '<a ' + path + '\'' + prefix + ':' + addyeefee3a67918c075ded13502c75d
 8485 + '\' target="_blank">'+addy_texteefee3a67918c075ded13502c75d8485+'';

 		) BEFORE YOU REGISTER for the course.\n
 \n
 Click here to register (inde
 x.php?option=com_civicrm&amp;task=civicrm/event/register&amp;reset=1&amp;id
 =14132)\n
X-ALT-DESC;FMTTYPE=text/html:<p><span style="color: #336699; font-size: 12pt;"><span><span>&nbsp;</span>
 </span></span></p><p><span style="color: #336699; font-size: 12pt;"><span><
 span><strong><span style="color: #336699; font-size: 13.5pt;">&nbsp;<span s
 tyle="font-family: tahoma,arial,helvetica,sans-serif; font-size: 14pt;">OSH
 A 10 Hour Construction Safety Certification</span></span></strong></span></
 span></span></p><p>&nbsp;</p><p><span style="color: #336699; font-size: 12p
 t;"><span><span><span style="color: #000000;"><span><strong><span style="co
 lor: #336699;"><strong style="color: #336699; font-family: 'Times New Roman
 '; font-size: medium;"><span style="font-family: Tahoma;"><span style="font
 -size: medium;"><strong><span style="color: #336699; font-size: 13.5pt;">Tr
 aining Location:&nbsp;NYSWDA Training Center – 5869 Fisher Road, East Syrac
 use, NY 13057</span></strong></span></span></strong></span></strong></span>
 </span></span></span></span><span style="color: #336699; font-size: 12pt;">
 <span style="font-family: Tahoma;"><span><span style="color: #000000;"><em>
 <span><br /><br /><span style="text-decoration: underline;"><span style="fo
 nt-family: Tahoma;">This training is for;</span></span><span style="font-fa
 mily: Tahoma;"><span style="font-family: Tahoma;"><br /></span></span></spa
 n></em><span><span style="font-family: Tahoma;"><span style="font-family: T
 ahoma;"><span style="font-family: Tahoma;">All Weatherization field staff a
 nd general construction trade contractors.</span></span></span></span></spa
 n></span></span></span></p><p><span style="color: #336699; font-size: 12pt;
 "><span style="font-family: Tahoma;"><span><span style="color: #000000;"><s
 pan><span style="font-family: Tahoma;"><span style="font-family: Tahoma;"><
 span style="font-family: Tahoma;"><span style="font-family: Tahoma;"></span
 ></span></span></span></span></span></span></span></span>&nbsp;</p><p><span
  style="color: #336699; font-size: 12pt;"><span style="font-family: Tahoma;
 "><span><span style="color: #000000;"><span><span style="font-family: Tahom
 a;"><span style="font-family: Tahoma;"><span style="font-family: Tahoma;"><
 span style="font-family: Tahoma;"><br /><span style="text-decoration: under
 line;"><em><span style="font-family: Tahoma;">Course Description;</span></e
 m></span><em><span style="font-family: Tahoma;"><span style="font-family: T
 ahoma;"><br /></span></span></em><span style="font-family: Tahoma;"><span s
 tyle="font-family: Tahoma;"><span style="font-family: Tahoma;">Working in a
  safe manner on the job is as much an employee responsibility as it is for 
 management to provide a safe work environment.&nbsp; This two-day course is
  an OSHA-authorized educational outreach program and will result in the iss
 ue of an OSHA 10-Hour Construction Safety Certificate upon successful compl
 etion of both days.&nbsp;&nbsp;NYSWDA has examined the OSHA requirements an
 d created a program focusing on the Weatherization jobsite and general cons
 truction safety.</span></span></span></span></span></span></span></span></s
 pan></span></span></span></p><p><span style="color: #336699; font-size: 12p
 t;"><span style="font-family: Tahoma;"><span><span style="color: #000000;">
 <span><span style="font-family: Tahoma;"><span style="font-family: Tahoma;"
 ><span style="font-family: Tahoma;"><span style="font-family: Tahoma;"><spa
 n style="font-family: Tahoma;"><span style="font-family: Tahoma;"><span sty
 le="font-family: Tahoma;"><span style="text-decoration: underline;"><em></e
 m></span></span></span></span></span></span></span></span></span></span></s
 pan></span></span>&nbsp;</p><p><span style="color: #336699; font-size: 12pt
 ;"><span style="font-family: Tahoma;"><span><span style="color: #000000;"><
 span><span style="font-family: Tahoma;"><span style="font-family: Tahoma;">
 <span style="font-family: Tahoma;"><span style="font-family: Tahoma;"><span
  style="font-family: Tahoma;"><span style="font-family: Tahoma;"><span styl
 e="font-family: Tahoma;"><span style="text-decoration: underline;"><em>Date
 s;<br /></em></span><em><span style="font-family: Tahoma;"></span></em><spa
 n style="font-family: Tahoma;">August 17-18</span><span style="font-family:
  Tahoma;">, 2022 - DAY ONE 9:00am - 4:30pm&nbsp; and DAY TWO 9:00am - 1:00p
 m</span></span></span></span></span></span></span></span></span></span></sp
 an></span></span></p><p>&nbsp;</p><p>&nbsp;</p><p><span style="color: #3366
 99; font-size: 12pt;"><span style="font-family: Tahoma;"><span><span style=
 "color: #000000;"><span><span style="font-family: Tahoma;"><span style="fon
 t-family: Tahoma;"><span style="font-family: Tahoma;"><span style="font-fam
 ily: Tahoma;"><span style="font-family: Tahoma;"><span style="font-family: 
 Tahoma;"><span style="font-family: Tahoma;"><span style="font-family: Tahom
 a;"><span style="font-family: Tahoma;"><span style="font-family: Tahoma;"><
 span style="text-decoration: underline;"><em>Class Size;</em></span>&nbsp;1
 0</span></span></span></span></span></span></span></span></span></span></sp
 an></span></span></span></span></p><p><span style="color: #336699; font-siz
 e: 12pt;"><span style="font-family: Tahoma;"><span><span style="color: #000
 000;"><span><span style="font-family: Tahoma;"><span style="font-family: Ta
 homa;"><span style="font-family: Tahoma;"><span style="font-family: Tahoma;
 "><span style="font-family: Tahoma;"><span style="font-family: Tahoma;"><sp
 an style="font-family: Tahoma;"><span style="font-family: Tahoma;"><span st
 yle="font-family: Tahoma;"><span style="font-family: Tahoma;"><br /><br /><
 span style="text-decoration: underline;"><em>BPI CEU;</em></span> 5</span><
 /span></span></span></span></span></span></span></span></span></span></span
 ></span></span></span></p><p><span style="color: #336699; font-size: 12pt;"
 ><span style="font-family: Tahoma;"><span><span style="color: #000000;"><sp
 an><span style="font-family: Tahoma;"><span style="font-family: Tahoma;"><s
 pan style="font-family: Tahoma;"><span style="font-family: Tahoma;"><span s
 tyle="font-family: Tahoma;"><span style="font-family: Tahoma;"><span style=
 "font-family: Tahoma;"><span style="font-family: Tahoma;"><span style="font
 -family: Tahoma;"><span style="font-family: Tahoma;"></span></span></span><
 /span></span></span></span></span></span></span></span></span></span></span
 ></span>&nbsp;</p><p><span style="color: #336699; font-size: 12pt;"><span s
 tyle="font-family: Tahoma;"><span><span style="color: #000000;"><span><span
  style="font-family: Tahoma;"><span style="font-family: Tahoma;"><span styl
 e="font-family: Tahoma;"><span style="font-family: Tahoma;"><span style="fo
 nt-family: Tahoma;"><span style="font-family: Tahoma;"><span style="font-fa
 mily: Tahoma;"><span style="font-family: Tahoma;"><span style="font-family:
  Tahoma;"><span style="font-family: Tahoma;"><br /><span style="text-decora
 tion: underline;"><em><span style="font-family: Tahoma;">Instructors;</span
 ></em></span><span style="font-family: Tahoma;">&nbsp;Joe Ilacqua - NYSWDA<
 /span></span></span></span></span></span></span></span></span></span></span
 ></span></span></span></span></span></p><p><span style="color: #336699; fon
 t-size: 12pt;"><span style="font-family: Tahoma;"><span><span style="color:
  #000000;"><span><span style="font-family: Tahoma;"><span style="font-famil
 y: Tahoma;"><span style="font-family: Tahoma;"><span style="font-family: Ta
 homa;"><span style="font-family: Tahoma;"><span style="font-family: Tahoma;
 "><span style="font-family: Tahoma;"><span style="font-family: Tahoma;"><sp
 an style="font-family: Tahoma;"><span style="font-family: Tahoma;"><span st
 yle="font-family: Tahoma;"><br /><br /><span style="text-decoration: underl
 ine;"><em>Course Fees; <br /></em></span><span style="font-family: Tahoma;"
 ><span style="font-size: 12pt;"><span style="font-family: Tahoma;">$131/per
 son (WAP sub-grantees)&nbsp;</span><span style="color: #eb501b;"> </span></
 span></span></span></span></span></span></span></span></span></span></span>
 </span></span></span></span></span></span></span></p><p><span style="color:
  #336699;"><span style="font-family: Tahoma;"><span style="font-size: mediu
 m;"><span style="color: #000000;"><span style="font-family: Arial, Helvetic
 a;"><span style="font-size: x-small;"><span style="font-family: Tahoma;"><s
 pan style="font-size: small;"><span style="font-family: Tahoma;"><span styl
 e="font-family: Tahoma;"><span style="font-family: Tahoma;"><span style="fo
 nt-family: Arial, Helvetica;"><span style="font-size: x-small;"><span style
 ="font-family: Tahoma;"><span style="font-size: small;"><span style="font-f
 amily: Tahoma;"><span style="font-family: Tahoma;"><span style="font-family
 : Arial, Helvetica;"><span style="font-size: x-small;"><span style="font-fa
 mily: Tahoma;"><span style="font-size: small;"><span style="font-family: Ar
 ial, Helvetica;"><span style="font-size: x-small;"><span style="font-family
 : Tahoma;"><span style="font-size: small;"><span style="font-family: Arial,
  Helvetica;"><span style="font-size: x-small;"><span style="font-family: Ta
 homa;"><span style="font-size: small;"><span style="font-family: Arial, Hel
 vetica;"><span style="font-size: x-small;"><span style="color: #000000;"><s
 pan style="font-family: Tahoma;"><span style="font-size: small;"><span styl
 e="color: #000000;"><span style="font-family: Tahoma;"><span style="font-fa
 mily: Tahoma;"><span style="color: #336699;"><span style="font-family: Taho
 ma;"><span style="font-size: medium;"><span style="color: #000000;"><span s
 tyle="font-family: Arial, Helvetica;"><span style="font-size: x-small;"><sp
 an style="font-size: small;"><span style="font-family: Tahoma;"><span style
 ="font-family: Tahoma;"><span style="font-family: Tahoma;"><span style="fon
 t-family: Arial, Helvetica;"><span style="font-size: x-small;"><span style=
 "font-family: Tahoma;"><span style="font-size: small;"><span style="font-fa
 mily: Tahoma;"><span style="font-family: Tahoma;"><span style="font-family:
  Arial, Helvetica;"><span style="font-size: x-small;"><span style="font-fam
 ily: Tahoma;"><span style="font-size: small;"><span style="font-family: Ari
 al, Helvetica;"><span style="font-size: x-small;"><span style="font-family:
  Tahoma;"><span style="font-size: small;"><span style="font-family: Arial, 
 Helvetica;"><span style="font-size: x-small;"><span style="font-family: Tah
 oma;"><span style="font-size: small;"><span style="font-family: Arial, Helv
 etica;"><span style="font-size: x-small;"><span style="color: #000000;"><sp
 an style="font-family: Tahoma;"><span style="font-size: small;"><span style
 ="color: #000000;"><span style="font-family: Tahoma;"><span style="font-fam
 ily: Tahoma;"><span style="font-size: 12pt;">$131/person (affiliate members
 ) &nbsp;<em><span style="color: #eb501b;"> </span></em></span></span></span
 ></span></span></span></span></span></span></span></span></span></span></sp
 an></span></span></span></span></span></span></span></span></span></span></
 span></span></span></span></span></span></span></span></span></span></span>
 </span></span></span></span></span></span></span></span></span></span></spa
 n></span></span></span></span></span></span></span></span></span></span></s
 pan></span></span></span></span></span></span></span></span></span></span><
 /span></span></span></span></span></span></span></p><p><span style="color: 
 #336699;"><span style="font-family: Tahoma;"><span style="font-size: medium
 ;"><span style="color: #000000;"><span style="font-family: Arial, Helvetica
 ;"><span style="font-size: x-small;"><span style="font-family: Tahoma;"><sp
 an style="font-size: small;"><span style="font-family: Tahoma;"><span style
 ="font-family: Tahoma;"><span style="font-family: Tahoma;"><span style="fon
 t-family: Arial, Helvetica;"><span style="font-size: x-small;"><span style=
 "font-family: Tahoma;"><span style="font-size: small;"><span style="font-fa
 mily: Tahoma;"><span style="font-family: Tahoma;"><span style="font-family:
  Arial, Helvetica;"><span style="font-size: x-small;"><span style="font-fam
 ily: Tahoma;"><span style="font-size: small;"><span style="font-family: Ari
 al, Helvetica;"><span style="font-size: x-small;"><span style="font-family:
  Tahoma;"><span style="font-size: small;"><span style="font-family: Arial, 
 Helvetica;"><span style="font-size: x-small;"><span style="font-family: Tah
 oma;"><span style="font-size: small;"><span style="font-family: Arial, Helv
 etica;"><span style="font-size: x-small;"><span style="color: #000000;"><sp
 an style="font-family: Tahoma;"><span style="font-size: small;"><span style
 ="color: #000000;"><span style="font-family: Tahoma;"><span style="font-fam
 ily: Tahoma;"><span style="color: #336699;"><span style="font-family: Tahom
 a;"><span style="font-size: medium;"><span style="color: #000000;"><span st
 yle="font-family: Arial, Helvetica;"><span style="font-size: x-small;"><spa
 n style="font-size: small;"><span style="font-family: Tahoma;"><span style=
 "font-family: Tahoma;"><span style="font-family: Tahoma;"><span style="font
 -family: Arial, Helvetica;"><span style="font-size: x-small;"><span style="
 font-family: Tahoma;"><span style="font-size: small;"><span style="font-fam
 ily: Tahoma;"><span style="font-family: Tahoma;"><span style="font-family: 
 Arial, Helvetica;"><span style="font-size: x-small;"><span style="font-fami
 ly: Tahoma;"><span style="font-size: small;"><span style="font-family: Aria
 l, Helvetica;"><span style="font-size: x-small;"><span style="font-family: 
 Tahoma;"><span style="font-size: small;"><span style="font-family: Arial, H
 elvetica;"><span style="font-size: x-small;"><span style="font-family: Taho
 ma;"><span style="font-size: small;"><span style="font-family: Arial, Helve
 tica;"><span style="font-size: x-small;"><span style="color: #000000;"><spa
 n style="font-family: Tahoma;"><span style="font-size: small;"><span style=
 "color: #000000;"><span style="font-family: Tahoma;"><span style="font-fami
 ly: Tahoma;"><span style="font-size: 12pt;">$190/person (non-members)&nbsp;
 </span></span></span></span></span></span></span></span></span></span></spa
 n></span></span></span></span></span></span></span></span></span></span></s
 pan></span></span></span></span></span></span></span></span></span></span><
 /span></span></span></span></span></span></span></span></span></span></span
 ></span></span></span></span></span></span></span></span></span></span></sp
 an></span></span></span></span></span></span></span></span></span></span></
 span></span></span></span></span></span></span></span></span></span></p><p>
 &nbsp;</p><p><span style="color: #336699;"><span style="font-family: Tahoma
 ;"><span style="font-size: medium;"><span style="color: #000000;"><span sty
 le="font-size: small;"><span style="font-size: 12pt;"><span style="font-fam
 ily: Tahoma;"><span style="font-family: Tahoma;"><span style="color: #00000
 0;"><span style="font-family: Tahoma;"><span style="font-family: Arial, Hel
 vetica;"><span style="color: #000000;"><span style="font-family: Times;"><s
 pan style="font-family: Tahoma;"><span style="color: #000000;"><span style=
 "color: #000000;"><span style="font-family: Tahoma;"><span style="font-fami
 ly: Tahoma;"><span style="font-family: Tahoma;"><span style="font-family: T
 ahoma;"><span style="font-family: Tahoma;"><span style="font-family: Tahoma
 ;"><span style="font-family: Tahoma;"><span style="font-family: Tahoma;"><s
 pan style="font-family: Tahoma;"><span style="font-family: Tahoma;"><span s
 tyle="font-family: Tahoma;"><span style="font-family: Tahoma;"><span style=
 "font-family: Times;"><span style="font-family: Tahoma;"><span style="font-
 family: Tahoma;"><span style="font-family: Tahoma;"><span style="color: #ff
 6600; font-family: tahoma,arial,helvetica,sans-serif; font-size: 12pt;"><sp
 an style="font-family: tahoma,arial,helvetica,sans-serif; font-size: 12pt;"
 ><strong><em>Course fees do not include lunch</em></strong></span></span></
 span></span></span></span></span></span></span></span></span></span></span>
 </span></span></span></span></span></span></span></span></span></span></spa
 n></span></span></span></span></span></span></span></span></span></span></p
 ><p><span style="color: #336699; font-size: 12pt;"><span style="font-family
 : Tahoma;"><span><span style="color: #000000;"><span><span style="font-fami
 ly: Tahoma;"><span style="font-family: Tahoma;"><span style="font-family: T
 ahoma;"><span style="font-family: Tahoma;"><span style="font-family: Tahoma
 ;"><span style="font-family: Tahoma;"><span style="font-family: Tahoma;"><s
 pan style="font-family: Tahoma;"><span style="font-family: Tahoma;"><span s
 tyle="font-family: Tahoma;"><span style="font-family: Tahoma;"><em><span st
 yle="font-family: Tahoma;">&nbsp;&nbsp;</span></em></span></span></span></s
 pan></span></span></span></span></span></span></span></span></span></span><
 /span></span></p><p><em><strong><span style="font-family: tahoma,arial,helv
 etica,sans-serif; font-size: 12pt;"><span style="color: #336699;"><span sty
 le="font-family: Tahoma;"><span style="font-size: medium;"><span style="col
 or: #000000;"><span style="font-size: small;"><span style="font-size: 12pt;
 "><span style="font-family: Tahoma;"><span style="font-family: Tahoma;"><sp
 an style="color: #000000;"><span style="font-family: Tahoma;"><span style="
 font-family: Arial, Helvetica;"><span style="color: #000000;"><span style="
 font-family: Times;"><span style="font-family: Tahoma;"><span style="color:
  #000000;"><span style="color: #000000;"><span style="font-family: Tahoma;"
 ><span style="font-family: Tahoma;"><span style="font-family: Tahoma;"><spa
 n style="font-family: Tahoma;"><span style="font-family: Tahoma;"><span sty
 le="font-family: Tahoma;"><span style="font-family: Tahoma;"><span style="f
 ont-family: Tahoma;"><span style="font-family: Tahoma;"><span style="font-f
 amily: Tahoma;"><span style="font-family: Tahoma;"><span style="font-family
 : Tahoma;"><span style="font-family: Times;"><span style="font-family: Taho
 ma;"><span style="font-family: Tahoma;"><span style="font-family: Tahoma;">
 <span style="color: #ff6600; font-family: tahoma,arial,helvetica,sans-serif
 ; font-size: 12pt;"><span style="background: white; color: #02613f; font-fa
 mily: 'Georgia','serif';"><span style="font-size: small;"><strong><em><span
  style="color: #02613f;">**Special note</span></em></strong></span></span><
 span style="background: white; color: black; font-family: 'Georgia','serif'
 ;"><span style="font-size: small;"><i><strong>&nbsp;-&nbsp;if you wish to b
 ecome an Affiliate Member, and&nbsp;save off the non-member rate, please co
 ntact Karen McMahon (315-701-0440,&nbsp;</strong></i></span><i><strong><spa
 n id="cloakeefee3a67918c075ded13502c75d8485">This email address is being pr
 otected from spambots. You need JavaScript enabled to view it.</span><scrip
 t type='text/javascript'>
				document.getElementById('cloakeefee3a67918c07
 5ded13502c75d8485').innerHTML = '';
				var prefix = 'ma' + 'il' + 'to';
		
 		var path = 'hr' + 'ef' + '=';
				var addyeefee3a67918c075ded13502c75d848
 5 = 'kmcmahon' + '@';
				addyeefee3a67918c075ded13502c75d8485 = addyeefee3
 a67918c075ded13502c75d8485 + 'nyswda' + '.' + 'org';
				var addy_texteefee
 3a67918c075ded13502c75d8485 = '<span style="color: #0000ff; font-size: smal
 l;">kmcmahon' + '@' + 'nyswda' + '.' + 'org</span>';document.getElementById
 ('cloakeefee3a67918c075ded13502c75d8485').innerHTML += '<a ' + path + '\'' 
 + prefix + ':' + addyeefee3a67918c075ded13502c75d8485 + '\' target="_blank"
 >'+addy_texteefee3a67918c075ded13502c75d8485+'<\/a>';
		</script><span styl
 e="font-size: small;">)&nbsp;</span></strong></i></span><i></i><span style=
 "font-size: small;"><strong><span style="background: white; color: #02613f;
  font-family: 'Georgia','serif';">BEFORE YOU REGISTER&nbsp;</span></strong>
 <em><b><span style="background: white; color: black; font-family: 'Georgia'
 ,'serif';">for the course</span></b></em><strong><span style="background: w
 hite; color: black; font-family: 'Georgia','serif';">.</span></strong></spa
 n></span></span></span></span></span></span></span></span></span></span></s
 pan></span></span></span></span></span></span></span></span></span></span><
 /span></span></span></span></span></span></span></span></span></span></span
 ></span></span></strong></em></p><p>&nbsp;</p><p><a href="https://www.nyswd
 a.org/index.php?option=com_civicrm&amp;task=civicrm/event/register&amp;rese
 t=1&amp;id=14132"><span style="color: #0000ff;">&nbsp;<span style="font-siz
 e: 14pt;"><em><strong><span style="font-family: tahoma,arial,helvetica,sans
 -serif;">Click here to register</span></strong></em></span></span></a></p>
CONTACT:This email address is being protected from spambots. You need JavaScript enabled to view it.
				document.getElementById('cloak9c6866ec5fc74411c8d4e8468fbca4ae').innerHTML = '';
				var prefix = '&#109;a' + 'i&#108;' + '&#116;o';
				var path = 'hr' + 'ef' + '=';
				var addy9c6866ec5fc74411c8d4e8468fbca4ae = 'rv&#105;ss&#101;r' + '&#64;';
				addy9c6866ec5fc74411c8d4e8468fbca4ae = addy9c6866ec5fc74411c8d4e8468fbca4ae + 'nyswd&#97;' + '&#46;' + '&#111;rg';
				var addy_text9c6866ec5fc74411c8d4e8468fbca4ae = 'rv&#105;ss&#101;r' + '&#64;' + 'nyswd&#97;' + '&#46;' + '&#111;rg';document.getElementById('cloak9c6866ec5fc74411c8d4e8468fbca4ae').innerHTML += '<a ' + path + '\'' + prefix + ':' + addy9c6866ec5fc74411c8d4e8468fbca4ae + '\'>'+addy_text9c6866ec5fc74411c8d4e8468fbca4ae+'';
		
DTSTAMP:20260424T220840
DTSTART;TZID=America/New_York:20220817T090000
DTEND;TZID=America/New_York:20220818T160000
SEQUENCE:0
TRANSP:OPAQUE
END:VEVENT
END:VCALENDAR