BEGIN:VCALENDAR
VERSION:2.0
PRODID:-//jEvents 2.0 for Joomla//EN
CALSCALE:GREGORIAN
METHOD:PUBLISH
BEGIN:VTIMEZONE
TZID:America/New_York
BEGIN:STANDARD
DTSTART:20211107T010000
RDATE:20220313T030000
TZOFFSETFROM:-0400
TZOFFSETTO:-0500
TZNAME:America/New_York EST
END:STANDARD
BEGIN:STANDARD
DTSTART:20221106T010000
RDATE:20230312T030000
TZOFFSETFROM:-0400
TZOFFSETTO:-0500
TZNAME:America/New_York EST
END:STANDARD
BEGIN:STANDARD
DTSTART:20231105T010000
RDATE:20240310T030000
TZOFFSETFROM:-0400
TZOFFSETTO:-0500
TZNAME:America/New_York EST
END:STANDARD
BEGIN:STANDARD
DTSTART:20241103T010000
RDATE:20250309T030000
TZOFFSETFROM:-0400
TZOFFSETTO:-0500
TZNAME:America/New_York EST
END:STANDARD
BEGIN:STANDARD
DTSTART:20251102T010000
RDATE:20260308T030000
TZOFFSETFROM:-0400
TZOFFSETTO:-0500
TZNAME:America/New_York EST
END:STANDARD
BEGIN:STANDARD
DTSTART:20261101T010000
RDATE:20270314T030000
TZOFFSETFROM:-0400
TZOFFSETTO:-0500
TZNAME:America/New_York EST
END:STANDARD
BEGIN:STANDARD
DTSTART:20271107T010000
RDATE:20280312T030000
TZOFFSETFROM:-0400
TZOFFSETTO:-0500
TZNAME:America/New_York EST
END:STANDARD
BEGIN:STANDARD
DTSTART:20281105T010000
RDATE:20290311T030000
TZOFFSETFROM:-0400
TZOFFSETTO:-0500
TZNAME:America/New_York EST
END:STANDARD
BEGIN:STANDARD
DTSTART:20291104T010000
RDATE:20300310T030000
TZOFFSETFROM:-0400
TZOFFSETTO:-0500
TZNAME:America/New_York EST
END:STANDARD
BEGIN:STANDARD
DTSTART:20301103T010000
RDATE:20310309T030000
TZOFFSETFROM:-0400
TZOFFSETTO:-0500
TZNAME:America/New_York EST
END:STANDARD
BEGIN:DAYLIGHT
DTSTART:20211023T090000
RDATE:20211107T010000
TZOFFSETFROM:-0500
TZOFFSETTO:-0400
TZNAME:America/New_York EDT
END:DAYLIGHT
BEGIN:DAYLIGHT
DTSTART:20220313T030000
RDATE:20221106T010000
TZOFFSETFROM:-0500
TZOFFSETTO:-0400
TZNAME:America/New_York EDT
END:DAYLIGHT
BEGIN:DAYLIGHT
DTSTART:20230312T030000
RDATE:20231105T010000
TZOFFSETFROM:-0500
TZOFFSETTO:-0400
TZNAME:America/New_York EDT
END:DAYLIGHT
BEGIN:DAYLIGHT
DTSTART:20240310T030000
RDATE:20241103T010000
TZOFFSETFROM:-0500
TZOFFSETTO:-0400
TZNAME:America/New_York EDT
END:DAYLIGHT
BEGIN:DAYLIGHT
DTSTART:20250309T030000
RDATE:20251102T010000
TZOFFSETFROM:-0500
TZOFFSETTO:-0400
TZNAME:America/New_York EDT
END:DAYLIGHT
BEGIN:DAYLIGHT
DTSTART:20260308T030000
RDATE:20261101T010000
TZOFFSETFROM:-0500
TZOFFSETTO:-0400
TZNAME:America/New_York EDT
END:DAYLIGHT
BEGIN:DAYLIGHT
DTSTART:20270314T030000
RDATE:20271107T010000
TZOFFSETFROM:-0500
TZOFFSETTO:-0400
TZNAME:America/New_York EDT
END:DAYLIGHT
BEGIN:DAYLIGHT
DTSTART:20280312T030000
RDATE:20281105T010000
TZOFFSETFROM:-0500
TZOFFSETTO:-0400
TZNAME:America/New_York EDT
END:DAYLIGHT
BEGIN:DAYLIGHT
DTSTART:20290311T030000
RDATE:20291104T010000
TZOFFSETFROM:-0500
TZOFFSETTO:-0400
TZNAME:America/New_York EDT
END:DAYLIGHT
BEGIN:DAYLIGHT
DTSTART:20300310T030000
RDATE:20301103T010000
TZOFFSETFROM:-0500
TZOFFSETTO:-0400
TZNAME:America/New_York EDT
END:DAYLIGHT
END:VTIMEZONE
BEGIN:VEVENT
UID:e0376a56f2872537b4ec265b75ab6d32
CATEGORIES:At Syracuse
CREATED:20220912T145218
SUMMARY:Boot Camp for Weatherization Installers
LOCATION:NYSWDA Training Center - East Syracuse
DESCRIPTION:Boot Camp\n
 \n
Training Location: NYSWDA Training Center (Building 2) - 58
 69 Fisher Road, East Syracuse, NY 13057\n
 \n
Who Should Attend;\nEntry lev
 el field staff and weatherization contractors - see detailed below.\n
 \n
C
 ourse Description;\nThis intensive 4-day training based at NYSWDA's Energy 
 Efficiency Training Center (Building 2) in East Syracuse, is a great introd
 uction to building science principles and hands-on air sealing, dense pack 
 and loose fill cellulose insulation installation. Using our state-of-the-ar
 t realistic wall, ceiling and attic props, trainees will learn the techniqu
 es needed to effectively weatherize our clients' homes.\n
Â\n
During this c
 ourse, the trainees will be introduced to both HCR and BPI standards and re
 gulations on Health &amp; Safety, Lead Safe work practices and safe and pro
 per use of tools and equipment. Trainees will also become proficient on the
  set up of blower doors and understand basic use of an infrared camera duri
 ng air sealing operations.\n
Â\n
All three HCR mandatory trainings are cove
 red in this course: \n

Air Sealing - mandatory for WX directors, energy au
 ditors, post inspectors, crew chiefs and crew personnel
Health &amp; Safety
  - mandatory for WX directors, energy auditors, post inspectors, crew chief
 s and heating technicians
\n - Lead Safe Weatherization - mandatory for all
  employees who may come in contact with lead based paint while performing t
 heir duties\n

Please reference the WAP Policies and Procedures manual for 
 further details. The above-listed trainings are mandatory for the positions
  stated. If a subgrantee hires a new employee into one of these postions, o
 r a current employee transfers into one of these positions, it is mandatory
  that they receive this training within six (6) months of their start date.
  These mandatory training sessions must be repeated every three (3) years b
 y subgrantee personnel who occupy these positions.\n
  \n
Agenda; \nDay One
 \n
Monday - 11:00am - 4:30pm: Residential Health &amp; Safety Fundamentals\
 n
\n
Day Two\n
Tuesday - 9:00am - 4:30pm: Introduction to Building Science 
 and Air Sealing Techniques, introduction to infrared cameras, introduction 
 to basic residential framing details with an emphasis on common air sealing
  areas and building codes requirements for clearance to combustibles.\n
 \n
 
Day Three\n
Wednesday - 9:00am - 4:30pm: Lead Safe Work Practices\n
 \n
Da
 y Four\n
Thursday - 9:00am - 4:00pm: All day lab session tool/equipment saf
 ety, lead safe jobsite setup, air sealing techniques, dense pack and loose 
 fill cellulose installation techniques. Afternoon lab session: fundamentals
  of blower door setup and operation, plus jobsite and lead safe cleanup ski
 lls, training skills review, question and answer session, awarding of Certi
 ficates of Completion.\n
\nDates;\nCourse covers the dates of October 24-27
 , 2022\n\nStart Times: Monday 11:00am then Tues.-Thurs. 9:00am\n\nEnd Times
 : Monday - Thursday 4:30pm\n
 \n
Other Notes:\nDue to the nature of the tra
 ining, all attendees will be required to sign a waiver of liability and a p
 hoto/video release form at the start of the training.\n
\n
Prerequisites: N
 one\n
\nClass Size: 10\n
\nBPI CEU: 16\n
\nInstructors:, Joe Ilacqua, NYSWD
 A\n\n
\nCourse Fees; \n
$950/person - NY Weatherization Sub-grantees \n
$95
 0/person - affiliate members \n
$1,450/person - non-members \n
 \n
Lunches 
 are included for each day.\n
 \n
**Special note - if you wish to become an 
 Affiliate Member, and save off the non-member rate, please contact Karen Mc
 Mahon (315-701-0440 ext. 223, This email address is being protected from sp
 ambots. You need JavaScript enabled to view it.
				document.getElementById
 ('cloak8b8056886ed369b488ad15ebf4fb03cb').innerHTML = '';
				var prefix = 
 'ma' + 'il' + 'to';
				var path = 'hr' + 'ef' + '=';
				var addy8b8056886
 ed369b488ad15ebf4fb03cb = 'kmcmahon' + '@';
				addy8b8056886ed369b488ad15e
 bf4fb03cb = addy8b8056886ed369b488ad15ebf4fb03cb + 'nyswda' + '.' + 'org';

 				var addy_text8b8056886ed369b488ad15ebf4fb03cb = 'kmcmahon' + '@' + 'nys
 wda' + '.' + 'org';document.getElementById('cloak8b8056886ed369b488ad15ebf4
 fb03cb').innerHTML += '<a ' + path + '\'' + prefix + ':' + addy8b8056886ed3
 69b488ad15ebf4fb03cb + '\'>'+addy_text8b8056886ed369b488ad15ebf4fb03cb+'';

 		) BEFORE YOU REGISTER for the course.\n
 \n
NYSWDA will not be responsibl
 e for hotel costs, travel to and from the training, breakfast and dinner me
 als, or incidentals.\n
 \n
Through the support of NYS HCR funding, we are a
 ble to provide quality training at discounted rates to NYSWDA members.\n
 \
 n
CLASS FULL - call or email  This email address is being protected from sp
 ambots. You need JavaScript enabled to view it.
				document.getElementById
 ('cloak191464375daa1798fc4104e77fa10bc5').innerHTML = '';
				var prefix = 
 'ma' + 'il' + 'to';
				var path = 'hr' + 'ef' + '=';
				var addy191464375
 daa1798fc4104e77fa10bc5 = 'rvisser' + '@';
				addy191464375daa1798fc4104e7
 7fa10bc5 = addy191464375daa1798fc4104e77fa10bc5 + 'nyswda' + '.' + 'org';
	
 			var addy_text191464375daa1798fc4104e77fa10bc5 = 'rvisser' + '@' + 'nyswd
 a' + '.' + 'org';document.getElementById('cloak191464375daa1798fc4104e77fa1
 0bc5').innerHTML += '<a ' + path + '\'' + prefix + ':' + addy191464375daa17
 98fc4104e77fa10bc5 + '\'>'+addy_text191464375daa1798fc4104e77fa10bc5+'';
		
  for availability or wait list\n
X-ALT-DESC;FMTTYPE=text/html:<p><strong><span style="font-family: Tahoma, sans-serif; color: #336699; fo
 nt-size: 13.5pt;">Boot Camp</span></strong></p><p>&nbsp;</p><p><strong><spa
 n style="font-family: Tahoma, sans-serif; color: #336699; font-size: 13.5pt
 ;">Training Location: NYSWDA Training Center (Building 2) - 5869 Fisher Roa
 d, East Syracuse, NY 13057</span></strong></p><p>&nbsp;</p><p><em><span sty
 le="text-decoration: underline;"><span style="font-family: Tahoma, sans-ser
 if; color: black; text-decoration: underline;"><span style="font-size: 12pt
 ;">Who Should Attend;<br /></span></span></span></em><span style="font-fami
 ly: Tahoma, sans-serif; color: black;"><span style="font-size: 12pt;"><span
 >Entry level field staff and weatherization contractors - see detailed belo
 w.</span></span></span></p><p><span style="font-family: Tahoma, sans-serif;
  color: #ffffff;"><span style="font-size: 12pt;"></span></span>&nbsp;</p><p
 ><em><span style="text-decoration: underline;"><span style="font-family: Ta
 homa, sans-serif; color: black; text-decoration: underline;"><span style="f
 ont-size: 12pt;">Course</span></span></span><span style="text-decoration: u
 nderline;"><span style="font-family: Tahoma, sans-serif; color: black; text
 -decoration: underline;"><span style="font-size: 12pt;"> Description</span>
 </span></span></em><span style="font-family: Tahoma, sans-serif; color: bla
 ck;"><span style="font-size: 12pt;">;<br /></span></span><span style="font-
 family: Tahoma, sans-serif; color: black; font-size: 12pt;">This intensive 
 4-day training based at NYSWDA's Energy Efficiency Training Center (Buildin
 g 2) in East Syracuse, is a great introduction to building science principl
 es and hands-on air sealing, dense pack and loose fill cellulose insulation
  installation. Using our state-of-the-art realistic wall, ceiling and attic
  props, trainees will learn the techniques needed to effectively weatherize
  our clients' homes.</span></p><p><span style="font-family: Tahoma, sans-se
 rif; color: #ffffff; font-size: 12pt;">Â</span></p><p><span style="font-fam
 ily: Tahoma, sans-serif; color: black; font-size: 12pt;">During this course
 , the trainees will be introduced to both HCR and BPI standards and regulat
 ions on Health &amp; Safety, Lead Safe work practices and safe and proper u
 se of tools and equipment. Trainees will also become proficient on the set 
 up of blower doors and understand basic use of an infrared camera during ai
 r sealing operations.</span></p><p><span style="font-family: Tahoma, sans-s
 erif; color: #ffffff; font-size: 12pt;">Â</span></p><p><span style="font-fa
 mily: Tahoma, sans-serif; color: black; font-size: 12pt;">All three HCR man
 datory trainings are covered in this course: </span></p><ul><li style="colo
 r: black;"><span style="font-family: Tahoma, sans-serif; font-size: 12pt;">
 Air Sealing - mandatory for WX directors, energy auditors, post inspectors,
  crew chiefs and crew personnel</span></li><li style="color: black;"><span 
 style="font-family: Tahoma, sans-serif; font-size: 12pt;">Health &amp; Safe
 ty - mandatory for WX directors, energy auditors, post inspectors, crew chi
 efs and heating technicians</span></li><li><span style="font-family: Tahoma
 , sans-serif; color: black; font-size: 12pt;">Lead Safe Weatherization - ma
 ndatory for all employees who may come in contact with lead based paint whi
 le performing their duties<br /></span></li></ul><p><span style="font-famil
 y: Tahoma, sans-serif; color: black; font-size: 12pt;">Please reference the
  WAP Policies and Procedures manual for further details. The above-listed t
 rainings are mandatory for the positions stated. If a subgrantee hires a ne
 w employee into one of these postions, or a current employee transfers into
  one of these positions, it is mandatory that they receive this training wi
 thin six (6) months of their start date. These mandatory training sessions 
 must be repeated every three (3) years by subgrantee personnel who occupy t
 hese positions.</span></p><p>&nbsp;&nbsp;</p><p><span style="font-size: 12p
 t;"><em><span style="text-decoration: underline;"><span style="font-family:
  Tahoma, sans-serif; color: black; text-decoration: underline;">Agenda;</sp
 an></span></em></span>&nbsp;<br /><span style="font-size: 12pt;"><span><spa
 n style="font-family: Tahoma, sans-serif; color: black;">Day One</span></sp
 an></span></p><p><span style="font-size: 12pt;"><span style="font-family: T
 ahoma, sans-serif; color: black;">Monday - 11:00am - 4:30pm: Residential He
 alth &amp; Safety Fundamentals</span></span></p><p><span style="font-size: 
 12pt; color: #ffffff;"><em><span style="text-decoration: underline;"><span 
 style="font-family: Tahoma, sans-serif;"></span></span></em></span></p><p><
 span style="font-size: 12pt;"><span style="text-decoration: underline;"><sp
 an style="font-family: Tahoma, sans-serif; color: black; text-decoration: u
 nderline;">Day Two</span></span></span></p><p><span style="font-size: 12pt;
 "><span style="font-family: Tahoma, sans-serif; color: black;">Tuesday - 9:
 00am - 4:30pm: Introduction to Building Science and Air Sealing Techniques,
  introduction to infrared cameras, introduction to basic residential framin
 g details with an emphasis on common air sealing areas and building codes r
 equirements for clearance to combustibles.</span></span></p><p><span style=
 "font-size: 12pt; color: #ffffff;"><span style="font-family: Tahoma, sans-s
 erif;"></span></span>&nbsp;</p><p><span style="text-decoration: underline;"
 ><span style="font-size: 12pt;"><span style="color: black; font-family: Tah
 oma, sans-serif; text-decoration: underline;">Day Three</span></span></span
 ></p><p><span style="font-size: 12pt;"><span style="font-family: Tahoma, sa
 ns-serif; color: black;">Wednesday - 9:00am - 4:30pm: Lead Safe Work Practi
 ces</span></span></p><p><span style="font-size: 12pt; color: #ffffff;"><spa
 n style="font-family: Tahoma, sans-serif;"></span></span>&nbsp;</p><p><span
  style="text-decoration: underline;"><span style="font-size: 12pt;"><span s
 tyle="color: black; font-family: Tahoma, sans-serif; text-decoration: under
 line;">Day Four</span></span></span></p><p><span style="font-size: 12pt;"><
 span style="font-family: Tahoma, sans-serif; color: black;">Thursday - 9:00
 am - 4:00pm: All day lab session tool/equipment safety, lead safe jobsite s
 etup, air sealing techniques, dense pack and loose fill cellulose installat
 ion techniques. Afternoon lab session: fundamentals of blower door setup an
 d operation, plus jobsite and lead safe cleanup skills, training skills rev
 iew, question and answer session, awarding of Certificates of Completion.</
 span></span></p><p><span style="font-size: 12pt;"><em><span style="text-dec
 oration: underline;"><span style="font-family: Tahoma, sans-serif; color: b
 lack; text-decoration: underline;"><br /></span></span></em></span><span st
 yle="font-size: 12pt;"><em><span style="text-decoration: underline;"><span 
 style="font-family: Tahoma, sans-serif; color: black; text-decoration: unde
 rline;">Dates;<br /></span></span></em></span><span style="font-family: tah
 oma, arial, helvetica, sans-serif; color: black; font-size: 12pt;">Course c
 overs the dates of October 24-27, 2022<br /><br /></span><span style="font-
 family: tahoma, arial, helvetica, sans-serif; color: black; font-size: 12pt
 ;">Start Times: Monday 11:00am then Tues.-Thurs. 9:00am<br /><br /></span><
 span style="font-family: tahoma, arial, helvetica, sans-serif; color: black
 ; font-size: 12pt;">End Times: Monday - Thursday 4:30pm</span></p><p><span 
 style="font-family: Arial, sans-serif; color: #ffffff; font-size: 12pt;"></
 span>&nbsp;</p><p><span style="font-size: 12pt;"><em><span style="text-deco
 ration: underline;"><span style="font-family: Tahoma, sans-serif; color: bl
 ack; text-decoration: underline;">Other Notes:</span></span></em><span styl
 e="font-family: Tahoma, sans-serif; color: black;"><br /></span></span><spa
 n style="font-size: 12pt;"><span style="font-family: Tahoma, sans-serif; co
 lor: black;">Due to the nature of the training, all attendees will be requi
 red to sign a waiver of liability and a photo/video release form at the sta
 rt of the training.</span></span></p><p><span style="font-family: tahoma, a
 rial, helvetica, sans-serif; font-size: 12pt;"><strong><span style="color: 
 blue;"></span></strong></span></p><p><span style="font-size: 12pt;"><em><sp
 an style="text-decoration: underline;"><span style="font-family: Tahoma, sa
 ns-serif; color: black; text-decoration: underline;">Prerequisites:</span><
 /span></em><em><span style="font-family: Tahoma, sans-serif; color: black;"
 > </span></em><span style="font-family: Tahoma, sans-serif; color: black;">
 None</span></span></p><p><span style="font-size: 12pt;"><em><span style="te
 xt-decoration: underline;"><span style="font-family: Tahoma, sans-serif; co
 lor: black; text-decoration: underline;"><br />Class Size:</span></span></e
 m>&nbsp;<span style="font-family: Tahoma, sans-serif;">10</span></span></p>
 <p><span style="font-size: 12pt;"><em><span style="text-decoration: underli
 ne;"><span style="font-family: Tahoma, sans-serif; color: black; text-decor
 ation: underline;"><br />BPI CEU</span></span></em><span style="text-decora
 tion: underline;"><span style="font-family: Tahoma, sans-serif; color: blac
 k; text-decoration: underline;">:</span></span><span style="font-family: Ta
 homa, sans-serif; color: black;"> 16</span></span></p><p><span style="font-
 size: 12pt;"><em><span style="text-decoration: underline;"><span style="fon
 t-family: Tahoma, sans-serif; color: black; text-decoration: underline;"><b
 r /></span></span></em><em><span style="text-decoration: underline;"><span 
 style="font-family: Tahoma, sans-serif; color: black; text-decoration: unde
 rline;">Instructors:</span></span></em><span style="font-family: Tahoma, sa
 ns-serif; color: black;">, Joe Ilacqua, NYSWDA<br /></span></span></p><p><s
 pan style="font-size: 12pt;"><em><span style="text-decoration: underline;">
 <span style="font-family: Tahoma, sans-serif; color: black; text-decoration
 : underline;"><br />Course</span></span></em><span style="text-decoration: 
 underline;"><span style="font-family: Tahoma, sans-serif; color: black; tex
 t-decoration: underline;"> Fees;</span></span><span style="font-family: Tah
 oma, sans-serif; color: black;"> </span></span></p><p><span style="color: #
 000000;"><span style="font-family: Tahoma, sans-serif; font-size: 12pt;">$9
 50/person - NY Weatherization Sub-grantees</span><span style="font-family: 
 Tahoma, sans-serif; font-size: 12pt;"><em> </em></span></span></p><p><span 
 style="font-family: Tahoma, sans-serif; color: #000000; font-size: 12pt;">$
 950/person - affiliate members </span></p><p><span style="font-family: Taho
 ma, sans-serif; color: #000000; font-size: 12pt;">$1,450/person - non-membe
 rs </span></p><p>&nbsp;</p><p><span style="font-family: Tahoma; font-size: 
 12pt; color: #000000;">Lunches are included for each day.</span></p><p>&nbs
 p;</p><p style="margin-top: 0in; margin-right: 0in; margin-bottom: 0pt;"><s
 trong><i><span style="background: white; color: #02613f; font-family: Georg
 ia, serif;"><span style="font-size: small;">**Special note</span></span></i
 ></strong><strong><i><span style="background: white; color: black; font-fam
 ily: Georgia, serif;"><span style="font-size: small;">&nbsp;-&nbsp;if you w
 ish to become an Affiliate Member, and&nbsp;save off the non-member rate, p
 lease contact&nbsp;Karen McMahon (315-701-0440 ext. 223,&nbsp;</span><span 
 id="cloak8b8056886ed369b488ad15ebf4fb03cb">This email address is being prot
 ected from spambots. You need JavaScript enabled to view it.</span><script 
 type='text/javascript'>
				document.getElementById('cloak8b8056886ed369b48
 8ad15ebf4fb03cb').innerHTML = '';
				var prefix = 'ma' + 'il' + 'to';
				
 var path = 'hr' + 'ef' + '=';
				var addy8b8056886ed369b488ad15ebf4fb03cb 
 = 'kmcmahon' + '@';
				addy8b8056886ed369b488ad15ebf4fb03cb = addy8b805688
 6ed369b488ad15ebf4fb03cb + 'nyswda' + '.' + 'org';
				var addy_text8b80568
 86ed369b488ad15ebf4fb03cb = '<span style="color: #0000ff; font-size: small;
 ">kmcmahon' + '@' + 'nyswda' + '.' + 'org</span>';document.getElementById('
 cloak8b8056886ed369b488ad15ebf4fb03cb').innerHTML += '<a ' + path + '\'' + 
 prefix + ':' + addy8b8056886ed369b488ad15ebf4fb03cb + '\'>'+addy_text8b8056
 886ed369b488ad15ebf4fb03cb+'<\/a>';
		</script><span style="font-size: smal
 l;">)&nbsp;</span></span></i></strong><span style="font-size: small;"><stro
 ng><span style="background: white; color: #02613f; font-family: Georgia, se
 rif;">BEFORE YOU REGISTER&nbsp;</span></strong><em><b><span style="backgrou
 nd: white; color: black; font-family: Georgia, serif;">for the course</span
 ></b></em><strong><span style="background: white; color: black; font-family
 : Georgia, serif;">.</span></strong></span></p><p><span style="color: #ff66
 00; font-family: tahoma, arial, helvetica, sans-serif; font-size: 12pt;"><s
 pan style="color: #ff6600; font-family: tahoma, arial, helvetica, sans-seri
 f; font-size: 12pt;"><span style="font-family: 'Times New Roman'; font-size
 : small;"></span></span></span>&nbsp;</p><p><span style="color: #ffffff;"><
 /span><span style="color: black; font-family: Tahoma, sans-serif; font-size
 : 12pt;">NYSWDA will not be responsible for hotel costs, travel to and from
  the training, breakfast and dinner meals, or incidentals.</span></p><p>&nb
 sp;</p><p><strong><em><span style="font-size: 10pt; font-family: Georgia, s
 erif; color: #10704d; background: white;">Through the support of NYS HCR fu
 nding, we are able to provide </span></em></strong><em><strong><span style=
 "font-size: 10pt; font-family: Georgia, serif; color: #02613f; background: 
 white;">quality training at&nbsp;discounted rates to NYSWDA members.</span>
 </strong></em></p><p>&nbsp;</p><p><span style="color: #0000ff;"><em><strong
 ><span style="font-family: tahoma, arial, helvetica, sans-serif; font-size:
  14pt;"><span style="font-family: tahoma,arial,helvetica,sans-serif; font-s
 ize: 14pt;"><strong><em><strong><span style="color: #ffffff; font-family: t
 ahoma,arial,helvetica,sans-serif; font-size: 14pt;"><span style="color: #ff
 0000;">CLASS FULL - call or email</span>&nbsp; <span id="cloak191464375daa1
 798fc4104e77fa10bc5">This email address is being protected from spambots. Y
 ou need JavaScript enabled to view it.</span><script type='text/javascript'
 >
				document.getElementById('cloak191464375daa1798fc4104e77fa10bc5').inne
 rHTML = '';
				var prefix = 'ma' + 'il' + 'to';
				var path = 'hr' + 'ef'
  + '=';
				var addy191464375daa1798fc4104e77fa10bc5 = 'rvisser' + '@';
			
 	addy191464375daa1798fc4104e77fa10bc5 = addy191464375daa1798fc4104e77fa10bc
 5 + 'nyswda' + '.' + 'org';
				var addy_text191464375daa1798fc4104e77fa10b
 c5 = '<span style="color: #0066cc;">rvisser' + '@' + 'nyswda' + '.' + 'org<
 /span>';document.getElementById('cloak191464375daa1798fc4104e77fa10bc5').in
 nerHTML += '<a ' + path + '\'' + prefix + ':' + addy191464375daa1798fc4104e
 77fa10bc5 + '\'>'+addy_text191464375daa1798fc4104e77fa10bc5+'<\/a>';
		</sc
 ript> <span style="color: #ff0000;">for availability or wait list</span></s
 pan></strong></em><span style="color: #ffffff;"></span></strong><span style
 ="font-family: tahoma, arial, helvetica, sans-serif; font-size: 14pt;"></sp
 an></span><span style="font-family: tahoma, arial, helvetica, sans-serif; f
 ont-size: 14pt;"></span><span style="font-family: tahoma, arial, helvetica,
  sans-serif; font-size: 14pt;"></span><em></em><span style="color: #0000ff;
 "></span></span></strong></em></span></p>
CONTACT:This email address is being protected from spambots. You need JavaScript enabled to view it.
				document.getElementById('cloak1409a6dc40ba00af5db6f4cc8ceddeb9').innerHTML = '';
				var prefix = '&#109;a' + 'i&#108;' + '&#116;o';
				var path = 'hr' + 'ef' + '=';
				var addy1409a6dc40ba00af5db6f4cc8ceddeb9 = 'rv&#105;ss&#101;r' + '&#64;';
				addy1409a6dc40ba00af5db6f4cc8ceddeb9 = addy1409a6dc40ba00af5db6f4cc8ceddeb9 + 'nyswd&#97;' + '&#46;' + '&#111;rg';
				var addy_text1409a6dc40ba00af5db6f4cc8ceddeb9 = 'rv&#105;ss&#101;r' + '&#64;' + 'nyswd&#97;' + '&#46;' + '&#111;rg';document.getElementById('cloak1409a6dc40ba00af5db6f4cc8ceddeb9').innerHTML += '<a ' + path + '\'' + prefix + ':' + addy1409a6dc40ba00af5db6f4cc8ceddeb9 + '\'>'+addy_text1409a6dc40ba00af5db6f4cc8ceddeb9+'';
		
DTSTAMP:20260424T220841
DTSTART;TZID=America/New_York:20221024T090000
DTEND;TZID=America/New_York:20221027T170000
SEQUENCE:0
TRANSP:OPAQUE
END:VEVENT
END:VCALENDAR