BEGIN:VCALENDAR
VERSION:2.0
PRODID:-//jEvents 2.0 for Joomla//EN
CALSCALE:GREGORIAN
METHOD:PUBLISH
BEGIN:VTIMEZONE
TZID:America/New_York
BEGIN:STANDARD
DTSTART:20211107T010000
RDATE:20220313T030000
TZOFFSETFROM:-0400
TZOFFSETTO:-0500
TZNAME:America/New_York EST
END:STANDARD
BEGIN:STANDARD
DTSTART:20221106T010000
RDATE:20230312T030000
TZOFFSETFROM:-0400
TZOFFSETTO:-0500
TZNAME:America/New_York EST
END:STANDARD
BEGIN:STANDARD
DTSTART:20231105T010000
RDATE:20240310T030000
TZOFFSETFROM:-0400
TZOFFSETTO:-0500
TZNAME:America/New_York EST
END:STANDARD
BEGIN:STANDARD
DTSTART:20241103T010000
RDATE:20250309T030000
TZOFFSETFROM:-0400
TZOFFSETTO:-0500
TZNAME:America/New_York EST
END:STANDARD
BEGIN:STANDARD
DTSTART:20251102T010000
RDATE:20260308T030000
TZOFFSETFROM:-0400
TZOFFSETTO:-0500
TZNAME:America/New_York EST
END:STANDARD
BEGIN:STANDARD
DTSTART:20261101T010000
RDATE:20270314T030000
TZOFFSETFROM:-0400
TZOFFSETTO:-0500
TZNAME:America/New_York EST
END:STANDARD
BEGIN:STANDARD
DTSTART:20271107T010000
RDATE:20280312T030000
TZOFFSETFROM:-0400
TZOFFSETTO:-0500
TZNAME:America/New_York EST
END:STANDARD
BEGIN:STANDARD
DTSTART:20281105T010000
RDATE:20290311T030000
TZOFFSETFROM:-0400
TZOFFSETTO:-0500
TZNAME:America/New_York EST
END:STANDARD
BEGIN:STANDARD
DTSTART:20291104T010000
RDATE:20300310T030000
TZOFFSETFROM:-0400
TZOFFSETTO:-0500
TZNAME:America/New_York EST
END:STANDARD
BEGIN:STANDARD
DTSTART:20301103T010000
RDATE:20310309T030000
TZOFFSETFROM:-0400
TZOFFSETTO:-0500
TZNAME:America/New_York EST
END:STANDARD
BEGIN:DAYLIGHT
DTSTART:20211005T090000
RDATE:20211107T010000
TZOFFSETFROM:-0500
TZOFFSETTO:-0400
TZNAME:America/New_York EDT
END:DAYLIGHT
BEGIN:DAYLIGHT
DTSTART:20220313T030000
RDATE:20221106T010000
TZOFFSETFROM:-0500
TZOFFSETTO:-0400
TZNAME:America/New_York EDT
END:DAYLIGHT
BEGIN:DAYLIGHT
DTSTART:20230312T030000
RDATE:20231105T010000
TZOFFSETFROM:-0500
TZOFFSETTO:-0400
TZNAME:America/New_York EDT
END:DAYLIGHT
BEGIN:DAYLIGHT
DTSTART:20240310T030000
RDATE:20241103T010000
TZOFFSETFROM:-0500
TZOFFSETTO:-0400
TZNAME:America/New_York EDT
END:DAYLIGHT
BEGIN:DAYLIGHT
DTSTART:20250309T030000
RDATE:20251102T010000
TZOFFSETFROM:-0500
TZOFFSETTO:-0400
TZNAME:America/New_York EDT
END:DAYLIGHT
BEGIN:DAYLIGHT
DTSTART:20260308T030000
RDATE:20261101T010000
TZOFFSETFROM:-0500
TZOFFSETTO:-0400
TZNAME:America/New_York EDT
END:DAYLIGHT
BEGIN:DAYLIGHT
DTSTART:20270314T030000
RDATE:20271107T010000
TZOFFSETFROM:-0500
TZOFFSETTO:-0400
TZNAME:America/New_York EDT
END:DAYLIGHT
BEGIN:DAYLIGHT
DTSTART:20280312T030000
RDATE:20281105T010000
TZOFFSETFROM:-0500
TZOFFSETTO:-0400
TZNAME:America/New_York EDT
END:DAYLIGHT
BEGIN:DAYLIGHT
DTSTART:20290311T030000
RDATE:20291104T010000
TZOFFSETFROM:-0500
TZOFFSETTO:-0400
TZNAME:America/New_York EDT
END:DAYLIGHT
BEGIN:DAYLIGHT
DTSTART:20300310T030000
RDATE:20301103T010000
TZOFFSETFROM:-0500
TZOFFSETTO:-0400
TZNAME:America/New_York EDT
END:DAYLIGHT
END:VTIMEZONE
BEGIN:VEVENT
UID:8101921f68d8da9f0c12032a6a8a34be
CATEGORIES:At Syracuse
CREATED:20220913T173638
SUMMARY:Clean and Tune for Heating Systems
LOCATION:NYSWDA Training Center - East Syracuse
DESCRIPTION:Clean &amp; Tune for Heating Systems\n
 \n
Training Location: NYSWDA Traini
 ng Center (Building 1) – 5869 Fisher Road, East Syracuse, NY 13057\n\n\nThi
 s training is for;\nWeatherization Directors, Auditors, Heating Techs, Heat
 ing Subcontractors\n
 \n
Course Description;\nAgencies working on 1-4 famil
 y dwellings will now have a method of ensuring technicians performing WAP h
 eating services, have HCR and DOE specification on what constitutes a prope
 r heating system clean and tune. Agencies may find the information useful i
 n writing bid proposals, and for inspection of completed work. Heating subc
 ontractors are urged to attend. This course is useful as a first step in pe
 rforming heating system clean and tunes in-house.\n\n
 \n
Agenda;\nMorning 
 session - classroom presentation\nAfternoon session - consists of hands-on 
 lab training on oil boiler and natural gas forced hot air furnace\n
 \n
Dat
 es;\nOctober 6, 2022/ 9:00am - 4:30pm\n
 \n
\n
Prerequisites: \nHeating &am
 p; Venting Fundamentals\n
 \n
\n
Class Size: 10\n
 \n
BPI CEU's; 3\n
 \n
In
 structors; Dave Hill - HVAC instructor - NYSWDA\n
 \n
Course Fees:\n$262/pe
 rson - NY Weatherization Sub-grantees\n
$262/person - affiliate members\n
$
 380/person - non-members\n
ÂÂ \n
Course fees do not include lunch\n
 \n
**S
 pecial note - if you wish to become an Affiliate Member, and save off the n
 on-member rate, please contact Karen McMahon (315-701-0440, This email addr
 ess is being protected from spambots. You need JavaScript enabled to view i
 t.
				document.getElementById('cloakcb9d152e44fbbb5e1fcf968464e8d1e2').inn
 erHTML = '';
				var prefix = 'ma' + 'il' + 'to';
				var path = 'hr' + 'ef
 ' + '=';
				var addycb9d152e44fbbb5e1fcf968464e8d1e2 = 'kmcmahon' + '@';
	
 			addycb9d152e44fbbb5e1fcf968464e8d1e2 = addycb9d152e44fbbb5e1fcf968464e8d
 1e2 + 'nyswda' + '.' + 'org';
				var addy_textcb9d152e44fbbb5e1fcf968464e8
 d1e2 = 'kmcmahon' + '@' + 'nyswda' + '.' + 'org';document.getElementById('c
 loakcb9d152e44fbbb5e1fcf968464e8d1e2').innerHTML += '<a ' + path + '\'' + p
 refix + ':' + addycb9d152e44fbbb5e1fcf968464e8d1e2 + '\'>'+addy_textcb9d152
 e44fbbb5e1fcf968464e8d1e2+'';
		) BEFORE YOU REGISTER for the course.\n
 \n
 
CLASS FULL - call or email  This email address is being protected from spa
 mbots. You need JavaScript enabled to view it.
				document.getElementById(
 'cloak271de28e9fec902bc1f27633224f3835').innerHTML = '';
				var prefix = '
 ma' + 'il' + 'to';
				var path = 'hr' + 'ef' + '=';
				var addy271de28e9f
 ec902bc1f27633224f3835 = 'rvisser' + '@';
				addy271de28e9fec902bc1f276332
 24f3835 = addy271de28e9fec902bc1f27633224f3835 + 'nyswda' + '.' + 'org';
		
 		var addy_text271de28e9fec902bc1f27633224f3835 = 'rvisser' + '@' + 'nyswda
 ' + '.' + 'org';document.getElementById('cloak271de28e9fec902bc1f27633224f3
 835').innerHTML += '<a ' + path + '\'' + prefix + ':' + addy271de28e9fec902
 bc1f27633224f3835 + '\'>'+addy_text271de28e9fec902bc1f27633224f3835+'';
		 
 for availability or wait list\n
 \n
X-ALT-DESC;FMTTYPE=text/html:<p><strong><span style="color: #336699; font-size: 13.5pt;"><span style="fo
 nt-family: tahoma, arial, helvetica, sans-serif;">Clean &amp; Tune for Heat
 ing Systems</span></span></strong></p><p>&nbsp;</p><p><strong><span style="
 color: #336699; font-size: 13.5pt;"><span style="font-family: tahoma, arial
 , helvetica, sans-serif;">Training Location: NYSWDA Training Center (Buildi
 ng 1) – 5869 Fisher Road, East Syracuse, NY 13057</span><br /><br /><br /><
 /span></strong><span style="color: #000000;"><span style="font-family: taho
 ma, arial, helvetica, sans-serif; font-size: 12pt;"><em><span style="text-d
 ecoration: underline;"><span style="font-family: Tahoma;">This training is 
 for;</span></span></em><span style="font-family: Tahoma;"><span style="font
 -family: Tahoma;"><br /></span></span></span><span style="font-family: taho
 ma, arial, helvetica, sans-serif; font-size: 12pt;">Weatherization Director
 s, Auditors, Heating Techs, Heating Subcontractors</span></span></p><p>&nbs
 p;</p><p><span style="color: #000000;"><span style="font-family: tahoma, ar
 ial, helvetica, sans-serif; font-size: 12pt;"><span style="font-family: Tah
 oma;"><span style="font-family: Tahoma;"><span style="font-family: Tahoma;"
 ><span style="font-family: Tahoma;"><span style="text-decoration: underline
 ;"><em><span style="font-family: Tahoma;">Course Description;<br /></span><
 /em></span></span></span></span></span></span><span style="font-family: tah
 oma, arial, helvetica, sans-serif; font-size: 12pt;">Agencies working on 1-
 4 family dwellings will now have a method of ensuring technicians performin
 g WAP heating services, have HCR and DOE specification on what constitutes 
 a proper heating system clean and tune. Agencies may find the information u
 seful in writing bid proposals, and for inspection of completed work. Heati
 ng subcontractors are urged to attend. This course is useful as a first ste
 p in performing heating system clean and tunes in-house.<br /></span><span 
 style="font-family: tahoma, arial, helvetica, sans-serif; font-size: 12pt;"
 ><span style="font-family: Tahoma;"><span style="font-family: Tahoma;"><spa
 n style="font-family: Tahoma;"><span style="font-family: Tahoma;"><span sty
 le="font-family: Tahoma;"><span style="font-family: Tahoma;"><span style="f
 ont-family: Tahoma;"><span style="text-decoration: underline;"><em></em></s
 pan></span></span></span></span></span></span></span></span></span></p><p>&
 nbsp;</p><p><span style="color: #000000;"><span style="font-family: tahoma,
  arial, helvetica, sans-serif; font-size: 12pt;"><span style="font-family: 
 Tahoma;"><span style="font-family: Tahoma;"><span style="font-family: Tahom
 a;"><span style="font-family: Tahoma;"><span style="font-family: Tahoma;"><
 span style="font-family: Tahoma;"><span style="font-family: Tahoma;"><span 
 style="text-decoration: underline;"><em>Agenda;<br /></em></span></span></s
 pan></span></span></span></span></span></span><span style="font-family: tah
 oma, arial, helvetica, sans-serif; font-size: 12pt;">Morning session - clas
 sroom presentation<br />Afternoon session - consists of hands-on lab traini
 ng on oil boiler and natural gas forced hot air furnace</span></span></p><p
 >&nbsp;</p><p><span style="font-family: tahoma, arial, helvetica, sans-seri
 f; font-size: 12pt; color: #000000;"><span style="font-family: Tahoma;"><sp
 an style="font-family: Tahoma;"><span style="font-family: Tahoma;"><span st
 yle="font-family: Tahoma;"><span style="font-family: Tahoma;"><span style="
 font-family: Tahoma;"><span style="font-family: Tahoma;"><span style="text-
 decoration: underline;"><em>Dates;<br /></em></span><span style="font-famil
 y: Tahoma;">October 6, 2022/ 9:00am - 4:30pm</span></span></span></span></s
 pan></span></span></span></span></p><p>&nbsp;</p><p><span style="color: #00
 0000;"></span></p><p><span style="font-family: tahoma, arial, helvetica, sa
 ns-serif; font-size: 12pt; color: #000000;"><span style="font-family: Tahom
 a;"><span style="font-family: Tahoma;"><span style="font-family: Tahoma;"><
 span style="font-family: Tahoma;"><span style="font-family: Tahoma;"><span 
 style="font-family: Tahoma;"><span style="font-family: Tahoma;"><span style
 ="font-family: Tahoma;"><span style="text-decoration: underline;"><em><span
  style="font-family: Tahoma;">Prerequisites:</span></em></span><em><span st
 yle="font-family: Tahoma;"> <br /></span></em><span style="font-family: Tah
 oma;"><span style="font-family: Tahoma;">Heating &amp; Venting Fundamentals
 </span></span></span></span></span></span></span></span></span></span></spa
 n></p><p>&nbsp;</p><p><span style="color: #000000;"></span></p><p><span sty
 le="font-family: tahoma, arial, helvetica, sans-serif; font-size: 12pt; col
 or: #000000;"><span style="font-family: Tahoma;"><span style="font-family: 
 Tahoma;"><span style="font-family: Tahoma;"><span style="font-family: Tahom
 a;"><span style="font-family: Tahoma;"><span style="font-family: Tahoma;"><
 span style="font-family: Tahoma;"><span style="font-family: Tahoma;"><span 
 style="font-family: Tahoma;"><span style="font-family: Tahoma;"><em><span s
 tyle="text-decoration: underline;">Class Size</span></em>: 10</span></span>
 </span></span></span></span></span></span></span></span></span></p><p>&nbsp
 ;</p><p><span style="font-family: tahoma, arial, helvetica, sans-serif; fon
 t-size: 12pt; color: #000000;"><span style="font-family: Tahoma;"><span sty
 le="font-family: Tahoma;"><span style="font-family: Tahoma;"><span style="f
 ont-family: Tahoma;"><span style="font-family: Tahoma;"><span style="font-f
 amily: Tahoma;"><span style="font-family: Tahoma;"><span style="font-family
 : Tahoma;"><span style="font-family: Tahoma;"><span style="font-family: Tah
 oma;"><span style="text-decoration: underline;"><em>BPI</em> <em>CEU's;</em
 ></span> 3</span></span></span></span></span></span></span></span></span></
 span></span></p><p>&nbsp;</p><p><span style="font-family: tahoma, arial, he
 lvetica, sans-serif; font-size: 12pt; color: #000000;"><span style="font-fa
 mily: Tahoma;"><span style="font-family: Tahoma;"><span style="font-family:
  Tahoma;"><span style="font-family: Tahoma;"><span style="font-family: Taho
 ma;"><span style="font-family: Tahoma;"><span style="font-family: Tahoma;">
 <span style="font-family: Tahoma;"><span style="font-family: Tahoma;"><span
  style="font-family: Tahoma;"><em><span style="text-decoration: underline;"
 ><span style="font-family: Tahoma;">Instructors;</span></span></em><span st
 yle="font-family: Tahoma;">&nbsp;Dave Hill</span><span style="font-family: 
 Tahoma;">&nbsp;- HVAC instructor - NYSWDA</span></span></span></span></span
 ></span></span></span></span></span></span></span></p><p>&nbsp;</p><p><span
  style="font-family: tahoma, arial, helvetica, sans-serif; font-size: 12pt;
  color: #000000;"><span style="font-family: Tahoma;"><span style="font-fami
 ly: Tahoma;"><span style="font-family: Tahoma;"><span style="font-family: T
 ahoma;"><span style="font-family: Tahoma;"><span style="font-family: Tahoma
 ;"><span style="font-family: Tahoma;"><span style="font-family: Tahoma;"><s
 pan style="font-family: Tahoma;"><span style="font-family: Tahoma;"><span s
 tyle="font-family: Tahoma;"><em><span style="text-decoration: underline;">C
 ours</span></em><span style="text-decoration: underline;"><em>e Fees:<span>
 </span></em></span><em><br /></em><span style="font-family: Tahoma;">$262/p
 erson - NY Weatherization Sub-grantees</span></span></span></span></span></
 span></span></span></span></span></span></span></span></p><p><span style="f
 ont-family: tahoma, arial, helvetica, sans-serif; font-size: 12pt; color: #
 000000;"><span style="font-family: Tahoma;"><span style="font-family: Tahom
 a;"><span style="font-family: Tahoma;"><span style="font-family: Tahoma;"><
 span style="font-family: Tahoma;"><span style="font-family: Tahoma;"><span 
 style="font-family: Tahoma;"><span style="font-family: Tahoma;"><span style
 ="font-family: Tahoma;"><span style="font-family: Tahoma;"><span style="fon
 t-family: Tahoma;"><span style="font-family: Tahoma;">$262/person - affilia
 te members</span></span></span></span></span></span></span></span></span></
 span></span></span></span></p><p><span style="font-family: tahoma, arial, h
 elvetica, sans-serif; font-size: 12pt; color: #000000;"><span style="font-f
 amily: Tahoma;"><span style="font-family: Tahoma;"><span style="font-family
 : Tahoma;"><span style="font-family: Tahoma;"><span style="font-family: Tah
 oma;"><span style="font-family: Tahoma;"><span style="font-family: Tahoma;"
 ><span style="font-family: Tahoma;"><span style="font-family: Tahoma;"><spa
 n style="font-family: Tahoma;"><span style="font-family: Tahoma;"><span sty
 le="font-family: Tahoma;">$380/person - non-members</span></span></span></s
 pan></span></span></span></span></span></span></span></span></span></p><p><
 span style="font-family: tahoma, arial, helvetica, sans-serif; font-size: 1
 2pt; color: #ffffff;"><span><span style="font-family: Tahoma;"><span style=
 "font-family: Tahoma;"><span style="font-family: Tahoma;"><span style="font
 -family: Tahoma;"><span style="font-family: Tahoma;"><span style="font-fami
 ly: Tahoma;"><span style="font-family: Tahoma;"><span style="font-family: T
 ahoma;"><span style="font-family: Tahoma;"><span style="font-family: Tahoma
 ;"><span style="font-family: Tahoma;"><em><span style="font-family: Tahoma;
 ">ÂÂ&nbsp;</span></em></span></span></span></span></span></span></span></sp
 an></span></span></span></span></span></p><p><span style="font-size: 12pt; 
 color: #000000;"><strong><em><span style="font-family: Tahoma;">Course fees
  do not include lunch</span></em></strong></span></p><p>&nbsp;</p><p style=
 "margin-top: 0in; margin-right: 0in; margin-bottom: 0pt;"><strong><i><span 
 style="background: white; color: #02613f; font-family: Georgia, 'serif';"><
 span style="font-size: small;">**Special note</span></span></i></strong><st
 rong><i><span style="background: white; color: black; font-family: Georgia,
  'serif';"><span style="font-size: small;">&nbsp;-&nbsp;if you wish to beco
 me an Affiliate Member, and&nbsp;save&nbsp;off the non-member rate, please 
 contact Karen McMahon (315-701-0440,&nbsp;</span><span id="cloakcb9d152e44f
 bbb5e1fcf968464e8d1e2">This email address is being protected from spambots.
  You need JavaScript enabled to view it.</span><script type='text/javascrip
 t'>
				document.getElementById('cloakcb9d152e44fbbb5e1fcf968464e8d1e2').in
 nerHTML = '';
				var prefix = 'ma' + 'il' + 'to';
				var path = 'hr' + 'e
 f' + '=';
				var addycb9d152e44fbbb5e1fcf968464e8d1e2 = 'kmcmahon' + '@';

 				addycb9d152e44fbbb5e1fcf968464e8d1e2 = addycb9d152e44fbbb5e1fcf968464e8
 d1e2 + 'nyswda' + '.' + 'org';
				var addy_textcb9d152e44fbbb5e1fcf968464e
 8d1e2 = '<span style="color: #0000ff; font-size: small;">kmcmahon' + '@' + 
 'nyswda' + '.' + 'org</span>';document.getElementById('cloakcb9d152e44fbbb5
 e1fcf968464e8d1e2').innerHTML += '<a ' + path + '\'' + prefix + ':' + addyc
 b9d152e44fbbb5e1fcf968464e8d1e2 + '\'>'+addy_textcb9d152e44fbbb5e1fcf968464
 e8d1e2+'<\/a>';
		</script><span style="font-size: small;">)&nbsp;</span></
 span></i></strong><span style="font-size: small;"><strong><span style="back
 ground: white; color: #02613f; font-family: Georgia, 'serif';">BEFORE YOU R
 EGISTER&nbsp;</span></strong><em><b><span style="background: white; color: 
 black; font-family: Georgia, 'serif';">for the course</span></b></em><stron
 g><span style="background: white; color: black; font-family: Georgia, 'seri
 f';">.</span></strong></span></p><p>&nbsp;</p><p><span style="font-family: 
 tahoma, arial, helvetica, sans-serif; font-size: 14pt;"><span style="font-f
 amily: tahoma,arial,helvetica,sans-serif; font-size: 14pt;"><strong><em><st
 rong><span style="color: #ffffff; font-family: tahoma,arial,helvetica,sans-
 serif; font-size: 14pt;"><span style="color: #ff0000;">CLASS FULL - call or
  email</span>&nbsp; <span id="cloak271de28e9fec902bc1f27633224f3835">This e
 mail address is being protected from spambots. You need JavaScript enabled 
 to view it.</span><script type='text/javascript'>
				document.getElementBy
 Id('cloak271de28e9fec902bc1f27633224f3835').innerHTML = '';
				var prefix 
 = 'ma' + 'il' + 'to';
				var path = 'hr' + 'ef' + '=';
				var addy271de28
 e9fec902bc1f27633224f3835 = 'rvisser' + '@';
				addy271de28e9fec902bc1f276
 33224f3835 = addy271de28e9fec902bc1f27633224f3835 + 'nyswda' + '.' + 'org';
 
				var addy_text271de28e9fec902bc1f27633224f3835 = '<span style="color: #
 0066cc;">rvisser' + '@' + 'nyswda' + '.' + 'org</span>';document.getElement
 ById('cloak271de28e9fec902bc1f27633224f3835').innerHTML += '<a ' + path + '
 \'' + prefix + ':' + addy271de28e9fec902bc1f27633224f3835 + '\'>'+addy_text
 271de28e9fec902bc1f27633224f3835+'<\/a>';
		</script> <span style="color: #
 ff0000;">for availability or wait list</span></span></strong></em><span sty
 le="color: #ffffff;"></span></strong><span style="font-family: tahoma, aria
 l, helvetica, sans-serif; font-size: 14pt;"></span></span><span style="font
 -family: tahoma, arial, helvetica, sans-serif; font-size: 14pt;"></span><sp
 an style="font-family: tahoma, arial, helvetica, sans-serif; font-size: 14p
 t;"></span><em></em><span style="color: #0000ff;"></span></span><em></em><s
 pan style="color: #0000ff;"></span></p><p>&nbsp;</p>
CONTACT:This email address is being protected from spambots. You need JavaScript enabled to view it.
				document.getElementById('cloakac87e7d3798b1b156cc9801d3ded3733').innerHTML = '';
				var prefix = '&#109;a' + 'i&#108;' + '&#116;o';
				var path = 'hr' + 'ef' + '=';
				var addyac87e7d3798b1b156cc9801d3ded3733 = 'rv&#105;ss&#101;r' + '&#64;';
				addyac87e7d3798b1b156cc9801d3ded3733 = addyac87e7d3798b1b156cc9801d3ded3733 + 'nyswd&#97;' + '&#46;' + '&#111;rg';
				var addy_textac87e7d3798b1b156cc9801d3ded3733 = 'rv&#105;ss&#101;r' + '&#64;' + 'nyswd&#97;' + '&#46;' + '&#111;rg';document.getElementById('cloakac87e7d3798b1b156cc9801d3ded3733').innerHTML += '<a ' + path + '\'' + prefix + ':' + addyac87e7d3798b1b156cc9801d3ded3733 + '\'>'+addy_textac87e7d3798b1b156cc9801d3ded3733+'';
		
DTSTAMP:20260424T233042
DTSTART;TZID=America/New_York:20221006T090000
DTEND;TZID=America/New_York:20221006T160000
SEQUENCE:0
TRANSP:OPAQUE
END:VEVENT
END:VCALENDAR