BEGIN:VCALENDAR
VERSION:2.0
PRODID:-//jEvents 2.0 for Joomla//EN
CALSCALE:GREGORIAN
METHOD:PUBLISH
BEGIN:VTIMEZONE
TZID:America/New_York
BEGIN:STANDARD
DTSTART:20211107T010000
RDATE:20220313T030000
TZOFFSETFROM:-0400
TZOFFSETTO:-0500
TZNAME:America/New_York EST
END:STANDARD
BEGIN:STANDARD
DTSTART:20221106T010000
RDATE:20230312T030000
TZOFFSETFROM:-0400
TZOFFSETTO:-0500
TZNAME:America/New_York EST
END:STANDARD
BEGIN:STANDARD
DTSTART:20231105T010000
RDATE:20240310T030000
TZOFFSETFROM:-0400
TZOFFSETTO:-0500
TZNAME:America/New_York EST
END:STANDARD
BEGIN:STANDARD
DTSTART:20241103T010000
RDATE:20250309T030000
TZOFFSETFROM:-0400
TZOFFSETTO:-0500
TZNAME:America/New_York EST
END:STANDARD
BEGIN:STANDARD
DTSTART:20251102T010000
RDATE:20260308T030000
TZOFFSETFROM:-0400
TZOFFSETTO:-0500
TZNAME:America/New_York EST
END:STANDARD
BEGIN:STANDARD
DTSTART:20261101T010000
RDATE:20270314T030000
TZOFFSETFROM:-0400
TZOFFSETTO:-0500
TZNAME:America/New_York EST
END:STANDARD
BEGIN:STANDARD
DTSTART:20271107T010000
RDATE:20280312T030000
TZOFFSETFROM:-0400
TZOFFSETTO:-0500
TZNAME:America/New_York EST
END:STANDARD
BEGIN:STANDARD
DTSTART:20281105T010000
RDATE:20290311T030000
TZOFFSETFROM:-0400
TZOFFSETTO:-0500
TZNAME:America/New_York EST
END:STANDARD
BEGIN:STANDARD
DTSTART:20291104T010000
RDATE:20300310T030000
TZOFFSETFROM:-0400
TZOFFSETTO:-0500
TZNAME:America/New_York EST
END:STANDARD
BEGIN:STANDARD
DTSTART:20301103T010000
RDATE:20310309T030000
TZOFFSETFROM:-0400
TZOFFSETTO:-0500
TZNAME:America/New_York EST
END:STANDARD
BEGIN:DAYLIGHT
DTSTART:20211004T090000
RDATE:20211107T010000
TZOFFSETFROM:-0500
TZOFFSETTO:-0400
TZNAME:America/New_York EDT
END:DAYLIGHT
BEGIN:DAYLIGHT
DTSTART:20220313T030000
RDATE:20221106T010000
TZOFFSETFROM:-0500
TZOFFSETTO:-0400
TZNAME:America/New_York EDT
END:DAYLIGHT
BEGIN:DAYLIGHT
DTSTART:20230312T030000
RDATE:20231105T010000
TZOFFSETFROM:-0500
TZOFFSETTO:-0400
TZNAME:America/New_York EDT
END:DAYLIGHT
BEGIN:DAYLIGHT
DTSTART:20240310T030000
RDATE:20241103T010000
TZOFFSETFROM:-0500
TZOFFSETTO:-0400
TZNAME:America/New_York EDT
END:DAYLIGHT
BEGIN:DAYLIGHT
DTSTART:20250309T030000
RDATE:20251102T010000
TZOFFSETFROM:-0500
TZOFFSETTO:-0400
TZNAME:America/New_York EDT
END:DAYLIGHT
BEGIN:DAYLIGHT
DTSTART:20260308T030000
RDATE:20261101T010000
TZOFFSETFROM:-0500
TZOFFSETTO:-0400
TZNAME:America/New_York EDT
END:DAYLIGHT
BEGIN:DAYLIGHT
DTSTART:20270314T030000
RDATE:20271107T010000
TZOFFSETFROM:-0500
TZOFFSETTO:-0400
TZNAME:America/New_York EDT
END:DAYLIGHT
BEGIN:DAYLIGHT
DTSTART:20280312T030000
RDATE:20281105T010000
TZOFFSETFROM:-0500
TZOFFSETTO:-0400
TZNAME:America/New_York EDT
END:DAYLIGHT
BEGIN:DAYLIGHT
DTSTART:20290311T030000
RDATE:20291104T010000
TZOFFSETFROM:-0500
TZOFFSETTO:-0400
TZNAME:America/New_York EDT
END:DAYLIGHT
BEGIN:DAYLIGHT
DTSTART:20300310T030000
RDATE:20301103T010000
TZOFFSETFROM:-0500
TZOFFSETTO:-0400
TZNAME:America/New_York EDT
END:DAYLIGHT
END:VTIMEZONE
BEGIN:VEVENT
UID:1bc6ba7315249f9d7942c3a8b5c55ac2
CATEGORIES:At Syracuse
CREATED:20220914T155601
SUMMARY:Heating & Venting Fundamentals
LOCATION:NYSWDA Training Center - East Syracuse
DESCRIPTION:Heating &amp; Venting Fundamentals \n
 \n
Training Location: NYSWDA Trainin
 g Center (Building 1) – 5869 Fisher Road, East Syracuse, NY 13057\n\nThis t
 raining is for;\nEntry level HVAC techs and auditors\n
 \n
Course Descripti
 on;\nThis is an introductory course that will teach fundamentals of heating
  systems and venting combustion appliances. The focus is to provide all per
 sonnel working in client homes, the knowledge to identify different classif
 ications of furnaces and boilers. Instruction on health and safety issues f
 or those working on venting systems and an explanation of which materials c
 an be used and which cannot. NFPA venting guidelines will be introduced so 
 that venting safety is built into the thought process. This training will a
 ssist technicians in identifying problems, repairing and analysis of ventin
 g systems in the field.\n\n
 \n
Agenda;\nMorning session - classroom presen
 tation\nAfternoon session - consists of hands-on lab training\n
 \n
Dates;\
 nOctober 5, 2022 / 9:00am - 4:30pm\n
 \n
Prerequisites: \nNone\n
 \n
Class 
 Size: 10\n
 \n
BPI CEU's; 3\n
 \n
Instructor; Dave Hill - HVAC instructor -
  NYSWDA\n
 \n
Course Fees: \n$262/person - NY Weatherization Sub-grantees\n
 
 $262/person - affiliate members\n
 $380/person - non-members\n
 \n
Course
  fees do not include lunch.\n
ÂÂÂ \n
**Special note - if you wish to become
  an Affiliate Member, and save off the non-member rate, please contact Kare
 n McMahon (315-701-0440 ext. 223, This email address is being protected fro
 m spambots. You need JavaScript enabled to view it.
				document.getElement
 ById('cloak6d7c3950fef8519ede269c3f32a3504c').innerHTML = '';
				var prefi
 x = 'ma' + 'il' + 'to';
				var path = 'hr' + 'ef' + '=';
				var addy6d7c3
 950fef8519ede269c3f32a3504c = 'kmcmahon' + '@';
				addy6d7c3950fef8519ede2
 69c3f32a3504c = addy6d7c3950fef8519ede269c3f32a3504c + 'nyswda' + '.' + 'or
 g';
				var addy_text6d7c3950fef8519ede269c3f32a3504c = 'kmcmahon' + '@' + 
 'nyswda' + '.' + 'org';document.getElementById('cloak6d7c3950fef8519ede269c
 3f32a3504c').innerHTML += '<a ' + path + '\'' + prefix + ':' + addy6d7c3950
 fef8519ede269c3f32a3504c + '\'>'+addy_text6d7c3950fef8519ede269c3f32a3504c+
 '';
		) BEFORE YOU REGISTER for the course.\n
 \n
CLASS FULL - call or emai
 l  This email address is being protected from spambots. You need JavaScript
  enabled to view it.
				document.getElementById('cloakc74c33588ad6c135aa48
 1d088d7b162f').innerHTML = '';
				var prefix = 'ma' + 'il' + 'to';
				var
  path = 'hr' + 'ef' + '=';
				var addyc74c33588ad6c135aa481d088d7b162f = '
 rvisser' + '@';
				addyc74c33588ad6c135aa481d088d7b162f = addyc74c33588ad6
 c135aa481d088d7b162f + 'nyswda' + '.' + 'org';
				var addy_textc74c33588ad
 6c135aa481d088d7b162f = 'rvisser' + '@' + 'nyswda' + '.' + 'org';document.g
 etElementById('cloakc74c33588ad6c135aa481d088d7b162f').innerHTML += '<a ' +
  path + '\'' + prefix + ':' + addyc74c33588ad6c135aa481d088d7b162f + '\'>'+
 addy_textc74c33588ad6c135aa481d088d7b162f+'';
		 for availability or wait l
 ist\n
X-ALT-DESC;FMTTYPE=text/html:<p><span style="font-family: tahoma, arial, helvetica, sans-serif;"><em><sp
 an style="font-size: 13.5pt; color: #336699;"></span></em></span><strong><s
 pan style="color: #336699; font-family: tahoma, arial, helvetica, sans-seri
 f; font-size: 14pt;">Heating &amp; Venting Fundamentals </span></strong></p
 ><p>&nbsp;</p><p><strong><span style="color: #336699; font-family: tahoma, 
 arial, helvetica, sans-serif; font-size: 14pt;">Training</span><span style=
 "color: #336699; font-size: 13.5pt;"><span style="font-family: tahoma, aria
 l, helvetica, sans-serif; font-size: 14pt;"> Location: NYSWDA Training Cent
 er (Building 1) – 5869 Fisher Road, East Syracuse, NY 13057</span><br /><br
  /></span></strong><span style="font-family: tahoma, arial, helvetica, sans
 -serif; font-size: 12pt; color: #000000;"><em><span style="text-decoration:
  underline;"><span style="font-family: Tahoma;">This training is for;</span
 ></span></em><span style="font-family: Tahoma;"><span style="font-family: T
 ahoma;"><br /></span></span></span><span style="font-family: tahoma, arial,
  helvetica, sans-serif; font-size: 12pt; color: #000000;">Entry level HVAC 
 techs and auditors</span><span style="font-family: tahoma, arial, helvetica
 , sans-serif; font-size: 12pt; color: #000000;"><span style="font-family: T
 ahoma;"><span style="font-family: Tahoma;"><span style="font-family: Tahoma
 ;"><span style="font-family: Tahoma;"><span style="text-decoration: underli
 ne;"><em><span style="font-family: Tahoma;"></span></em></span></span></spa
 n></span></span></span></p><p>&nbsp;</p><p><span style="font-family: tahoma
 , arial, helvetica, sans-serif; font-size: 12pt; color: #000000;"><span sty
 le="font-family: Tahoma;"><span style="font-family: Tahoma;"><span style="f
 ont-family: Tahoma;"><span style="font-family: Tahoma;"><span style="text-d
 ecoration: underline;"><em><span style="font-family: Tahoma;">Course Descri
 ption;<br /></span></em></span></span></span></span></span></span><span sty
 le="font-family: tahoma, arial, helvetica, sans-serif; font-size: 12pt; col
 or: #000000;">This is an introductory course that will teach fundamentals o
 f heating systems and venting combustion appliances. The focus is to provid
 e all personnel working in client homes, the knowledge to identify differen
 t classifications of furnaces and boilers. Instruction on health and safety
  issues for those working on venting systems and an explanation of which ma
 terials can be used and which cannot. NFPA venting guidelines will be intro
 duced so that venting safety is built into the thought process. This traini
 ng will assist technicians in identifying problems, repairing and analysis 
 of venting systems in the field.<br /></span></p><p>&nbsp;</p><p><span styl
 e="color: #000000;"><span style="font-family: tahoma, arial, helvetica, san
 s-serif; font-size: 12pt;"><span style="font-family: Tahoma;"><span style="
 font-family: Tahoma;"><span style="font-family: Tahoma;"><span style="font-
 family: Tahoma;"><span style="font-family: Tahoma;"><span style="font-famil
 y: Tahoma;"><span style="font-family: Tahoma;"><span style="text-decoration
 : underline;"><em>Agenda;<br /></em></span></span></span></span></span></sp
 an></span></span></span><span style="font-family: tahoma, arial, helvetica,
  sans-serif; font-size: 12pt;">Morning session - classroom presentation<br 
 />Afternoon session - consists of hands-on lab training</span></span></p><p
 >&nbsp;</p><p><span style="color: #000000;"><span style="font-family: tahom
 a, arial, helvetica, sans-serif; font-size: 12pt;"><span style="font-family
 : Tahoma;"><span style="font-family: Tahoma;"><span style="font-family: Tah
 oma;"><span style="font-family: Tahoma;"><span style="font-family: Tahoma;"
 ><span style="font-family: Tahoma;"><span style="font-family: Tahoma;"><spa
 n style="text-decoration: underline;"><em>Dates;<br /></em></span><span sty
 le="font-family: Tahoma;">October 5, 2022 / 9:00am - 4:30pm</span></span></
 span></span></span></span></span></span></span></span></p><p>&nbsp;</p><p><
 span style="color: #000000;"><span style="font-family: tahoma, arial, helve
 tica, sans-serif; font-size: 12pt;"><span style="font-family: Tahoma;"><spa
 n style="font-family: Tahoma;"><span style="font-family: Tahoma;"><span sty
 le="font-family: Tahoma;"><span style="font-family: Tahoma;"><span style="f
 ont-family: Tahoma;"><span style="font-family: Tahoma;"><span style="font-f
 amily: Tahoma;"><span style="text-decoration: underline;"><em><span style="
 font-family: Tahoma;">Prerequisites:</span></em></span><em><span style="fon
 t-family: Tahoma;"> <br /></span></em><span style="font-family: Tahoma;">No
 ne</span></span></span></span></span></span></span></span></span></span></s
 pan></p><p>&nbsp;</p><p><span style="color: #000000;"><span style="font-fam
 ily: tahoma, arial, helvetica, sans-serif; font-size: 12pt;"><span style="f
 ont-family: Tahoma;"><span style="font-family: Tahoma;"><span style="font-f
 amily: Tahoma;"><span style="font-family: Tahoma;"><span style="font-family
 : Tahoma;"><span style="font-family: Tahoma;"><span style="font-family: Tah
 oma;"><span style="font-family: Tahoma;"><span style="font-family: Tahoma;"
 ><span style="font-family: Tahoma;"><em><span style="text-decoration: under
 line;">Class Size</span></em>: 10</span></span></span></span></span></span>
 </span></span></span></span></span></span></p><p>&nbsp;</p><p><span style="
 color: #000000;"><span style="font-family: tahoma, arial, helvetica, sans-s
 erif; font-size: 12pt;"><span style="font-family: Tahoma;"><span style="fon
 t-family: Tahoma;"><span style="font-family: Tahoma;"><span style="font-fam
 ily: Tahoma;"><span style="font-family: Tahoma;"><span style="font-family: 
 Tahoma;"><span style="font-family: Tahoma;"><span style="font-family: Tahom
 a;"><span style="font-family: Tahoma;"><span style="font-family: Tahoma;"><
 span style="text-decoration: underline;"><em>BPI</em></span><em><span style
 ="text-decoration: underline;"> CEU's</span>;</em> 3</span></span></span></
 span></span></span></span></span></span></span></span></span></p><p>&nbsp;<
 /p><p><span style="color: #000000;"><span style="font-family: tahoma, arial
 , helvetica, sans-serif; font-size: 12pt;"><span style="font-family: Tahoma
 ;"><span style="font-family: Tahoma;"><span style="font-family: Tahoma;"><s
 pan style="font-family: Tahoma;"><span style="font-family: Tahoma;"><span s
 tyle="font-family: Tahoma;"><span style="font-family: Tahoma;"><span style=
 "font-family: Tahoma;"><span style="font-family: Tahoma;"><span style="font
 -family: Tahoma;"><span style="font-family: Tahoma;"><span style="text-deco
 ration: underline;">Instructor</span>; Dave Hill</span><span style="font-fa
 mily: Tahoma;">&nbsp;- HVAC instructor - NYSWDA</span></span></span></span>
 </span></span></span></span></span></span></span></span></span></p><p>&nbsp
 ;</p><p><span style="color: #000000;"><span style="font-family: tahoma, ari
 al, helvetica, sans-serif; font-size: 12pt;"><span style="font-family: Taho
 ma;"><span style="font-family: Tahoma;"><span style="font-family: Tahoma;">
 <span style="font-family: Tahoma;"><span style="font-family: Tahoma;"><span
  style="font-family: Tahoma;"><span style="font-family: Tahoma;"><span styl
 e="font-family: Tahoma;"><span style="font-family: Tahoma;"><span style="fo
 nt-family: Tahoma;"><span style="font-family: Tahoma;"><span style="text-de
 coration: underline;">Cours</span><span style="text-decoration: underline;"
 >e<em> Fees:</em></span><em>&nbsp;</em><br /><span style="font-family: Taho
 ma;">$262/person</span><span style="font-family: Tahoma;"> - NY Weatherizat
 ion Sub-grantees</span></span></span></span></span></span></span></span></s
 pan></span></span></span></span></span></p><p><span style="font-family: tah
 oma, arial, helvetica, sans-serif; font-size: 12pt; color: #000000;"><span 
 style="font-family: Tahoma;"><span style="font-family: Tahoma;"><span style
 ="font-family: Tahoma;"><span style="font-family: Tahoma;"><span style="fon
 t-family: Tahoma;"><span style="font-family: Tahoma;"><span style="font-fam
 ily: Tahoma;"><span style="font-family: Tahoma;"><span style="font-family: 
 Tahoma;"><span style="font-family: Tahoma;"><span style="font-family: Tahom
 a;"><span style="font-family: Tahoma;"> </span><span style="font-family: Ta
 homa;">$262/person</span><span style="font-family: Tahoma;"> - </span><span
  style="font-family: Tahoma;">affiliate members</span></span></span></span>
 </span></span></span></span></span></span></span></span></span></p><p><span
  style="font-family: tahoma, arial, helvetica, sans-serif; font-size: 12pt;
  color: #000000;"><span style="font-family: Tahoma;"><span style="font-fami
 ly: Tahoma;"><span style="font-family: Tahoma;"><span style="font-family: T
 ahoma;"><span style="font-family: Tahoma;"><span style="font-family: Tahoma
 ;"><span style="font-family: Tahoma;"><span style="font-family: Tahoma;"><s
 pan style="font-family: Tahoma;"><span style="font-family: Tahoma;"><span s
 tyle="font-family: Tahoma;"><span style="font-family: Tahoma;"> </span><spa
 n style="font-family: Tahoma;">$380/person</span><span style="font-family: 
 Tahoma;"> - </span><span style="font-family: Tahoma;">non-members</span></s
 pan></span></span></span></span></span></span></span></span></span></span><
 /span></p><p>&nbsp;</p><p><span style="color: #000000;"><em><span style="fo
 nt-family: Tahoma; font-size: 12pt;"><strong>Course fees do not include lun
 ch.</strong></span></em></span></p><p><span style="font-family: tahoma, ari
 al, helvetica, sans-serif; font-size: 12pt; color: #ffffff;"><span><span st
 yle="font-family: Tahoma;"><span style="font-family: Tahoma;"><span style="
 font-family: Tahoma;"><span style="font-family: Tahoma;"><span style="font-
 family: Tahoma;"><span style="font-family: Tahoma;"><span style="font-famil
 y: Tahoma;"><span style="font-family: Tahoma;"><span style="font-family: Ta
 homa;"><span style="font-family: Tahoma;"><span style="font-family: Tahoma;
 "><em><span style="font-family: Tahoma;">ÂÂÂ&nbsp;</span></em></span></span
 ></span></span></span></span></span></span></span></span></span></span></sp
 an></p><p style="margin-top: 0in; margin-right: 0in; margin-bottom: 0pt;"><
 strong><i><span style="background: white; color: #02613f; font-family: Geor
 gia, 'serif';"><span style="font-size: small;">**Special note</span></span>
 </i></strong><strong><i><span style="background: white; color: black; font-
 family: Georgia, 'serif';"><span style="font-size: small;">&nbsp;-&nbsp;if 
 you wish to become an Affiliate Member, and&nbsp;save off the non-member ra
 te, please contact Karen McMahon (315-701-0440 ext. 223,&nbsp;</span><span 
 id="cloak6d7c3950fef8519ede269c3f32a3504c">This email address is being prot
 ected from spambots. You need JavaScript enabled to view it.</span><script 
 type='text/javascript'>
				document.getElementById('cloak6d7c3950fef8519ed
 e269c3f32a3504c').innerHTML = '';
				var prefix = 'ma' + 'il' + 'to';
				
 var path = 'hr' + 'ef' + '=';
				var addy6d7c3950fef8519ede269c3f32a3504c 
 = 'kmcmahon' + '@';
				addy6d7c3950fef8519ede269c3f32a3504c = addy6d7c3950
 fef8519ede269c3f32a3504c + 'nyswda' + '.' + 'org';
				var addy_text6d7c395
 0fef8519ede269c3f32a3504c = '<span style="color: #0000ff; font-size: small;
 ">kmcmahon' + '@' + 'nyswda' + '.' + 'org</span>';document.getElementById('
 cloak6d7c3950fef8519ede269c3f32a3504c').innerHTML += '<a ' + path + '\'' + 
 prefix + ':' + addy6d7c3950fef8519ede269c3f32a3504c + '\'>'+addy_text6d7c39
 50fef8519ede269c3f32a3504c+'<\/a>';
		</script><span style="font-size: smal
 l;">)&nbsp;</span></span></i></strong><span style="font-size: small;"><stro
 ng><span style="background: white; color: #02613f; font-family: Georgia, 's
 erif';">BEFORE YOU REGISTER&nbsp;</span></strong><em><b><span style="backgr
 ound: white; color: black; font-family: Georgia, 'serif';">for the course</
 span></b></em><strong><span style="background: white; color: black; font-fa
 mily: Georgia, 'serif';">.</span></strong></span></p><p>&nbsp;</p><p><span 
 style="font-family: tahoma, arial, helvetica, sans-serif; font-size: 12pt;"
 ><span><span style="font-family: Tahoma;"><span style="font-family: Tahoma;
 "><span style="font-family: Tahoma;"><span style="font-family: Tahoma;"><sp
 an style="font-family: Tahoma;"><span style="font-family: Tahoma;"><span st
 yle="font-family: Tahoma;"><span style="font-family: Tahoma;"><span style="
 font-family: Tahoma;"><span style="font-family: Tahoma;"><span style="font-
 family: Tahoma;"><em><span style="font-family: Tahoma;"><span style="color:
  #0000ff;"><span style="font-size: 14pt;"><strong><span style="font-family:
  tahoma, arial, helvetica, sans-serif; font-size: 14pt;"><span style="font-
 family: tahoma,arial,helvetica,sans-serif; font-size: 14pt;"><strong><em><s
 trong><span style="color: #ffffff; font-family: tahoma,arial,helvetica,sans
 -serif; font-size: 14pt;"><span style="color: #ff0000;">CLASS FULL - call o
 r email</span>&nbsp; <span id="cloakc74c33588ad6c135aa481d088d7b162f">This 
 email address is being protected from spambots. You need JavaScript enabled
  to view it.</span><script type='text/javascript'>
				document.getElementB
 yId('cloakc74c33588ad6c135aa481d088d7b162f').innerHTML = '';
				var prefix
  = 'ma' + 'il' + 'to';
				var path = 'hr' + 'ef' + '=';
				var addyc74c33
 588ad6c135aa481d088d7b162f = 'rvisser' + '@';
				addyc74c33588ad6c135aa481
 d088d7b162f = addyc74c33588ad6c135aa481d088d7b162f + 'nyswda' + '.' + 'org'
 ;
				var addy_textc74c33588ad6c135aa481d088d7b162f = '<span style="color: 
 #0066cc;">rvisser' + '@' + 'nyswda' + '.' + 'org</span>';document.getElemen
 tById('cloakc74c33588ad6c135aa481d088d7b162f').innerHTML += '<a ' + path + 
 '\'' + prefix + ':' + addyc74c33588ad6c135aa481d088d7b162f + '\'>'+addy_tex
 tc74c33588ad6c135aa481d088d7b162f+'<\/a>';
		</script> <span style="color: 
 #ff0000;">for availability or wait list</span></span></strong></em><span st
 yle="color: #ffffff;"></span></strong><span style="font-family: tahoma, ari
 al, helvetica, sans-serif; font-size: 14pt;"></span></span><span style="fon
 t-family: tahoma, arial, helvetica, sans-serif; font-size: 14pt;"></span><s
 pan style="font-family: tahoma, arial, helvetica, sans-serif; font-size: 14
 pt;"></span><em></em><span style="color: #0000ff;"></span></span><em></em><
 span style="color: #0000ff;"></span></strong></span></span></span></em></sp
 an></span></span></span></span></span></span></span></span></span></span></
 span></span></p>
CONTACT:This email address is being protected from spambots. You need JavaScript enabled to view it.
				document.getElementById('cloak73b0d342f222430463a92ae949f3be50').innerHTML = '';
				var prefix = '&#109;a' + 'i&#108;' + '&#116;o';
				var path = 'hr' + 'ef' + '=';
				var addy73b0d342f222430463a92ae949f3be50 = 'rv&#105;ss&#101;r' + '&#64;';
				addy73b0d342f222430463a92ae949f3be50 = addy73b0d342f222430463a92ae949f3be50 + 'nyswd&#97;' + '&#46;' + '&#111;rg';
				var addy_text73b0d342f222430463a92ae949f3be50 = 'rv&#105;ss&#101;r' + '&#64;' + 'nyswd&#97;' + '&#46;' + '&#111;rg';document.getElementById('cloak73b0d342f222430463a92ae949f3be50').innerHTML += '<a ' + path + '\'' + prefix + ':' + addy73b0d342f222430463a92ae949f3be50 + '\'>'+addy_text73b0d342f222430463a92ae949f3be50+'';
		
DTSTAMP:20260424T220957
DTSTART;TZID=America/New_York:20221005T090000
DTEND;TZID=America/New_York:20221005T160000
SEQUENCE:0
TRANSP:OPAQUE
END:VEVENT
END:VCALENDAR