BEGIN:VCALENDAR
VERSION:2.0
PRODID:-//jEvents 2.0 for Joomla//EN
CALSCALE:GREGORIAN
METHOD:PUBLISH
BEGIN:VTIMEZONE
TZID:America/New_York
BEGIN:STANDARD
DTSTART:20211107T010000
RDATE:20220313T030000
TZOFFSETFROM:-0400
TZOFFSETTO:-0500
TZNAME:America/New_York EST
END:STANDARD
BEGIN:STANDARD
DTSTART:20221106T010000
RDATE:20230312T030000
TZOFFSETFROM:-0400
TZOFFSETTO:-0500
TZNAME:America/New_York EST
END:STANDARD
BEGIN:STANDARD
DTSTART:20231105T010000
RDATE:20240310T030000
TZOFFSETFROM:-0400
TZOFFSETTO:-0500
TZNAME:America/New_York EST
END:STANDARD
BEGIN:STANDARD
DTSTART:20241103T010000
RDATE:20250309T030000
TZOFFSETFROM:-0400
TZOFFSETTO:-0500
TZNAME:America/New_York EST
END:STANDARD
BEGIN:STANDARD
DTSTART:20251102T010000
RDATE:20260308T030000
TZOFFSETFROM:-0400
TZOFFSETTO:-0500
TZNAME:America/New_York EST
END:STANDARD
BEGIN:STANDARD
DTSTART:20261101T010000
RDATE:20270314T030000
TZOFFSETFROM:-0400
TZOFFSETTO:-0500
TZNAME:America/New_York EST
END:STANDARD
BEGIN:STANDARD
DTSTART:20271107T010000
RDATE:20280312T030000
TZOFFSETFROM:-0400
TZOFFSETTO:-0500
TZNAME:America/New_York EST
END:STANDARD
BEGIN:STANDARD
DTSTART:20281105T010000
RDATE:20290311T030000
TZOFFSETFROM:-0400
TZOFFSETTO:-0500
TZNAME:America/New_York EST
END:STANDARD
BEGIN:STANDARD
DTSTART:20291104T010000
RDATE:20300310T030000
TZOFFSETFROM:-0400
TZOFFSETTO:-0500
TZNAME:America/New_York EST
END:STANDARD
BEGIN:STANDARD
DTSTART:20301103T010000
RDATE:20310309T030000
TZOFFSETFROM:-0400
TZOFFSETTO:-0500
TZNAME:America/New_York EST
END:STANDARD
BEGIN:DAYLIGHT
DTSTART:20211101T090000
RDATE:20211107T010000
TZOFFSETFROM:-0500
TZOFFSETTO:-0400
TZNAME:America/New_York EDT
END:DAYLIGHT
BEGIN:DAYLIGHT
DTSTART:20220313T030000
RDATE:20221106T010000
TZOFFSETFROM:-0500
TZOFFSETTO:-0400
TZNAME:America/New_York EDT
END:DAYLIGHT
BEGIN:DAYLIGHT
DTSTART:20230312T030000
RDATE:20231105T010000
TZOFFSETFROM:-0500
TZOFFSETTO:-0400
TZNAME:America/New_York EDT
END:DAYLIGHT
BEGIN:DAYLIGHT
DTSTART:20240310T030000
RDATE:20241103T010000
TZOFFSETFROM:-0500
TZOFFSETTO:-0400
TZNAME:America/New_York EDT
END:DAYLIGHT
BEGIN:DAYLIGHT
DTSTART:20250309T030000
RDATE:20251102T010000
TZOFFSETFROM:-0500
TZOFFSETTO:-0400
TZNAME:America/New_York EDT
END:DAYLIGHT
BEGIN:DAYLIGHT
DTSTART:20260308T030000
RDATE:20261101T010000
TZOFFSETFROM:-0500
TZOFFSETTO:-0400
TZNAME:America/New_York EDT
END:DAYLIGHT
BEGIN:DAYLIGHT
DTSTART:20270314T030000
RDATE:20271107T010000
TZOFFSETFROM:-0500
TZOFFSETTO:-0400
TZNAME:America/New_York EDT
END:DAYLIGHT
BEGIN:DAYLIGHT
DTSTART:20280312T030000
RDATE:20281105T010000
TZOFFSETFROM:-0500
TZOFFSETTO:-0400
TZNAME:America/New_York EDT
END:DAYLIGHT
BEGIN:DAYLIGHT
DTSTART:20290311T030000
RDATE:20291104T010000
TZOFFSETFROM:-0500
TZOFFSETTO:-0400
TZNAME:America/New_York EDT
END:DAYLIGHT
BEGIN:DAYLIGHT
DTSTART:20300310T030000
RDATE:20301103T010000
TZOFFSETFROM:-0500
TZOFFSETTO:-0400
TZNAME:America/New_York EDT
END:DAYLIGHT
END:VTIMEZONE
BEGIN:VEVENT
UID:d80b2ad8b7565d3b22ba70238c5ebfe9
CATEGORIES:WEB
CREATED:20221005T124800
SUMMARY:NYS Manufactured Housing Mechanics Certification - Online
LOCATION:NYSWDA Training Center - East Syracuse
DESCRIPTION: \n
 NYS Manufactured Housing Mechanics Certification - Online\n
 \n
GoToWe
 binar Event\n\n This training is for:\nWeatherization crew chiefs/auditors,
  weatherization agency sub-contractors, private contractors\n\nCourse Descr
 iption:\nThis training will prepare those attending to take the New York St
 ate Manufactured Housing Mechanic certification written test. If your busin
 ess or agency conducts structural repairs on mobile homes or manufactured h
 ousing to stay in compliance with NY State Code Enforcement requirements, y
 ou will need at least one staff member with this certification. Structural 
 repairs include replacement of door/window framing, replacement of subfloor
  plywood, or replacement of interior wall and ceiling panels. This staff me
 mber must be on-site during these repairs. This individual certification is
  valid for two years.\n\nDates;\nNovember 2, 2022/ 9:00am - noon (with a 1 
 hour break) then class resumes from 1:00pm - 4:00pm.  There is an exception
  for Retailers &amp; Installers - you will only be taking the first half of
  this class.  Only those looking for the Mechanics certification will compl
 ete the second half.\n\nPrerequisites: \nCompletion of high school, GED or 
 equivalent (U.S. Armed Forces report) showing successful completion of high
  school level education.  One year full time employment in manufactured hou
 sing industry or an industry substantially similar (1 year construction ind
 ustry experience or 1 year manufactured housing repair and weatherization e
 xperience generally accepted). Field experience in manufactured housing rep
 airs and weatherization techniques\n\nClass Size: 16\n\nBPI CEU: 3\n\nInstr
 uctors: Joel Harper - MHC Consultants LLC\n\nCourse Fees: \n$262/person - N
 Y Weatherization Sub-grantees\n$262/person - affiliate members\n$380/person
  - non-members\n$220/person - Retailers and Installers \n
 \n
**Special not
 e - if you wish to become an Affiliate Member, and save off the non-member 
 rate, please contact Karen McMahon (315-701-0440 ext. 223, This email addre
 ss is being protected from spambots. You need JavaScript enabled to view it
 .
				document.getElementById('cloakc59021dcab2ece34861137e380a3590d').inne
 rHTML = '';
				var prefix = 'ma' + 'il' + 'to';
				var path = 'hr' + 'ef'
  + '=';
				var addyc59021dcab2ece34861137e380a3590d = 'kmcmahon' + '@';
		
 		addyc59021dcab2ece34861137e380a3590d = addyc59021dcab2ece34861137e380a359
 0d + 'nyswda' + '.' + 'org';
				var addy_textc59021dcab2ece34861137e380a35
 90d = 'kmcmahon' + '@' + 'nyswda' + '.' + 'org';document.getElementById('cl
 oakc59021dcab2ece34861137e380a3590d').innerHTML += '<a ' + path + '\'' + pr
 efix + ':' + addyc59021dcab2ece34861137e380a3590d + '\'>'+addy_textc59021dc
 ab2ece34861137e380a3590d+'';
		) BEFORE YOU REGISTER for the course.\n\n\n

 Through the support of a grant from NYSERDA, and NYS HCR funding, we are ab
 le to provide quality training at discounted rates to NYSWDA members for th
 is course.\n
 \n
Click here to register (index.php?option=com_civicrm&amp;t
 ask=civicrm/event/register&amp;reset=1&amp;id=14145)\n
X-ALT-DESC;FMTTYPE=text/html:<p>&nbsp;</p><p><span style="color: #336699; font-size: 12pt;"><span><span>
 &nbsp;</span><span><span style="color: #000000;"><span><strong><span style=
 "color: #336699;"><span style="font-family: tahoma,arial,helvetica,sans-ser
 if; font-size: 14pt;">NYS Manufactured Housing Mechanics Certification - On
 line</span></span></strong></span></span></span></span></span></p><p>&nbsp;
 </p><p><span style="color: #336699; font-size: 12pt;"><span><span><span sty
 le="color: #000000;"><span><strong><span style="color: #336699;"><span styl
 e="font-family: tahoma,arial,helvetica,sans-serif; font-size: 14pt;"><span 
 style="color: #336699;">GoToWebinar Event</span><span></span><span></span><
 span></span><span style="color: #000000;"></span><span></span><span></span>
 <span style="color: #336699; font-family: tahoma,arial,helvetica,sans-serif
 ; font-size: 14pt;"></span><span></span><span style="font-family: Tahoma;">
 </span><span style="font-family: Tahoma;"></span><span style="color: #00000
 0;"></span><span style="font-size: small;"></span><span style="font-family:
  Tahoma;"></span><span style="color: #000000;"></span><span style="font-siz
 e: x-small;"></span><span style="font-family: Arial, Helvetica;"></span><sp
 an style="font-size: small;"></span><span style="font-family: Tahoma;"></sp
 an><span style="font-size: x-small;"></span><span style="font-family: Arial
 , Helvetica;"></span><span style="font-size: small;"></span><span style="fo
 nt-family: Tahoma;"></span><span style="font-size: x-small;"></span><span s
 tyle="font-family: Arial, Helvetica;"></span><span style="font-size: small;
 "></span><span style="font-family: Tahoma;"></span><span style="font-size: 
 x-small;"></span><span style="font-family: Arial, Helvetica;"></span><span 
 style="font-family: Tahoma;"></span><span style="font-family: Tahoma;"></sp
 an><span style="font-size: small;"></span><span style="font-family: Tahoma;
 "></span><span style="font-size: x-small;"></span><span style="font-family:
  Arial, Helvetica;"></span><span style="font-family: Tahoma;"></span><span 
 style="font-family: Tahoma;"></span><span style="font-family: Tahoma;"></sp
 an><span style="font-size: small;"></span><span style="font-family: Tahoma;
 "></span><span style="font-size: x-small;"></span><span style="font-family:
  Arial, Helvetica;"></span><span style="color: #000000;"></span><span style
 ="font-size: medium;"></span><span style="font-family: Tahoma;"></span><spa
 n style="color: #336699;"></span></span><br /></span></strong></span></span
 ></span></span></span><span style="color: #336699; font-size: 12pt;"><span 
 style="font-family: Tahoma;"><span><span style="color: #000000;"><em><span>
 <br /></span></em></span></span></span></span>&nbsp;<span style="color: #33
 6699; font-size: 12pt;"><span style="font-family: Tahoma;"><span><span styl
 e="color: #000000;"><em><span><span style="text-decoration: underline;"><sp
 an style="font-family: Tahoma;">This training is for:</span></span><span st
 yle="font-family: Tahoma;"><span style="font-family: Tahoma;"><br /></span>
 </span></span></em><span style="font-family: Tahoma;"><span style="font-fam
 ily: Tahoma;"><span style="font-family: Tahoma;">Weatherization crew chiefs
 /auditors, weatherization agency sub-contractors, private contractors<span 
 style="font-family: Tahoma;"><br /><br /><span style="text-decoration: unde
 rline;"><em><span style="font-family: Tahoma;">Course Description:</span></
 em></span><em><span style="font-family: Tahoma;"><span style="font-family: 
 Tahoma;"><br /></span></span></em><span style="font-family: Tahoma;"><span 
 style="font-family: Tahoma;"><span style="font-family: Tahoma;">This traini
 ng will prepare those attending to take the New York State Manufactured Hou
 sing Mechanic certification written test. If your business or agency conduc
 ts structural repairs on mobile homes or manufactured housing to stay in co
 mpliance with NY State Code Enforcement requirements, you will need at leas
 t one staff member with this certification. Structural repairs include repl
 acement of door/window framing, replacement of subfloor plywood, or replace
 ment of interior wall and ceiling panels. This staff member must be on-site
  during these repairs. This individual certification is valid for two years
 .<br /><br /><span style="text-decoration: underline;"><em>Dates;<br /></em
 ></span><span style="font-family: Tahoma;">November 2, 2022/ 9:00am - noon 
 (with a 1 hour break) then class resumes from 1:00pm - 4:00pm.&nbsp; There 
 is an exception for Retailers &amp; Installers - you will only be taking th
 e first half of this class.&nbsp; Only those looking for the Mechanics cert
 ification will complete the second half.<br /><br /><span style="text-decor
 ation: underline;"><em><span style="font-family: Tahoma;">Prerequisites:</s
 pan></em></span><em><span style="font-family: Tahoma;"> <br /></span></em><
 span style="font-family: Tahoma;">Completion of high school, GED or equival
 ent (U.S. Armed Forces report) showing successful completion of high school
  level education.&nbsp; One year full time employment in manufactured housi
 ng industry or an industry substantially similar (1 year construction indus
 try experience or 1 year manufactured housing repair and weatherization exp
 erience generally accepted). Field experience in manufactured housing repai
 rs and weatherization techniques<span style="font-family: Tahoma;"><br /><e
 m><br /><span style="text-decoration: underline;">Class Size</span></em>: 1
 6<br /><br /><span style="text-decoration: underline;"><em>BPI CEU</em>:</s
 pan>&nbsp;3<br /><br /><span style="text-decoration: underline;"><em><span 
 style="font-family: Tahoma;">Instructors:</span></em></span><em><span style
 ="font-family: Tahoma;"> </span></em><span style="font-family: Tahoma;">Joe
 l Harper -&nbsp;<span style="font-family: Tahoma;">MHC Consultants LLC</spa
 n><span style="font-family: Tahoma;"></span><span style="font-family: Tahom
 a;"></span><span style="font-family: Tahoma;"></span><span style="font-fami
 ly: Tahoma;"></span><span style="font-family: Tahoma;"></span><span style="
 font-family: Tahoma;"></span><span style="font-family: Tahoma;"></span><spa
 n style="font-family: Tahoma;"></span><span style="font-family: Tahoma;"></
 span><span style="font-family: Tahoma;"></span><span></span><span style="co
 lor: #000000;"></span><span></span><span></span><span style="color: #336699
 ; font-size: 12pt;"></span><br /><br /><span style="text-decoration: underl
 ine;"><em>Course Fees:&nbsp;</em></span><em><span style="color: #ff6600;"><
 /span></em><em><br /></em><span style="font-family: Tahoma;">$262/person -&
 nbsp;NY&nbsp;Weatherization Sub-grantees<br /></span></span></span></span><
 /span></span></span></span></span></span></span></span></span></span></span
 ></span><span style="color: #336699; font-size: 12pt;"><span style="font-fa
 mily: Tahoma;"><span style="color: #000000;"><span><span><span><span><span>
 <span><span><span><span><span><span><span>$262/person -&nbsp;affiliate memb
 ers<br /></span></span></span></span></span></span></span></span></span></s
 pan></span></span></span></span></span><span style="color: #336699; font-si
 ze: 12pt;"><span style="font-family: Tahoma;"><span style="color: #000000;"
 ><span><span><span><span><span><span><span><span><span><span><span><span>$3
 80/person -&nbsp;non-members<br />$220/person - Retailers and Installers&nb
 sp;</span></span></span></span></span></span></span></span></span></span></
 span></span></span></span></span></p><p>&nbsp;</p><p><span style="color: #3
 36699; font-size: 12pt;"><span style="font-family: Tahoma;"><span><span sty
 le="color: #000000;"><span><span style="font-family: Tahoma;"><span style="
 font-family: Tahoma;"><span style="font-family: Tahoma;"><span style="font-
 family: Tahoma;"><span style="font-family: Tahoma;"><span style="font-famil
 y: Tahoma;"><span style="font-family: Tahoma;"><span style="font-family: Ta
 homa;"><span style="font-family: Tahoma;"><span style="font-family: Tahoma;
 "><span style="font-family: Tahoma;"><em><span style="font-family: Tahoma;"
 ><em><strong><span style="background: white; color: #02613f; font-family: '
 Georgia','serif';"><span style="font-size: small;">**Special note</span></s
 pan></strong></em><span style="background: white; color: black; font-family
 : 'Georgia','serif';"><span style="font-size: small;"><i><strong>&nbsp;-&nb
 sp;if you wish to become an Affiliate Member, and&nbsp;save off the non-mem
 ber rate, please contact&nbsp;Karen McMahon (315-701-0440 ext. 223,&nbsp;</
 strong></i></span><i><strong><span id="cloakc59021dcab2ece34861137e380a3590
 d">This email address is being protected from spambots. You need JavaScript
  enabled to view it.</span><script type='text/javascript'>
				document.get
 ElementById('cloakc59021dcab2ece34861137e380a3590d').innerHTML = '';
				va
 r prefix = 'ma' + 'il' + 'to';
				var path = 'hr' + 'ef' + '=';
				var ad
 dyc59021dcab2ece34861137e380a3590d = 'kmcmahon' + '@';
				addyc59021dcab2e
 ce34861137e380a3590d = addyc59021dcab2ece34861137e380a3590d + 'nyswda' + '.
 ' + 'org';
				var addy_textc59021dcab2ece34861137e380a3590d = '<span style
 ="color: #0000ff; font-size: small;">kmcmahon' + '@' + 'nyswda' + '.' + 'or
 g</span>';document.getElementById('cloakc59021dcab2ece34861137e380a3590d').
 innerHTML += '<a ' + path + '\'' + prefix + ':' + addyc59021dcab2ece3486113
 7e380a3590d + '\'>'+addy_textc59021dcab2ece34861137e380a3590d+'<\/a>';
		</
 script><span style="font-size: small;">)&nbsp;</span></strong></i></span><i
 ></i><span style="font-size: small;"><strong><span style="background: white
 ; color: #02613f; font-family: 'Georgia','serif';">BEFORE YOU REGISTER&nbsp
 ;</span></strong><em><b><span style="background: white; color: black; font-
 family: 'Georgia','serif';">for the course</span></b></em><strong><span sty
 le="background: white; color: black; font-family: 'Georgia','serif';">.</sp
 an></strong></span><br /></span></em></span></span></span></span></span></s
 pan></span></span></span></span></span></span></span></span><span style="ba
 ckground-color: initial; color: inherit; font-family: inherit; font-size: 1
 rem;"></span><span style="color: #0000ff;"><em><strong><span style="font-si
 ze: 14pt; font-family: tahoma,arial,helvetica,sans-serif;"></span></strong>
 </em></span><span style="background-color: initial; color: inherit; font-fa
 mily: inherit; font-size: 1rem;"></span><span><span style="color: #000000;"
 ><span><span style="font-family: Tahoma;"><span style="font-family: Tahoma;
 "><span style="font-family: Tahoma;"><span style="font-family: Tahoma;"><sp
 an style="font-family: Tahoma;"><span style="font-family: Tahoma;"><span st
 yle="font-family: Tahoma;"><span style="font-family: Tahoma;"><span style="
 font-family: Tahoma;"><span style="font-family: Tahoma;"><span style="font-
 family: Tahoma;"><em><span style="font-family: Tahoma;"><br /></span></em><
 /span></span></span></span></span></span></span></span></span></span></span
 ></span></span></span></span></span></p><p><strong><i><span style="backgrou
 nd: white; color: #10704d; font-family: 'Georgia','serif'; font-size: 10pt;
 ">Through the support of a grant from NYSERDA, and NYS HCR funding, we are 
 able to provide </span></i></strong><em><b><span style="background: white; 
 color: #02613f; font-family: 'Georgia','serif'; font-size: 10pt;">quality t
 raining at&nbsp;discounted rates to NYSWDA members for this course.<span st
 yle="color: #336699;"><span style="font-family: Tahoma;"><span style="font-
 size: medium;"><span style="color: #000000;"><span style="font-size: small;
 "><span style="font-family: Tahoma;"><span style="font-family: Tahoma;"><sp
 an style="color: #000000;"><span style="font-family: Tahoma;"><span style="
 font-family: Arial, Helvetica;"><span style="color: #000000;"><span style="
 font-family: Tahoma;"><span style="font-family: Tahoma;"><span style="font-
 family: Tahoma;"><span style="font-family: Tahoma;"><span style="font-famil
 y: Tahoma;"><span style="font-family: Tahoma;"><span style="font-family: Ta
 homa;"><span style="font-family: Tahoma;"><span style="font-family: Tahoma;
 "><span style="font-family: Tahoma;"><span style="font-family: Tahoma;"><sp
 an style="font-family: Tahoma;"><span style="font-family: Tahoma;"><span st
 yle="font-family: Arial, Helvetica;"><span style="font-size: x-small;"><spa
 n style="color: #000000;"><span style="font-family: Calibri;"><span style="
 font-size: small;"><span style="font-family: Times;"><span style="color: #0
 00000;"><span style="font-family: Tahoma;"><span style="font-family: Times;
 "><span style="font-family: Tahoma;"><span style="font-family: Tahoma;"><sp
 an style="color: #000000;"><span style="font-size: 12pt;"><em></em></span><
 /span></span></span></span></span></span></span></span></span></span></span
 ></span></span></span></span></span></span></span></span></span></span></sp
 an></span></span></span></span></span></span></span></span></span></span></
 span></span></span></span></span></b></em></p><p>&nbsp;</p><p><span style="
 color: #0000ff;"><em><strong><span style="font-family: tahoma, arial, helve
 tica, sans-serif; font-size: 14pt;"><a href="https://www.nyswda.org/index.p
 hp?option=com_civicrm&amp;task=civicrm/event/register&amp;reset=1&amp;id=14
 145" style="color: #0000ff;">Click here to register</a></span></strong></em
 ></span></p>
CONTACT:Robyn Visser
DTSTAMP:20260424T233211
DTSTART;TZID=America/New_York:20221102T090000
DTEND;TZID=America/New_York:20221102T160000
SEQUENCE:0
TRANSP:OPAQUE
END:VEVENT
END:VCALENDAR