BEGIN:VCALENDAR
VERSION:2.0
PRODID:-//jEvents 2.0 for Joomla//EN
CALSCALE:GREGORIAN
METHOD:PUBLISH
BEGIN:VTIMEZONE
TZID:America/New_York
BEGIN:STANDARD
DTSTART:20211204T090000
RDATE:20220313T030000
TZOFFSETFROM:-0400
TZOFFSETTO:-0500
TZNAME:America/New_York EST
END:STANDARD
BEGIN:STANDARD
DTSTART:20221106T010000
RDATE:20230312T030000
TZOFFSETFROM:-0400
TZOFFSETTO:-0500
TZNAME:America/New_York EST
END:STANDARD
BEGIN:STANDARD
DTSTART:20231105T010000
RDATE:20240310T030000
TZOFFSETFROM:-0400
TZOFFSETTO:-0500
TZNAME:America/New_York EST
END:STANDARD
BEGIN:STANDARD
DTSTART:20241103T010000
RDATE:20250309T030000
TZOFFSETFROM:-0400
TZOFFSETTO:-0500
TZNAME:America/New_York EST
END:STANDARD
BEGIN:STANDARD
DTSTART:20251102T010000
RDATE:20260308T030000
TZOFFSETFROM:-0400
TZOFFSETTO:-0500
TZNAME:America/New_York EST
END:STANDARD
BEGIN:STANDARD
DTSTART:20261101T010000
RDATE:20270314T030000
TZOFFSETFROM:-0400
TZOFFSETTO:-0500
TZNAME:America/New_York EST
END:STANDARD
BEGIN:STANDARD
DTSTART:20271107T010000
RDATE:20280312T030000
TZOFFSETFROM:-0400
TZOFFSETTO:-0500
TZNAME:America/New_York EST
END:STANDARD
BEGIN:STANDARD
DTSTART:20281105T010000
RDATE:20290311T030000
TZOFFSETFROM:-0400
TZOFFSETTO:-0500
TZNAME:America/New_York EST
END:STANDARD
BEGIN:STANDARD
DTSTART:20291104T010000
RDATE:20300310T030000
TZOFFSETFROM:-0400
TZOFFSETTO:-0500
TZNAME:America/New_York EST
END:STANDARD
BEGIN:STANDARD
DTSTART:20301103T010000
RDATE:20310309T030000
TZOFFSETFROM:-0400
TZOFFSETTO:-0500
TZNAME:America/New_York EST
END:STANDARD
BEGIN:DAYLIGHT
DTSTART:20220313T030000
RDATE:20221106T010000
TZOFFSETFROM:-0500
TZOFFSETTO:-0400
TZNAME:America/New_York EDT
END:DAYLIGHT
BEGIN:DAYLIGHT
DTSTART:20230312T030000
RDATE:20231105T010000
TZOFFSETFROM:-0500
TZOFFSETTO:-0400
TZNAME:America/New_York EDT
END:DAYLIGHT
BEGIN:DAYLIGHT
DTSTART:20240310T030000
RDATE:20241103T010000
TZOFFSETFROM:-0500
TZOFFSETTO:-0400
TZNAME:America/New_York EDT
END:DAYLIGHT
BEGIN:DAYLIGHT
DTSTART:20250309T030000
RDATE:20251102T010000
TZOFFSETFROM:-0500
TZOFFSETTO:-0400
TZNAME:America/New_York EDT
END:DAYLIGHT
BEGIN:DAYLIGHT
DTSTART:20260308T030000
RDATE:20261101T010000
TZOFFSETFROM:-0500
TZOFFSETTO:-0400
TZNAME:America/New_York EDT
END:DAYLIGHT
BEGIN:DAYLIGHT
DTSTART:20270314T030000
RDATE:20271107T010000
TZOFFSETFROM:-0500
TZOFFSETTO:-0400
TZNAME:America/New_York EDT
END:DAYLIGHT
BEGIN:DAYLIGHT
DTSTART:20280312T030000
RDATE:20281105T010000
TZOFFSETFROM:-0500
TZOFFSETTO:-0400
TZNAME:America/New_York EDT
END:DAYLIGHT
BEGIN:DAYLIGHT
DTSTART:20290311T030000
RDATE:20291104T010000
TZOFFSETFROM:-0500
TZOFFSETTO:-0400
TZNAME:America/New_York EDT
END:DAYLIGHT
BEGIN:DAYLIGHT
DTSTART:20300310T030000
RDATE:20301103T010000
TZOFFSETFROM:-0500
TZOFFSETTO:-0400
TZNAME:America/New_York EDT
END:DAYLIGHT
END:VTIMEZONE
BEGIN:VEVENT
UID:d668522e087d90877c94ea0a84d1db90
CATEGORIES:At Syracuse
CREATED:20221114T180329
SUMMARY:BPI Manufactured Housing Professional
LOCATION:NYSWDA Training Center - East Syracuse
DESCRIPTION:\n BPI Manufactured Housing Professional \n
 \n
Training Location:  NYSWDA 
 Training Center (Building 1) - 5869 Fisher Road, East Syracuse, NY 13057\n

  \n
Course Description:\nThis four day course will prepare you to take the 
 BPI Manufactured Housing Specialist Certification written and field tests. 
 As part of this training, BPI standards and work practices will be reviewed
 . Attendees will look at common problem areas during the course of an energ
 y audit and prepare a workscope to remedy these issues. Topics addressed wi
 ll include typical manufactured home construction, heating system basics, d
 istribution system evaluation and repairs, belly repair, air sealing and in
 sulation best practices. Because of the large amount of BPI building analys
 t curriculum incorporated into this training, it is strongly recommended th
 at attendees hold BPI Building Analyst certification and have a good workin
 g knowledge of auditing procedures. After the trainees successfully complet
 e the written portion of the test, we will schedule them for the Field test
 .\n\n\nAgenda \nDay 1: Pre-Test \nMH Overview/ Construction Standards \nBPI
  Standards and Best Work Practices \nMH Tools and Equipment\nHeating and Di
 stribution Systems \n\nDay 2: Overview of Belly Repairs \nOverview of Roof 
 Insulation Installation \nOverview of Sidewall Insulation Installation \nDo
 or &amp; Window Replacement\n\nDay 3: Manufactured Housing Audit Procedures
 \nMH CAZ Testing / Duct Diagnostics\nReview of BPI Standards and Best Work 
 Practices\n\nDay 4: Online MH Test\n\n\nWho Should Attend:\nAuditors/Energy
  Analysts with strong auditing skills\n\n\nDates;\nCourse covers the dates 
 of December 5-8, 2022\n
 \n
Start Time: Monday-Thursday 9:00am\nEnd Time: M
 onday-Wednesday 5:00pm / Thursday test starts at 1:00pm with 1 1/2 hours to
  complete\n\n\nPrerequisites: BPI Building Analyst certification\n\n\nClass
  Size: 6\n\n\nBPI CEU: 6\n\n\nInstructors:\nJoe Ilacqua, NYSWDA\n\n\nOther 
 Notes:\nFor agencies to comply with HCR staff certification regulations onl
 y one Manufactured Housing Specialist is required per agency. See PPM- Subg
 rantee Staff Certification Requirements for more information. Bring your au
 diting bags with meters and appropriate work clothes.\n\n\nCourse Fees; \n$
 725/person - NY Weatherization Sub-grantees \n$725/person - affiliate membe
 rs \n$1,450/person - non-members and private contractors \n
 \n
**Special n
 ote - if you wish to become an Affiliate Member, and save off the non-membe
 r rate, please contact Karen McMahon (315-701-0440 ext. 223, This email add
 ress is being protected from spambots. You need JavaScript enabled to view 
 it.
				document.getElementById('cloak5965b4a03cf69aee928f90a35c623c10').in
 nerHTML = '';
				var prefix = 'ma' + 'il' + 'to';
				var path = 'hr' + 'e
 f' + '=';
				var addy5965b4a03cf69aee928f90a35c623c10 = 'kmcmahon' + '@';

 				addy5965b4a03cf69aee928f90a35c623c10 = addy5965b4a03cf69aee928f90a35c62
 3c10 + 'nyswda' + '.' + 'org';
				var addy_text5965b4a03cf69aee928f90a35c6
 23c10 = 'kmcmahon' + '@' + 'nyswda' + '.' + 'org';document.getElementById('
 cloak5965b4a03cf69aee928f90a35c623c10').innerHTML += '<a ' + path + '\'' + 
 prefix + ':' + addy5965b4a03cf69aee928f90a35c623c10 + '\'>'+addy_text5965b4
 a03cf69aee928f90a35c623c10+'';
		) BEFORE YOU REGISTER for the course.\n
 \
 n
NYSWDA will not be responsible for hotel costs, travel to and from the tr
 aining, breakfast and dinner meals, or incidentals. Lunches are ARE NOT inc
 luded.\n\nCourse fees include "Your Mobile Home: Energy and Repair Guide" b
 y John Krigger\n\n(Financial assistance may be available from local NYS Dep
 artment of Labor One-Stop Centers)\n\n\nBPI Fees;\n$200/person - 50-questio
 n written Manufactured Housing test\n$500/person - Field test\n \n
Click he
 re to register (index.php?option=com_civicrm&amp;task=civicrm/event/registe
 r&amp;reset=1&amp;id=14156)\n
 \n
X-ALT-DESC;FMTTYPE=text/html:<p><span style="color: #336699;"><strong><span style="font-family: Tahoma;"
 ><span style="font-size: medium;"><span style="color: #336699; font-size: 1
 2pt;"><span><span><br />&nbsp;</span><span style="font-size: 14pt;"><span s
 tyle="color: #000000;"><strong><span style="color: #336699;">BPI Manufactur
 ed Housing Professional </span></strong></span></span></span></span></span>
 </span></strong></span></p><p>&nbsp;</p><p><span style="color: #336699;"><s
 trong><span style="font-family: Tahoma;"><span style="font-size: medium;"><
 span style="color: #336699; font-size: 12pt;"><span><span style="font-size:
  14pt;"><span style="color: #000000;"><strong><span style="color: #336699;"
 >Training Location:&nbsp;&nbsp;NYSWDA Training Center (Building 1)&nbsp;- 5
 869 Fisher Road, East Syracuse, NY 13057</span></strong></span></span></spa
 n></span></span></span></strong></span></p><p>&nbsp;</p><p><span style="col
 or: #336699;"><span style="font-family: Tahoma;"><span style="font-size: me
 dium;"><span style="color: #336699; font-size: 12pt;"><span><span style="fo
 nt-size: 14pt;"><span style="color: #000000;"><span style="color: #336699;"
 ></span></span></span></span></span></span></span><span style="font-family:
  Tahoma;"><span style="font-size: medium;"><span style="color: #000000;"><s
 pan style="font-size: small;"><span style="font-size: 12pt;"><span style="t
 ext-decoration: underline;"><em><span style="font-family: Tahoma;">Course D
 escription:<br /></span></em></span><span style="font-family: Tahoma;">This
  four day course will prepare you to&nbsp;take the BPI Manufactured Housing
  Specialist Certification written and field tests. As part of this training
 , BPI standards and work practices will be reviewed. Attendees will look at
  common problem areas during the course of an energy audit and prepare a wo
 rkscope to remedy these issues. Topics addressed will include typical manuf
 actured home construction, heating system basics, distribution system evalu
 ation and repairs, belly repair, air sealing and insulation best practices.
  Because of the large amount of BPI building analyst curriculum incorporate
 d into this training, it is strongly recommended that attendees hold BPI Bu
 ilding Analyst certification and have a good working knowledge of auditing 
 procedures. A<span style="font-family: Tahoma;">fter the trainees successfu
 lly complete the written portion of the test, we will schedule them for the
  Field test.<span style="color: #000000;"><span style="font-family: Tahoma;
 "><br /><span style="text-decoration: underline;"><em><br /><br />Agenda</e
 m><span style="font-family: Arial, Helvetica;"> <br /></span></span><span s
 tyle="font-family: Arial, Helvetica;"><span style="color: #000000;"><span s
 tyle="font-family: Times;"><strong><span style="font-family: Tahoma;">Day 1
 : Pre-Test </span></strong><span style="font-family: Tahoma;"><br />MH Over
 view/ Construction Standards <br />BPI Standards and Best Work Practices <b
 r />MH Tools and Equipment<br />Heating and Distribution Systems <br /><br 
 /><strong>Day 2: Overview of Belly Repairs </strong><br />Overview of Roof 
 Insulation Installation <br />Overview of Sidewall Insulation Installation 
 <br />Door &amp; Window Replacement<br /><br /><strong>Day 3: Manufactured 
 Housing Audit Procedures</strong><br />MH CAZ Testing / Duct Diagnostics<br
  />Review of BPI Standards and Best Work Practices<span style="color: #0000
 00;"><br /><br /><span style="color: #000000;"><strong>Day 4: Online MH Tes
 t<span style="text-decoration: underline;"></span></strong><span style="tex
 t-decoration: underline;"><em><br /><br /><br />Who Should Attend:<br /></e
 m></span><em><span style="font-family: Tahoma;"></span></em><span style="fo
 nt-family: Tahoma;"><span style="font-family: Tahoma;">Auditors/Energy Anal
 ysts with strong auditing skills<span style="font-family: Tahoma;"><br /><b
 r /><br /><span style="text-decoration: underline;"><em><span style="font-f
 amily: Tahoma;">Dates;<br /></span></em></span><em><span style="font-family
 : Tahoma;"><span style="font-family: Tahoma;"></span></span></em><span styl
 e="font-family: Tahoma;"><span style="font-family: Tahoma;">Course covers t
 he dates of&nbsp;December 5-8, 2022</span></span></span></span></span></spa
 n></span></span></span></span></span></span></span></span></span></span></s
 pan></span></span></span></span></p><p><span style="color: #336699;"><span 
 style="font-family: Tahoma;"><span style="font-size: medium;"><span style="
 color: #000000;"><span style="font-size: small;"><span style="font-size: 12
 pt;"><span style="font-family: Tahoma;"><span style="font-family: Tahoma;">
 <span style="color: #000000;"><span style="font-family: Tahoma;"><span styl
 e="font-family: Arial, Helvetica;"><span style="color: #000000;"><span styl
 e="font-family: Times;"><span style="font-family: Tahoma;"><span style="col
 or: #000000;"><span style="color: #000000;"><span style="font-family: Tahom
 a;"><span style="font-family: Tahoma;"><span style="font-family: Tahoma;"><
 span style="font-family: Tahoma;"><span style="font-family: Tahoma;"></span
 ></span></span></span></span></span></span></span></span></span></span></sp
 an></span></span></span></span></span></span></span></span></span>&nbsp;</p
 ><p><span style="color: #336699;"><span style="font-family: Tahoma;"><span 
 style="font-size: medium;"><span style="color: #000000;"><span style="font-
 size: small;"><span style="font-size: 12pt;"><span style="font-family: Taho
 ma;"><span style="font-family: Tahoma;"><span style="color: #000000;"><span
  style="font-family: Tahoma;"><span style="font-family: Arial, Helvetica;">
 <span style="color: #000000;"><span style="font-family: Times;"><span style
 ="font-family: Tahoma;"><span style="color: #000000;"><span style="color: #
 000000;"><span style="font-family: Tahoma;"><span style="font-family: Tahom
 a;"><span style="font-family: Tahoma;"><span style="font-family: Tahoma;"><
 span style="font-family: Tahoma;">Start Time: Monday-Thursday 9:00am<br />E
 nd Time: Monday-Wednesday 5:00pm / Thursday test starts at 1:00pm with&nbsp
 ;1 1/2&nbsp;hours to complete<br /><br /><br /><span style="text-decoration
 : underline;"><em><span style="font-family: Tahoma;">Prerequisites:</span><
 /em></span><em><span style="font-family: Tahoma;"> </span></em><span style=
 "font-family: Tahoma;"><span style="font-family: Tahoma;">BPI Building Anal
 yst certification<em><span style="font-family: Tahoma;"><br /></span></em><
 span style="font-family: Tahoma;"><span style="font-family: Tahoma;"><br />
 <br /><span style="text-decoration: underline;"><em>Class Size</em></span>:
  6<br /><br /><br /><span style="text-decoration: underline;"><em>BPI CEU</
 em>:</span> 6<br /><br /><br /><span style="text-decoration: underline;"><e
 m><span style="font-family: Tahoma;">Instructors:<br /></span></em></span><
 span style="font-family: Tahoma;">Joe Ilacqua, NYSWDA<span style="font-fami
 ly: Tahoma;"><br /><br /><br /><span style="text-decoration: underline;"><e
 m><span style="font-family: Tahoma;">Other Notes:<br /></span></em></span><
 span style="font-family: Tahoma;">For agencies to comply with HCR staff cer
 tification regulations only <span style="text-decoration: underline;">one</
 span> Manufactured Housing Specialist is required per agency. See PPM- Subg
 rantee Staff Certification Requirements for more information. Bring your au
 diting bags with meters and appropriate work clothes.<span style="font-fami
 ly: Times;"><br /><span style="font-family: Tahoma;"><br /><br /><span styl
 e="text-decoration: underline;"><em><span style="font-family: Tahoma;">Cour
 se Fees;&nbsp;</span></em><span style="font-family: Tahoma;"></span><span s
 tyle="font-family: Tahoma;"></span></span><span style="font-family: Tahoma;
 "><span style="color: #ff6600;"></span></span><span style="font-family: Tah
 oma;"><br /></span><span style="font-family: Tahoma;"><span style="font-fam
 ily: Tahoma;">$725/person - NY Weatherization Sub-grantees&nbsp;<br />$725/
 person - affiliate members&nbsp;<br />$1,450/person - non-members and priva
 te contractors&nbsp;</span></span></span></span></span></span></span></span
 ></span></span></span></span></span></span></span></span></span></span></sp
 an></span></span></span></span></span></span></span></span></span></span></
 span></span></span></p><p>&nbsp;</p><p style="margin-top: 0in; margin-right
 : 0in; margin-bottom: 0pt;"><strong><i><span style="background: white; colo
 r: #02613f; font-family: 'Georgia','serif';"><span style="font-size: small;
 ">**Special note</span></span></i></strong><strong><i><span style="backgrou
 nd: white; color: black; font-family: 'Georgia','serif';"><span style="font
 -size: small;">&nbsp;-&nbsp;if you wish to become an Affiliate Member, and&
 nbsp;save off the non-member rate, please contact&nbsp;Karen McMahon (315-7
 01-0440 ext. 223,&nbsp;</span><span id="cloak5965b4a03cf69aee928f90a35c623c
 10">This email address is being protected from spambots. You need JavaScrip
 t enabled to view it.</span><script type='text/javascript'>
				document.ge
 tElementById('cloak5965b4a03cf69aee928f90a35c623c10').innerHTML = '';
				v
 ar prefix = 'ma' + 'il' + 'to';
				var path = 'hr' + 'ef' + '=';
				var a
 ddy5965b4a03cf69aee928f90a35c623c10 = 'kmcmahon' + '@';
				addy5965b4a03cf
 69aee928f90a35c623c10 = addy5965b4a03cf69aee928f90a35c623c10 + 'nyswda' + '
 .' + 'org';
				var addy_text5965b4a03cf69aee928f90a35c623c10 = '<span styl
 e="color: #0000ff; font-size: small;">kmcmahon' + '@' + 'nyswda' + '.' + 'o
 rg</span>';document.getElementById('cloak5965b4a03cf69aee928f90a35c623c10')
 .innerHTML += '<a ' + path + '\'' + prefix + ':' + addy5965b4a03cf69aee928f
 90a35c623c10 + '\'>'+addy_text5965b4a03cf69aee928f90a35c623c10+'<\/a>';
		<
 /script><span style="font-size: small;">)&nbsp;</span></span></i></strong><
 span style="font-size: small;"><strong><span style="background: white; colo
 r: #02613f; font-family: 'Georgia','serif';">BEFORE YOU REGISTER&nbsp;</spa
 n></strong><em><b><span style="background: white; color: black; font-family
 : 'Georgia','serif';">for the course</span></b></em><strong><span style="ba
 ckground: white; color: black; font-family: 'Georgia','serif';">.</span></s
 trong></span></p><p>&nbsp;</p><p><span style="color: #336699;"><span style=
 "font-family: Tahoma;"><span style="font-size: medium;"><span style="color:
  #000000;"><span style="font-size: small;"><span style="font-size: 12pt;"><
 span style="font-family: Tahoma;"><span style="font-family: Tahoma;"><span 
 style="color: #000000;"><span style="font-family: Tahoma;"><span style="fon
 t-family: Arial, Helvetica;"><span style="color: #000000;"><span style="fon
 t-family: Times;"><span style="font-family: Tahoma;"><span style="color: #0
 00000;"><span style="color: #000000;"><span style="font-family: Tahoma;"><s
 pan style="font-family: Tahoma;"><span style="font-family: Tahoma;"><span s
 tyle="font-family: Tahoma;"><span style="font-family: Tahoma;"><span style=
 "font-family: Tahoma;"><span style="font-family: Tahoma;"><span style="font
 -family: Tahoma;"><span style="font-family: Tahoma;"><span style="font-fami
 ly: Tahoma;"><span style="font-family: Tahoma;"><span style="font-family: T
 ahoma;"><span style="font-family: Times;"><span style="font-family: Tahoma;
 "><span style="font-family: Tahoma;"><span style="font-family: Tahoma;"><sp
 an style="font-family: Times New Roman; font-size: small;"></span><span sty
 le="font-family: Tahoma;">NYSWDA will not be responsible for hotel costs, t
 ravel to and from the training, breakfast and dinner meals, or incidentals.
  Lunches are ARE NOT included.<br /><br />Course fees include<span style="f
 ont-family: Times;"> <span style="font-family: Tahoma;">"Your Mobile Home: 
 Energy and Repair Guide" by John Krigger<br /><br /><em>(Financial assistan
 ce may be available from local NYS Department of Labor One-Stop Centers)</e
 m><span style="font-family: Times;"><br /><span style="font-family: Tahoma;
 "><br /><br /><span style="text-decoration: underline;"><em>BPI Fees;<br />
 </em></span><span style="font-family: Tahoma;">$200/person - 50-question wr
 itten Manufactured Housing test<br />$500/person - Field test<br /><span st
 yle="color: #000000;"><strong>&nbsp;</strong></span></span></span></span></
 span></span></span></span></span></span></span></span></span></span></span>
 </span></span></span></span></span></span></span></span></span></span></spa
 n></span></span></span></span></span></span></span></span></span></span></s
 pan></span></span></p><p><em><strong><span style="color: #0000ff; font-fami
 ly: tahoma,arial,helvetica,sans-serif; font-size: 14pt;"><a href="https://w
 ww.nyswda.org/index.php?option=com_civicrm&amp;task=civicrm/event/register&
 amp;reset=1&amp;id=14156" style="color: #0000ff;">Click here to register</a
 ></span></strong></em></p><p>&nbsp;</p>
CONTACT:This email address is being protected from spambots. You need JavaScript enabled to view it.
				document.getElementById('cloak397d9310e43f7206abf2c3dd39e57551').innerHTML = '';
				var prefix = '&#109;a' + 'i&#108;' + '&#116;o';
				var path = 'hr' + 'ef' + '=';
				var addy397d9310e43f7206abf2c3dd39e57551 = 'rv&#105;ss&#101;r' + '&#64;';
				addy397d9310e43f7206abf2c3dd39e57551 = addy397d9310e43f7206abf2c3dd39e57551 + 'nyswd&#97;' + '&#46;' + '&#111;rg';
				var addy_text397d9310e43f7206abf2c3dd39e57551 = 'rv&#105;ss&#101;r' + '&#64;' + 'nyswd&#97;' + '&#46;' + '&#111;rg';document.getElementById('cloak397d9310e43f7206abf2c3dd39e57551').innerHTML += '<a ' + path + '\'' + prefix + ':' + addy397d9310e43f7206abf2c3dd39e57551 + '\'>'+addy_text397d9310e43f7206abf2c3dd39e57551+'';
		
DTSTAMP:20260424T204745
DTSTART;TZID=America/New_York:20221205T090000
DTEND;TZID=America/New_York:20221208T163000
SEQUENCE:0
TRANSP:OPAQUE
END:VEVENT
END:VCALENDAR