BEGIN:VCALENDAR
VERSION:2.0
PRODID:-//jEvents 2.0 for Joomla//EN
CALSCALE:GREGORIAN
METHOD:PUBLISH
BEGIN:VTIMEZONE
TZID:America/New_York
BEGIN:STANDARD
DTSTART:20220103T090000
RDATE:20220313T030000
TZOFFSETFROM:-0400
TZOFFSETTO:-0500
TZNAME:America/New_York EST
END:STANDARD
BEGIN:STANDARD
DTSTART:20221106T010000
RDATE:20230312T030000
TZOFFSETFROM:-0400
TZOFFSETTO:-0500
TZNAME:America/New_York EST
END:STANDARD
BEGIN:STANDARD
DTSTART:20231105T010000
RDATE:20240310T030000
TZOFFSETFROM:-0400
TZOFFSETTO:-0500
TZNAME:America/New_York EST
END:STANDARD
BEGIN:STANDARD
DTSTART:20241103T010000
RDATE:20250309T030000
TZOFFSETFROM:-0400
TZOFFSETTO:-0500
TZNAME:America/New_York EST
END:STANDARD
BEGIN:STANDARD
DTSTART:20251102T010000
RDATE:20260308T030000
TZOFFSETFROM:-0400
TZOFFSETTO:-0500
TZNAME:America/New_York EST
END:STANDARD
BEGIN:STANDARD
DTSTART:20261101T010000
RDATE:20270314T030000
TZOFFSETFROM:-0400
TZOFFSETTO:-0500
TZNAME:America/New_York EST
END:STANDARD
BEGIN:STANDARD
DTSTART:20271107T010000
RDATE:20280312T030000
TZOFFSETFROM:-0400
TZOFFSETTO:-0500
TZNAME:America/New_York EST
END:STANDARD
BEGIN:STANDARD
DTSTART:20281105T010000
RDATE:20290311T030000
TZOFFSETFROM:-0400
TZOFFSETTO:-0500
TZNAME:America/New_York EST
END:STANDARD
BEGIN:STANDARD
DTSTART:20291104T010000
RDATE:20300310T030000
TZOFFSETFROM:-0400
TZOFFSETTO:-0500
TZNAME:America/New_York EST
END:STANDARD
BEGIN:STANDARD
DTSTART:20301103T010000
RDATE:20310309T030000
TZOFFSETFROM:-0400
TZOFFSETTO:-0500
TZNAME:America/New_York EST
END:STANDARD
BEGIN:DAYLIGHT
DTSTART:20220313T030000
RDATE:20221106T010000
TZOFFSETFROM:-0500
TZOFFSETTO:-0400
TZNAME:America/New_York EDT
END:DAYLIGHT
BEGIN:DAYLIGHT
DTSTART:20230312T030000
RDATE:20231105T010000
TZOFFSETFROM:-0500
TZOFFSETTO:-0400
TZNAME:America/New_York EDT
END:DAYLIGHT
BEGIN:DAYLIGHT
DTSTART:20240310T030000
RDATE:20241103T010000
TZOFFSETFROM:-0500
TZOFFSETTO:-0400
TZNAME:America/New_York EDT
END:DAYLIGHT
BEGIN:DAYLIGHT
DTSTART:20250309T030000
RDATE:20251102T010000
TZOFFSETFROM:-0500
TZOFFSETTO:-0400
TZNAME:America/New_York EDT
END:DAYLIGHT
BEGIN:DAYLIGHT
DTSTART:20260308T030000
RDATE:20261101T010000
TZOFFSETFROM:-0500
TZOFFSETTO:-0400
TZNAME:America/New_York EDT
END:DAYLIGHT
BEGIN:DAYLIGHT
DTSTART:20270314T030000
RDATE:20271107T010000
TZOFFSETFROM:-0500
TZOFFSETTO:-0400
TZNAME:America/New_York EDT
END:DAYLIGHT
BEGIN:DAYLIGHT
DTSTART:20280312T030000
RDATE:20281105T010000
TZOFFSETFROM:-0500
TZOFFSETTO:-0400
TZNAME:America/New_York EDT
END:DAYLIGHT
BEGIN:DAYLIGHT
DTSTART:20290311T030000
RDATE:20291104T010000
TZOFFSETFROM:-0500
TZOFFSETTO:-0400
TZNAME:America/New_York EDT
END:DAYLIGHT
BEGIN:DAYLIGHT
DTSTART:20300310T030000
RDATE:20301103T010000
TZOFFSETFROM:-0500
TZOFFSETTO:-0400
TZNAME:America/New_York EDT
END:DAYLIGHT
END:VTIMEZONE
BEGIN:VEVENT
UID:835bd79a57f78a8c98b9bd33eaf67cd0
CATEGORIES:At Syracuse
CREATED:20221209T185008
SUMMARY:Heating & Venting Fundamentals
LOCATION:NYSWDA Training Center - East Syracuse
DESCRIPTION:Heating &amp; Venting Fundamentals \n
 \n
Training Location: NYSWDA Trainin
 g Center (Building 1) – 5869 Fisher Road, East Syracuse, NY 13057\n\nThis t
 raining is for;\nEntry level HVAC techs and auditors\n
 \n
Course Descripti
 on;\nThis is an introductory course that will teach fundamentals of heating
  systems and venting combustion appliances. The focus is to provide all per
 sonnel working in client homes, the knowledge to identify different classif
 ications of furnaces and boilers. Instruction on health and safety issues f
 or those working on venting systems and an explanation of which materials c
 an be used and which cannot. NFPA venting guidelines will be introduced so 
 that venting safety is built into the thought process. This training will a
 ssist technicians in identifying problems, repairing and analysis of ventin
 g systems in the field.\n\n
 \n
Agenda;\nMorning session - classroom presen
 tation\nAfternoon session - consists of hands-on lab training\n
 \n
Dates;\
 nJanuary 4, 2023 / 9:00am - 4:30pm\n
 \n
Prerequisites: \nNone\n
 \n
Class 
 Size: 8\n
 \n
BPI CEU's; 3\n
 \n
Instructor; Dave Hill - HVAC instructor - 
 NYSWDA\n
 \n
Course Fees: \n$262/person - NY Weatherization Sub-grantees\n

  $262/person - affiliate members\n
 $380/person - non-members\n
 \n
Course 
 fees do not include lunch.\n
ÂÂÂ \n
**Special note - if you wish to become 
 an Affiliate Member, and save off the non-member rate, please contact Karen
  McMahon (315-701-0440 ext. 223, This email address is being protected from
  spambots. You need JavaScript enabled to view it.
				document.getElementB
 yId('cloak58397df30b85fc6d7fa25527e8c967b1').innerHTML = '';
				var prefix
  = 'ma' + 'il' + 'to';
				var path = 'hr' + 'ef' + '=';
				var addy58397d
 f30b85fc6d7fa25527e8c967b1 = 'kmcmahon' + '@';
				addy58397df30b85fc6d7fa2
 5527e8c967b1 = addy58397df30b85fc6d7fa25527e8c967b1 + 'nyswda' + '.' + 'org
 ';
				var addy_text58397df30b85fc6d7fa25527e8c967b1 = 'kmcmahon' + '@' + '
 nyswda' + '.' + 'org';document.getElementById('cloak58397df30b85fc6d7fa2552
 7e8c967b1').innerHTML += '<a ' + path + '\'' + prefix + ':' + addy58397df30
 b85fc6d7fa25527e8c967b1 + '\'>'+addy_text58397df30b85fc6d7fa25527e8c967b1+'
 ';
		) BEFORE YOU REGISTER for the course.\n
 \n
CLASS FULL - call or email
   This email address is being protected from spambots. You need JavaScript 
 enabled to view it.
				document.getElementById('cloakcbf34d89e7ac46d0a5340
 447a597603b').innerHTML = '';
				var prefix = 'ma' + 'il' + 'to';
				var 
 path = 'hr' + 'ef' + '=';
				var addycbf34d89e7ac46d0a5340447a597603b = 'r
 visser' + '@';
				addycbf34d89e7ac46d0a5340447a597603b = addycbf34d89e7ac4
 6d0a5340447a597603b + 'nyswda' + '.' + 'org';
				var addy_textcbf34d89e7ac
 46d0a5340447a597603b = 'rvisser' + '@' + 'nyswda' + '.' + 'org';document.ge
 tElementById('cloakcbf34d89e7ac46d0a5340447a597603b').innerHTML += '<a ' + 
 path + '\'' + prefix + ':' + addycbf34d89e7ac46d0a5340447a597603b + '\'>'+a
 ddy_textcbf34d89e7ac46d0a5340447a597603b+'';
		 for availability or wait li
 st\n
X-ALT-DESC;FMTTYPE=text/html:<p><span style="font-family: tahoma, arial, helvetica, sans-serif;"><em><sp
 an style="font-size: 13.5pt; color: #336699;"></span></em></span><strong><s
 pan style="color: #336699; font-family: tahoma, arial, helvetica, sans-seri
 f; font-size: 14pt;">Heating &amp; Venting Fundamentals </span></strong></p
 ><p>&nbsp;</p><p><strong><span style="color: #336699; font-family: tahoma, 
 arial, helvetica, sans-serif; font-size: 14pt;">Training</span><span style=
 "color: #336699; font-size: 13.5pt;"><span style="font-family: tahoma, aria
 l, helvetica, sans-serif; font-size: 14pt;"> Location: NYSWDA Training Cent
 er (Building 1) – 5869 Fisher Road, East Syracuse, NY 13057</span><br /><br
  /></span></strong><span style="font-family: tahoma, arial, helvetica, sans
 -serif; font-size: 12pt; color: #000000;"><em><span style="text-decoration:
  underline;"><span style="font-family: Tahoma;">This training is for;</span
 ></span></em><span style="font-family: Tahoma;"><span style="font-family: T
 ahoma;"><br /></span></span></span><span style="font-family: tahoma, arial,
  helvetica, sans-serif; font-size: 12pt; color: #000000;">Entry level HVAC 
 techs and auditors</span><span style="font-family: tahoma, arial, helvetica
 , sans-serif; font-size: 12pt; color: #000000;"><span style="font-family: T
 ahoma;"><span style="font-family: Tahoma;"><span style="font-family: Tahoma
 ;"><span style="font-family: Tahoma;"><span style="text-decoration: underli
 ne;"><em><span style="font-family: Tahoma;"></span></em></span></span></spa
 n></span></span></span></p><p>&nbsp;</p><p><span style="font-family: tahoma
 , arial, helvetica, sans-serif; font-size: 12pt; color: #000000;"><span sty
 le="font-family: Tahoma;"><span style="font-family: Tahoma;"><span style="f
 ont-family: Tahoma;"><span style="font-family: Tahoma;"><span style="text-d
 ecoration: underline;"><em><span style="font-family: Tahoma;">Course Descri
 ption;<br /></span></em></span></span></span></span></span></span><span sty
 le="font-family: tahoma, arial, helvetica, sans-serif; font-size: 12pt; col
 or: #000000;">This is an introductory course that will teach fundamentals o
 f heating systems and venting combustion appliances. The focus is to provid
 e all personnel working in client homes, the knowledge to identify differen
 t classifications of furnaces and boilers. Instruction on health and safety
  issues for those working on venting systems and an explanation of which ma
 terials can be used and which cannot. NFPA venting guidelines will be intro
 duced so that venting safety is built into the thought process. This traini
 ng will assist technicians in identifying problems, repairing and analysis 
 of venting systems in the field.<br /></span></p><p>&nbsp;</p><p><span styl
 e="color: #000000;"><span style="font-family: tahoma, arial, helvetica, san
 s-serif; font-size: 12pt;"><span style="font-family: Tahoma;"><span style="
 font-family: Tahoma;"><span style="font-family: Tahoma;"><span style="font-
 family: Tahoma;"><span style="font-family: Tahoma;"><span style="font-famil
 y: Tahoma;"><span style="font-family: Tahoma;"><span style="text-decoration
 : underline;"><em>Agenda;<br /></em></span></span></span></span></span></sp
 an></span></span></span><span style="font-family: tahoma, arial, helvetica,
  sans-serif; font-size: 12pt;">Morning session - classroom presentation<br 
 />Afternoon session - consists of hands-on lab training</span></span></p><p
 >&nbsp;</p><p><span style="color: #000000;"><span style="font-family: tahom
 a, arial, helvetica, sans-serif; font-size: 12pt;"><span style="font-family
 : Tahoma;"><span style="font-family: Tahoma;"><span style="font-family: Tah
 oma;"><span style="font-family: Tahoma;"><span style="font-family: Tahoma;"
 ><span style="font-family: Tahoma;"><span style="font-family: Tahoma;"><spa
 n style="text-decoration: underline;"><em>Dates;<br /></em></span><span sty
 le="font-family: Tahoma;">January 4, 2023 / 9:00am - 4:30pm</span></span></
 span></span></span></span></span></span></span></span></p><p>&nbsp;</p><p><
 span style="color: #000000;"><span style="font-family: tahoma, arial, helve
 tica, sans-serif; font-size: 12pt;"><span style="font-family: Tahoma;"><spa
 n style="font-family: Tahoma;"><span style="font-family: Tahoma;"><span sty
 le="font-family: Tahoma;"><span style="font-family: Tahoma;"><span style="f
 ont-family: Tahoma;"><span style="font-family: Tahoma;"><span style="font-f
 amily: Tahoma;"><span style="text-decoration: underline;"><em><span style="
 font-family: Tahoma;">Prerequisites:</span></em></span><em><span style="fon
 t-family: Tahoma;"> <br /></span></em><span style="font-family: Tahoma;">No
 ne</span></span></span></span></span></span></span></span></span></span></s
 pan></p><p>&nbsp;</p><p><span style="color: #000000;"><span style="font-fam
 ily: tahoma, arial, helvetica, sans-serif; font-size: 12pt;"><span style="f
 ont-family: Tahoma;"><span style="font-family: Tahoma;"><span style="font-f
 amily: Tahoma;"><span style="font-family: Tahoma;"><span style="font-family
 : Tahoma;"><span style="font-family: Tahoma;"><span style="font-family: Tah
 oma;"><span style="font-family: Tahoma;"><span style="font-family: Tahoma;"
 ><span style="font-family: Tahoma;"><em><span style="text-decoration: under
 line;">Class Size</span></em>: 8</span></span></span></span></span></span><
 /span></span></span></span></span></span></p><p>&nbsp;</p><p><span style="c
 olor: #000000;"><span style="font-family: tahoma, arial, helvetica, sans-se
 rif; font-size: 12pt;"><span style="font-family: Tahoma;"><span style="font
 -family: Tahoma;"><span style="font-family: Tahoma;"><span style="font-fami
 ly: Tahoma;"><span style="font-family: Tahoma;"><span style="font-family: T
 ahoma;"><span style="font-family: Tahoma;"><span style="font-family: Tahoma
 ;"><span style="font-family: Tahoma;"><span style="font-family: Tahoma;"><s
 pan style="text-decoration: underline;"><em>BPI</em></span><em><span style=
 "text-decoration: underline;"> CEU's</span>;</em> 3</span></span></span></s
 pan></span></span></span></span></span></span></span></span></p><p>&nbsp;</
 p><p><span style="color: #000000;"><span style="font-family: tahoma, arial,
  helvetica, sans-serif; font-size: 12pt;"><span style="font-family: Tahoma;
 "><span style="font-family: Tahoma;"><span style="font-family: Tahoma;"><sp
 an style="font-family: Tahoma;"><span style="font-family: Tahoma;"><span st
 yle="font-family: Tahoma;"><span style="font-family: Tahoma;"><span style="
 font-family: Tahoma;"><span style="font-family: Tahoma;"><span style="font-
 family: Tahoma;"><span style="font-family: Tahoma;"><span style="text-decor
 ation: underline;">Instructor</span>; Dave Hill</span><span style="font-fam
 ily: Tahoma;">&nbsp;- HVAC instructor - NYSWDA</span></span></span></span><
 /span></span></span></span></span></span></span></span></span></p><p>&nbsp;
 </p><p><span style="color: #000000;"><span style="font-family: tahoma, aria
 l, helvetica, sans-serif; font-size: 12pt;"><span style="font-family: Tahom
 a;"><span style="font-family: Tahoma;"><span style="font-family: Tahoma;"><
 span style="font-family: Tahoma;"><span style="font-family: Tahoma;"><span 
 style="font-family: Tahoma;"><span style="font-family: Tahoma;"><span style
 ="font-family: Tahoma;"><span style="font-family: Tahoma;"><span style="fon
 t-family: Tahoma;"><span style="font-family: Tahoma;"><span style="text-dec
 oration: underline;">Cours</span><span style="text-decoration: underline;">
 e<em> Fees:</em></span><em>&nbsp;</em><br /><span style="font-family: Tahom
 a;">$262/person</span><span style="font-family: Tahoma;"> - NY Weatherizati
 on Sub-grantees</span></span></span></span></span></span></span></span></sp
 an></span></span></span></span></span></p><p><span style="font-family: taho
 ma, arial, helvetica, sans-serif; font-size: 12pt; color: #000000;"><span s
 tyle="font-family: Tahoma;"><span style="font-family: Tahoma;"><span style=
 "font-family: Tahoma;"><span style="font-family: Tahoma;"><span style="font
 -family: Tahoma;"><span style="font-family: Tahoma;"><span style="font-fami
 ly: Tahoma;"><span style="font-family: Tahoma;"><span style="font-family: T
 ahoma;"><span style="font-family: Tahoma;"><span style="font-family: Tahoma
 ;"><span style="font-family: Tahoma;"> </span><span style="font-family: Tah
 oma;">$262/person</span><span style="font-family: Tahoma;"> - </span><span 
 style="font-family: Tahoma;">affiliate members</span></span></span></span><
 /span></span></span></span></span></span></span></span></span></p><p><span 
 style="font-family: tahoma, arial, helvetica, sans-serif; font-size: 12pt; 
 color: #000000;"><span style="font-family: Tahoma;"><span style="font-famil
 y: Tahoma;"><span style="font-family: Tahoma;"><span style="font-family: Ta
 homa;"><span style="font-family: Tahoma;"><span style="font-family: Tahoma;
 "><span style="font-family: Tahoma;"><span style="font-family: Tahoma;"><sp
 an style="font-family: Tahoma;"><span style="font-family: Tahoma;"><span st
 yle="font-family: Tahoma;"><span style="font-family: Tahoma;"> </span><span
  style="font-family: Tahoma;">$380/person</span><span style="font-family: T
 ahoma;"> - </span><span style="font-family: Tahoma;">non-members</span></sp
 an></span></span></span></span></span></span></span></span></span></span></
 span></p><p>&nbsp;</p><p><span style="color: #000000;"><em><span style="fon
 t-family: Tahoma; font-size: 12pt;"><strong>Course fees do not include lunc
 h.</strong></span></em></span></p><p><span style="font-family: tahoma, aria
 l, helvetica, sans-serif; font-size: 12pt; color: #ffffff;"><span><span sty
 le="font-family: Tahoma;"><span style="font-family: Tahoma;"><span style="f
 ont-family: Tahoma;"><span style="font-family: Tahoma;"><span style="font-f
 amily: Tahoma;"><span style="font-family: Tahoma;"><span style="font-family
 : Tahoma;"><span style="font-family: Tahoma;"><span style="font-family: Tah
 oma;"><span style="font-family: Tahoma;"><span style="font-family: Tahoma;"
 ><em><span style="font-family: Tahoma;">ÂÂÂ&nbsp;</span></em></span></span>
 </span></span></span></span></span></span></span></span></span></span></spa
 n></p><p style="margin-top: 0in; margin-right: 0in; margin-bottom: 0pt;"><s
 trong><i><span style="background: white; color: #02613f; font-family: Georg
 ia, 'serif';"><span style="font-size: small;">**Special note</span></span><
 /i></strong><strong><i><span style="background: white; color: black; font-f
 amily: Georgia, 'serif';"><span style="font-size: small;">&nbsp;-&nbsp;if y
 ou wish to become an Affiliate Member, and&nbsp;save off the non-member rat
 e, please contact Karen McMahon (315-701-0440 ext. 223,&nbsp;</span><span i
 d="cloak58397df30b85fc6d7fa25527e8c967b1">This email address is being prote
 cted from spambots. You need JavaScript enabled to view it.</span><script t
 ype='text/javascript'>
				document.getElementById('cloak58397df30b85fc6d7f
 a25527e8c967b1').innerHTML = '';
				var prefix = 'ma' + 'il' + 'to';
				v
 ar path = 'hr' + 'ef' + '=';
				var addy58397df30b85fc6d7fa25527e8c967b1 =
  'kmcmahon' + '@';
				addy58397df30b85fc6d7fa25527e8c967b1 = addy58397df30
 b85fc6d7fa25527e8c967b1 + 'nyswda' + '.' + 'org';
				var addy_text58397df3
 0b85fc6d7fa25527e8c967b1 = '<span style="color: #0000ff; font-size: small;"
 >kmcmahon' + '@' + 'nyswda' + '.' + 'org</span>';document.getElementById('c
 loak58397df30b85fc6d7fa25527e8c967b1').innerHTML += '<a ' + path + '\'' + p
 refix + ':' + addy58397df30b85fc6d7fa25527e8c967b1 + '\'>'+addy_text58397df
 30b85fc6d7fa25527e8c967b1+'<\/a>';
		</script><span style="font-size: small
 ;">)&nbsp;</span></span></i></strong><span style="font-size: small;"><stron
 g><span style="background: white; color: #02613f; font-family: Georgia, 'se
 rif';">BEFORE YOU REGISTER&nbsp;</span></strong><em><b><span style="backgro
 und: white; color: black; font-family: Georgia, 'serif';">for the course</s
 pan></b></em><strong><span style="background: white; color: black; font-fam
 ily: Georgia, 'serif';">.</span></strong></span></p><p>&nbsp;</p><p><em><sp
 an style="color: #0000ff;"><strong><span style="font-family: tahoma, arial,
  helvetica, sans-serif; font-size: 14pt;"><span style="font-family: tahoma,
  arial, helvetica, sans-serif; font-size: 14pt;"><span style="font-family: 
 tahoma, arial, helvetica, sans-serif; font-size: 14pt;"><span style="font-f
 amily: tahoma,arial,helvetica,sans-serif; font-size: 14pt;"><strong><em><st
 rong><span style="color: #ffffff; font-family: tahoma,arial,helvetica,sans-
 serif; font-size: 14pt;"><span style="color: #ff0000;">CLASS FULL - call or
  email</span>&nbsp; <span id="cloakcbf34d89e7ac46d0a5340447a597603b">This e
 mail address is being protected from spambots. You need JavaScript enabled 
 to view it.</span><script type='text/javascript'>
				document.getElementBy
 Id('cloakcbf34d89e7ac46d0a5340447a597603b').innerHTML = '';
				var prefix 
 = 'ma' + 'il' + 'to';
				var path = 'hr' + 'ef' + '=';
				var addycbf34d8
 9e7ac46d0a5340447a597603b = 'rvisser' + '@';
				addycbf34d89e7ac46d0a53404
 47a597603b = addycbf34d89e7ac46d0a5340447a597603b + 'nyswda' + '.' + 'org';
 
				var addy_textcbf34d89e7ac46d0a5340447a597603b = '<span style="color: #
 0066cc;">rvisser' + '@' + 'nyswda' + '.' + 'org</span>';document.getElement
 ById('cloakcbf34d89e7ac46d0a5340447a597603b').innerHTML += '<a ' + path + '
 \'' + prefix + ':' + addycbf34d89e7ac46d0a5340447a597603b + '\'>'+addy_text
 cbf34d89e7ac46d0a5340447a597603b+'<\/a>';
		</script> <span style="color: #
 ff0000;">for availability or wait list</span></span></strong></em><span sty
 le="color: #ffffff;"></span></strong><span style="font-family: tahoma, aria
 l, helvetica, sans-serif; font-size: 14pt;"></span></span><span style="font
 -family: tahoma, arial, helvetica, sans-serif; font-size: 14pt;"></span></s
 pan><span style="font-family: tahoma, arial, helvetica, sans-serif; font-si
 ze: 14pt;"></span></span><em></em><span style="color: #0000ff;"></span></sp
 an></strong></span></em></p>
CONTACT:This email address is being protected from spambots. You need JavaScript enabled to view it.
				document.getElementById('cloakd3cf5bfef8078ef78a272d8bfe0140ab').innerHTML = '';
				var prefix = '&#109;a' + 'i&#108;' + '&#116;o';
				var path = 'hr' + 'ef' + '=';
				var addyd3cf5bfef8078ef78a272d8bfe0140ab = 'rv&#105;ss&#101;r' + '&#64;';
				addyd3cf5bfef8078ef78a272d8bfe0140ab = addyd3cf5bfef8078ef78a272d8bfe0140ab + 'nyswd&#97;' + '&#46;' + '&#111;rg';
				var addy_textd3cf5bfef8078ef78a272d8bfe0140ab = 'rv&#105;ss&#101;r' + '&#64;' + 'nyswd&#97;' + '&#46;' + '&#111;rg';document.getElementById('cloakd3cf5bfef8078ef78a272d8bfe0140ab').innerHTML += '<a ' + path + '\'' + prefix + ':' + addyd3cf5bfef8078ef78a272d8bfe0140ab + '\'>'+addy_textd3cf5bfef8078ef78a272d8bfe0140ab+'';
		
DTSTAMP:20260424T160741
DTSTART;TZID=America/New_York:20230104T090000
DTEND;TZID=America/New_York:20230104T160000
SEQUENCE:0
TRANSP:OPAQUE
END:VEVENT
END:VCALENDAR