BEGIN:VCALENDAR
VERSION:2.0
PRODID:-//jEvents 2.0 for Joomla//EN
CALSCALE:GREGORIAN
METHOD:PUBLISH
BEGIN:VTIMEZONE
TZID:America/New_York
BEGIN:STANDARD
DTSTART:20220104T090000
RDATE:20220313T030000
TZOFFSETFROM:-0400
TZOFFSETTO:-0500
TZNAME:America/New_York EST
END:STANDARD
BEGIN:STANDARD
DTSTART:20221106T010000
RDATE:20230312T030000
TZOFFSETFROM:-0400
TZOFFSETTO:-0500
TZNAME:America/New_York EST
END:STANDARD
BEGIN:STANDARD
DTSTART:20231105T010000
RDATE:20240310T030000
TZOFFSETFROM:-0400
TZOFFSETTO:-0500
TZNAME:America/New_York EST
END:STANDARD
BEGIN:STANDARD
DTSTART:20241103T010000
RDATE:20250309T030000
TZOFFSETFROM:-0400
TZOFFSETTO:-0500
TZNAME:America/New_York EST
END:STANDARD
BEGIN:STANDARD
DTSTART:20251102T010000
RDATE:20260308T030000
TZOFFSETFROM:-0400
TZOFFSETTO:-0500
TZNAME:America/New_York EST
END:STANDARD
BEGIN:STANDARD
DTSTART:20261101T010000
RDATE:20270314T030000
TZOFFSETFROM:-0400
TZOFFSETTO:-0500
TZNAME:America/New_York EST
END:STANDARD
BEGIN:STANDARD
DTSTART:20271107T010000
RDATE:20280312T030000
TZOFFSETFROM:-0400
TZOFFSETTO:-0500
TZNAME:America/New_York EST
END:STANDARD
BEGIN:STANDARD
DTSTART:20281105T010000
RDATE:20290311T030000
TZOFFSETFROM:-0400
TZOFFSETTO:-0500
TZNAME:America/New_York EST
END:STANDARD
BEGIN:STANDARD
DTSTART:20291104T010000
RDATE:20300310T030000
TZOFFSETFROM:-0400
TZOFFSETTO:-0500
TZNAME:America/New_York EST
END:STANDARD
BEGIN:STANDARD
DTSTART:20301103T010000
RDATE:20310309T030000
TZOFFSETFROM:-0400
TZOFFSETTO:-0500
TZNAME:America/New_York EST
END:STANDARD
BEGIN:DAYLIGHT
DTSTART:20220313T030000
RDATE:20221106T010000
TZOFFSETFROM:-0500
TZOFFSETTO:-0400
TZNAME:America/New_York EDT
END:DAYLIGHT
BEGIN:DAYLIGHT
DTSTART:20230312T030000
RDATE:20231105T010000
TZOFFSETFROM:-0500
TZOFFSETTO:-0400
TZNAME:America/New_York EDT
END:DAYLIGHT
BEGIN:DAYLIGHT
DTSTART:20240310T030000
RDATE:20241103T010000
TZOFFSETFROM:-0500
TZOFFSETTO:-0400
TZNAME:America/New_York EDT
END:DAYLIGHT
BEGIN:DAYLIGHT
DTSTART:20250309T030000
RDATE:20251102T010000
TZOFFSETFROM:-0500
TZOFFSETTO:-0400
TZNAME:America/New_York EDT
END:DAYLIGHT
BEGIN:DAYLIGHT
DTSTART:20260308T030000
RDATE:20261101T010000
TZOFFSETFROM:-0500
TZOFFSETTO:-0400
TZNAME:America/New_York EDT
END:DAYLIGHT
BEGIN:DAYLIGHT
DTSTART:20270314T030000
RDATE:20271107T010000
TZOFFSETFROM:-0500
TZOFFSETTO:-0400
TZNAME:America/New_York EDT
END:DAYLIGHT
BEGIN:DAYLIGHT
DTSTART:20280312T030000
RDATE:20281105T010000
TZOFFSETFROM:-0500
TZOFFSETTO:-0400
TZNAME:America/New_York EDT
END:DAYLIGHT
BEGIN:DAYLIGHT
DTSTART:20290311T030000
RDATE:20291104T010000
TZOFFSETFROM:-0500
TZOFFSETTO:-0400
TZNAME:America/New_York EDT
END:DAYLIGHT
BEGIN:DAYLIGHT
DTSTART:20300310T030000
RDATE:20301103T010000
TZOFFSETFROM:-0500
TZOFFSETTO:-0400
TZNAME:America/New_York EDT
END:DAYLIGHT
END:VTIMEZONE
BEGIN:VEVENT
UID:ada5127cf5dddb2096897d828d1459df
CATEGORIES:At Syracuse
CREATED:20221209T185356
SUMMARY:Clean and Tune for Heating Systems
LOCATION:NYSWDA Training Center - East Syracuse
DESCRIPTION:Clean &amp; Tune for Heating Systems\n
 \n
Training Location: NYSWDA Traini
 ng Center (Building 1) – 5869 Fisher Road, East Syracuse, NY 13057\n\n\nThi
 s training is for;\nWeatherization Directors, Auditors, Heating Techs, Heat
 ing Subcontractors\n
 \n
Course Description;\nAgencies working on 1-4 famil
 y dwellings will now have a method of ensuring technicians performing WAP h
 eating services, have HCR and DOE specification on what constitutes a prope
 r heating system clean and tune. Agencies may find the information useful i
 n writing bid proposals, and for inspection of completed work. Heating subc
 ontractors are urged to attend. This course is useful as a first step in pe
 rforming heating system clean and tunes in-house.\n\n
 \n
Agenda;\nMorning 
 session - classroom presentation\nAfternoon session - consists of hands-on 
 lab training on oil boiler and natural gas forced hot air furnace\n
 \n
Dat
 es;\nJanuary 5, 2023/ 9:00am - 4:30pm\n
 \n
\n
Prerequisites: \nHeating &am
 p; Venting Fundamentals\n
 \n
\n
Class Size: 8\n
 \n
BPI CEU's; 3\n
 \n
Ins
 tructors; Dave Hill - HVAC instructor - NYSWDA\n
 \n
Course Fees:\n$262/per
 son - NY Weatherization Sub-grantees\n
$262/person - affiliate members\n
$3
 80/person - non-members\n
ÂÂ \n
Course fees do not include lunch\n
 \n
**Sp
 ecial note - if you wish to become an Affiliate Member, and save off the no
 n-member rate, please contact Karen McMahon (315-701-0440, This email addre
 ss is being protected from spambots. You need JavaScript enabled to view it
 .
				document.getElementById('cloak04d357d1638284c90f81a6a318df7e7a').inne
 rHTML = '';
				var prefix = 'ma' + 'il' + 'to';
				var path = 'hr' + 'ef'
  + '=';
				var addy04d357d1638284c90f81a6a318df7e7a = 'kmcmahon' + '@';
		
 		addy04d357d1638284c90f81a6a318df7e7a = addy04d357d1638284c90f81a6a318df7e
 7a + 'nyswda' + '.' + 'org';
				var addy_text04d357d1638284c90f81a6a318df7
 e7a = 'kmcmahon' + '@' + 'nyswda' + '.' + 'org';document.getElementById('cl
 oak04d357d1638284c90f81a6a318df7e7a').innerHTML += '<a ' + path + '\'' + pr
 efix + ':' + addy04d357d1638284c90f81a6a318df7e7a + '\'>'+addy_text04d357d1
 638284c90f81a6a318df7e7a+'';
		) BEFORE YOU REGISTER for the course.\n
 \n

 CLASS FULL - call or email  This email address is being protected from spam
 bots. You need JavaScript enabled to view it.
				document.getElementById('
 cloak55e4c20e6a67ec62bb14636d11503892').innerHTML = '';
				var prefix = 'm
 a' + 'il' + 'to';
				var path = 'hr' + 'ef' + '=';
				var addy55e4c20e6a6
 7ec62bb14636d11503892 = 'rvisser' + '@';
				addy55e4c20e6a67ec62bb14636d11
 503892 = addy55e4c20e6a67ec62bb14636d11503892 + 'nyswda' + '.' + 'org';
			
 	var addy_text55e4c20e6a67ec62bb14636d11503892 = 'rvisser' + '@' + 'nyswda'
  + '.' + 'org';document.getElementById('cloak55e4c20e6a67ec62bb14636d115038
 92').innerHTML += '<a ' + path + '\'' + prefix + ':' + addy55e4c20e6a67ec62
 bb14636d11503892 + '\'>'+addy_text55e4c20e6a67ec62bb14636d11503892+'';
		 f
 or availability or wait list \n
 \n
X-ALT-DESC;FMTTYPE=text/html:<p><strong><span style="color: #336699; font-size: 13.5pt;"><span style="fo
 nt-family: tahoma, arial, helvetica, sans-serif;">Clean &amp; Tune for Heat
 ing Systems</span></span></strong></p><p>&nbsp;</p><p><strong><span style="
 color: #336699; font-size: 13.5pt;"><span style="font-family: tahoma, arial
 , helvetica, sans-serif;">Training Location: NYSWDA Training Center (Buildi
 ng 1) – 5869 Fisher Road, East Syracuse, NY 13057</span><br /><br /><br /><
 /span></strong><span style="color: #000000;"><span style="font-family: taho
 ma, arial, helvetica, sans-serif; font-size: 12pt;"><em><span style="text-d
 ecoration: underline;"><span style="font-family: Tahoma;">This training is 
 for;</span></span></em><span style="font-family: Tahoma;"><span style="font
 -family: Tahoma;"><br /></span></span></span><span style="font-family: taho
 ma, arial, helvetica, sans-serif; font-size: 12pt;">Weatherization Director
 s, Auditors, Heating Techs, Heating Subcontractors</span></span></p><p>&nbs
 p;</p><p><span style="color: #000000;"><span style="font-family: tahoma, ar
 ial, helvetica, sans-serif; font-size: 12pt;"><span style="font-family: Tah
 oma;"><span style="font-family: Tahoma;"><span style="font-family: Tahoma;"
 ><span style="font-family: Tahoma;"><span style="text-decoration: underline
 ;"><em><span style="font-family: Tahoma;">Course Description;<br /></span><
 /em></span></span></span></span></span></span><span style="font-family: tah
 oma, arial, helvetica, sans-serif; font-size: 12pt;">Agencies working on 1-
 4 family dwellings will now have a method of ensuring technicians performin
 g WAP heating services, have HCR and DOE specification on what constitutes 
 a proper heating system clean and tune. Agencies may find the information u
 seful in writing bid proposals, and for inspection of completed work. Heati
 ng subcontractors are urged to attend. This course is useful as a first ste
 p in performing heating system clean and tunes in-house.<br /></span><span 
 style="font-family: tahoma, arial, helvetica, sans-serif; font-size: 12pt;"
 ><span style="font-family: Tahoma;"><span style="font-family: Tahoma;"><spa
 n style="font-family: Tahoma;"><span style="font-family: Tahoma;"><span sty
 le="font-family: Tahoma;"><span style="font-family: Tahoma;"><span style="f
 ont-family: Tahoma;"><span style="text-decoration: underline;"><em></em></s
 pan></span></span></span></span></span></span></span></span></span></p><p>&
 nbsp;</p><p><span style="color: #000000;"><span style="font-family: tahoma,
  arial, helvetica, sans-serif; font-size: 12pt;"><span style="font-family: 
 Tahoma;"><span style="font-family: Tahoma;"><span style="font-family: Tahom
 a;"><span style="font-family: Tahoma;"><span style="font-family: Tahoma;"><
 span style="font-family: Tahoma;"><span style="font-family: Tahoma;"><span 
 style="text-decoration: underline;"><em>Agenda;<br /></em></span></span></s
 pan></span></span></span></span></span></span><span style="font-family: tah
 oma, arial, helvetica, sans-serif; font-size: 12pt;">Morning session - clas
 sroom presentation<br />Afternoon session - consists of hands-on lab traini
 ng on oil boiler and natural gas forced hot air furnace</span></span></p><p
 >&nbsp;</p><p><span style="font-family: tahoma, arial, helvetica, sans-seri
 f; font-size: 12pt; color: #000000;"><span style="font-family: Tahoma;"><sp
 an style="font-family: Tahoma;"><span style="font-family: Tahoma;"><span st
 yle="font-family: Tahoma;"><span style="font-family: Tahoma;"><span style="
 font-family: Tahoma;"><span style="font-family: Tahoma;"><span style="text-
 decoration: underline;"><em>Dates;<br /></em></span><span style="font-famil
 y: Tahoma;">January 5, 2023/ 9:00am - 4:30pm</span></span></span></span></s
 pan></span></span></span></span></p><p>&nbsp;</p><p><span style="color: #00
 0000;"></span></p><p><span style="font-family: tahoma, arial, helvetica, sa
 ns-serif; font-size: 12pt; color: #000000;"><span style="font-family: Tahom
 a;"><span style="font-family: Tahoma;"><span style="font-family: Tahoma;"><
 span style="font-family: Tahoma;"><span style="font-family: Tahoma;"><span 
 style="font-family: Tahoma;"><span style="font-family: Tahoma;"><span style
 ="font-family: Tahoma;"><span style="text-decoration: underline;"><em><span
  style="font-family: Tahoma;">Prerequisites:</span></em></span><em><span st
 yle="font-family: Tahoma;"> <br /></span></em><span style="font-family: Tah
 oma;"><span style="font-family: Tahoma;">Heating &amp; Venting Fundamentals
 </span></span></span></span></span></span></span></span></span></span></spa
 n></p><p>&nbsp;</p><p><span style="color: #000000;"></span></p><p><span sty
 le="font-family: tahoma, arial, helvetica, sans-serif; font-size: 12pt; col
 or: #000000;"><span style="font-family: Tahoma;"><span style="font-family: 
 Tahoma;"><span style="font-family: Tahoma;"><span style="font-family: Tahom
 a;"><span style="font-family: Tahoma;"><span style="font-family: Tahoma;"><
 span style="font-family: Tahoma;"><span style="font-family: Tahoma;"><span 
 style="font-family: Tahoma;"><span style="font-family: Tahoma;"><em><span s
 tyle="text-decoration: underline;">Class Size</span></em>: 8</span></span><
 /span></span></span></span></span></span></span></span></span></p><p>&nbsp;
 </p><p><span style="font-family: tahoma, arial, helvetica, sans-serif; font
 -size: 12pt; color: #000000;"><span style="font-family: Tahoma;"><span styl
 e="font-family: Tahoma;"><span style="font-family: Tahoma;"><span style="fo
 nt-family: Tahoma;"><span style="font-family: Tahoma;"><span style="font-fa
 mily: Tahoma;"><span style="font-family: Tahoma;"><span style="font-family:
  Tahoma;"><span style="font-family: Tahoma;"><span style="font-family: Taho
 ma;"><span style="text-decoration: underline;"><em>BPI</em> <em>CEU's;</em>
 </span> 3</span></span></span></span></span></span></span></span></span></s
 pan></span></p><p>&nbsp;</p><p><span style="font-family: tahoma, arial, hel
 vetica, sans-serif; font-size: 12pt; color: #000000;"><span style="font-fam
 ily: Tahoma;"><span style="font-family: Tahoma;"><span style="font-family: 
 Tahoma;"><span style="font-family: Tahoma;"><span style="font-family: Tahom
 a;"><span style="font-family: Tahoma;"><span style="font-family: Tahoma;"><
 span style="font-family: Tahoma;"><span style="font-family: Tahoma;"><span 
 style="font-family: Tahoma;"><em><span style="text-decoration: underline;">
 <span style="font-family: Tahoma;">Instructors;</span></span></em><span sty
 le="font-family: Tahoma;">&nbsp;Dave Hill</span><span style="font-family: T
 ahoma;">&nbsp;- HVAC instructor - NYSWDA</span></span></span></span></span>
 </span></span></span></span></span></span></span></p><p>&nbsp;</p><p><span 
 style="font-family: tahoma, arial, helvetica, sans-serif; font-size: 12pt; 
 color: #000000;"><span style="font-family: Tahoma;"><span style="font-famil
 y: Tahoma;"><span style="font-family: Tahoma;"><span style="font-family: Ta
 homa;"><span style="font-family: Tahoma;"><span style="font-family: Tahoma;
 "><span style="font-family: Tahoma;"><span style="font-family: Tahoma;"><sp
 an style="font-family: Tahoma;"><span style="font-family: Tahoma;"><span st
 yle="font-family: Tahoma;"><em><span style="text-decoration: underline;">Co
 urs</span></em><span style="text-decoration: underline;"><em>e Fees:<span><
 /span></em></span><em><br /></em><span style="font-family: Tahoma;">$262/pe
 rson - NY Weatherization Sub-grantees</span></span></span></span></span></s
 pan></span></span></span></span></span></span></span></p><p><span style="fo
 nt-family: tahoma, arial, helvetica, sans-serif; font-size: 12pt; color: #0
 00000;"><span style="font-family: Tahoma;"><span style="font-family: Tahoma
 ;"><span style="font-family: Tahoma;"><span style="font-family: Tahoma;"><s
 pan style="font-family: Tahoma;"><span style="font-family: Tahoma;"><span s
 tyle="font-family: Tahoma;"><span style="font-family: Tahoma;"><span style=
 "font-family: Tahoma;"><span style="font-family: Tahoma;"><span style="font
 -family: Tahoma;"><span style="font-family: Tahoma;">$262/person - affiliat
 e members</span></span></span></span></span></span></span></span></span></s
 pan></span></span></span></p><p><span style="font-family: tahoma, arial, he
 lvetica, sans-serif; font-size: 12pt; color: #000000;"><span style="font-fa
 mily: Tahoma;"><span style="font-family: Tahoma;"><span style="font-family:
  Tahoma;"><span style="font-family: Tahoma;"><span style="font-family: Taho
 ma;"><span style="font-family: Tahoma;"><span style="font-family: Tahoma;">
 <span style="font-family: Tahoma;"><span style="font-family: Tahoma;"><span
  style="font-family: Tahoma;"><span style="font-family: Tahoma;"><span styl
 e="font-family: Tahoma;">$380/person - non-members</span></span></span></sp
 an></span></span></span></span></span></span></span></span></span></p><p><s
 pan style="font-family: tahoma, arial, helvetica, sans-serif; font-size: 12
 pt; color: #ffffff;"><span><span style="font-family: Tahoma;"><span style="
 font-family: Tahoma;"><span style="font-family: Tahoma;"><span style="font-
 family: Tahoma;"><span style="font-family: Tahoma;"><span style="font-famil
 y: Tahoma;"><span style="font-family: Tahoma;"><span style="font-family: Ta
 homa;"><span style="font-family: Tahoma;"><span style="font-family: Tahoma;
 "><span style="font-family: Tahoma;"><em><span style="font-family: Tahoma;"
 >ÂÂ&nbsp;</span></em></span></span></span></span></span></span></span></spa
 n></span></span></span></span></span></p><p><span style="font-size: 12pt; c
 olor: #000000;"><strong><em><span style="font-family: Tahoma;">Course fees 
 do not include lunch</span></em></strong></span></p><p>&nbsp;</p><p style="
 margin-top: 0in; margin-right: 0in; margin-bottom: 0pt;"><strong><i><span s
 tyle="background: white; color: #02613f; font-family: Georgia, 'serif';"><s
 pan style="font-size: small;">**Special note</span></span></i></strong><str
 ong><i><span style="background: white; color: black; font-family: Georgia, 
 'serif';"><span style="font-size: small;">&nbsp;-&nbsp;if you wish to becom
 e an Affiliate Member, and&nbsp;save&nbsp;off the non-member rate, please c
 ontact Karen McMahon (315-701-0440,&nbsp;</span><span id="cloak04d357d16382
 84c90f81a6a318df7e7a">This email address is being protected from spambots. 
 You need JavaScript enabled to view it.</span><script type='text/javascript
 '>
				document.getElementById('cloak04d357d1638284c90f81a6a318df7e7a').inn
 erHTML = '';
				var prefix = 'ma' + 'il' + 'to';
				var path = 'hr' + 'ef
 ' + '=';
				var addy04d357d1638284c90f81a6a318df7e7a = 'kmcmahon' + '@';
	
 			addy04d357d1638284c90f81a6a318df7e7a = addy04d357d1638284c90f81a6a318df7
 e7a + 'nyswda' + '.' + 'org';
				var addy_text04d357d1638284c90f81a6a318df
 7e7a = '<span style="color: #0000ff; font-size: small;">kmcmahon' + '@' + '
 nyswda' + '.' + 'org</span>';document.getElementById('cloak04d357d1638284c9
 0f81a6a318df7e7a').innerHTML += '<a ' + path + '\'' + prefix + ':' + addy04
 d357d1638284c90f81a6a318df7e7a + '\'>'+addy_text04d357d1638284c90f81a6a318d
 f7e7a+'<\/a>';
		</script><span style="font-size: small;">)&nbsp;</span></s
 pan></i></strong><span style="font-size: small;"><strong><span style="backg
 round: white; color: #02613f; font-family: Georgia, 'serif';">BEFORE YOU RE
 GISTER&nbsp;</span></strong><em><b><span style="background: white; color: b
 lack; font-family: Georgia, 'serif';">for the course</span></b></em><strong
 ><span style="background: white; color: black; font-family: Georgia, 'serif
 ';">.</span></strong></span></p><p>&nbsp;</p><p><span style="font-family: t
 ahoma, arial, helvetica, sans-serif; font-size: 14pt;"><span style="color: 
 #0000ff;"><span style="font-family: tahoma, arial, helvetica, sans-serif; f
 ont-size: 14pt;"><span style="font-family: tahoma, arial, helvetica, sans-s
 erif; font-size: 14pt;"><span style="font-family: tahoma,arial,helvetica,sa
 ns-serif; font-size: 14pt;"><strong><em><strong><span style="color: #ffffff
 ; font-family: tahoma,arial,helvetica,sans-serif; font-size: 14pt;"><span s
 tyle="color: #ff0000;">CLASS FULL - call or email</span>&nbsp; <span id="cl
 oak55e4c20e6a67ec62bb14636d11503892">This email address is being protected 
 from spambots. You need JavaScript enabled to view it.</span><script type='
 text/javascript'>
				document.getElementById('cloak55e4c20e6a67ec62bb14636
 d11503892').innerHTML = '';
				var prefix = 'ma' + 'il' + 'to';
				var pa
 th = 'hr' + 'ef' + '=';
				var addy55e4c20e6a67ec62bb14636d11503892 = 'rvi
 sser' + '@';
				addy55e4c20e6a67ec62bb14636d11503892 = addy55e4c20e6a67ec6
 2bb14636d11503892 + 'nyswda' + '.' + 'org';
				var addy_text55e4c20e6a67ec
 62bb14636d11503892 = '<span style="color: #0066cc;">rvisser' + '@' + 'nyswd
 a' + '.' + 'org</span>';document.getElementById('cloak55e4c20e6a67ec62bb146
 36d11503892').innerHTML += '<a ' + path + '\'' + prefix + ':' + addy55e4c20
 e6a67ec62bb14636d11503892 + '\'>'+addy_text55e4c20e6a67ec62bb14636d11503892
 +'<\/a>';
		</script> <span style="color: #ff0000;">for availability or wai
 t list</span></span></strong></em><span style="color: #ffffff;"></span></st
 rong><span style="font-family: tahoma, arial, helvetica, sans-serif; font-s
 ize: 14pt;"></span></span><span style="font-family: tahoma, arial, helvetic
 a, sans-serif; font-size: 14pt;"></span></span><span style="font-family: ta
 homa, arial, helvetica, sans-serif; font-size: 14pt;"></span></span><em></e
 m><span style="color: #0000ff;"></span>&nbsp;</span></span><em></em><span s
 tyle="color: #0000ff;"></span></p><p>&nbsp;</p>
CONTACT:This email address is being protected from spambots. You need JavaScript enabled to view it.
				document.getElementById('cloak78eb22a11c67b7fbe599a7466252c1ea').innerHTML = '';
				var prefix = '&#109;a' + 'i&#108;' + '&#116;o';
				var path = 'hr' + 'ef' + '=';
				var addy78eb22a11c67b7fbe599a7466252c1ea = 'rv&#105;ss&#101;r' + '&#64;';
				addy78eb22a11c67b7fbe599a7466252c1ea = addy78eb22a11c67b7fbe599a7466252c1ea + 'nyswd&#97;' + '&#46;' + '&#111;rg';
				var addy_text78eb22a11c67b7fbe599a7466252c1ea = 'rv&#105;ss&#101;r' + '&#64;' + 'nyswd&#97;' + '&#46;' + '&#111;rg';document.getElementById('cloak78eb22a11c67b7fbe599a7466252c1ea').innerHTML += '<a ' + path + '\'' + prefix + ':' + addy78eb22a11c67b7fbe599a7466252c1ea + '\'>'+addy_text78eb22a11c67b7fbe599a7466252c1ea+'';
		
DTSTAMP:20260424T161441
DTSTART;TZID=America/New_York:20230105T090000
DTEND;TZID=America/New_York:20230105T160000
SEQUENCE:0
TRANSP:OPAQUE
END:VEVENT
END:VCALENDAR