BEGIN:VCALENDAR
VERSION:2.0
PRODID:-//jEvents 2.0 for Joomla//EN
CALSCALE:GREGORIAN
METHOD:PUBLISH
BEGIN:VTIMEZONE
TZID:America/New_York
BEGIN:STANDARD
DTSTART:20221106T010000
RDATE:20230312T030000
TZOFFSETFROM:-0400
TZOFFSETTO:-0500
TZNAME:America/New_York EST
END:STANDARD
BEGIN:STANDARD
DTSTART:20231105T010000
RDATE:20240310T030000
TZOFFSETFROM:-0400
TZOFFSETTO:-0500
TZNAME:America/New_York EST
END:STANDARD
BEGIN:STANDARD
DTSTART:20241103T010000
RDATE:20250309T030000
TZOFFSETFROM:-0400
TZOFFSETTO:-0500
TZNAME:America/New_York EST
END:STANDARD
BEGIN:STANDARD
DTSTART:20251102T010000
RDATE:20260308T030000
TZOFFSETFROM:-0400
TZOFFSETTO:-0500
TZNAME:America/New_York EST
END:STANDARD
BEGIN:STANDARD
DTSTART:20261101T010000
RDATE:20270314T030000
TZOFFSETFROM:-0400
TZOFFSETTO:-0500
TZNAME:America/New_York EST
END:STANDARD
BEGIN:STANDARD
DTSTART:20271107T010000
RDATE:20280312T030000
TZOFFSETFROM:-0400
TZOFFSETTO:-0500
TZNAME:America/New_York EST
END:STANDARD
BEGIN:STANDARD
DTSTART:20281105T010000
RDATE:20290311T030000
TZOFFSETFROM:-0400
TZOFFSETTO:-0500
TZNAME:America/New_York EST
END:STANDARD
BEGIN:STANDARD
DTSTART:20291104T010000
RDATE:20300310T030000
TZOFFSETFROM:-0400
TZOFFSETTO:-0500
TZNAME:America/New_York EST
END:STANDARD
BEGIN:STANDARD
DTSTART:20301103T010000
RDATE:20310309T030000
TZOFFSETFROM:-0400
TZOFFSETTO:-0500
TZNAME:America/New_York EST
END:STANDARD
BEGIN:DAYLIGHT
DTSTART:20220507T090000
RDATE:20221106T010000
TZOFFSETFROM:-0500
TZOFFSETTO:-0400
TZNAME:America/New_York EDT
END:DAYLIGHT
BEGIN:DAYLIGHT
DTSTART:20230312T030000
RDATE:20231105T010000
TZOFFSETFROM:-0500
TZOFFSETTO:-0400
TZNAME:America/New_York EDT
END:DAYLIGHT
BEGIN:DAYLIGHT
DTSTART:20240310T030000
RDATE:20241103T010000
TZOFFSETFROM:-0500
TZOFFSETTO:-0400
TZNAME:America/New_York EDT
END:DAYLIGHT
BEGIN:DAYLIGHT
DTSTART:20250309T030000
RDATE:20251102T010000
TZOFFSETFROM:-0500
TZOFFSETTO:-0400
TZNAME:America/New_York EDT
END:DAYLIGHT
BEGIN:DAYLIGHT
DTSTART:20260308T030000
RDATE:20261101T010000
TZOFFSETFROM:-0500
TZOFFSETTO:-0400
TZNAME:America/New_York EDT
END:DAYLIGHT
BEGIN:DAYLIGHT
DTSTART:20270314T030000
RDATE:20271107T010000
TZOFFSETFROM:-0500
TZOFFSETTO:-0400
TZNAME:America/New_York EDT
END:DAYLIGHT
BEGIN:DAYLIGHT
DTSTART:20280312T030000
RDATE:20281105T010000
TZOFFSETFROM:-0500
TZOFFSETTO:-0400
TZNAME:America/New_York EDT
END:DAYLIGHT
BEGIN:DAYLIGHT
DTSTART:20290311T030000
RDATE:20291104T010000
TZOFFSETFROM:-0500
TZOFFSETTO:-0400
TZNAME:America/New_York EDT
END:DAYLIGHT
BEGIN:DAYLIGHT
DTSTART:20300310T030000
RDATE:20301103T010000
TZOFFSETFROM:-0500
TZOFFSETTO:-0400
TZNAME:America/New_York EDT
END:DAYLIGHT
END:VTIMEZONE
BEGIN:VEVENT
UID:621ed585d60c8c2a9c6572c5671e521f
CATEGORIES:At Syracuse
CREATED:20230109T173038
SUMMARY:BPI Heating Professional
LOCATION:NYSWDA Training Center - East Syracuse
DESCRIPTION:<p><span style="color: #336699;"><strong><span style="font-family: Tahoma;"
 ><span style="font-size: medium;"><span style="font-family: tahoma,arial,he
 lvetica,sans-serif;"><em></em></span><span style="font-size: 14pt;"><strong
 ><span style="color: #336699;">BPI Heating Professional</span></strong></sp
 an></span></span></strong></span></p><p>&nbsp;</p><p><span style="color: #3
 36699;"><strong><span style="font-family: Tahoma;"><span style="font-size: 
 medium;"><strong><span style="color: #336699; font-size: 13.5pt;">Training<
 /span><span style="color: #336699; font-size: 13.5pt;"> Location: NYSWDA Tr
 aining Center (Building 1) – 5869 Fisher Road, East Syracuse, NY 13057</spa
 n></strong></span></span></strong></span></p><p>&nbsp;</p><p>&nbsp;</p><p><
 span style="color: #ff0000;"><span style="font-family: tahoma, arial, helve
 tica, sans-serif; font-size: 12pt; color: #000000;"></span></span><span sty
 le="color: #336699;"><span style="font-family: Tahoma; font-size: 12pt;"><s
 pan style="color: #000000;"><span style="text-decoration: underline;"><em><
 span>Course Description:<br /></span></em></span></span></span></span><span
  style="color: #336699;"><span style="font-family: Tahoma; font-size: 12pt;
 "><span style="color: #000000;"><span>This four day course, which includes 
 classroom and heating lab sessions, will prepare you to take the BPI Heatin
 g Professional written and field tests. Using NYSWDA's state-of-the art Hea
 ting Lab, attendees will train on 15 of the most common residential heating
  systems, from 70% efficient atmospheric furnaces to 90%+ efficient two-sta
 ge ECM blower furnaces. Additionally, trainees will become knowledgeable on
  gas and oil-fired hydronic boilers, their controls and components. Attende
 es will be introduced to system load and sizing concepts, system design, du
 ct system diagnostics, and proper maintenance and efficiency analysis. This
  is a challenging course, and as such, NYSWDA strongly recommends that atte
 ndees hold BPI Building Analyst certification and have strong HVAC experien
 ce. After the trainees successfully complete the written portion of the tes
 t, we will schedule them to return for the field test.&nbsp; Candidates hav
 e&nbsp;one year from the time they&nbsp;pass the written test to&nbsp;compl
 ete their field test.&nbsp;&nbsp;</span></span></span></span></p><p><span s
 tyle="color: #336699;"><span style="font-family: Tahoma; font-size: 12pt;">
 <span><span style="color: #000000;"><span><span style="font-family: Tahoma;
 "><span style="color: #000000;"><span style="text-decoration: underline;"><
 em><br />Agenda</em><span style="font-family: Arial, Helvetica;"> <br /><sp
 an style="color: #000000;"></span></span></span><span style="font-family: A
 rial, Helvetica;"><span style="color: #000000;"><span style="font-family: T
 imes;"><strong><span style="font-family: Tahoma;">Day 1: </span></strong><s
 pan style="font-family: Tahoma;">AM - classroom / PM - Heating Lab <br /><s
 trong>Day 2: </strong>AM - classroom / PM - Heating Lab <br /><strong>Day 3
 : </strong>AM - all day labs <br /><strong>Day 4: </strong>AM - review / PM
  - written test <br /><br /><span style="text-decoration: underline;"><em><
 br />Who Should Attend:<br /></em></span><em><span style="font-family: Taho
 ma;"></span></em><span style="font-family: Tahoma;"><span style="font-famil
 y: Tahoma;">Auditors, Building Analysts, HVAC professionals<span style="fon
 t-family: Tahoma;"><br /><br /><br /><span style="text-decoration: underlin
 e;"><em><span style="font-family: Tahoma;">Dates;<br /></span></em></span><
 em><span style="font-family: Tahoma;"><span style="font-family: Tahoma;"></
 span></span></em><span style="font-family: Tahoma;"><span style="font-famil
 y: Tahoma;">Course covers the dates of May 8-11, 2023</span></span></span><
 /span></span></span></span></span></span></span></span></span></span></span
 ></span></span></p><p><span style="color: #336699;"><span style="font-famil
 y: Tahoma; font-size: 12pt;"><span><span style="color: #000000;"><span><spa
 n style="font-family: Tahoma;"><span style="color: #000000;"><span style="f
 ont-family: Arial, Helvetica;"><span style="color: #000000;"><span style="f
 ont-family: Times;"><span style="font-family: Tahoma;"><span style="font-fa
 mily: Tahoma;"><span style="font-family: Tahoma;"><span style="font-family:
  Tahoma;"><span style="font-family: Tahoma;"><span style="font-family: Taho
 ma;"><span style="color: #336699;"><span style="font-family: Tahoma; font-s
 ize: 12pt;"><span><span style="color: #000000;"><span><span style="font-fam
 ily: Tahoma;"><span style="color: #000000;"><span style="font-family: Arial
 , Helvetica;"><span style="color: #000000;"><span style="font-family: Times
 ;"><span style="font-family: Tahoma;"><span style="font-family: Tahoma;"><s
 pan style="font-family: Tahoma;"><span style="font-family: Tahoma;"><span s
 tyle="font-family: Tahoma;"><span style="font-family: Tahoma;">Start Time: 
 Monday-Thursday 9:00am<br />End Time: Monday-Wednesday 4:00pm / Thursday te
 st starts at 10:00am (or after the review session) with 1 1/2 hours to comp
 lete<br /><br /><br /><span style="text-decoration: underline;"><em><span s
 tyle="font-family: Tahoma;">Prerequisites:</span></em></span><em><span styl
 e="font-family: Tahoma;"> </span></em><span style="font-family: Tahoma;"><s
 pan style="font-family: Tahoma;">BPI Building Analyst certification<em><spa
 n style="font-family: Tahoma;"><br /></span></em><span style="font-family: 
 Tahoma;"><span style="font-family: Tahoma;"><br /><br /><span style="text-d
 ecoration: underline;"><em>Class Size</em></span>: 6<br /><br /><br /><span
  style="text-decoration: underline;"><em>BPI CEU</em>:</span> 6<br /><br />
 <br /><span style="text-decoration: underline;"><em><span style="font-famil
 y: Tahoma;">Instructors:<br /></span></em></span><span style="font-family: 
 Tahoma;">Dave Hill / NYSWDA HVAC trainer<span style="font-family: Tahoma;">
 <span style="font-family: Tahoma;"><span style="font-family: Times;"><br />
 <span style="font-family: Tahoma;"><br /><br /><span style="text-decoration
 : underline;"><em><span style="font-family: Tahoma;">Course Fees;</span></e
 m></span><em><span style="font-family: Tahoma;"><br /></span></em><span sty
 le="font-family: Tahoma;"><span style="font-family: Tahoma;">$725/person - 
 NY Weatherization Sub-grantees<span style="color: #ff6600;"> </span><br />$
 725/person - affiliate members&nbsp;<br />$1,450/person - non-members </spa
 n></span></span></span></span></span></span></span></span></span></span></s
 pan></span></span></span></span></span></span></span></span></span></span><
 /span></span></span></span></span></span></span></span></span></span></span
 ></span></span></span></span></span></span></span></span></span></span></p>
 <p>&nbsp;</p><p style="margin-top: 0in; margin-right: 0in; margin-bottom: 0
 pt;"><strong><i><span style="background: white; color: #02613f; font-family
 : 'Georgia','serif';"><span style="font-size: small;">**Special note</span>
 </span></i></strong><strong><i><span style="background: white; color: black
 ; font-family: 'Georgia','serif';"><span style="font-size: small;">&nbsp;-&
 nbsp;if you wish to become an Affiliate Member and&nbsp;save off the non-me
 mber rate, please contact&nbsp;Karen McMahon (315-701-0440 ext. 223,&nbsp;<
 /span><span id="cloak28b3642cb8b080634ae2315c52ed944e">This email address i
 s being protected from spambots. You need JavaScript enabled to view it.</s
 pan><script type='text/javascript'>
				document.getElementById('cloak28b36
 42cb8b080634ae2315c52ed944e').innerHTML = '';
				var prefix = 'ma' + 'il' 
 + 'to';
				var path = 'hr' + 'ef' + '=';
				var addy28b3642cb8b080634ae23
 15c52ed944e = 'kmcmahon' + '@';
				addy28b3642cb8b080634ae2315c52ed944e = 
 addy28b3642cb8b080634ae2315c52ed944e + 'nyswda' + '.' + 'org';
				var addy
 _text28b3642cb8b080634ae2315c52ed944e = '<span style="color: #0000ff; font-
 size: small;">kmcmahon' + '@' + 'nyswda' + '.' + 'org</span>';document.getE
 lementById('cloak28b3642cb8b080634ae2315c52ed944e').innerHTML += '<a ' + pa
 th + '\'' + prefix + ':' + addy28b3642cb8b080634ae2315c52ed944e + '\'>'+add
 y_text28b3642cb8b080634ae2315c52ed944e+'<\/a>';
		</script><span style="fon
 t-size: small;">)&nbsp;</span></span></i></strong><span style="font-size: s
 mall;"><strong><span style="background: white; color: #02613f; font-family:
  'Georgia','serif';">BEFORE YOU REGISTER&nbsp;</span></strong><em><b><span 
 style="background: white; color: black; font-family: 'Georgia','serif';">fo
 r the course</span></b></em><strong><span style="background: white; color: 
 black; font-family: 'Georgia','serif';">.</span></strong></span></p><p>&nbs
 p;</p><p><span style="color: #ff6600; font-family: tahoma,arial,helvetica,s
 ans-serif; font-size: 12pt;"><span style="font-family: Times New Roman; fon
 t-size: small;"></span></span><span style="color: #336699;"><span style="fo
 nt-family: Tahoma; font-size: 12pt;"><span><span style="color: #000000;"><s
 pan><span style="font-family: Tahoma;"><span style="color: #000000;"><span 
 style="font-family: Arial, Helvetica;"><span style="color: #000000;"><span 
 style="font-family: Times;"><span style="font-family: Tahoma;"><span style=
 "font-family: Tahoma;"><span style="font-family: Tahoma;"><span style="font
 -family: Tahoma;"><span style="font-family: Tahoma;"><span style="font-fami
 ly: Tahoma;"><span style="font-family: Tahoma;"><span style="font-family: T
 ahoma;"><span style="font-family: Tahoma;"><span style="font-family: Tahoma
 ;"><span style="font-family: Tahoma;"><span style="font-family: Tahoma;"><s
 pan style="font-family: Tahoma;"><span style="font-family: Times;"><span st
 yle="font-family: Tahoma;"><span style="font-family: Tahoma;"><span style="
 font-family: Tahoma;"><span style="font-family: Tahoma;">NYSWDA will not be
  responsible for hotel costs, travel to and from the training, breakfast an
 d dinner meals, or incidentals. Lunches are ARE NOT included.<br /><br /><e
 m>(Financial assistance may be available from local NYS Department of Labor
  One-Stop Centers)</em><span style="font-family: Times;"><br /><span style=
 "font-family: Tahoma;"><br /><span style="text-decoration: underline;"><em>
 BPI Fees;<br /></em></span><span style="font-family: Tahoma;">$220/person -
  50-question written test<br />$550/person - Field test</span></span></span
 ></span></span></span></span></span></span></span></span></span></span></sp
 an></span></span></span></span></span></span></span></span></span></span></
 span></span></span></span></span></span></span></p><p>&nbsp;</p><p><span st
 yle="color: #0000ff;"><em><strong><span style="font-size: 14pt;"><span styl
 e="font-family: Tahoma;"><span style="font-family: Tahoma;"><span style="fo
 nt-family: Arial, Helvetica;"><span style="font-family: Times;"><span style
 ="font-family: Tahoma;"><span style="font-family: Tahoma;"><span style="fon
 t-family: Tahoma;"><span style="font-family: Tahoma;"><span style="font-fam
 ily: Tahoma;"><span style="font-family: Tahoma;"><span style="font-family: 
 Tahoma;"><span style="font-family: Tahoma;"><span style="font-family: Tahom
 a;"><span style="font-family: Tahoma;"><span style="font-family: Tahoma;"><
 span style="font-family: Tahoma;"><span style="font-family: Tahoma;"><span 
 style="font-family: Times;"><span style="font-family: Tahoma;"><span style=
 "font-family: Tahoma;"><span style="font-family: Tahoma;"><span style="font
 -family: Tahoma;"><span style="font-family: Times;"><span style="font-famil
 y: Tahoma;"><span style="font-family: Tahoma;"><a href="index.php?option=co
 m_civicrm&amp;task=civicrm/event/register&amp;reset=1&amp;id=14200" style="
 color: #0000ff;">Click here to register</a></span></span></span></span></sp
 an></span></span></span></span></span></span></span></span></span></span></
 span></span></span></span></span></span></span></span></span></span></span>
 </strong></em></span></p>
X-ALT-DESC;FMTTYPE=text/html:<p><span style="color: #336699;"><strong><span style="font-family: Tahoma;"
 ><span style="font-size: medium;"><span style="font-family: tahoma,arial,he
 lvetica,sans-serif;"><em></em></span><span style="font-size: 14pt;"><strong
 ><span style="color: #336699;">BPI Heating Professional</span></strong></sp
 an></span></span></strong></span></p><p>&nbsp;</p><p><span style="color: #3
 36699;"><strong><span style="font-family: Tahoma;"><span style="font-size: 
 medium;"><strong><span style="color: #336699; font-size: 13.5pt;">Training<
 /span><span style="color: #336699; font-size: 13.5pt;"> Location: NYSWDA Tr
 aining Center (Building 1) – 5869 Fisher Road, East Syracuse, NY 13057</spa
 n></strong></span></span></strong></span></p><p>&nbsp;</p><p>&nbsp;</p><p><
 span style="color: #ff0000;"><span style="font-family: tahoma, arial, helve
 tica, sans-serif; font-size: 12pt; color: #000000;"></span></span><span sty
 le="color: #336699;"><span style="font-family: Tahoma; font-size: 12pt;"><s
 pan style="color: #000000;"><span style="text-decoration: underline;"><em><
 span>Course Description:<br /></span></em></span></span></span></span><span
  style="color: #336699;"><span style="font-family: Tahoma; font-size: 12pt;
 "><span style="color: #000000;"><span>This four day course, which includes 
 classroom and heating lab sessions, will prepare you to take the BPI Heatin
 g Professional written and field tests. Using NYSWDA's state-of-the art Hea
 ting Lab, attendees will train on 15 of the most common residential heating
  systems, from 70% efficient atmospheric furnaces to 90%+ efficient two-sta
 ge ECM blower furnaces. Additionally, trainees will become knowledgeable on
  gas and oil-fired hydronic boilers, their controls and components. Attende
 es will be introduced to system load and sizing concepts, system design, du
 ct system diagnostics, and proper maintenance and efficiency analysis. This
  is a challenging course, and as such, NYSWDA strongly recommends that atte
 ndees hold BPI Building Analyst certification and have strong HVAC experien
 ce. After the trainees successfully complete the written portion of the tes
 t, we will schedule them to return for the field test.&nbsp; Candidates hav
 e&nbsp;one year from the time they&nbsp;pass the written test to&nbsp;compl
 ete their field test.&nbsp;&nbsp;</span></span></span></span></p><p><span s
 tyle="color: #336699;"><span style="font-family: Tahoma; font-size: 12pt;">
 <span><span style="color: #000000;"><span><span style="font-family: Tahoma;
 "><span style="color: #000000;"><span style="text-decoration: underline;"><
 em><br />Agenda</em><span style="font-family: Arial, Helvetica;"> <br /><sp
 an style="color: #000000;"></span></span></span><span style="font-family: A
 rial, Helvetica;"><span style="color: #000000;"><span style="font-family: T
 imes;"><strong><span style="font-family: Tahoma;">Day 1: </span></strong><s
 pan style="font-family: Tahoma;">AM - classroom / PM - Heating Lab <br /><s
 trong>Day 2: </strong>AM - classroom / PM - Heating Lab <br /><strong>Day 3
 : </strong>AM - all day labs <br /><strong>Day 4: </strong>AM - review / PM
  - written test <br /><br /><span style="text-decoration: underline;"><em><
 br />Who Should Attend:<br /></em></span><em><span style="font-family: Taho
 ma;"></span></em><span style="font-family: Tahoma;"><span style="font-famil
 y: Tahoma;">Auditors, Building Analysts, HVAC professionals<span style="fon
 t-family: Tahoma;"><br /><br /><br /><span style="text-decoration: underlin
 e;"><em><span style="font-family: Tahoma;">Dates;<br /></span></em></span><
 em><span style="font-family: Tahoma;"><span style="font-family: Tahoma;"></
 span></span></em><span style="font-family: Tahoma;"><span style="font-famil
 y: Tahoma;">Course covers the dates of May 8-11, 2023</span></span></span><
 /span></span></span></span></span></span></span></span></span></span></span
 ></span></span></p><p><span style="color: #336699;"><span style="font-famil
 y: Tahoma; font-size: 12pt;"><span><span style="color: #000000;"><span><spa
 n style="font-family: Tahoma;"><span style="color: #000000;"><span style="f
 ont-family: Arial, Helvetica;"><span style="color: #000000;"><span style="f
 ont-family: Times;"><span style="font-family: Tahoma;"><span style="font-fa
 mily: Tahoma;"><span style="font-family: Tahoma;"><span style="font-family:
  Tahoma;"><span style="font-family: Tahoma;"><span style="font-family: Taho
 ma;"><span style="color: #336699;"><span style="font-family: Tahoma; font-s
 ize: 12pt;"><span><span style="color: #000000;"><span><span style="font-fam
 ily: Tahoma;"><span style="color: #000000;"><span style="font-family: Arial
 , Helvetica;"><span style="color: #000000;"><span style="font-family: Times
 ;"><span style="font-family: Tahoma;"><span style="font-family: Tahoma;"><s
 pan style="font-family: Tahoma;"><span style="font-family: Tahoma;"><span s
 tyle="font-family: Tahoma;"><span style="font-family: Tahoma;">Start Time: 
 Monday-Thursday 9:00am<br />End Time: Monday-Wednesday 4:00pm / Thursday te
 st starts at 10:00am (or after the review session) with 1 1/2 hours to comp
 lete<br /><br /><br /><span style="text-decoration: underline;"><em><span s
 tyle="font-family: Tahoma;">Prerequisites:</span></em></span><em><span styl
 e="font-family: Tahoma;"> </span></em><span style="font-family: Tahoma;"><s
 pan style="font-family: Tahoma;">BPI Building Analyst certification<em><spa
 n style="font-family: Tahoma;"><br /></span></em><span style="font-family: 
 Tahoma;"><span style="font-family: Tahoma;"><br /><br /><span style="text-d
 ecoration: underline;"><em>Class Size</em></span>: 6<br /><br /><br /><span
  style="text-decoration: underline;"><em>BPI CEU</em>:</span> 6<br /><br />
 <br /><span style="text-decoration: underline;"><em><span style="font-famil
 y: Tahoma;">Instructors:<br /></span></em></span><span style="font-family: 
 Tahoma;">Dave Hill / NYSWDA HVAC trainer<span style="font-family: Tahoma;">
 <span style="font-family: Tahoma;"><span style="font-family: Times;"><br />
 <span style="font-family: Tahoma;"><br /><br /><span style="text-decoration
 : underline;"><em><span style="font-family: Tahoma;">Course Fees;</span></e
 m></span><em><span style="font-family: Tahoma;"><br /></span></em><span sty
 le="font-family: Tahoma;"><span style="font-family: Tahoma;">$725/person - 
 NY Weatherization Sub-grantees<span style="color: #ff6600;"> </span><br />$
 725/person - affiliate members&nbsp;<br />$1,450/person - non-members </spa
 n></span></span></span></span></span></span></span></span></span></span></s
 pan></span></span></span></span></span></span></span></span></span></span><
 /span></span></span></span></span></span></span></span></span></span></span
 ></span></span></span></span></span></span></span></span></span></span></p>
 <p>&nbsp;</p><p style="margin-top: 0in; margin-right: 0in; margin-bottom: 0
 pt;"><strong><i><span style="background: white; color: #02613f; font-family
 : 'Georgia','serif';"><span style="font-size: small;">**Special note</span>
 </span></i></strong><strong><i><span style="background: white; color: black
 ; font-family: 'Georgia','serif';"><span style="font-size: small;">&nbsp;-&
 nbsp;if you wish to become an Affiliate Member and&nbsp;save off the non-me
 mber rate, please contact&nbsp;Karen McMahon (315-701-0440 ext. 223,&nbsp;<
 /span><span id="cloak28b3642cb8b080634ae2315c52ed944e">This email address i
 s being protected from spambots. You need JavaScript enabled to view it.</s
 pan><script type='text/javascript'>
				document.getElementById('cloak28b36
 42cb8b080634ae2315c52ed944e').innerHTML = '';
				var prefix = 'ma' + 'il' 
 + 'to';
				var path = 'hr' + 'ef' + '=';
				var addy28b3642cb8b080634ae23
 15c52ed944e = 'kmcmahon' + '@';
				addy28b3642cb8b080634ae2315c52ed944e = 
 addy28b3642cb8b080634ae2315c52ed944e + 'nyswda' + '.' + 'org';
				var addy
 _text28b3642cb8b080634ae2315c52ed944e = '<span style="color: #0000ff; font-
 size: small;">kmcmahon' + '@' + 'nyswda' + '.' + 'org</span>';document.getE
 lementById('cloak28b3642cb8b080634ae2315c52ed944e').innerHTML += '<a ' + pa
 th + '\'' + prefix + ':' + addy28b3642cb8b080634ae2315c52ed944e + '\'>'+add
 y_text28b3642cb8b080634ae2315c52ed944e+'<\/a>';
		</script><span style="fon
 t-size: small;">)&nbsp;</span></span></i></strong><span style="font-size: s
 mall;"><strong><span style="background: white; color: #02613f; font-family:
  'Georgia','serif';">BEFORE YOU REGISTER&nbsp;</span></strong><em><b><span 
 style="background: white; color: black; font-family: 'Georgia','serif';">fo
 r the course</span></b></em><strong><span style="background: white; color: 
 black; font-family: 'Georgia','serif';">.</span></strong></span></p><p>&nbs
 p;</p><p><span style="color: #ff6600; font-family: tahoma,arial,helvetica,s
 ans-serif; font-size: 12pt;"><span style="font-family: Times New Roman; fon
 t-size: small;"></span></span><span style="color: #336699;"><span style="fo
 nt-family: Tahoma; font-size: 12pt;"><span><span style="color: #000000;"><s
 pan><span style="font-family: Tahoma;"><span style="color: #000000;"><span 
 style="font-family: Arial, Helvetica;"><span style="color: #000000;"><span 
 style="font-family: Times;"><span style="font-family: Tahoma;"><span style=
 "font-family: Tahoma;"><span style="font-family: Tahoma;"><span style="font
 -family: Tahoma;"><span style="font-family: Tahoma;"><span style="font-fami
 ly: Tahoma;"><span style="font-family: Tahoma;"><span style="font-family: T
 ahoma;"><span style="font-family: Tahoma;"><span style="font-family: Tahoma
 ;"><span style="font-family: Tahoma;"><span style="font-family: Tahoma;"><s
 pan style="font-family: Tahoma;"><span style="font-family: Times;"><span st
 yle="font-family: Tahoma;"><span style="font-family: Tahoma;"><span style="
 font-family: Tahoma;"><span style="font-family: Tahoma;">NYSWDA will not be
  responsible for hotel costs, travel to and from the training, breakfast an
 d dinner meals, or incidentals. Lunches are ARE NOT included.<br /><br /><e
 m>(Financial assistance may be available from local NYS Department of Labor
  One-Stop Centers)</em><span style="font-family: Times;"><br /><span style=
 "font-family: Tahoma;"><br /><span style="text-decoration: underline;"><em>
 BPI Fees;<br /></em></span><span style="font-family: Tahoma;">$220/person -
  50-question written test<br />$550/person - Field test</span></span></span
 ></span></span></span></span></span></span></span></span></span></span></sp
 an></span></span></span></span></span></span></span></span></span></span></
 span></span></span></span></span></span></span></p><p>&nbsp;</p><p><span st
 yle="color: #0000ff;"><em><strong><span style="font-size: 14pt;"><span styl
 e="font-family: Tahoma;"><span style="font-family: Tahoma;"><span style="fo
 nt-family: Arial, Helvetica;"><span style="font-family: Times;"><span style
 ="font-family: Tahoma;"><span style="font-family: Tahoma;"><span style="fon
 t-family: Tahoma;"><span style="font-family: Tahoma;"><span style="font-fam
 ily: Tahoma;"><span style="font-family: Tahoma;"><span style="font-family: 
 Tahoma;"><span style="font-family: Tahoma;"><span style="font-family: Tahom
 a;"><span style="font-family: Tahoma;"><span style="font-family: Tahoma;"><
 span style="font-family: Tahoma;"><span style="font-family: Tahoma;"><span 
 style="font-family: Times;"><span style="font-family: Tahoma;"><span style=
 "font-family: Tahoma;"><span style="font-family: Tahoma;"><span style="font
 -family: Tahoma;"><span style="font-family: Times;"><span style="font-famil
 y: Tahoma;"><span style="font-family: Tahoma;"><a href="https://www.nyswda.
 org/index.php?option=com_civicrm&amp;task=civicrm/event/register&amp;reset=
 1&amp;id=14200" style="color: #0000ff;">Click here to register</a></span></
 span></span></span></span></span></span></span></span></span></span></span>
 </span></span></span></span></span></span></span></span></span></span></spa
 n></span></span></span></strong></em></span></p>
CONTACT:This email address is being protected from spambots. You need JavaScript enabled to view it.
				document.getElementById('cloak0a664af57693d92fa2cf9a122233ad8c').innerHTML = '';
				var prefix = '&#109;a' + 'i&#108;' + '&#116;o';
				var path = 'hr' + 'ef' + '=';
				var addy0a664af57693d92fa2cf9a122233ad8c = 'rv&#105;ss&#101;r' + '&#64;';
				addy0a664af57693d92fa2cf9a122233ad8c = addy0a664af57693d92fa2cf9a122233ad8c + 'nyswd&#97;' + '&#46;' + '&#111;rg';
				var addy_text0a664af57693d92fa2cf9a122233ad8c = 'rv&#105;ss&#101;r' + '&#64;' + 'nyswd&#97;' + '&#46;' + '&#111;rg';document.getElementById('cloak0a664af57693d92fa2cf9a122233ad8c').innerHTML += '<a ' + path + '\'' + prefix + ':' + addy0a664af57693d92fa2cf9a122233ad8c + '\'>'+addy_text0a664af57693d92fa2cf9a122233ad8c+'';
		
DTSTAMP:20260424T161220
DTSTART;TZID=America/New_York:20230508T090000
DTEND;TZID=America/New_York:20230511T170000
SEQUENCE:0
TRANSP:OPAQUE
END:VEVENT
END:VCALENDAR