BEGIN:VCALENDAR
VERSION:2.0
PRODID:-//jEvents 2.0 for Joomla//EN
CALSCALE:GREGORIAN
METHOD:PUBLISH
BEGIN:VTIMEZONE
TZID:America/New_York
BEGIN:STANDARD
DTSTART:20220221T090000
RDATE:20220313T030000
TZOFFSETFROM:-0400
TZOFFSETTO:-0500
TZNAME:America/New_York EST
END:STANDARD
BEGIN:STANDARD
DTSTART:20221106T010000
RDATE:20230312T030000
TZOFFSETFROM:-0400
TZOFFSETTO:-0500
TZNAME:America/New_York EST
END:STANDARD
BEGIN:STANDARD
DTSTART:20231105T010000
RDATE:20240310T030000
TZOFFSETFROM:-0400
TZOFFSETTO:-0500
TZNAME:America/New_York EST
END:STANDARD
BEGIN:STANDARD
DTSTART:20241103T010000
RDATE:20250309T030000
TZOFFSETFROM:-0400
TZOFFSETTO:-0500
TZNAME:America/New_York EST
END:STANDARD
BEGIN:STANDARD
DTSTART:20251102T010000
RDATE:20260308T030000
TZOFFSETFROM:-0400
TZOFFSETTO:-0500
TZNAME:America/New_York EST
END:STANDARD
BEGIN:STANDARD
DTSTART:20261101T010000
RDATE:20270314T030000
TZOFFSETFROM:-0400
TZOFFSETTO:-0500
TZNAME:America/New_York EST
END:STANDARD
BEGIN:STANDARD
DTSTART:20271107T010000
RDATE:20280312T030000
TZOFFSETFROM:-0400
TZOFFSETTO:-0500
TZNAME:America/New_York EST
END:STANDARD
BEGIN:STANDARD
DTSTART:20281105T010000
RDATE:20290311T030000
TZOFFSETFROM:-0400
TZOFFSETTO:-0500
TZNAME:America/New_York EST
END:STANDARD
BEGIN:STANDARD
DTSTART:20291104T010000
RDATE:20300310T030000
TZOFFSETFROM:-0400
TZOFFSETTO:-0500
TZNAME:America/New_York EST
END:STANDARD
BEGIN:STANDARD
DTSTART:20301103T010000
RDATE:20310309T030000
TZOFFSETFROM:-0400
TZOFFSETTO:-0500
TZNAME:America/New_York EST
END:STANDARD
BEGIN:DAYLIGHT
DTSTART:20220313T030000
RDATE:20221106T010000
TZOFFSETFROM:-0500
TZOFFSETTO:-0400
TZNAME:America/New_York EDT
END:DAYLIGHT
BEGIN:DAYLIGHT
DTSTART:20230312T030000
RDATE:20231105T010000
TZOFFSETFROM:-0500
TZOFFSETTO:-0400
TZNAME:America/New_York EDT
END:DAYLIGHT
BEGIN:DAYLIGHT
DTSTART:20240310T030000
RDATE:20241103T010000
TZOFFSETFROM:-0500
TZOFFSETTO:-0400
TZNAME:America/New_York EDT
END:DAYLIGHT
BEGIN:DAYLIGHT
DTSTART:20250309T030000
RDATE:20251102T010000
TZOFFSETFROM:-0500
TZOFFSETTO:-0400
TZNAME:America/New_York EDT
END:DAYLIGHT
BEGIN:DAYLIGHT
DTSTART:20260308T030000
RDATE:20261101T010000
TZOFFSETFROM:-0500
TZOFFSETTO:-0400
TZNAME:America/New_York EDT
END:DAYLIGHT
BEGIN:DAYLIGHT
DTSTART:20270314T030000
RDATE:20271107T010000
TZOFFSETFROM:-0500
TZOFFSETTO:-0400
TZNAME:America/New_York EDT
END:DAYLIGHT
BEGIN:DAYLIGHT
DTSTART:20280312T030000
RDATE:20281105T010000
TZOFFSETFROM:-0500
TZOFFSETTO:-0400
TZNAME:America/New_York EDT
END:DAYLIGHT
BEGIN:DAYLIGHT
DTSTART:20290311T030000
RDATE:20291104T010000
TZOFFSETFROM:-0500
TZOFFSETTO:-0400
TZNAME:America/New_York EDT
END:DAYLIGHT
BEGIN:DAYLIGHT
DTSTART:20300310T030000
RDATE:20301103T010000
TZOFFSETFROM:-0500
TZOFFSETTO:-0400
TZNAME:America/New_York EDT
END:DAYLIGHT
END:VTIMEZONE
BEGIN:VEVENT
UID:abd720e828f3921d19d413d7e263dc0a
CATEGORIES:At Syracuse
CREATED:20230113T121745
SUMMARY:Heating & Venting Fundamentals
LOCATION:NYSWDA Training Center - East Syracuse
DESCRIPTION:Heating &amp; Venting Fundamentals \n
 \n
Training Location: NYSWDA Trainin
 g Center (Building 1) – 5869 Fisher Road, East Syracuse, NY 13057\n\nThis t
 raining is for;\nEntry level HVAC techs and auditors\n
 \n
Course Descripti
 on;\nThis is an introductory course that will teach fundamentals of heating
  systems and venting combustion appliances. The focus is to provide all per
 sonnel working in client homes, the knowledge to identify different classif
 ications of furnaces and boilers. Instruction on health and safety issues f
 or those working on venting systems and an explanation of which materials c
 an be used and which cannot. NFPA venting guidelines will be introduced so 
 that venting safety is built into the thought process. This training will a
 ssist technicians in identifying problems, repairing and analysis of ventin
 g systems in the field.\n\n
 \n
Agenda;\nMorning session - classroom presen
 tation\nAfternoon session - consists of hands-on lab training\n
 \n
Dates;\
 nFebruary 22, 2023 / 9:00am - 4:30pm\n
 \n
Prerequisites: \nNone\n
 \n
Clas
 s Size: 8\n
 \n
BPI CEU's; 3\n
 \n
Instructor; Dave Hill - HVAC instructor 
 - NYSWDA\n
 \n
Course Fees: \n$262/person - NY Weatherization Sub-grantees\
 n
 $262/person - affiliate members\n
 $380/person - non-members\n
 \n
Cours
 e fees do not include lunch.\n
ÂÂÂ \n
**Special note - if you wish to becom
 e an Affiliate Member, and save off the non-member rate, please contact Kar
 en McMahon (315-701-0440 ext. 223, This email address is being protected fr
 om spambots. You need JavaScript enabled to view it.
				document.getElemen
 tById('cloake917bcc8b87ef0cff7f5ac01318e02a0').innerHTML = '';
				var pref
 ix = 'ma' + 'il' + 'to';
				var path = 'hr' + 'ef' + '=';
				var addye917
 bcc8b87ef0cff7f5ac01318e02a0 = 'kmcmahon' + '@';
				addye917bcc8b87ef0cff7
 f5ac01318e02a0 = addye917bcc8b87ef0cff7f5ac01318e02a0 + 'nyswda' + '.' + 'o
 rg';
				var addy_texte917bcc8b87ef0cff7f5ac01318e02a0 = 'kmcmahon' + '@' +
  'nyswda' + '.' + 'org';document.getElementById('cloake917bcc8b87ef0cff7f5a
 c01318e02a0').innerHTML += '<a ' + path + '\'' + prefix + ':' + addye917bcc
 8b87ef0cff7f5ac01318e02a0 + '\'>'+addy_texte917bcc8b87ef0cff7f5ac01318e02a0
 +'';
		) BEFORE YOU REGISTER for the course.\n
 \n
CLASS FULL - call or ema
 il  This email address is being protected from spambots. You need JavaScrip
 t enabled to view it.
				document.getElementById('cloakc234ae0b2469518d5d4
 03fb3be5572e9').innerHTML = '';
				var prefix = 'ma' + 'il' + 'to';
				va
 r path = 'hr' + 'ef' + '=';
				var addyc234ae0b2469518d5d403fb3be5572e9 = 
 'rvisser' + '@';
				addyc234ae0b2469518d5d403fb3be5572e9 = addyc234ae0b246
 9518d5d403fb3be5572e9 + 'nyswda' + '.' + 'org';
				var addy_textc234ae0b24
 69518d5d403fb3be5572e9 = 'rvisser' + '@' + 'nyswda' + '.' + 'org';document.
 getElementById('cloakc234ae0b2469518d5d403fb3be5572e9').innerHTML += '<a ' 
 + path + '\'' + prefix + ':' + addyc234ae0b2469518d5d403fb3be5572e9 + '\'>'
 +addy_textc234ae0b2469518d5d403fb3be5572e9+'';
		 for availability or wait 
 list\n
X-ALT-DESC;FMTTYPE=text/html:<p><span style="font-family: tahoma, arial, helvetica, sans-serif;"><em><sp
 an style="font-size: 13.5pt; color: #336699;"></span></em></span><strong><s
 pan style="color: #336699; font-family: tahoma, arial, helvetica, sans-seri
 f; font-size: 14pt;">Heating &amp; Venting Fundamentals </span></strong></p
 ><p>&nbsp;</p><p><strong><span style="color: #336699; font-family: tahoma, 
 arial, helvetica, sans-serif; font-size: 14pt;">Training</span><span style=
 "color: #336699; font-size: 13.5pt;"><span style="font-family: tahoma, aria
 l, helvetica, sans-serif; font-size: 14pt;"> Location: NYSWDA Training Cent
 er (Building 1) – 5869 Fisher Road, East Syracuse, NY 13057</span><br /><br
  /></span></strong><span style="font-family: tahoma, arial, helvetica, sans
 -serif; font-size: 12pt; color: #000000;"><em><span style="text-decoration:
  underline;"><span style="font-family: Tahoma;">This training is for;</span
 ></span></em><span style="font-family: Tahoma;"><span style="font-family: T
 ahoma;"><br /></span></span></span><span style="font-family: tahoma, arial,
  helvetica, sans-serif; font-size: 12pt; color: #000000;">Entry level HVAC 
 techs and auditors</span><span style="font-family: tahoma, arial, helvetica
 , sans-serif; font-size: 12pt; color: #000000;"><span style="font-family: T
 ahoma;"><span style="font-family: Tahoma;"><span style="font-family: Tahoma
 ;"><span style="font-family: Tahoma;"><span style="text-decoration: underli
 ne;"><em><span style="font-family: Tahoma;"></span></em></span></span></spa
 n></span></span></span></p><p>&nbsp;</p><p><span style="font-family: tahoma
 , arial, helvetica, sans-serif; font-size: 12pt; color: #000000;"><span sty
 le="font-family: Tahoma;"><span style="font-family: Tahoma;"><span style="f
 ont-family: Tahoma;"><span style="font-family: Tahoma;"><span style="text-d
 ecoration: underline;"><em><span style="font-family: Tahoma;">Course Descri
 ption;<br /></span></em></span></span></span></span></span></span><span sty
 le="font-family: tahoma, arial, helvetica, sans-serif; font-size: 12pt; col
 or: #000000;">This is an introductory course that will teach fundamentals o
 f heating systems and venting combustion appliances. The focus is to provid
 e all personnel working in client homes, the knowledge to identify differen
 t classifications of furnaces and boilers. Instruction on health and safety
  issues for those working on venting systems and an explanation of which ma
 terials can be used and which cannot. NFPA venting guidelines will be intro
 duced so that venting safety is built into the thought process. This traini
 ng will assist technicians in identifying problems, repairing and analysis 
 of venting systems in the field.<br /></span></p><p>&nbsp;</p><p><span styl
 e="color: #000000;"><span style="font-family: tahoma, arial, helvetica, san
 s-serif; font-size: 12pt;"><span style="font-family: Tahoma;"><span style="
 font-family: Tahoma;"><span style="font-family: Tahoma;"><span style="font-
 family: Tahoma;"><span style="font-family: Tahoma;"><span style="font-famil
 y: Tahoma;"><span style="font-family: Tahoma;"><span style="text-decoration
 : underline;"><em>Agenda;<br /></em></span></span></span></span></span></sp
 an></span></span></span><span style="font-family: tahoma, arial, helvetica,
  sans-serif; font-size: 12pt;">Morning session - classroom presentation<br 
 />Afternoon session - consists of hands-on lab training</span></span></p><p
 >&nbsp;</p><p><span style="color: #000000;"><span style="font-family: tahom
 a, arial, helvetica, sans-serif; font-size: 12pt;"><span style="font-family
 : Tahoma;"><span style="font-family: Tahoma;"><span style="font-family: Tah
 oma;"><span style="font-family: Tahoma;"><span style="font-family: Tahoma;"
 ><span style="font-family: Tahoma;"><span style="font-family: Tahoma;"><spa
 n style="text-decoration: underline;"><em>Dates;<br /></em></span><span sty
 le="font-family: Tahoma;">February 22, 2023 / 9:00am - 4:30pm</span></span>
 </span></span></span></span></span></span></span></span></p><p>&nbsp;</p><p
 ><span style="color: #000000;"><span style="font-family: tahoma, arial, hel
 vetica, sans-serif; font-size: 12pt;"><span style="font-family: Tahoma;"><s
 pan style="font-family: Tahoma;"><span style="font-family: Tahoma;"><span s
 tyle="font-family: Tahoma;"><span style="font-family: Tahoma;"><span style=
 "font-family: Tahoma;"><span style="font-family: Tahoma;"><span style="font
 -family: Tahoma;"><span style="text-decoration: underline;"><em><span style
 ="font-family: Tahoma;">Prerequisites:</span></em></span><em><span style="f
 ont-family: Tahoma;"> <br /></span></em><span style="font-family: Tahoma;">
 None</span></span></span></span></span></span></span></span></span></span><
 /span></p><p>&nbsp;</p><p><span style="color: #000000;"><span style="font-f
 amily: tahoma, arial, helvetica, sans-serif; font-size: 12pt;"><span style=
 "font-family: Tahoma;"><span style="font-family: Tahoma;"><span style="font
 -family: Tahoma;"><span style="font-family: Tahoma;"><span style="font-fami
 ly: Tahoma;"><span style="font-family: Tahoma;"><span style="font-family: T
 ahoma;"><span style="font-family: Tahoma;"><span style="font-family: Tahoma
 ;"><span style="font-family: Tahoma;"><em><span style="text-decoration: und
 erline;">Class Size</span></em>: 8</span></span></span></span></span></span
 ></span></span></span></span></span></span></p><p>&nbsp;</p><p><span style=
 "color: #000000;"><span style="font-family: tahoma, arial, helvetica, sans-
 serif; font-size: 12pt;"><span style="font-family: Tahoma;"><span style="fo
 nt-family: Tahoma;"><span style="font-family: Tahoma;"><span style="font-fa
 mily: Tahoma;"><span style="font-family: Tahoma;"><span style="font-family:
  Tahoma;"><span style="font-family: Tahoma;"><span style="font-family: Taho
 ma;"><span style="font-family: Tahoma;"><span style="font-family: Tahoma;">
 <span style="text-decoration: underline;"><em>BPI</em></span><em><span styl
 e="text-decoration: underline;"> CEU's</span>;</em> 3</span></span></span><
 /span></span></span></span></span></span></span></span></span></p><p>&nbsp;
 </p><p><span style="color: #000000;"><span style="font-family: tahoma, aria
 l, helvetica, sans-serif; font-size: 12pt;"><span style="font-family: Tahom
 a;"><span style="font-family: Tahoma;"><span style="font-family: Tahoma;"><
 span style="font-family: Tahoma;"><span style="font-family: Tahoma;"><span 
 style="font-family: Tahoma;"><span style="font-family: Tahoma;"><span style
 ="font-family: Tahoma;"><span style="font-family: Tahoma;"><span style="fon
 t-family: Tahoma;"><span style="font-family: Tahoma;"><span style="text-dec
 oration: underline;">Instructor</span>; Dave Hill</span><span style="font-f
 amily: Tahoma;">&nbsp;- HVAC instructor - NYSWDA</span></span></span></span
 ></span></span></span></span></span></span></span></span></span></p><p>&nbs
 p;</p><p><span style="color: #000000;"><span style="font-family: tahoma, ar
 ial, helvetica, sans-serif; font-size: 12pt;"><span style="font-family: Tah
 oma;"><span style="font-family: Tahoma;"><span style="font-family: Tahoma;"
 ><span style="font-family: Tahoma;"><span style="font-family: Tahoma;"><spa
 n style="font-family: Tahoma;"><span style="font-family: Tahoma;"><span sty
 le="font-family: Tahoma;"><span style="font-family: Tahoma;"><span style="f
 ont-family: Tahoma;"><span style="font-family: Tahoma;"><span style="text-d
 ecoration: underline;">Cours</span><span style="text-decoration: underline;
 ">e<em> Fees:</em></span><em>&nbsp;</em><br /><span style="font-family: Tah
 oma;">$262/person</span><span style="font-family: Tahoma;"> - NY Weatheriza
 tion Sub-grantees</span></span></span></span></span></span></span></span></
 span></span></span></span></span></span></p><p><span style="font-family: ta
 homa, arial, helvetica, sans-serif; font-size: 12pt; color: #000000;"><span
  style="font-family: Tahoma;"><span style="font-family: Tahoma;"><span styl
 e="font-family: Tahoma;"><span style="font-family: Tahoma;"><span style="fo
 nt-family: Tahoma;"><span style="font-family: Tahoma;"><span style="font-fa
 mily: Tahoma;"><span style="font-family: Tahoma;"><span style="font-family:
  Tahoma;"><span style="font-family: Tahoma;"><span style="font-family: Taho
 ma;"><span style="font-family: Tahoma;"> </span><span style="font-family: T
 ahoma;">$262/person</span><span style="font-family: Tahoma;"> - </span><spa
 n style="font-family: Tahoma;">affiliate members</span></span></span></span
 ></span></span></span></span></span></span></span></span></span></p><p><spa
 n style="font-family: tahoma, arial, helvetica, sans-serif; font-size: 12pt
 ; color: #000000;"><span style="font-family: Tahoma;"><span style="font-fam
 ily: Tahoma;"><span style="font-family: Tahoma;"><span style="font-family: 
 Tahoma;"><span style="font-family: Tahoma;"><span style="font-family: Tahom
 a;"><span style="font-family: Tahoma;"><span style="font-family: Tahoma;"><
 span style="font-family: Tahoma;"><span style="font-family: Tahoma;"><span 
 style="font-family: Tahoma;"><span style="font-family: Tahoma;"> </span><sp
 an style="font-family: Tahoma;">$380/person</span><span style="font-family:
  Tahoma;"> - </span><span style="font-family: Tahoma;">non-members</span></
 span></span></span></span></span></span></span></span></span></span></span>
 </span></p><p>&nbsp;</p><p><span style="color: #000000;"><em><span style="f
 ont-family: Tahoma; font-size: 12pt;"><strong>Course fees do not include lu
 nch.</strong></span></em></span></p><p><span style="font-family: tahoma, ar
 ial, helvetica, sans-serif; font-size: 12pt; color: #ffffff;"><span><span s
 tyle="font-family: Tahoma;"><span style="font-family: Tahoma;"><span style=
 "font-family: Tahoma;"><span style="font-family: Tahoma;"><span style="font
 -family: Tahoma;"><span style="font-family: Tahoma;"><span style="font-fami
 ly: Tahoma;"><span style="font-family: Tahoma;"><span style="font-family: T
 ahoma;"><span style="font-family: Tahoma;"><span style="font-family: Tahoma
 ;"><em><span style="font-family: Tahoma;">ÂÂÂ&nbsp;</span></em></span></spa
 n></span></span></span></span></span></span></span></span></span></span></s
 pan></p><p style="margin-top: 0in; margin-right: 0in; margin-bottom: 0pt;">
 <strong><i><span style="background: white; color: #02613f; font-family: Geo
 rgia, 'serif';"><span style="font-size: small;">**Special note</span></span
 ></i></strong><strong><i><span style="background: white; color: black; font
 -family: Georgia, 'serif';"><span style="font-size: small;">&nbsp;-&nbsp;if
  you wish to become an Affiliate Member, and&nbsp;save off the non-member r
 ate, please contact Karen McMahon (315-701-0440 ext. 223,&nbsp;</span><span
  id="cloake917bcc8b87ef0cff7f5ac01318e02a0">This email address is being pro
 tected from spambots. You need JavaScript enabled to view it.</span><script
  type='text/javascript'>
				document.getElementById('cloake917bcc8b87ef0cf
 f7f5ac01318e02a0').innerHTML = '';
				var prefix = 'ma' + 'il' + 'to';
			
 	var path = 'hr' + 'ef' + '=';
				var addye917bcc8b87ef0cff7f5ac01318e02a0
  = 'kmcmahon' + '@';
				addye917bcc8b87ef0cff7f5ac01318e02a0 = addye917bcc
 8b87ef0cff7f5ac01318e02a0 + 'nyswda' + '.' + 'org';
				var addy_texte917bc
 c8b87ef0cff7f5ac01318e02a0 = '<span style="color: #0000ff; font-size: small
 ;">kmcmahon' + '@' + 'nyswda' + '.' + 'org</span>';document.getElementById(
 'cloake917bcc8b87ef0cff7f5ac01318e02a0').innerHTML += '<a ' + path + '\'' +
  prefix + ':' + addye917bcc8b87ef0cff7f5ac01318e02a0 + '\'>'+addy_texte917b
 cc8b87ef0cff7f5ac01318e02a0+'<\/a>';
		</script><span style="font-size: sma
 ll;">)&nbsp;</span></span></i></strong><span style="font-size: small;"><str
 ong><span style="background: white; color: #02613f; font-family: Georgia, '
 serif';">BEFORE YOU REGISTER&nbsp;</span></strong><em><b><span style="backg
 round: white; color: black; font-family: Georgia, 'serif';">for the course<
 /span></b></em><strong><span style="background: white; color: black; font-f
 amily: Georgia, 'serif';">.</span></strong></span></p><p>&nbsp;</p><p><span
  style="color: #0000ff;"><em><strong><span style="font-family: tahoma, aria
 l, helvetica, sans-serif; font-size: 14pt;"><span style="font-family: tahom
 a, arial, helvetica, sans-serif; font-size: 14pt;"><span style="font-family
 : tahoma, arial, helvetica, sans-serif; font-size: 14pt;"><span style="font
 -family: tahoma,arial,helvetica,sans-serif; font-size: 14pt;"><strong><em><
 strong><span style="color: #ffffff; font-family: tahoma,arial,helvetica,san
 s-serif; font-size: 14pt;"><span style="color: #ff0000;">CLASS FULL - call 
 or email</span>&nbsp; <span id="cloakc234ae0b2469518d5d403fb3be5572e9">This
  email address is being protected from spambots. You need JavaScript enable
 d to view it.</span><script type='text/javascript'>
				document.getElement
 ById('cloakc234ae0b2469518d5d403fb3be5572e9').innerHTML = '';
				var prefi
 x = 'ma' + 'il' + 'to';
				var path = 'hr' + 'ef' + '=';
				var addyc234a
 e0b2469518d5d403fb3be5572e9 = 'rvisser' + '@';
				addyc234ae0b2469518d5d40
 3fb3be5572e9 = addyc234ae0b2469518d5d403fb3be5572e9 + 'nyswda' + '.' + 'org
 ';
				var addy_textc234ae0b2469518d5d403fb3be5572e9 = '<span style="color:
  #0066cc;">rvisser' + '@' + 'nyswda' + '.' + 'org</span>';document.getEleme
 ntById('cloakc234ae0b2469518d5d403fb3be5572e9').innerHTML += '<a ' + path +
  '\'' + prefix + ':' + addyc234ae0b2469518d5d403fb3be5572e9 + '\'>'+addy_te
 xtc234ae0b2469518d5d403fb3be5572e9+'<\/a>';
		</script> <span style="color:
  #ff0000;">for availability or wait list</span></span></strong></em><span s
 tyle="color: #ffffff;"></span></strong><span style="font-family: tahoma, ar
 ial, helvetica, sans-serif; font-size: 14pt;"></span></span><span style="fo
 nt-family: tahoma, arial, helvetica, sans-serif; font-size: 14pt;"></span><
 /span><span style="font-family: tahoma, arial, helvetica, sans-serif; font-
 size: 14pt;"></span></span><em></em><span style="color: #0000ff;"></span></
 span></strong></em></span></p>
CONTACT:This email address is being protected from spambots. You need JavaScript enabled to view it.
				document.getElementById('cloak819c4088824a9d841e8efe67098bbeac').innerHTML = '';
				var prefix = '&#109;a' + 'i&#108;' + '&#116;o';
				var path = 'hr' + 'ef' + '=';
				var addy819c4088824a9d841e8efe67098bbeac = 'rv&#105;ss&#101;r' + '&#64;';
				addy819c4088824a9d841e8efe67098bbeac = addy819c4088824a9d841e8efe67098bbeac + 'nyswd&#97;' + '&#46;' + '&#111;rg';
				var addy_text819c4088824a9d841e8efe67098bbeac = 'rv&#105;ss&#101;r' + '&#64;' + 'nyswd&#97;' + '&#46;' + '&#111;rg';document.getElementById('cloak819c4088824a9d841e8efe67098bbeac').innerHTML += '<a ' + path + '\'' + prefix + ':' + addy819c4088824a9d841e8efe67098bbeac + '\'>'+addy_text819c4088824a9d841e8efe67098bbeac+'';
		
DTSTAMP:20260424T162850
DTSTART;TZID=America/New_York:20230222T090000
DTEND;TZID=America/New_York:20230222T160000
SEQUENCE:0
TRANSP:OPAQUE
END:VEVENT
END:VCALENDAR