BEGIN:VCALENDAR
VERSION:2.0
PRODID:-//jEvents 2.0 for Joomla//EN
CALSCALE:GREGORIAN
METHOD:PUBLISH
BEGIN:VTIMEZONE
TZID:America/New_York
BEGIN:STANDARD
DTSTART:20220306T090000
RDATE:20220313T030000
TZOFFSETFROM:-0400
TZOFFSETTO:-0500
TZNAME:America/New_York EST
END:STANDARD
BEGIN:STANDARD
DTSTART:20221106T010000
RDATE:20230312T030000
TZOFFSETFROM:-0400
TZOFFSETTO:-0500
TZNAME:America/New_York EST
END:STANDARD
BEGIN:STANDARD
DTSTART:20231105T010000
RDATE:20240310T030000
TZOFFSETFROM:-0400
TZOFFSETTO:-0500
TZNAME:America/New_York EST
END:STANDARD
BEGIN:STANDARD
DTSTART:20241103T010000
RDATE:20250309T030000
TZOFFSETFROM:-0400
TZOFFSETTO:-0500
TZNAME:America/New_York EST
END:STANDARD
BEGIN:STANDARD
DTSTART:20251102T010000
RDATE:20260308T030000
TZOFFSETFROM:-0400
TZOFFSETTO:-0500
TZNAME:America/New_York EST
END:STANDARD
BEGIN:STANDARD
DTSTART:20261101T010000
RDATE:20270314T030000
TZOFFSETFROM:-0400
TZOFFSETTO:-0500
TZNAME:America/New_York EST
END:STANDARD
BEGIN:STANDARD
DTSTART:20271107T010000
RDATE:20280312T030000
TZOFFSETFROM:-0400
TZOFFSETTO:-0500
TZNAME:America/New_York EST
END:STANDARD
BEGIN:STANDARD
DTSTART:20281105T010000
RDATE:20290311T030000
TZOFFSETFROM:-0400
TZOFFSETTO:-0500
TZNAME:America/New_York EST
END:STANDARD
BEGIN:STANDARD
DTSTART:20291104T010000
RDATE:20300310T030000
TZOFFSETFROM:-0400
TZOFFSETTO:-0500
TZNAME:America/New_York EST
END:STANDARD
BEGIN:STANDARD
DTSTART:20301103T010000
RDATE:20310309T030000
TZOFFSETFROM:-0400
TZOFFSETTO:-0500
TZNAME:America/New_York EST
END:STANDARD
BEGIN:DAYLIGHT
DTSTART:20220313T030000
RDATE:20221106T010000
TZOFFSETFROM:-0500
TZOFFSETTO:-0400
TZNAME:America/New_York EDT
END:DAYLIGHT
BEGIN:DAYLIGHT
DTSTART:20230312T030000
RDATE:20231105T010000
TZOFFSETFROM:-0500
TZOFFSETTO:-0400
TZNAME:America/New_York EDT
END:DAYLIGHT
BEGIN:DAYLIGHT
DTSTART:20240310T030000
RDATE:20241103T010000
TZOFFSETFROM:-0500
TZOFFSETTO:-0400
TZNAME:America/New_York EDT
END:DAYLIGHT
BEGIN:DAYLIGHT
DTSTART:20250309T030000
RDATE:20251102T010000
TZOFFSETFROM:-0500
TZOFFSETTO:-0400
TZNAME:America/New_York EDT
END:DAYLIGHT
BEGIN:DAYLIGHT
DTSTART:20260308T030000
RDATE:20261101T010000
TZOFFSETFROM:-0500
TZOFFSETTO:-0400
TZNAME:America/New_York EDT
END:DAYLIGHT
BEGIN:DAYLIGHT
DTSTART:20270314T030000
RDATE:20271107T010000
TZOFFSETFROM:-0500
TZOFFSETTO:-0400
TZNAME:America/New_York EDT
END:DAYLIGHT
BEGIN:DAYLIGHT
DTSTART:20280312T030000
RDATE:20281105T010000
TZOFFSETFROM:-0500
TZOFFSETTO:-0400
TZNAME:America/New_York EDT
END:DAYLIGHT
BEGIN:DAYLIGHT
DTSTART:20290311T030000
RDATE:20291104T010000
TZOFFSETFROM:-0500
TZOFFSETTO:-0400
TZNAME:America/New_York EDT
END:DAYLIGHT
BEGIN:DAYLIGHT
DTSTART:20300310T030000
RDATE:20301103T010000
TZOFFSETFROM:-0500
TZOFFSETTO:-0400
TZNAME:America/New_York EDT
END:DAYLIGHT
END:VTIMEZONE
BEGIN:VEVENT
UID:1f1bdabd966afb90081ed3b695cc3ce4
CATEGORIES:WEB
CREATED:20230208T140608
SUMMARY:NYS Manufactured Housing Mechanics Continuing Education - Online
LOCATION:NYSWDA Training Center - East Syracuse
DESCRIPTION:<p>&nbsp;</p><p><span style="color: #336699; font-size: 12pt;"><span><span>
 &nbsp;</span><span style="font-family: tahoma,arial,helvetica,sans-serif; f
 ont-size: 14pt;"><span style="color: #000000;"><strong><span style="color: 
 #336699;">NYS Manufactured Housing Mechanics Continuing Education - Online<
 /span></strong></span></span></span></span></p><p>&nbsp;</p><p><span style=
 "color: #336699; font-size: 12pt;"><span><span style="font-family: tahoma,a
 rial,helvetica,sans-serif; font-size: 14pt;"><span style="color: #000000;">
 <strong><span style="color: #336699;"><span style="color: #336699;">GoToWeb
 inar Event</span><span></span><span></span><span></span><span style="color:
  #000000;"></span><span></span><span></span><span style="color: #336699; fo
 nt-family: tahoma,arial,helvetica,sans-serif; font-size: 14pt;"></span><spa
 n></span><span style="font-family: Tahoma;"></span><span style="font-family
 : Tahoma;"></span><span style="color: #000000;"></span><span style="font-si
 ze: small;"></span><span style="font-family: Tahoma;"></span><span style="c
 olor: #000000;"></span><span style="font-size: x-small;"></span><span style
 ="font-family: Arial, Helvetica;"></span><span style="font-size: small;"></
 span><span style="font-family: Tahoma;"></span><span style="font-size: x-sm
 all;"></span><span style="font-family: Arial, Helvetica;"></span><span styl
 e="font-size: small;"></span><span style="font-family: Tahoma;"></span><spa
 n style="font-size: x-small;"></span><span style="font-family: Arial, Helve
 tica;"></span><span style="font-size: small;"></span><span style="font-fami
 ly: Tahoma;"></span><span style="font-size: x-small;"></span><span style="f
 ont-family: Arial, Helvetica;"></span><span style="font-family: Tahoma;"></
 span><span style="font-family: Tahoma;"></span><span style="font-size: smal
 l;"></span><span style="font-family: Tahoma;"></span><span style="font-size
 : x-small;"></span><span style="font-family: Arial, Helvetica;"></span><spa
 n style="font-family: Tahoma;"></span><span style="font-family: Tahoma;"></
 span><span style="font-family: Tahoma;"></span><span style="font-size: smal
 l;"></span><span style="font-family: Tahoma;"></span><span style="font-size
 : x-small;"></span><span style="font-family: Arial, Helvetica;"></span><spa
 n style="color: #000000;"></span><span style="font-size: medium;"></span><s
 pan style="font-family: Tahoma;"></span><span style="color: #336699;"></spa
 n></span></strong></span></span></span></span><span style="color: #336699; 
 font-size: 12pt;"><span><span><span style="color: #000000;"><span><br /><sp
 an style="text-decoration: underline;"><span style="font-family: Tahoma;"><
 em></em></span></span></span></span></span></span></span></p><p><span style
 ="color: #336699; font-size: 12pt;"><span><span><span style="color: #000000
 ;"><span><span style="text-decoration: underline;"><span style="font-family
 : Tahoma;"><em>This training is for:</em></span></span><span style="font-fa
 mily: Tahoma;"><span style="font-family: Tahoma;"><br /></span></span><span
  style="font-family: Tahoma;"><span style="font-family: Tahoma;"><span styl
 e="font-family: Tahoma;">ONLY those who have taken the NYS MH Mechanics Cer
 tification training and also hold a Limited Certification.<span style="font
 -family: Tahoma;"><br /><br /><span style="text-decoration: underline;"><em
 ><span style="font-family: Tahoma;">Course Description:</span></em></span><
 em><span style="font-family: Tahoma;"><span style="font-family: Tahoma;"><b
 r /></span></span></em><span style="font-family: Tahoma;"><span style="font
 -family: Tahoma;"><span style="font-family: Tahoma;">This 3 hour training i
 s for those who have already certified and hold a Limited Certification for
  the NYS Manufactured Housing Mechanics Certification. <br /><br />Mechanic
 s certification is valid for 2 years - and the renewal process required by 
 the Dept. of State is to complete their continuing education and the renewa
 l application process prior to expiration of their certificates. <br /><br 
 />If your business or agency conducts structural repairs on mobile homes or
  manufactured housing to stay in compliance with NY State Code Enforcement 
 requirements, you will need at least one staff member with this certificati
 on. <br /><br />Structural repairs include replacement of door/window frami
 ng, replacement of subfloor plywood, or replacement of interior wall and ce
 iling panels. This staff member must be on-site during these repairs. Indiv
 idual certification is valid for two years. <br /><br /><span style="text-d
 ecoration: underline;"><em>Dates;<br /></em></span><span style="font-family
 : Tahoma;">March 7, 2023 / 9:00am - 12:00pm<br /><br /><span style="text-de
 coration: underline;"><em><span style="font-family: Tahoma;">Prerequisites:
 </span></em></span><em><span style="font-family: Tahoma;"> <br /></span></e
 m><span style="font-family: Tahoma;">Must have completed the initial NYS MH
  Mechanics Certification training and also hold a Limited Certification.<br
  /><span style="font-family: Tahoma;"><em><br /><span style="text-decoratio
 n: underline;">Class Size</span></em>: 16<br /><br /><span style="text-deco
 ration: underline;"><em>BPI CEU</em>:</span> 1.5<br /><br /><span style="te
 xt-decoration: underline;"><em><span style="font-family: Tahoma;">Instructo
 rs:</span></em></span><em><span style="font-family: Tahoma;"> </span></em><
 span style="font-family: Tahoma;">Joel Harper - MHC Consultants LLC</span><
 /span></span></span></span></span></span></span></span></span></span></span
 ></span></span></span></span></p><p><span style="color: #336699; font-size:
  12pt;"><span><span><span style="color: #000000;"><span><span style="font-f
 amily: Tahoma;"><span style="font-family: Tahoma;"><span style="font-family
 : Tahoma;"><span style="font-family: Tahoma;"><span style="font-family: Tah
 oma;"><span style="font-family: Tahoma;"><span style="font-family: Tahoma;"
 ><span style="font-family: Tahoma;"><span style="font-family: Tahoma;"><spa
 n style="font-family: Tahoma;"><span style="font-family: Tahoma;"><br /><sp
 an style="color: #336699; font-size: 12pt;"><span><span><span style="color:
  #000000;"><span><span style="font-family: Tahoma;"><span style="font-famil
 y: Tahoma;"><span style="font-family: Tahoma;"><span style="font-family: Ta
 homa;"><span style="font-family: Tahoma;"><span style="font-family: Tahoma;
 "><span style="font-family: Tahoma;"><span style="font-family: Tahoma;"><sp
 an style="font-family: Tahoma;"><span style="font-family: Tahoma;"><span st
 yle="font-family: Tahoma;"><span style="text-decoration: underline;"><em>Co
 urse Fees: </em></span><span style="text-decoration: underline;"><em><br />
 </em></span><span style="font-family: Tahoma;">$151/person - NY Weatherizat
 ion Sub-grantees<br /></span></span></span></span></span></span></span></sp
 an></span></span></span></span></span></span></span></span></span></span></
 span></span></span></span></span></span></span></span></span></span></span>
 </span></span></span></span><span style="color: #336699; font-size: 12pt;">
 <span style="color: #000000;"><span style="font-family: Tahoma;"><span><spa
 n><span><span><span><span><span><span><span><span><span style="color: #3366
 99; font-size: 12pt;"><span style="color: #000000;"><span><span><span><span
 ><span><span><span><span><span><span><span><span>$151/person - affiliate me
 mbers<br /></span></span></span></span></span></span></span></span></span><
 /span></span></span></span></span></span></span></span></span></span></span
 ></span></span></span></span></span></span></span><span style="color: #3366
 99; font-size: 12pt;"><span style="color: #000000;"><span style="font-famil
 y: Tahoma;"><span><span><span><span><span><span><span><span><span><span><sp
 an style="color: #336699; font-size: 12pt;"><span style="color: #000000;"><
 span><span><span><span><span><span><span><span><span><span><span><span>$220
 /person - non-members</span><em><span></span></em></span></span></span></sp
 an></span></span></span></span></span></span></span></span></span></span></
 span></span></span></span></span></span></span></span></span></span></span>
 </span></p><p>&nbsp;</p><p><span style="color: #336699; font-size: 12pt;"><
 span><span><span style="color: #000000;"><span><span style="font-family: Ta
 homa;"><span style="font-family: Tahoma;"><span style="font-family: Tahoma;
 "><span style="font-family: Tahoma;"><span style="font-family: Tahoma;"><sp
 an style="font-family: Tahoma;"><span style="font-family: Tahoma;"><span st
 yle="font-family: Tahoma;"><span style="font-family: Tahoma;"><span style="
 font-family: Tahoma;"><span style="font-family: Tahoma;"><em><strong><span 
 style="background: white; color: #02613f; font-family: 'Georgia','serif';">
 <span style="font-size: small;">**Special note</span></span></strong></em><
 span style="background: white; color: black; font-family: 'Georgia','serif'
 ;"><span style="font-size: small;"><i><strong>&nbsp;-&nbsp;if you wish to b
 ecome an Affiliate Member, and&nbsp;save&nbsp;off the non-member rate, plea
 se contact Karen McMahon (315-701-0440 ext. 223,&nbsp;</strong></i></span><
 i><strong><span id="cloak14dc396c5590cf48dcb78bdc5f219318">This email addre
 ss is being protected from spambots. You need JavaScript enabled to view it
 .</span><script type='text/javascript'>
				document.getElementById('cloak1
 4dc396c5590cf48dcb78bdc5f219318').innerHTML = '';
				var prefix = 'ma' + '
 il' + 'to';
				var path = 'hr' + 'ef' + '=';
				var addy14dc396c5590cf48d
 cb78bdc5f219318 = 'kmcmahon' + '@';
				addy14dc396c5590cf48dcb78bdc5f21931
 8 = addy14dc396c5590cf48dcb78bdc5f219318 + 'nyswda' + '.' + 'org';
				var 
 addy_text14dc396c5590cf48dcb78bdc5f219318 = '<span style="color: #0000ff; f
 ont-size: small;">kmcmahon' + '@' + 'nyswda' + '.' + 'org</span>';document.
 getElementById('cloak14dc396c5590cf48dcb78bdc5f219318').innerHTML += '<a ' 
 + path + '\'' + prefix + ':' + addy14dc396c5590cf48dcb78bdc5f219318 + '\'>'
 +addy_text14dc396c5590cf48dcb78bdc5f219318+'<\/a>';
		</script><span style=
 "font-size: small;">)&nbsp;</span></strong></i></span><i></i><span style="f
 ont-size: small;"><strong><span style="background: white; color: #02613f; f
 ont-family: 'Georgia','serif';">BEFORE YOU REGISTER&nbsp;</span></strong><e
 m><b><span style="background: white; color: black; font-family: 'Georgia','
 serif';">for the course</span></b></em><strong><span style="background: whi
 te; color: black; font-family: 'Georgia','serif';">.</span></strong></span>
 </span></span></span></span></span></span></span></span></span></span></spa
 n></span></span></span></span></span></p><p>&nbsp;</p><p>&nbsp;<span style=
 "color: #336699; font-size: 12pt;"><span><span><span style="color: #000000;
 "><span><span style="font-family: Tahoma;"><span style="font-family: Tahoma
 ;"><span style="font-family: Tahoma;"><span style="font-family: Tahoma;"><s
 pan style="font-family: Tahoma;"><span style="font-family: Tahoma;"><span s
 tyle="font-family: Tahoma;"><span style="font-family: Tahoma;"><span style=
 "font-family: Tahoma;"><span style="font-family: Tahoma;"><span style="font
 -family: Tahoma;"><span style="color: #0000ff; font-size: 14pt;"><em><stron
 g><a href="index.php?option=com_civicrm&amp;task=civicrm/event/register&amp
 ;reset=1&amp;id=14183" style="color: #0000ff;">Click here to register</a></
 strong></em></span></span></span></span></span></span></span></span></span>
 </span></span></span></span></span></span></span></span></p>
X-ALT-DESC;FMTTYPE=text/html:<p>&nbsp;</p><p><span style="color: #336699; font-size: 12pt;"><span><span>
 &nbsp;</span><span style="font-family: tahoma,arial,helvetica,sans-serif; f
 ont-size: 14pt;"><span style="color: #000000;"><strong><span style="color: 
 #336699;">NYS Manufactured Housing Mechanics Continuing Education - Online<
 /span></strong></span></span></span></span></p><p>&nbsp;</p><p><span style=
 "color: #336699; font-size: 12pt;"><span><span style="font-family: tahoma,a
 rial,helvetica,sans-serif; font-size: 14pt;"><span style="color: #000000;">
 <strong><span style="color: #336699;"><span style="color: #336699;">GoToWeb
 inar Event</span><span></span><span></span><span></span><span style="color:
  #000000;"></span><span></span><span></span><span style="color: #336699; fo
 nt-family: tahoma,arial,helvetica,sans-serif; font-size: 14pt;"></span><spa
 n></span><span style="font-family: Tahoma;"></span><span style="font-family
 : Tahoma;"></span><span style="color: #000000;"></span><span style="font-si
 ze: small;"></span><span style="font-family: Tahoma;"></span><span style="c
 olor: #000000;"></span><span style="font-size: x-small;"></span><span style
 ="font-family: Arial, Helvetica;"></span><span style="font-size: small;"></
 span><span style="font-family: Tahoma;"></span><span style="font-size: x-sm
 all;"></span><span style="font-family: Arial, Helvetica;"></span><span styl
 e="font-size: small;"></span><span style="font-family: Tahoma;"></span><spa
 n style="font-size: x-small;"></span><span style="font-family: Arial, Helve
 tica;"></span><span style="font-size: small;"></span><span style="font-fami
 ly: Tahoma;"></span><span style="font-size: x-small;"></span><span style="f
 ont-family: Arial, Helvetica;"></span><span style="font-family: Tahoma;"></
 span><span style="font-family: Tahoma;"></span><span style="font-size: smal
 l;"></span><span style="font-family: Tahoma;"></span><span style="font-size
 : x-small;"></span><span style="font-family: Arial, Helvetica;"></span><spa
 n style="font-family: Tahoma;"></span><span style="font-family: Tahoma;"></
 span><span style="font-family: Tahoma;"></span><span style="font-size: smal
 l;"></span><span style="font-family: Tahoma;"></span><span style="font-size
 : x-small;"></span><span style="font-family: Arial, Helvetica;"></span><spa
 n style="color: #000000;"></span><span style="font-size: medium;"></span><s
 pan style="font-family: Tahoma;"></span><span style="color: #336699;"></spa
 n></span></strong></span></span></span></span><span style="color: #336699; 
 font-size: 12pt;"><span><span><span style="color: #000000;"><span><br /><sp
 an style="text-decoration: underline;"><span style="font-family: Tahoma;"><
 em></em></span></span></span></span></span></span></span></p><p><span style
 ="color: #336699; font-size: 12pt;"><span><span><span style="color: #000000
 ;"><span><span style="text-decoration: underline;"><span style="font-family
 : Tahoma;"><em>This training is for:</em></span></span><span style="font-fa
 mily: Tahoma;"><span style="font-family: Tahoma;"><br /></span></span><span
  style="font-family: Tahoma;"><span style="font-family: Tahoma;"><span styl
 e="font-family: Tahoma;">ONLY those who have taken the NYS MH Mechanics Cer
 tification training and also hold a Limited Certification.<span style="font
 -family: Tahoma;"><br /><br /><span style="text-decoration: underline;"><em
 ><span style="font-family: Tahoma;">Course Description:</span></em></span><
 em><span style="font-family: Tahoma;"><span style="font-family: Tahoma;"><b
 r /></span></span></em><span style="font-family: Tahoma;"><span style="font
 -family: Tahoma;"><span style="font-family: Tahoma;">This 3 hour training i
 s for those who have already certified and hold a Limited Certification for
  the NYS Manufactured Housing Mechanics Certification. <br /><br />Mechanic
 s certification is valid for 2 years - and the renewal process required by 
 the Dept. of State is to complete their continuing education and the renewa
 l application process prior to expiration of their certificates. <br /><br 
 />If your business or agency conducts structural repairs on mobile homes or
  manufactured housing to stay in compliance with NY State Code Enforcement 
 requirements, you will need at least one staff member with this certificati
 on. <br /><br />Structural repairs include replacement of door/window frami
 ng, replacement of subfloor plywood, or replacement of interior wall and ce
 iling panels. This staff member must be on-site during these repairs. Indiv
 idual certification is valid for two years. <br /><br /><span style="text-d
 ecoration: underline;"><em>Dates;<br /></em></span><span style="font-family
 : Tahoma;">March 7, 2023 / 9:00am - 12:00pm<br /><br /><span style="text-de
 coration: underline;"><em><span style="font-family: Tahoma;">Prerequisites:
 </span></em></span><em><span style="font-family: Tahoma;"> <br /></span></e
 m><span style="font-family: Tahoma;">Must have completed the initial NYS MH
  Mechanics Certification training and also hold a Limited Certification.<br
  /><span style="font-family: Tahoma;"><em><br /><span style="text-decoratio
 n: underline;">Class Size</span></em>: 16<br /><br /><span style="text-deco
 ration: underline;"><em>BPI CEU</em>:</span> 1.5<br /><br /><span style="te
 xt-decoration: underline;"><em><span style="font-family: Tahoma;">Instructo
 rs:</span></em></span><em><span style="font-family: Tahoma;"> </span></em><
 span style="font-family: Tahoma;">Joel Harper - MHC Consultants LLC</span><
 /span></span></span></span></span></span></span></span></span></span></span
 ></span></span></span></span></p><p><span style="color: #336699; font-size:
  12pt;"><span><span><span style="color: #000000;"><span><span style="font-f
 amily: Tahoma;"><span style="font-family: Tahoma;"><span style="font-family
 : Tahoma;"><span style="font-family: Tahoma;"><span style="font-family: Tah
 oma;"><span style="font-family: Tahoma;"><span style="font-family: Tahoma;"
 ><span style="font-family: Tahoma;"><span style="font-family: Tahoma;"><spa
 n style="font-family: Tahoma;"><span style="font-family: Tahoma;"><br /><sp
 an style="color: #336699; font-size: 12pt;"><span><span><span style="color:
  #000000;"><span><span style="font-family: Tahoma;"><span style="font-famil
 y: Tahoma;"><span style="font-family: Tahoma;"><span style="font-family: Ta
 homa;"><span style="font-family: Tahoma;"><span style="font-family: Tahoma;
 "><span style="font-family: Tahoma;"><span style="font-family: Tahoma;"><sp
 an style="font-family: Tahoma;"><span style="font-family: Tahoma;"><span st
 yle="font-family: Tahoma;"><span style="text-decoration: underline;"><em>Co
 urse Fees: </em></span><span style="text-decoration: underline;"><em><br />
 </em></span><span style="font-family: Tahoma;">$151/person - NY Weatherizat
 ion Sub-grantees<br /></span></span></span></span></span></span></span></sp
 an></span></span></span></span></span></span></span></span></span></span></
 span></span></span></span></span></span></span></span></span></span></span>
 </span></span></span></span><span style="color: #336699; font-size: 12pt;">
 <span style="color: #000000;"><span style="font-family: Tahoma;"><span><spa
 n><span><span><span><span><span><span><span><span><span style="color: #3366
 99; font-size: 12pt;"><span style="color: #000000;"><span><span><span><span
 ><span><span><span><span><span><span><span><span>$151/person - affiliate me
 mbers<br /></span></span></span></span></span></span></span></span></span><
 /span></span></span></span></span></span></span></span></span></span></span
 ></span></span></span></span></span></span></span><span style="color: #3366
 99; font-size: 12pt;"><span style="color: #000000;"><span style="font-famil
 y: Tahoma;"><span><span><span><span><span><span><span><span><span><span><sp
 an style="color: #336699; font-size: 12pt;"><span style="color: #000000;"><
 span><span><span><span><span><span><span><span><span><span><span><span>$220
 /person - non-members</span><em><span></span></em></span></span></span></sp
 an></span></span></span></span></span></span></span></span></span></span></
 span></span></span></span></span></span></span></span></span></span></span>
 </span></p><p>&nbsp;</p><p><span style="color: #336699; font-size: 12pt;"><
 span><span><span style="color: #000000;"><span><span style="font-family: Ta
 homa;"><span style="font-family: Tahoma;"><span style="font-family: Tahoma;
 "><span style="font-family: Tahoma;"><span style="font-family: Tahoma;"><sp
 an style="font-family: Tahoma;"><span style="font-family: Tahoma;"><span st
 yle="font-family: Tahoma;"><span style="font-family: Tahoma;"><span style="
 font-family: Tahoma;"><span style="font-family: Tahoma;"><em><strong><span 
 style="background: white; color: #02613f; font-family: 'Georgia','serif';">
 <span style="font-size: small;">**Special note</span></span></strong></em><
 span style="background: white; color: black; font-family: 'Georgia','serif'
 ;"><span style="font-size: small;"><i><strong>&nbsp;-&nbsp;if you wish to b
 ecome an Affiliate Member, and&nbsp;save&nbsp;off the non-member rate, plea
 se contact Karen McMahon (315-701-0440 ext. 223,&nbsp;</strong></i></span><
 i><strong><span id="cloak14dc396c5590cf48dcb78bdc5f219318">This email addre
 ss is being protected from spambots. You need JavaScript enabled to view it
 .</span><script type='text/javascript'>
				document.getElementById('cloak1
 4dc396c5590cf48dcb78bdc5f219318').innerHTML = '';
				var prefix = 'ma' + '
 il' + 'to';
				var path = 'hr' + 'ef' + '=';
				var addy14dc396c5590cf48d
 cb78bdc5f219318 = 'kmcmahon' + '@';
				addy14dc396c5590cf48dcb78bdc5f21931
 8 = addy14dc396c5590cf48dcb78bdc5f219318 + 'nyswda' + '.' + 'org';
				var 
 addy_text14dc396c5590cf48dcb78bdc5f219318 = '<span style="color: #0000ff; f
 ont-size: small;">kmcmahon' + '@' + 'nyswda' + '.' + 'org</span>';document.
 getElementById('cloak14dc396c5590cf48dcb78bdc5f219318').innerHTML += '<a ' 
 + path + '\'' + prefix + ':' + addy14dc396c5590cf48dcb78bdc5f219318 + '\'>'
 +addy_text14dc396c5590cf48dcb78bdc5f219318+'<\/a>';
		</script><span style=
 "font-size: small;">)&nbsp;</span></strong></i></span><i></i><span style="f
 ont-size: small;"><strong><span style="background: white; color: #02613f; f
 ont-family: 'Georgia','serif';">BEFORE YOU REGISTER&nbsp;</span></strong><e
 m><b><span style="background: white; color: black; font-family: 'Georgia','
 serif';">for the course</span></b></em><strong><span style="background: whi
 te; color: black; font-family: 'Georgia','serif';">.</span></strong></span>
 </span></span></span></span></span></span></span></span></span></span></spa
 n></span></span></span></span></span></p><p>&nbsp;</p><p>&nbsp;<span style=
 "color: #336699; font-size: 12pt;"><span><span><span style="color: #000000;
 "><span><span style="font-family: Tahoma;"><span style="font-family: Tahoma
 ;"><span style="font-family: Tahoma;"><span style="font-family: Tahoma;"><s
 pan style="font-family: Tahoma;"><span style="font-family: Tahoma;"><span s
 tyle="font-family: Tahoma;"><span style="font-family: Tahoma;"><span style=
 "font-family: Tahoma;"><span style="font-family: Tahoma;"><span style="font
 -family: Tahoma;"><span style="color: #0000ff; font-size: 14pt;"><em><stron
 g><a href="https://www.nyswda.org/index.php?option=com_civicrm&amp;task=civ
 icrm/event/register&amp;reset=1&amp;id=14183" style="color: #0000ff;">Click
  here to register</a></strong></em></span></span></span></span></span></spa
 n></span></span></span></span></span></span></span></span></span></span></s
 pan></p>
CONTACT:This email address is being protected from spambots. You need JavaScript enabled to view it.
				document.getElementById('cloak0ab663bf28330e6d79c71bd624aca4f4').innerHTML = '';
				var prefix = '&#109;a' + 'i&#108;' + '&#116;o';
				var path = 'hr' + 'ef' + '=';
				var addy0ab663bf28330e6d79c71bd624aca4f4 = 'rv&#105;ss&#101;r' + '&#64;';
				addy0ab663bf28330e6d79c71bd624aca4f4 = addy0ab663bf28330e6d79c71bd624aca4f4 + 'nyswd&#97;' + '&#46;' + '&#111;rg';
				var addy_text0ab663bf28330e6d79c71bd624aca4f4 = 'rv&#105;ss&#101;r' + '&#64;' + 'nyswd&#97;' + '&#46;' + '&#111;rg';document.getElementById('cloak0ab663bf28330e6d79c71bd624aca4f4').innerHTML += '<a ' + path + '\'' + prefix + ':' + addy0ab663bf28330e6d79c71bd624aca4f4 + '\'>'+addy_text0ab663bf28330e6d79c71bd624aca4f4+'';
		
DTSTAMP:20260424T162355
DTSTART;TZID=America/New_York:20230307T090000
DTEND;TZID=America/New_York:20230307T120000
SEQUENCE:0
TRANSP:OPAQUE
END:VEVENT
END:VCALENDAR