BEGIN:VCALENDAR
VERSION:2.0
PRODID:-//jEvents 2.0 for Joomla//EN
CALSCALE:GREGORIAN
METHOD:PUBLISH
BEGIN:VTIMEZONE
TZID:America/New_York
BEGIN:STANDARD
DTSTART:20221106T010000
RDATE:20230312T030000
TZOFFSETFROM:-0400
TZOFFSETTO:-0500
TZNAME:America/New_York EST
END:STANDARD
BEGIN:STANDARD
DTSTART:20231105T010000
RDATE:20240310T030000
TZOFFSETFROM:-0400
TZOFFSETTO:-0500
TZNAME:America/New_York EST
END:STANDARD
BEGIN:STANDARD
DTSTART:20241103T010000
RDATE:20250309T030000
TZOFFSETFROM:-0400
TZOFFSETTO:-0500
TZNAME:America/New_York EST
END:STANDARD
BEGIN:STANDARD
DTSTART:20251102T010000
RDATE:20260308T030000
TZOFFSETFROM:-0400
TZOFFSETTO:-0500
TZNAME:America/New_York EST
END:STANDARD
BEGIN:STANDARD
DTSTART:20261101T010000
RDATE:20270314T030000
TZOFFSETFROM:-0400
TZOFFSETTO:-0500
TZNAME:America/New_York EST
END:STANDARD
BEGIN:STANDARD
DTSTART:20271107T010000
RDATE:20280312T030000
TZOFFSETFROM:-0400
TZOFFSETTO:-0500
TZNAME:America/New_York EST
END:STANDARD
BEGIN:STANDARD
DTSTART:20281105T010000
RDATE:20290311T030000
TZOFFSETFROM:-0400
TZOFFSETTO:-0500
TZNAME:America/New_York EST
END:STANDARD
BEGIN:STANDARD
DTSTART:20291104T010000
RDATE:20300310T030000
TZOFFSETFROM:-0400
TZOFFSETTO:-0500
TZNAME:America/New_York EST
END:STANDARD
BEGIN:STANDARD
DTSTART:20301103T010000
RDATE:20310309T030000
TZOFFSETFROM:-0400
TZOFFSETTO:-0500
TZNAME:America/New_York EST
END:STANDARD
BEGIN:DAYLIGHT
DTSTART:20220418T090000
RDATE:20221106T010000
TZOFFSETFROM:-0500
TZOFFSETTO:-0400
TZNAME:America/New_York EDT
END:DAYLIGHT
BEGIN:DAYLIGHT
DTSTART:20230312T030000
RDATE:20231105T010000
TZOFFSETFROM:-0500
TZOFFSETTO:-0400
TZNAME:America/New_York EDT
END:DAYLIGHT
BEGIN:DAYLIGHT
DTSTART:20240310T030000
RDATE:20241103T010000
TZOFFSETFROM:-0500
TZOFFSETTO:-0400
TZNAME:America/New_York EDT
END:DAYLIGHT
BEGIN:DAYLIGHT
DTSTART:20250309T030000
RDATE:20251102T010000
TZOFFSETFROM:-0500
TZOFFSETTO:-0400
TZNAME:America/New_York EDT
END:DAYLIGHT
BEGIN:DAYLIGHT
DTSTART:20260308T030000
RDATE:20261101T010000
TZOFFSETFROM:-0500
TZOFFSETTO:-0400
TZNAME:America/New_York EDT
END:DAYLIGHT
BEGIN:DAYLIGHT
DTSTART:20270314T030000
RDATE:20271107T010000
TZOFFSETFROM:-0500
TZOFFSETTO:-0400
TZNAME:America/New_York EDT
END:DAYLIGHT
BEGIN:DAYLIGHT
DTSTART:20280312T030000
RDATE:20281105T010000
TZOFFSETFROM:-0500
TZOFFSETTO:-0400
TZNAME:America/New_York EDT
END:DAYLIGHT
BEGIN:DAYLIGHT
DTSTART:20290311T030000
RDATE:20291104T010000
TZOFFSETFROM:-0500
TZOFFSETTO:-0400
TZNAME:America/New_York EDT
END:DAYLIGHT
BEGIN:DAYLIGHT
DTSTART:20300310T030000
RDATE:20301103T010000
TZOFFSETFROM:-0500
TZOFFSETTO:-0400
TZNAME:America/New_York EDT
END:DAYLIGHT
END:VTIMEZONE
BEGIN:VEVENT
UID:37445e5018b7d41f231f6aaab4f396e5
CATEGORIES:At Syracuse
CREATED:20230329T094630
SUMMARY:Heating & Venting Fundamentals
LOCATION:NYSWDA Training Center - East Syracuse
DESCRIPTION:<p><span style="font-family: tahoma, arial, helvetica, sans-serif;"><em><sp
 an style="font-size: 13.5pt; color: #336699;"></span></em></span><strong><s
 pan style="color: #336699; font-family: tahoma, arial, helvetica, sans-seri
 f; font-size: 14pt;">Heating &amp; Venting Fundamentals </span></strong></p
 ><p>&nbsp;</p><p><strong><span style="color: #336699; font-family: tahoma, 
 arial, helvetica, sans-serif; font-size: 14pt;">Training</span><span style=
 "color: #336699; font-size: 13.5pt;"><span style="font-family: tahoma, aria
 l, helvetica, sans-serif; font-size: 14pt;"> Location: NYSWDA Training Cent
 er (Building 1) – 5869 Fisher Road, East Syracuse, NY 13057</span><br /><br
  /></span></strong><span style="font-family: tahoma, arial, helvetica, sans
 -serif; font-size: 12pt; color: #000000;"><em><span style="text-decoration:
  underline;"><span style="font-family: Tahoma;">This training is for;</span
 ></span></em><span style="font-family: Tahoma;"><span style="font-family: T
 ahoma;"><br /></span></span></span><span style="font-family: tahoma, arial,
  helvetica, sans-serif; font-size: 12pt; color: #000000;">Entry level HVAC 
 techs and auditors</span><span style="font-family: tahoma, arial, helvetica
 , sans-serif; font-size: 12pt; color: #000000;"><span style="font-family: T
 ahoma;"><span style="font-family: Tahoma;"><span style="font-family: Tahoma
 ;"><span style="font-family: Tahoma;"><span style="text-decoration: underli
 ne;"><em><span style="font-family: Tahoma;"></span></em></span></span></spa
 n></span></span></span></p><p>&nbsp;</p><p><span style="font-family: tahoma
 , arial, helvetica, sans-serif; font-size: 12pt; color: #000000;"><span sty
 le="font-family: Tahoma;"><span style="font-family: Tahoma;"><span style="f
 ont-family: Tahoma;"><span style="font-family: Tahoma;"><span style="text-d
 ecoration: underline;"><em><span style="font-family: Tahoma;">Course Descri
 ption;<br /></span></em></span></span></span></span></span></span><span sty
 le="font-family: tahoma, arial, helvetica, sans-serif; font-size: 12pt; col
 or: #000000;">This is an introductory course that will teach fundamentals o
 f heating systems and venting combustion appliances. The focus is to provid
 e all personnel working in client homes, the knowledge to identify differen
 t classifications of furnaces and boilers. Instruction on health and safety
  issues for those working on venting systems and an explanation of which ma
 terials can be used and which cannot. NFPA venting guidelines will be intro
 duced so that venting safety is built into the thought process. This traini
 ng will assist technicians in identifying problems, repairing and analysis 
 of venting systems in the field.<br /></span></p><p>&nbsp;</p><p><span styl
 e="color: #000000;"><span style="font-family: tahoma, arial, helvetica, san
 s-serif; font-size: 12pt;"><span style="font-family: Tahoma;"><span style="
 font-family: Tahoma;"><span style="font-family: Tahoma;"><span style="font-
 family: Tahoma;"><span style="font-family: Tahoma;"><span style="font-famil
 y: Tahoma;"><span style="font-family: Tahoma;"><span style="text-decoration
 : underline;"><em>Agenda;<br /></em></span></span></span></span></span></sp
 an></span></span></span><span style="font-family: tahoma, arial, helvetica,
  sans-serif; font-size: 12pt;">Morning session - classroom presentation<br 
 />Afternoon session - consists of hands-on lab training</span></span></p><p
 >&nbsp;</p><p><span style="color: #000000;"><span style="font-family: tahom
 a, arial, helvetica, sans-serif; font-size: 12pt;"><span style="font-family
 : Tahoma;"><span style="font-family: Tahoma;"><span style="font-family: Tah
 oma;"><span style="font-family: Tahoma;"><span style="font-family: Tahoma;"
 ><span style="font-family: Tahoma;"><span style="font-family: Tahoma;"><spa
 n style="text-decoration: underline;"><em>Dates;<br /></em></span><span sty
 le="font-family: Tahoma;">April 19, 2023 / 9:00am - 4:30pm</span></span></s
 pan></span></span></span></span></span></span></span></p><p>&nbsp;</p><p><s
 pan style="color: #000000;"><span style="font-family: tahoma, arial, helvet
 ica, sans-serif; font-size: 12pt;"><span style="font-family: Tahoma;"><span
  style="font-family: Tahoma;"><span style="font-family: Tahoma;"><span styl
 e="font-family: Tahoma;"><span style="font-family: Tahoma;"><span style="fo
 nt-family: Tahoma;"><span style="font-family: Tahoma;"><span style="font-fa
 mily: Tahoma;"><span style="text-decoration: underline;"><em><span style="f
 ont-family: Tahoma;">Prerequisites:</span></em></span><em><span style="font
 -family: Tahoma;"> <br /></span></em><span style="font-family: Tahoma;">Non
 e</span></span></span></span></span></span></span></span></span></span></sp
 an></p><p>&nbsp;</p><p><span style="color: #000000;"><span style="font-fami
 ly: tahoma, arial, helvetica, sans-serif; font-size: 12pt;"><span style="fo
 nt-family: Tahoma;"><span style="font-family: Tahoma;"><span style="font-fa
 mily: Tahoma;"><span style="font-family: Tahoma;"><span style="font-family:
  Tahoma;"><span style="font-family: Tahoma;"><span style="font-family: Taho
 ma;"><span style="font-family: Tahoma;"><span style="font-family: Tahoma;">
 <span style="font-family: Tahoma;"><em><span style="text-decoration: underl
 ine;">Class Size</span></em>: 8</span></span></span></span></span></span></
 span></span></span></span></span></span></p><p>&nbsp;</p><p><span style="co
 lor: #000000;"><span style="font-family: tahoma, arial, helvetica, sans-ser
 if; font-size: 12pt;"><span style="font-family: Tahoma;"><span style="font-
 family: Tahoma;"><span style="font-family: Tahoma;"><span style="font-famil
 y: Tahoma;"><span style="font-family: Tahoma;"><span style="font-family: Ta
 homa;"><span style="font-family: Tahoma;"><span style="font-family: Tahoma;
 "><span style="font-family: Tahoma;"><span style="font-family: Tahoma;"><sp
 an style="text-decoration: underline;"><em>BPI</em></span><em><span style="
 text-decoration: underline;"> CEU's</span>;</em> 3</span></span></span></sp
 an></span></span></span></span></span></span></span></span></p><p>&nbsp;</p
 ><p><span style="color: #000000;"><span style="font-family: tahoma, arial, 
 helvetica, sans-serif; font-size: 12pt;"><span style="font-family: Tahoma;"
 ><span style="font-family: Tahoma;"><span style="font-family: Tahoma;"><spa
 n style="font-family: Tahoma;"><span style="font-family: Tahoma;"><span sty
 le="font-family: Tahoma;"><span style="font-family: Tahoma;"><span style="f
 ont-family: Tahoma;"><span style="font-family: Tahoma;"><span style="font-f
 amily: Tahoma;"><span style="font-family: Tahoma;"><span style="text-decora
 tion: underline;">Instructor</span>; Dave Hill</span><span style="font-fami
 ly: Tahoma;">&nbsp;- HVAC instructor - NYSWDA</span></span></span></span></
 span></span></span></span></span></span></span></span></span></p><p>&nbsp;<
 /p><p><span style="color: #000000;"><span style="font-family: tahoma, arial
 , helvetica, sans-serif; font-size: 12pt;"><span style="font-family: Tahoma
 ;"><span style="font-family: Tahoma;"><span style="font-family: Tahoma;"><s
 pan style="font-family: Tahoma;"><span style="font-family: Tahoma;"><span s
 tyle="font-family: Tahoma;"><span style="font-family: Tahoma;"><span style=
 "font-family: Tahoma;"><span style="font-family: Tahoma;"><span style="font
 -family: Tahoma;"><span style="font-family: Tahoma;"><span style="text-deco
 ration: underline;">Cours</span><span style="text-decoration: underline;">e
 <em> Fees:</em></span><em>&nbsp;</em><br /><span style="font-family: Tahoma
 ;">$262/person</span><span style="font-family: Tahoma;"> - NY Weatherizatio
 n Sub-grantees</span></span></span></span></span></span></span></span></spa
 n></span></span></span></span></span></p><p><span style="font-family: tahom
 a, arial, helvetica, sans-serif; font-size: 12pt; color: #000000;"><span st
 yle="font-family: Tahoma;"><span style="font-family: Tahoma;"><span style="
 font-family: Tahoma;"><span style="font-family: Tahoma;"><span style="font-
 family: Tahoma;"><span style="font-family: Tahoma;"><span style="font-famil
 y: Tahoma;"><span style="font-family: Tahoma;"><span style="font-family: Ta
 homa;"><span style="font-family: Tahoma;"><span style="font-family: Tahoma;
 "><span style="font-family: Tahoma;"> </span><span style="font-family: Taho
 ma;">$262/person</span><span style="font-family: Tahoma;"> - </span><span s
 tyle="font-family: Tahoma;">affiliate members</span></span></span></span></
 span></span></span></span></span></span></span></span></span></p><p><span s
 tyle="font-family: tahoma, arial, helvetica, sans-serif; font-size: 12pt; c
 olor: #000000;"><span style="font-family: Tahoma;"><span style="font-family
 : Tahoma;"><span style="font-family: Tahoma;"><span style="font-family: Tah
 oma;"><span style="font-family: Tahoma;"><span style="font-family: Tahoma;"
 ><span style="font-family: Tahoma;"><span style="font-family: Tahoma;"><spa
 n style="font-family: Tahoma;"><span style="font-family: Tahoma;"><span sty
 le="font-family: Tahoma;"><span style="font-family: Tahoma;"> </span><span 
 style="font-family: Tahoma;">$380/person</span><span style="font-family: Ta
 homa;"> - </span><span style="font-family: Tahoma;">non-members</span></spa
 n></span></span></span></span></span></span></span></span></span></span></s
 pan></p><p>&nbsp;</p><p><span style="color: #000000;"><em><span style="font
 -family: Tahoma; font-size: 12pt;"><strong>Course fees do not include lunch
 .</strong></span></em></span></p><p><span style="font-family: tahoma, arial
 , helvetica, sans-serif; font-size: 12pt; color: #ffffff;"><span><span styl
 e="font-family: Tahoma;"><span style="font-family: Tahoma;"><span style="fo
 nt-family: Tahoma;"><span style="font-family: Tahoma;"><span style="font-fa
 mily: Tahoma;"><span style="font-family: Tahoma;"><span style="font-family:
  Tahoma;"><span style="font-family: Tahoma;"><span style="font-family: Taho
 ma;"><span style="font-family: Tahoma;"><span style="font-family: Tahoma;">
 <em><span style="font-family: Tahoma;">ÂÂÂ&nbsp;</span></em></span></span><
 /span></span></span></span></span></span></span></span></span></span></span
 ></p><p style="margin-top: 0in; margin-right: 0in; margin-bottom: 0pt;"><st
 rong><i><span style="background: white; color: #02613f; font-family: Georgi
 a, 'serif';"><span style="font-size: small;">**Special note</span></span></
 i></strong><strong><i><span style="background: white; color: black; font-fa
 mily: Georgia, 'serif';"><span style="font-size: small;">&nbsp;-&nbsp;if yo
 u wish to become an Affiliate Member, and&nbsp;save off the non-member rate
 , please contact Karen McMahon (315-701-0440 ext. 223,&nbsp;</span><span id
 ="cloakb8160a9f37cc8d2a345f05b8ec860cc4">This email address is being protec
 ted from spambots. You need JavaScript enabled to view it.</span><script ty
 pe='text/javascript'>
				document.getElementById('cloakb8160a9f37cc8d2a345
 f05b8ec860cc4').innerHTML = '';
				var prefix = 'ma' + 'il' + 'to';
				va
 r path = 'hr' + 'ef' + '=';
				var addyb8160a9f37cc8d2a345f05b8ec860cc4 = 
 'kmcmahon' + '@';
				addyb8160a9f37cc8d2a345f05b8ec860cc4 = addyb8160a9f37
 cc8d2a345f05b8ec860cc4 + 'nyswda' + '.' + 'org';
				var addy_textb8160a9f3
 7cc8d2a345f05b8ec860cc4 = '<span style="color: #0000ff; font-size: small;">
 kmcmahon' + '@' + 'nyswda' + '.' + 'org</span>';document.getElementById('cl
 oakb8160a9f37cc8d2a345f05b8ec860cc4').innerHTML += '<a ' + path + '\'' + pr
 efix + ':' + addyb8160a9f37cc8d2a345f05b8ec860cc4 + '\'>'+addy_textb8160a9f
 37cc8d2a345f05b8ec860cc4+'<\/a>';
		</script><span style="font-size: small;
 ">)&nbsp;</span></span></i></strong><span style="font-size: small;"><strong
 ><span style="background: white; color: #02613f; font-family: Georgia, 'ser
 if';">BEFORE YOU REGISTER&nbsp;</span></strong><em><b><span style="backgrou
 nd: white; color: black; font-family: Georgia, 'serif';">for the course</sp
 an></b></em><strong><span style="background: white; color: black; font-fami
 ly: Georgia, 'serif';">.</span></strong></span></p><p>&nbsp;</p><p><span st
 yle="color: #0000ff;"><em><strong><span style="font-family: tahoma, arial, 
 helvetica, sans-serif; font-size: 14pt;"><a href="index.php?option=com_civi
 crm&amp;task=civicrm/event/register&amp;reset=1&amp;id=14193" style="color:
  #0000ff;">Click here to register</a></span></strong></em></span></p>
X-ALT-DESC;FMTTYPE=text/html:<p><span style="font-family: tahoma, arial, helvetica, sans-serif;"><em><sp
 an style="font-size: 13.5pt; color: #336699;"></span></em></span><strong><s
 pan style="color: #336699; font-family: tahoma, arial, helvetica, sans-seri
 f; font-size: 14pt;">Heating &amp; Venting Fundamentals </span></strong></p
 ><p>&nbsp;</p><p><strong><span style="color: #336699; font-family: tahoma, 
 arial, helvetica, sans-serif; font-size: 14pt;">Training</span><span style=
 "color: #336699; font-size: 13.5pt;"><span style="font-family: tahoma, aria
 l, helvetica, sans-serif; font-size: 14pt;"> Location: NYSWDA Training Cent
 er (Building 1) – 5869 Fisher Road, East Syracuse, NY 13057</span><br /><br
  /></span></strong><span style="font-family: tahoma, arial, helvetica, sans
 -serif; font-size: 12pt; color: #000000;"><em><span style="text-decoration:
  underline;"><span style="font-family: Tahoma;">This training is for;</span
 ></span></em><span style="font-family: Tahoma;"><span style="font-family: T
 ahoma;"><br /></span></span></span><span style="font-family: tahoma, arial,
  helvetica, sans-serif; font-size: 12pt; color: #000000;">Entry level HVAC 
 techs and auditors</span><span style="font-family: tahoma, arial, helvetica
 , sans-serif; font-size: 12pt; color: #000000;"><span style="font-family: T
 ahoma;"><span style="font-family: Tahoma;"><span style="font-family: Tahoma
 ;"><span style="font-family: Tahoma;"><span style="text-decoration: underli
 ne;"><em><span style="font-family: Tahoma;"></span></em></span></span></spa
 n></span></span></span></p><p>&nbsp;</p><p><span style="font-family: tahoma
 , arial, helvetica, sans-serif; font-size: 12pt; color: #000000;"><span sty
 le="font-family: Tahoma;"><span style="font-family: Tahoma;"><span style="f
 ont-family: Tahoma;"><span style="font-family: Tahoma;"><span style="text-d
 ecoration: underline;"><em><span style="font-family: Tahoma;">Course Descri
 ption;<br /></span></em></span></span></span></span></span></span><span sty
 le="font-family: tahoma, arial, helvetica, sans-serif; font-size: 12pt; col
 or: #000000;">This is an introductory course that will teach fundamentals o
 f heating systems and venting combustion appliances. The focus is to provid
 e all personnel working in client homes, the knowledge to identify differen
 t classifications of furnaces and boilers. Instruction on health and safety
  issues for those working on venting systems and an explanation of which ma
 terials can be used and which cannot. NFPA venting guidelines will be intro
 duced so that venting safety is built into the thought process. This traini
 ng will assist technicians in identifying problems, repairing and analysis 
 of venting systems in the field.<br /></span></p><p>&nbsp;</p><p><span styl
 e="color: #000000;"><span style="font-family: tahoma, arial, helvetica, san
 s-serif; font-size: 12pt;"><span style="font-family: Tahoma;"><span style="
 font-family: Tahoma;"><span style="font-family: Tahoma;"><span style="font-
 family: Tahoma;"><span style="font-family: Tahoma;"><span style="font-famil
 y: Tahoma;"><span style="font-family: Tahoma;"><span style="text-decoration
 : underline;"><em>Agenda;<br /></em></span></span></span></span></span></sp
 an></span></span></span><span style="font-family: tahoma, arial, helvetica,
  sans-serif; font-size: 12pt;">Morning session - classroom presentation<br 
 />Afternoon session - consists of hands-on lab training</span></span></p><p
 >&nbsp;</p><p><span style="color: #000000;"><span style="font-family: tahom
 a, arial, helvetica, sans-serif; font-size: 12pt;"><span style="font-family
 : Tahoma;"><span style="font-family: Tahoma;"><span style="font-family: Tah
 oma;"><span style="font-family: Tahoma;"><span style="font-family: Tahoma;"
 ><span style="font-family: Tahoma;"><span style="font-family: Tahoma;"><spa
 n style="text-decoration: underline;"><em>Dates;<br /></em></span><span sty
 le="font-family: Tahoma;">April 19, 2023 / 9:00am - 4:30pm</span></span></s
 pan></span></span></span></span></span></span></span></p><p>&nbsp;</p><p><s
 pan style="color: #000000;"><span style="font-family: tahoma, arial, helvet
 ica, sans-serif; font-size: 12pt;"><span style="font-family: Tahoma;"><span
  style="font-family: Tahoma;"><span style="font-family: Tahoma;"><span styl
 e="font-family: Tahoma;"><span style="font-family: Tahoma;"><span style="fo
 nt-family: Tahoma;"><span style="font-family: Tahoma;"><span style="font-fa
 mily: Tahoma;"><span style="text-decoration: underline;"><em><span style="f
 ont-family: Tahoma;">Prerequisites:</span></em></span><em><span style="font
 -family: Tahoma;"> <br /></span></em><span style="font-family: Tahoma;">Non
 e</span></span></span></span></span></span></span></span></span></span></sp
 an></p><p>&nbsp;</p><p><span style="color: #000000;"><span style="font-fami
 ly: tahoma, arial, helvetica, sans-serif; font-size: 12pt;"><span style="fo
 nt-family: Tahoma;"><span style="font-family: Tahoma;"><span style="font-fa
 mily: Tahoma;"><span style="font-family: Tahoma;"><span style="font-family:
  Tahoma;"><span style="font-family: Tahoma;"><span style="font-family: Taho
 ma;"><span style="font-family: Tahoma;"><span style="font-family: Tahoma;">
 <span style="font-family: Tahoma;"><em><span style="text-decoration: underl
 ine;">Class Size</span></em>: 8</span></span></span></span></span></span></
 span></span></span></span></span></span></p><p>&nbsp;</p><p><span style="co
 lor: #000000;"><span style="font-family: tahoma, arial, helvetica, sans-ser
 if; font-size: 12pt;"><span style="font-family: Tahoma;"><span style="font-
 family: Tahoma;"><span style="font-family: Tahoma;"><span style="font-famil
 y: Tahoma;"><span style="font-family: Tahoma;"><span style="font-family: Ta
 homa;"><span style="font-family: Tahoma;"><span style="font-family: Tahoma;
 "><span style="font-family: Tahoma;"><span style="font-family: Tahoma;"><sp
 an style="text-decoration: underline;"><em>BPI</em></span><em><span style="
 text-decoration: underline;"> CEU's</span>;</em> 3</span></span></span></sp
 an></span></span></span></span></span></span></span></span></p><p>&nbsp;</p
 ><p><span style="color: #000000;"><span style="font-family: tahoma, arial, 
 helvetica, sans-serif; font-size: 12pt;"><span style="font-family: Tahoma;"
 ><span style="font-family: Tahoma;"><span style="font-family: Tahoma;"><spa
 n style="font-family: Tahoma;"><span style="font-family: Tahoma;"><span sty
 le="font-family: Tahoma;"><span style="font-family: Tahoma;"><span style="f
 ont-family: Tahoma;"><span style="font-family: Tahoma;"><span style="font-f
 amily: Tahoma;"><span style="font-family: Tahoma;"><span style="text-decora
 tion: underline;">Instructor</span>; Dave Hill</span><span style="font-fami
 ly: Tahoma;">&nbsp;- HVAC instructor - NYSWDA</span></span></span></span></
 span></span></span></span></span></span></span></span></span></p><p>&nbsp;<
 /p><p><span style="color: #000000;"><span style="font-family: tahoma, arial
 , helvetica, sans-serif; font-size: 12pt;"><span style="font-family: Tahoma
 ;"><span style="font-family: Tahoma;"><span style="font-family: Tahoma;"><s
 pan style="font-family: Tahoma;"><span style="font-family: Tahoma;"><span s
 tyle="font-family: Tahoma;"><span style="font-family: Tahoma;"><span style=
 "font-family: Tahoma;"><span style="font-family: Tahoma;"><span style="font
 -family: Tahoma;"><span style="font-family: Tahoma;"><span style="text-deco
 ration: underline;">Cours</span><span style="text-decoration: underline;">e
 <em> Fees:</em></span><em>&nbsp;</em><br /><span style="font-family: Tahoma
 ;">$262/person</span><span style="font-family: Tahoma;"> - NY Weatherizatio
 n Sub-grantees</span></span></span></span></span></span></span></span></spa
 n></span></span></span></span></span></p><p><span style="font-family: tahom
 a, arial, helvetica, sans-serif; font-size: 12pt; color: #000000;"><span st
 yle="font-family: Tahoma;"><span style="font-family: Tahoma;"><span style="
 font-family: Tahoma;"><span style="font-family: Tahoma;"><span style="font-
 family: Tahoma;"><span style="font-family: Tahoma;"><span style="font-famil
 y: Tahoma;"><span style="font-family: Tahoma;"><span style="font-family: Ta
 homa;"><span style="font-family: Tahoma;"><span style="font-family: Tahoma;
 "><span style="font-family: Tahoma;"> </span><span style="font-family: Taho
 ma;">$262/person</span><span style="font-family: Tahoma;"> - </span><span s
 tyle="font-family: Tahoma;">affiliate members</span></span></span></span></
 span></span></span></span></span></span></span></span></span></p><p><span s
 tyle="font-family: tahoma, arial, helvetica, sans-serif; font-size: 12pt; c
 olor: #000000;"><span style="font-family: Tahoma;"><span style="font-family
 : Tahoma;"><span style="font-family: Tahoma;"><span style="font-family: Tah
 oma;"><span style="font-family: Tahoma;"><span style="font-family: Tahoma;"
 ><span style="font-family: Tahoma;"><span style="font-family: Tahoma;"><spa
 n style="font-family: Tahoma;"><span style="font-family: Tahoma;"><span sty
 le="font-family: Tahoma;"><span style="font-family: Tahoma;"> </span><span 
 style="font-family: Tahoma;">$380/person</span><span style="font-family: Ta
 homa;"> - </span><span style="font-family: Tahoma;">non-members</span></spa
 n></span></span></span></span></span></span></span></span></span></span></s
 pan></p><p>&nbsp;</p><p><span style="color: #000000;"><em><span style="font
 -family: Tahoma; font-size: 12pt;"><strong>Course fees do not include lunch
 .</strong></span></em></span></p><p><span style="font-family: tahoma, arial
 , helvetica, sans-serif; font-size: 12pt; color: #ffffff;"><span><span styl
 e="font-family: Tahoma;"><span style="font-family: Tahoma;"><span style="fo
 nt-family: Tahoma;"><span style="font-family: Tahoma;"><span style="font-fa
 mily: Tahoma;"><span style="font-family: Tahoma;"><span style="font-family:
  Tahoma;"><span style="font-family: Tahoma;"><span style="font-family: Taho
 ma;"><span style="font-family: Tahoma;"><span style="font-family: Tahoma;">
 <em><span style="font-family: Tahoma;">ÂÂÂ&nbsp;</span></em></span></span><
 /span></span></span></span></span></span></span></span></span></span></span
 ></p><p style="margin-top: 0in; margin-right: 0in; margin-bottom: 0pt;"><st
 rong><i><span style="background: white; color: #02613f; font-family: Georgi
 a, 'serif';"><span style="font-size: small;">**Special note</span></span></
 i></strong><strong><i><span style="background: white; color: black; font-fa
 mily: Georgia, 'serif';"><span style="font-size: small;">&nbsp;-&nbsp;if yo
 u wish to become an Affiliate Member, and&nbsp;save off the non-member rate
 , please contact Karen McMahon (315-701-0440 ext. 223,&nbsp;</span><span id
 ="cloakb8160a9f37cc8d2a345f05b8ec860cc4">This email address is being protec
 ted from spambots. You need JavaScript enabled to view it.</span><script ty
 pe='text/javascript'>
				document.getElementById('cloakb8160a9f37cc8d2a345
 f05b8ec860cc4').innerHTML = '';
				var prefix = 'ma' + 'il' + 'to';
				va
 r path = 'hr' + 'ef' + '=';
				var addyb8160a9f37cc8d2a345f05b8ec860cc4 = 
 'kmcmahon' + '@';
				addyb8160a9f37cc8d2a345f05b8ec860cc4 = addyb8160a9f37
 cc8d2a345f05b8ec860cc4 + 'nyswda' + '.' + 'org';
				var addy_textb8160a9f3
 7cc8d2a345f05b8ec860cc4 = '<span style="color: #0000ff; font-size: small;">
 kmcmahon' + '@' + 'nyswda' + '.' + 'org</span>';document.getElementById('cl
 oakb8160a9f37cc8d2a345f05b8ec860cc4').innerHTML += '<a ' + path + '\'' + pr
 efix + ':' + addyb8160a9f37cc8d2a345f05b8ec860cc4 + '\'>'+addy_textb8160a9f
 37cc8d2a345f05b8ec860cc4+'<\/a>';
		</script><span style="font-size: small;
 ">)&nbsp;</span></span></i></strong><span style="font-size: small;"><strong
 ><span style="background: white; color: #02613f; font-family: Georgia, 'ser
 if';">BEFORE YOU REGISTER&nbsp;</span></strong><em><b><span style="backgrou
 nd: white; color: black; font-family: Georgia, 'serif';">for the course</sp
 an></b></em><strong><span style="background: white; color: black; font-fami
 ly: Georgia, 'serif';">.</span></strong></span></p><p>&nbsp;</p><p><span st
 yle="color: #0000ff;"><em><strong><span style="font-family: tahoma, arial, 
 helvetica, sans-serif; font-size: 14pt;"><a href="https://www.nyswda.org/in
 dex.php?option=com_civicrm&amp;task=civicrm/event/register&amp;reset=1&amp;
 id=14193" style="color: #0000ff;">Click here to register</a></span></strong
 ></em></span></p>
CONTACT:This email address is being protected from spambots. You need JavaScript enabled to view it.
				document.getElementById('cloakb580dd48878efd5cd59f1316722e27bc').innerHTML = '';
				var prefix = '&#109;a' + 'i&#108;' + '&#116;o';
				var path = 'hr' + 'ef' + '=';
				var addyb580dd48878efd5cd59f1316722e27bc = 'rv&#105;ss&#101;r' + '&#64;';
				addyb580dd48878efd5cd59f1316722e27bc = addyb580dd48878efd5cd59f1316722e27bc + 'nyswd&#97;' + '&#46;' + '&#111;rg';
				var addy_textb580dd48878efd5cd59f1316722e27bc = 'rv&#105;ss&#101;r' + '&#64;' + 'nyswd&#97;' + '&#46;' + '&#111;rg';document.getElementById('cloakb580dd48878efd5cd59f1316722e27bc').innerHTML += '<a ' + path + '\'' + prefix + ':' + addyb580dd48878efd5cd59f1316722e27bc + '\'>'+addy_textb580dd48878efd5cd59f1316722e27bc+'';
		
DTSTAMP:20260424T161310
DTSTART;TZID=America/New_York:20230419T090000
DTEND;TZID=America/New_York:20230419T160000
SEQUENCE:0
TRANSP:OPAQUE
END:VEVENT
END:VCALENDAR