BEGIN:VCALENDAR
VERSION:2.0
PRODID:-//jEvents 2.0 for Joomla//EN
CALSCALE:GREGORIAN
METHOD:PUBLISH
BEGIN:VTIMEZONE
TZID:America/New_York
BEGIN:STANDARD
DTSTART:20221106T010000
RDATE:20230312T030000
TZOFFSETFROM:-0400
TZOFFSETTO:-0500
TZNAME:America/New_York EST
END:STANDARD
BEGIN:STANDARD
DTSTART:20231105T010000
RDATE:20240310T030000
TZOFFSETFROM:-0400
TZOFFSETTO:-0500
TZNAME:America/New_York EST
END:STANDARD
BEGIN:STANDARD
DTSTART:20241103T010000
RDATE:20250309T030000
TZOFFSETFROM:-0400
TZOFFSETTO:-0500
TZNAME:America/New_York EST
END:STANDARD
BEGIN:STANDARD
DTSTART:20251102T010000
RDATE:20260308T030000
TZOFFSETFROM:-0400
TZOFFSETTO:-0500
TZNAME:America/New_York EST
END:STANDARD
BEGIN:STANDARD
DTSTART:20261101T010000
RDATE:20270314T030000
TZOFFSETFROM:-0400
TZOFFSETTO:-0500
TZNAME:America/New_York EST
END:STANDARD
BEGIN:STANDARD
DTSTART:20271107T010000
RDATE:20280312T030000
TZOFFSETFROM:-0400
TZOFFSETTO:-0500
TZNAME:America/New_York EST
END:STANDARD
BEGIN:STANDARD
DTSTART:20281105T010000
RDATE:20290311T030000
TZOFFSETFROM:-0400
TZOFFSETTO:-0500
TZNAME:America/New_York EST
END:STANDARD
BEGIN:STANDARD
DTSTART:20291104T010000
RDATE:20300310T030000
TZOFFSETFROM:-0400
TZOFFSETTO:-0500
TZNAME:America/New_York EST
END:STANDARD
BEGIN:STANDARD
DTSTART:20301103T010000
RDATE:20310309T030000
TZOFFSETFROM:-0400
TZOFFSETTO:-0500
TZNAME:America/New_York EST
END:STANDARD
BEGIN:DAYLIGHT
DTSTART:20220606T090000
RDATE:20221106T010000
TZOFFSETFROM:-0500
TZOFFSETTO:-0400
TZNAME:America/New_York EDT
END:DAYLIGHT
BEGIN:DAYLIGHT
DTSTART:20230312T030000
RDATE:20231105T010000
TZOFFSETFROM:-0500
TZOFFSETTO:-0400
TZNAME:America/New_York EDT
END:DAYLIGHT
BEGIN:DAYLIGHT
DTSTART:20240310T030000
RDATE:20241103T010000
TZOFFSETFROM:-0500
TZOFFSETTO:-0400
TZNAME:America/New_York EDT
END:DAYLIGHT
BEGIN:DAYLIGHT
DTSTART:20250309T030000
RDATE:20251102T010000
TZOFFSETFROM:-0500
TZOFFSETTO:-0400
TZNAME:America/New_York EDT
END:DAYLIGHT
BEGIN:DAYLIGHT
DTSTART:20260308T030000
RDATE:20261101T010000
TZOFFSETFROM:-0500
TZOFFSETTO:-0400
TZNAME:America/New_York EDT
END:DAYLIGHT
BEGIN:DAYLIGHT
DTSTART:20270314T030000
RDATE:20271107T010000
TZOFFSETFROM:-0500
TZOFFSETTO:-0400
TZNAME:America/New_York EDT
END:DAYLIGHT
BEGIN:DAYLIGHT
DTSTART:20280312T030000
RDATE:20281105T010000
TZOFFSETFROM:-0500
TZOFFSETTO:-0400
TZNAME:America/New_York EDT
END:DAYLIGHT
BEGIN:DAYLIGHT
DTSTART:20290311T030000
RDATE:20291104T010000
TZOFFSETFROM:-0500
TZOFFSETTO:-0400
TZNAME:America/New_York EDT
END:DAYLIGHT
BEGIN:DAYLIGHT
DTSTART:20300310T030000
RDATE:20301103T010000
TZOFFSETFROM:-0500
TZOFFSETTO:-0400
TZNAME:America/New_York EDT
END:DAYLIGHT
END:VTIMEZONE
BEGIN:VEVENT
UID:26874517ec2509408995be6f328d27fa
CATEGORIES:At Syracuse
CREATED:20230329T094950
SUMMARY:Clean and Tune for Heating Systems
LOCATION:NYSWDA Training Center - East Syracuse
DESCRIPTION:<p><strong><span style="color: #336699; font-size: 13.5pt;"><span style="fo
 nt-family: tahoma, arial, helvetica, sans-serif;">Clean &amp; Tune for Heat
 ing Systems</span></span></strong></p><p>&nbsp;</p><p><strong><span style="
 color: #336699; font-size: 13.5pt;"><span style="font-family: tahoma, arial
 , helvetica, sans-serif;">Training Location: NYSWDA Training Center (Buildi
 ng 1) – 5869 Fisher Road, East Syracuse, NY 13057</span><br /><br /><br /><
 /span></strong><span style="color: #000000;"><span style="font-family: taho
 ma, arial, helvetica, sans-serif; font-size: 12pt;"><em><span style="text-d
 ecoration: underline;"><span style="font-family: Tahoma;">This training is 
 for;</span></span></em><span style="font-family: Tahoma;"><span style="font
 -family: Tahoma;"><br /></span></span></span><span style="font-family: taho
 ma, arial, helvetica, sans-serif; font-size: 12pt;">Weatherization Director
 s, Auditors, Heating Techs, Heating Subcontractors</span></span></p><p>&nbs
 p;</p><p><span style="color: #000000;"><span style="font-family: tahoma, ar
 ial, helvetica, sans-serif; font-size: 12pt;"><span style="font-family: Tah
 oma;"><span style="font-family: Tahoma;"><span style="font-family: Tahoma;"
 ><span style="font-family: Tahoma;"><span style="text-decoration: underline
 ;"><em><span style="font-family: Tahoma;">Course Description;<br /></span><
 /em></span></span></span></span></span></span><span style="font-family: tah
 oma, arial, helvetica, sans-serif; font-size: 12pt;">Agencies working on 1-
 4 family dwellings will now have a method of ensuring technicians performin
 g WAP heating services, have HCR and DOE specification on what constitutes 
 a proper heating system clean and tune. Agencies may find the information u
 seful in writing bid proposals, and for inspection of completed work. Heati
 ng subcontractors are urged to attend. This course is useful as a first ste
 p in performing heating system clean and tunes in-house.<br /></span><span 
 style="font-family: tahoma, arial, helvetica, sans-serif; font-size: 12pt;"
 ><span style="font-family: Tahoma;"><span style="font-family: Tahoma;"><spa
 n style="font-family: Tahoma;"><span style="font-family: Tahoma;"><span sty
 le="font-family: Tahoma;"><span style="font-family: Tahoma;"><span style="f
 ont-family: Tahoma;"><span style="text-decoration: underline;"><em></em></s
 pan></span></span></span></span></span></span></span></span></span></p><p>&
 nbsp;</p><p><span style="color: #000000;"><span style="font-family: tahoma,
  arial, helvetica, sans-serif; font-size: 12pt;"><span style="font-family: 
 Tahoma;"><span style="font-family: Tahoma;"><span style="font-family: Tahom
 a;"><span style="font-family: Tahoma;"><span style="font-family: Tahoma;"><
 span style="font-family: Tahoma;"><span style="font-family: Tahoma;"><span 
 style="text-decoration: underline;"><em>Agenda;<br /></em></span></span></s
 pan></span></span></span></span></span></span><span style="font-family: tah
 oma, arial, helvetica, sans-serif; font-size: 12pt;">Morning session - clas
 sroom presentation<br />Afternoon session - consists of hands-on lab traini
 ng on oil boiler and natural gas forced hot air furnace</span></span></p><p
 >&nbsp;</p><p><span style="font-family: tahoma, arial, helvetica, sans-seri
 f; font-size: 12pt; color: #000000;"><span style="font-family: Tahoma;"><sp
 an style="font-family: Tahoma;"><span style="font-family: Tahoma;"><span st
 yle="font-family: Tahoma;"><span style="font-family: Tahoma;"><span style="
 font-family: Tahoma;"><span style="font-family: Tahoma;"><span style="text-
 decoration: underline;"><em>Dates;<br /></em></span><span style="font-famil
 y: Tahoma;">June 7, 2023/ 9:00am - 4:30pm</span></span></span></span></span
 ></span></span></span></span></p><p>&nbsp;</p><p><span style="color: #00000
 0;"></span></p><p><span style="font-family: tahoma, arial, helvetica, sans-
 serif; font-size: 12pt; color: #000000;"><span style="font-family: Tahoma;"
 ><span style="font-family: Tahoma;"><span style="font-family: Tahoma;"><spa
 n style="font-family: Tahoma;"><span style="font-family: Tahoma;"><span sty
 le="font-family: Tahoma;"><span style="font-family: Tahoma;"><span style="f
 ont-family: Tahoma;"><span style="text-decoration: underline;"><em><span st
 yle="font-family: Tahoma;">Prerequisites:</span></em></span><em><span style
 ="font-family: Tahoma;"> <br /></span></em><span style="font-family: Tahoma
 ;"><span style="font-family: Tahoma;">Heating &amp; Venting Fundamentals</s
 pan></span></span></span></span></span></span></span></span></span></span><
 /p><p>&nbsp;</p><p><span style="color: #000000;"></span></p><p><span style=
 "font-family: tahoma, arial, helvetica, sans-serif; font-size: 12pt; color:
  #000000;"><span style="font-family: Tahoma;"><span style="font-family: Tah
 oma;"><span style="font-family: Tahoma;"><span style="font-family: Tahoma;"
 ><span style="font-family: Tahoma;"><span style="font-family: Tahoma;"><spa
 n style="font-family: Tahoma;"><span style="font-family: Tahoma;"><span sty
 le="font-family: Tahoma;"><span style="font-family: Tahoma;"><em><span styl
 e="text-decoration: underline;">Class Size</span></em>: 8</span></span></sp
 an></span></span></span></span></span></span></span></span></p><p>&nbsp;</p
 ><p><span style="font-family: tahoma, arial, helvetica, sans-serif; font-si
 ze: 12pt; color: #000000;"><span style="font-family: Tahoma;"><span style="
 font-family: Tahoma;"><span style="font-family: Tahoma;"><span style="font-
 family: Tahoma;"><span style="font-family: Tahoma;"><span style="font-famil
 y: Tahoma;"><span style="font-family: Tahoma;"><span style="font-family: Ta
 homa;"><span style="font-family: Tahoma;"><span style="font-family: Tahoma;
 "><span style="text-decoration: underline;"><em>BPI</em> <em>CEU's;</em></s
 pan> 3</span></span></span></span></span></span></span></span></span></span
 ></span></p><p>&nbsp;</p><p><span style="font-family: tahoma, arial, helvet
 ica, sans-serif; font-size: 12pt; color: #000000;"><span style="font-family
 : Tahoma;"><span style="font-family: Tahoma;"><span style="font-family: Tah
 oma;"><span style="font-family: Tahoma;"><span style="font-family: Tahoma;"
 ><span style="font-family: Tahoma;"><span style="font-family: Tahoma;"><spa
 n style="font-family: Tahoma;"><span style="font-family: Tahoma;"><span sty
 le="font-family: Tahoma;"><em><span style="text-decoration: underline;"><sp
 an style="font-family: Tahoma;">Instructors;</span></span></em><span style=
 "font-family: Tahoma;">&nbsp;Dave Hill</span><span style="font-family: Taho
 ma;">&nbsp;- HVAC instructor - NYSWDA</span></span></span></span></span></s
 pan></span></span></span></span></span></span></p><p>&nbsp;</p><p><span sty
 le="font-family: tahoma, arial, helvetica, sans-serif; font-size: 12pt; col
 or: #000000;"><span style="font-family: Tahoma;"><span style="font-family: 
 Tahoma;"><span style="font-family: Tahoma;"><span style="font-family: Tahom
 a;"><span style="font-family: Tahoma;"><span style="font-family: Tahoma;"><
 span style="font-family: Tahoma;"><span style="font-family: Tahoma;"><span 
 style="font-family: Tahoma;"><span style="font-family: Tahoma;"><span style
 ="font-family: Tahoma;"><em><span style="text-decoration: underline;">Cours
 </span></em><span style="text-decoration: underline;"><em>e Fees:<span></sp
 an></em></span><em><br /></em><span style="font-family: Tahoma;">$262/perso
 n - NY Weatherization Sub-grantees</span></span></span></span></span></span
 ></span></span></span></span></span></span></span></p><p><span style="font-
 family: tahoma, arial, helvetica, sans-serif; font-size: 12pt; color: #0000
 00;"><span style="font-family: Tahoma;"><span style="font-family: Tahoma;">
 <span style="font-family: Tahoma;"><span style="font-family: Tahoma;"><span
  style="font-family: Tahoma;"><span style="font-family: Tahoma;"><span styl
 e="font-family: Tahoma;"><span style="font-family: Tahoma;"><span style="fo
 nt-family: Tahoma;"><span style="font-family: Tahoma;"><span style="font-fa
 mily: Tahoma;"><span style="font-family: Tahoma;">$262/person - affiliate m
 embers</span></span></span></span></span></span></span></span></span></span
 ></span></span></span></p><p><span style="font-family: tahoma, arial, helve
 tica, sans-serif; font-size: 12pt; color: #000000;"><span style="font-famil
 y: Tahoma;"><span style="font-family: Tahoma;"><span style="font-family: Ta
 homa;"><span style="font-family: Tahoma;"><span style="font-family: Tahoma;
 "><span style="font-family: Tahoma;"><span style="font-family: Tahoma;"><sp
 an style="font-family: Tahoma;"><span style="font-family: Tahoma;"><span st
 yle="font-family: Tahoma;"><span style="font-family: Tahoma;"><span style="
 font-family: Tahoma;">$380/person - non-members</span></span></span></span>
 </span></span></span></span></span></span></span></span></span></p><p><span
  style="font-family: tahoma, arial, helvetica, sans-serif; font-size: 12pt;
  color: #ffffff;"><span><span style="font-family: Tahoma;"><span style="fon
 t-family: Tahoma;"><span style="font-family: Tahoma;"><span style="font-fam
 ily: Tahoma;"><span style="font-family: Tahoma;"><span style="font-family: 
 Tahoma;"><span style="font-family: Tahoma;"><span style="font-family: Tahom
 a;"><span style="font-family: Tahoma;"><span style="font-family: Tahoma;"><
 span style="font-family: Tahoma;"><em><span style="font-family: Tahoma;">ÂÂ
 &nbsp;</span></em></span></span></span></span></span></span></span></span><
 /span></span></span></span></span></p><p><span style="font-size: 12pt; colo
 r: #000000;"><strong><em><span style="font-family: Tahoma;">Course fees do 
 not include lunch</span></em></strong></span></p><p>&nbsp;</p><p style="mar
 gin-top: 0in; margin-right: 0in; margin-bottom: 0pt;"><strong><i><span styl
 e="background: white; color: #02613f; font-family: Georgia, 'serif';"><span
  style="font-size: small;">**Special note</span></span></i></strong><strong
 ><i><span style="background: white; color: black; font-family: Georgia, 'se
 rif';"><span style="font-size: small;">&nbsp;-&nbsp;if you wish to become a
 n Affiliate Member, and&nbsp;save&nbsp;off the non-member rate, please cont
 act Karen McMahon (315-701-0440,&nbsp;</span><span id="cloak7cfdfd7bc577bac
 892107842245c2ee6">This email address is being protected from spambots. You
  need JavaScript enabled to view it.</span><script type='text/javascript'>

 				document.getElementById('cloak7cfdfd7bc577bac892107842245c2ee6').innerH
 TML = '';
				var prefix = 'ma' + 'il' + 'to';
				var path = 'hr' + 'ef' +
  '=';
				var addy7cfdfd7bc577bac892107842245c2ee6 = 'kmcmahon' + '@';
				
 addy7cfdfd7bc577bac892107842245c2ee6 = addy7cfdfd7bc577bac892107842245c2ee6
  + 'nyswda' + '.' + 'org';
				var addy_text7cfdfd7bc577bac892107842245c2ee
 6 = '<span style="color: #0000ff; font-size: small;">kmcmahon' + '@' + 'nys
 wda' + '.' + 'org</span>';document.getElementById('cloak7cfdfd7bc577bac8921
 07842245c2ee6').innerHTML += '<a ' + path + '\'' + prefix + ':' + addy7cfdf
 d7bc577bac892107842245c2ee6 + '\'>'+addy_text7cfdfd7bc577bac892107842245c2e
 e6+'<\/a>';
		</script><span style="font-size: small;">)&nbsp;</span></span
 ></i></strong><span style="font-size: small;"><strong><span style="backgrou
 nd: white; color: #02613f; font-family: Georgia, 'serif';">BEFORE YOU REGIS
 TER&nbsp;</span></strong><em><b><span style="background: white; color: blac
 k; font-family: Georgia, 'serif';">for the course</span></b></em><strong><s
 pan style="background: white; color: black; font-family: Georgia, 'serif';"
 >.</span></strong></span></p><p>&nbsp;</p><p><span style="font-family: taho
 ma, arial, helvetica, sans-serif; font-size: 14pt;"><span style="font-famil
 y: tahoma, arial, helvetica, sans-serif; font-size: 14pt;"><a href="index.p
 hp?option=com_civicrm&amp;task=civicrm/event/register&amp;reset=1&amp;id=14
 207"><span style="font-family: tahoma,arial,helvetica,sans-serif; font-size
 : 14pt;"><span style="font-family: tahoma, arial, helvetica, sans-serif; fo
 nt-size: 14pt;"><span style="color: #0000ff;"><em><strong>Click here to reg
 ister</strong></em></span>&nbsp;</span></span></a><span style="font-family:
  tahoma, arial, helvetica, sans-serif; font-size: 14pt;"></span></span><spa
 n style="font-family: tahoma, arial, helvetica, sans-serif; font-size: 14pt
 ;"></span></span><em></em><span style="color: #0000ff;"></span></p><p>&nbsp
 ;</p>
X-ALT-DESC;FMTTYPE=text/html:<p><strong><span style="color: #336699; font-size: 13.5pt;"><span style="fo
 nt-family: tahoma, arial, helvetica, sans-serif;">Clean &amp; Tune for Heat
 ing Systems</span></span></strong></p><p>&nbsp;</p><p><strong><span style="
 color: #336699; font-size: 13.5pt;"><span style="font-family: tahoma, arial
 , helvetica, sans-serif;">Training Location: NYSWDA Training Center (Buildi
 ng 1) – 5869 Fisher Road, East Syracuse, NY 13057</span><br /><br /><br /><
 /span></strong><span style="color: #000000;"><span style="font-family: taho
 ma, arial, helvetica, sans-serif; font-size: 12pt;"><em><span style="text-d
 ecoration: underline;"><span style="font-family: Tahoma;">This training is 
 for;</span></span></em><span style="font-family: Tahoma;"><span style="font
 -family: Tahoma;"><br /></span></span></span><span style="font-family: taho
 ma, arial, helvetica, sans-serif; font-size: 12pt;">Weatherization Director
 s, Auditors, Heating Techs, Heating Subcontractors</span></span></p><p>&nbs
 p;</p><p><span style="color: #000000;"><span style="font-family: tahoma, ar
 ial, helvetica, sans-serif; font-size: 12pt;"><span style="font-family: Tah
 oma;"><span style="font-family: Tahoma;"><span style="font-family: Tahoma;"
 ><span style="font-family: Tahoma;"><span style="text-decoration: underline
 ;"><em><span style="font-family: Tahoma;">Course Description;<br /></span><
 /em></span></span></span></span></span></span><span style="font-family: tah
 oma, arial, helvetica, sans-serif; font-size: 12pt;">Agencies working on 1-
 4 family dwellings will now have a method of ensuring technicians performin
 g WAP heating services, have HCR and DOE specification on what constitutes 
 a proper heating system clean and tune. Agencies may find the information u
 seful in writing bid proposals, and for inspection of completed work. Heati
 ng subcontractors are urged to attend. This course is useful as a first ste
 p in performing heating system clean and tunes in-house.<br /></span><span 
 style="font-family: tahoma, arial, helvetica, sans-serif; font-size: 12pt;"
 ><span style="font-family: Tahoma;"><span style="font-family: Tahoma;"><spa
 n style="font-family: Tahoma;"><span style="font-family: Tahoma;"><span sty
 le="font-family: Tahoma;"><span style="font-family: Tahoma;"><span style="f
 ont-family: Tahoma;"><span style="text-decoration: underline;"><em></em></s
 pan></span></span></span></span></span></span></span></span></span></p><p>&
 nbsp;</p><p><span style="color: #000000;"><span style="font-family: tahoma,
  arial, helvetica, sans-serif; font-size: 12pt;"><span style="font-family: 
 Tahoma;"><span style="font-family: Tahoma;"><span style="font-family: Tahom
 a;"><span style="font-family: Tahoma;"><span style="font-family: Tahoma;"><
 span style="font-family: Tahoma;"><span style="font-family: Tahoma;"><span 
 style="text-decoration: underline;"><em>Agenda;<br /></em></span></span></s
 pan></span></span></span></span></span></span><span style="font-family: tah
 oma, arial, helvetica, sans-serif; font-size: 12pt;">Morning session - clas
 sroom presentation<br />Afternoon session - consists of hands-on lab traini
 ng on oil boiler and natural gas forced hot air furnace</span></span></p><p
 >&nbsp;</p><p><span style="font-family: tahoma, arial, helvetica, sans-seri
 f; font-size: 12pt; color: #000000;"><span style="font-family: Tahoma;"><sp
 an style="font-family: Tahoma;"><span style="font-family: Tahoma;"><span st
 yle="font-family: Tahoma;"><span style="font-family: Tahoma;"><span style="
 font-family: Tahoma;"><span style="font-family: Tahoma;"><span style="text-
 decoration: underline;"><em>Dates;<br /></em></span><span style="font-famil
 y: Tahoma;">June 7, 2023/ 9:00am - 4:30pm</span></span></span></span></span
 ></span></span></span></span></p><p>&nbsp;</p><p><span style="color: #00000
 0;"></span></p><p><span style="font-family: tahoma, arial, helvetica, sans-
 serif; font-size: 12pt; color: #000000;"><span style="font-family: Tahoma;"
 ><span style="font-family: Tahoma;"><span style="font-family: Tahoma;"><spa
 n style="font-family: Tahoma;"><span style="font-family: Tahoma;"><span sty
 le="font-family: Tahoma;"><span style="font-family: Tahoma;"><span style="f
 ont-family: Tahoma;"><span style="text-decoration: underline;"><em><span st
 yle="font-family: Tahoma;">Prerequisites:</span></em></span><em><span style
 ="font-family: Tahoma;"> <br /></span></em><span style="font-family: Tahoma
 ;"><span style="font-family: Tahoma;">Heating &amp; Venting Fundamentals</s
 pan></span></span></span></span></span></span></span></span></span></span><
 /p><p>&nbsp;</p><p><span style="color: #000000;"></span></p><p><span style=
 "font-family: tahoma, arial, helvetica, sans-serif; font-size: 12pt; color:
  #000000;"><span style="font-family: Tahoma;"><span style="font-family: Tah
 oma;"><span style="font-family: Tahoma;"><span style="font-family: Tahoma;"
 ><span style="font-family: Tahoma;"><span style="font-family: Tahoma;"><spa
 n style="font-family: Tahoma;"><span style="font-family: Tahoma;"><span sty
 le="font-family: Tahoma;"><span style="font-family: Tahoma;"><em><span styl
 e="text-decoration: underline;">Class Size</span></em>: 8</span></span></sp
 an></span></span></span></span></span></span></span></span></p><p>&nbsp;</p
 ><p><span style="font-family: tahoma, arial, helvetica, sans-serif; font-si
 ze: 12pt; color: #000000;"><span style="font-family: Tahoma;"><span style="
 font-family: Tahoma;"><span style="font-family: Tahoma;"><span style="font-
 family: Tahoma;"><span style="font-family: Tahoma;"><span style="font-famil
 y: Tahoma;"><span style="font-family: Tahoma;"><span style="font-family: Ta
 homa;"><span style="font-family: Tahoma;"><span style="font-family: Tahoma;
 "><span style="text-decoration: underline;"><em>BPI</em> <em>CEU's;</em></s
 pan> 3</span></span></span></span></span></span></span></span></span></span
 ></span></p><p>&nbsp;</p><p><span style="font-family: tahoma, arial, helvet
 ica, sans-serif; font-size: 12pt; color: #000000;"><span style="font-family
 : Tahoma;"><span style="font-family: Tahoma;"><span style="font-family: Tah
 oma;"><span style="font-family: Tahoma;"><span style="font-family: Tahoma;"
 ><span style="font-family: Tahoma;"><span style="font-family: Tahoma;"><spa
 n style="font-family: Tahoma;"><span style="font-family: Tahoma;"><span sty
 le="font-family: Tahoma;"><em><span style="text-decoration: underline;"><sp
 an style="font-family: Tahoma;">Instructors;</span></span></em><span style=
 "font-family: Tahoma;">&nbsp;Dave Hill</span><span style="font-family: Taho
 ma;">&nbsp;- HVAC instructor - NYSWDA</span></span></span></span></span></s
 pan></span></span></span></span></span></span></p><p>&nbsp;</p><p><span sty
 le="font-family: tahoma, arial, helvetica, sans-serif; font-size: 12pt; col
 or: #000000;"><span style="font-family: Tahoma;"><span style="font-family: 
 Tahoma;"><span style="font-family: Tahoma;"><span style="font-family: Tahom
 a;"><span style="font-family: Tahoma;"><span style="font-family: Tahoma;"><
 span style="font-family: Tahoma;"><span style="font-family: Tahoma;"><span 
 style="font-family: Tahoma;"><span style="font-family: Tahoma;"><span style
 ="font-family: Tahoma;"><em><span style="text-decoration: underline;">Cours
 </span></em><span style="text-decoration: underline;"><em>e Fees:<span></sp
 an></em></span><em><br /></em><span style="font-family: Tahoma;">$262/perso
 n - NY Weatherization Sub-grantees</span></span></span></span></span></span
 ></span></span></span></span></span></span></span></p><p><span style="font-
 family: tahoma, arial, helvetica, sans-serif; font-size: 12pt; color: #0000
 00;"><span style="font-family: Tahoma;"><span style="font-family: Tahoma;">
 <span style="font-family: Tahoma;"><span style="font-family: Tahoma;"><span
  style="font-family: Tahoma;"><span style="font-family: Tahoma;"><span styl
 e="font-family: Tahoma;"><span style="font-family: Tahoma;"><span style="fo
 nt-family: Tahoma;"><span style="font-family: Tahoma;"><span style="font-fa
 mily: Tahoma;"><span style="font-family: Tahoma;">$262/person - affiliate m
 embers</span></span></span></span></span></span></span></span></span></span
 ></span></span></span></p><p><span style="font-family: tahoma, arial, helve
 tica, sans-serif; font-size: 12pt; color: #000000;"><span style="font-famil
 y: Tahoma;"><span style="font-family: Tahoma;"><span style="font-family: Ta
 homa;"><span style="font-family: Tahoma;"><span style="font-family: Tahoma;
 "><span style="font-family: Tahoma;"><span style="font-family: Tahoma;"><sp
 an style="font-family: Tahoma;"><span style="font-family: Tahoma;"><span st
 yle="font-family: Tahoma;"><span style="font-family: Tahoma;"><span style="
 font-family: Tahoma;">$380/person - non-members</span></span></span></span>
 </span></span></span></span></span></span></span></span></span></p><p><span
  style="font-family: tahoma, arial, helvetica, sans-serif; font-size: 12pt;
  color: #ffffff;"><span><span style="font-family: Tahoma;"><span style="fon
 t-family: Tahoma;"><span style="font-family: Tahoma;"><span style="font-fam
 ily: Tahoma;"><span style="font-family: Tahoma;"><span style="font-family: 
 Tahoma;"><span style="font-family: Tahoma;"><span style="font-family: Tahom
 a;"><span style="font-family: Tahoma;"><span style="font-family: Tahoma;"><
 span style="font-family: Tahoma;"><em><span style="font-family: Tahoma;">ÂÂ
 &nbsp;</span></em></span></span></span></span></span></span></span></span><
 /span></span></span></span></span></p><p><span style="font-size: 12pt; colo
 r: #000000;"><strong><em><span style="font-family: Tahoma;">Course fees do 
 not include lunch</span></em></strong></span></p><p>&nbsp;</p><p style="mar
 gin-top: 0in; margin-right: 0in; margin-bottom: 0pt;"><strong><i><span styl
 e="background: white; color: #02613f; font-family: Georgia, 'serif';"><span
  style="font-size: small;">**Special note</span></span></i></strong><strong
 ><i><span style="background: white; color: black; font-family: Georgia, 'se
 rif';"><span style="font-size: small;">&nbsp;-&nbsp;if you wish to become a
 n Affiliate Member, and&nbsp;save&nbsp;off the non-member rate, please cont
 act Karen McMahon (315-701-0440,&nbsp;</span><span id="cloak7cfdfd7bc577bac
 892107842245c2ee6">This email address is being protected from spambots. You
  need JavaScript enabled to view it.</span><script type='text/javascript'>

 				document.getElementById('cloak7cfdfd7bc577bac892107842245c2ee6').innerH
 TML = '';
				var prefix = 'ma' + 'il' + 'to';
				var path = 'hr' + 'ef' +
  '=';
				var addy7cfdfd7bc577bac892107842245c2ee6 = 'kmcmahon' + '@';
				
 addy7cfdfd7bc577bac892107842245c2ee6 = addy7cfdfd7bc577bac892107842245c2ee6
  + 'nyswda' + '.' + 'org';
				var addy_text7cfdfd7bc577bac892107842245c2ee
 6 = '<span style="color: #0000ff; font-size: small;">kmcmahon' + '@' + 'nys
 wda' + '.' + 'org</span>';document.getElementById('cloak7cfdfd7bc577bac8921
 07842245c2ee6').innerHTML += '<a ' + path + '\'' + prefix + ':' + addy7cfdf
 d7bc577bac892107842245c2ee6 + '\'>'+addy_text7cfdfd7bc577bac892107842245c2e
 e6+'<\/a>';
		</script><span style="font-size: small;">)&nbsp;</span></span
 ></i></strong><span style="font-size: small;"><strong><span style="backgrou
 nd: white; color: #02613f; font-family: Georgia, 'serif';">BEFORE YOU REGIS
 TER&nbsp;</span></strong><em><b><span style="background: white; color: blac
 k; font-family: Georgia, 'serif';">for the course</span></b></em><strong><s
 pan style="background: white; color: black; font-family: Georgia, 'serif';"
 >.</span></strong></span></p><p>&nbsp;</p><p><span style="font-family: taho
 ma, arial, helvetica, sans-serif; font-size: 14pt;"><span style="font-famil
 y: tahoma, arial, helvetica, sans-serif; font-size: 14pt;"><a href="https:/
 /www.nyswda.org/index.php?option=com_civicrm&amp;task=civicrm/event/registe
 r&amp;reset=1&amp;id=14207"><span style="font-family: tahoma,arial,helvetic
 a,sans-serif; font-size: 14pt;"><span style="font-family: tahoma, arial, he
 lvetica, sans-serif; font-size: 14pt;"><span style="color: #0000ff;"><em><s
 trong>Click here to register</strong></em></span>&nbsp;</span></span></a><s
 pan style="font-family: tahoma, arial, helvetica, sans-serif; font-size: 14
 pt;"></span></span><span style="font-family: tahoma, arial, helvetica, sans
 -serif; font-size: 14pt;"></span></span><em></em><span style="color: #0000f
 f;"></span></p><p>&nbsp;</p>
CONTACT:This email address is being protected from spambots. You need JavaScript enabled to view it.
				document.getElementById('cloakde0e1a11e9570576df9f6a6ec5c8e958').innerHTML = '';
				var prefix = '&#109;a' + 'i&#108;' + '&#116;o';
				var path = 'hr' + 'ef' + '=';
				var addyde0e1a11e9570576df9f6a6ec5c8e958 = 'rv&#105;ss&#101;r' + '&#64;';
				addyde0e1a11e9570576df9f6a6ec5c8e958 = addyde0e1a11e9570576df9f6a6ec5c8e958 + 'nyswd&#97;' + '&#46;' + '&#111;rg';
				var addy_textde0e1a11e9570576df9f6a6ec5c8e958 = 'rv&#105;ss&#101;r' + '&#64;' + 'nyswd&#97;' + '&#46;' + '&#111;rg';document.getElementById('cloakde0e1a11e9570576df9f6a6ec5c8e958').innerHTML += '<a ' + path + '\'' + prefix + ':' + addyde0e1a11e9570576df9f6a6ec5c8e958 + '\'>'+addy_textde0e1a11e9570576df9f6a6ec5c8e958+'';
		
DTSTAMP:20260424T162237
DTSTART;TZID=America/New_York:20230607T090000
DTEND;TZID=America/New_York:20230607T160000
SEQUENCE:0
TRANSP:OPAQUE
END:VEVENT
END:VCALENDAR