BEGIN:VCALENDAR
VERSION:2.0
PRODID:-//jEvents 2.0 for Joomla//EN
CALSCALE:GREGORIAN
METHOD:PUBLISH
BEGIN:VTIMEZONE
TZID:America/New_York
BEGIN:STANDARD
DTSTART:20221106T010000
RDATE:20230312T030000
TZOFFSETFROM:-0400
TZOFFSETTO:-0500
TZNAME:America/New_York EST
END:STANDARD
BEGIN:STANDARD
DTSTART:20231105T010000
RDATE:20240310T030000
TZOFFSETFROM:-0400
TZOFFSETTO:-0500
TZNAME:America/New_York EST
END:STANDARD
BEGIN:STANDARD
DTSTART:20241103T010000
RDATE:20250309T030000
TZOFFSETFROM:-0400
TZOFFSETTO:-0500
TZNAME:America/New_York EST
END:STANDARD
BEGIN:STANDARD
DTSTART:20251102T010000
RDATE:20260308T030000
TZOFFSETFROM:-0400
TZOFFSETTO:-0500
TZNAME:America/New_York EST
END:STANDARD
BEGIN:STANDARD
DTSTART:20261101T010000
RDATE:20270314T030000
TZOFFSETFROM:-0400
TZOFFSETTO:-0500
TZNAME:America/New_York EST
END:STANDARD
BEGIN:STANDARD
DTSTART:20271107T010000
RDATE:20280312T030000
TZOFFSETFROM:-0400
TZOFFSETTO:-0500
TZNAME:America/New_York EST
END:STANDARD
BEGIN:STANDARD
DTSTART:20281105T010000
RDATE:20290311T030000
TZOFFSETFROM:-0400
TZOFFSETTO:-0500
TZNAME:America/New_York EST
END:STANDARD
BEGIN:STANDARD
DTSTART:20291104T010000
RDATE:20300310T030000
TZOFFSETFROM:-0400
TZOFFSETTO:-0500
TZNAME:America/New_York EST
END:STANDARD
BEGIN:STANDARD
DTSTART:20301103T010000
RDATE:20310309T030000
TZOFFSETFROM:-0400
TZOFFSETTO:-0500
TZNAME:America/New_York EST
END:STANDARD
BEGIN:DAYLIGHT
DTSTART:20220709T090000
RDATE:20221106T010000
TZOFFSETFROM:-0500
TZOFFSETTO:-0400
TZNAME:America/New_York EDT
END:DAYLIGHT
BEGIN:DAYLIGHT
DTSTART:20230312T030000
RDATE:20231105T010000
TZOFFSETFROM:-0500
TZOFFSETTO:-0400
TZNAME:America/New_York EDT
END:DAYLIGHT
BEGIN:DAYLIGHT
DTSTART:20240310T030000
RDATE:20241103T010000
TZOFFSETFROM:-0500
TZOFFSETTO:-0400
TZNAME:America/New_York EDT
END:DAYLIGHT
BEGIN:DAYLIGHT
DTSTART:20250309T030000
RDATE:20251102T010000
TZOFFSETFROM:-0500
TZOFFSETTO:-0400
TZNAME:America/New_York EDT
END:DAYLIGHT
BEGIN:DAYLIGHT
DTSTART:20260308T030000
RDATE:20261101T010000
TZOFFSETFROM:-0500
TZOFFSETTO:-0400
TZNAME:America/New_York EDT
END:DAYLIGHT
BEGIN:DAYLIGHT
DTSTART:20270314T030000
RDATE:20271107T010000
TZOFFSETFROM:-0500
TZOFFSETTO:-0400
TZNAME:America/New_York EDT
END:DAYLIGHT
BEGIN:DAYLIGHT
DTSTART:20280312T030000
RDATE:20281105T010000
TZOFFSETFROM:-0500
TZOFFSETTO:-0400
TZNAME:America/New_York EDT
END:DAYLIGHT
BEGIN:DAYLIGHT
DTSTART:20290311T030000
RDATE:20291104T010000
TZOFFSETFROM:-0500
TZOFFSETTO:-0400
TZNAME:America/New_York EDT
END:DAYLIGHT
BEGIN:DAYLIGHT
DTSTART:20300310T030000
RDATE:20301103T010000
TZOFFSETFROM:-0500
TZOFFSETTO:-0400
TZNAME:America/New_York EDT
END:DAYLIGHT
END:VTIMEZONE
BEGIN:VEVENT
UID:bb80d15582ece8dce9d70449146b7c6f
CATEGORIES:At Syracuse
CREATED:20230427T162538
SUMMARY:Boot Camp for Weatherization Installers
LOCATION:NYSWDA Training Center - East Syracuse
DESCRIPTION:Boot Camp\n
 \n
Training Location: NYSWDA Training Center (Building 2) - 58
 69 Fisher Road, East Syracuse, NY 13057\n
 \n
Who Should Attend;\nEntry lev
 el field staff and weatherization contractors - see detailed below.\n
 \n
C
 ourse Description;\nThis intensive 4-day training based at NYSWDA's Energy 
 Efficiency Training Center (Building 2) in East Syracuse, is a great introd
 uction to building science principles and hands-on air sealing, dense pack 
 and loose fill cellulose insulation installation. Using our state-of-the-ar
 t realistic wall, ceiling and attic props, trainees will learn the techniqu
 es needed to effectively weatherize our clients' homes.\n
Â\n
During this c
 ourse, the trainees will be introduced to both HCR and BPI standards and re
 gulations on Health &amp; Safety, Lead Safe work practices and safe and pro
 per use of tools and equipment. Trainees will also become proficient on the
  set up of blower doors and understand basic use of an infrared camera duri
 ng air sealing operations.\n
Â\n
All three HCR mandatory trainings are cove
 red in this course: \n

Air Sealing - mandatory for WX directors, energy au
 ditors, post inspectors, crew chiefs and crew personnel
Health &amp; Safety
  - mandatory for WX directors, energy auditors, post inspectors, crew chief
 s and heating technicians
\n - Lead Safe Weatherization - mandatory for all
  employees who may come in contact with lead based paint while performing t
 heir duties\n

Please reference the WAP Policies and Procedures manual for 
 further details. The above-listed trainings are mandatory for the positions
  stated. If a subgrantee hires a new employee into one of these postions, o
 r a current employee transfers into one of these positions, it is mandatory
  that they receive this training within six (6) months of their start date.
  These mandatory training sessions must be repeated every three (3) years b
 y subgrantee personnel who occupy these positions.\n
  \n
Agenda; \nDay One
 \n
Monday - 9:00am - 4:30pm: Residential Health &amp; Safety Fundamentals\n
 
\n
Day Two\n
Tuesday - 9:00am - 4:30pm: Introduction to Building Science a
 nd Air Sealing Techniques, introduction to infrared cameras, introduction t
 o basic residential framing details with an emphasis on common air sealing 
 areas and building codes requirements for clearance to combustibles.\n
 \n

 Day Three\n
Wednesday - 9:00am - 4:30pm: Lead Safe Work Practices\n
 \n
Day
  Four\n
Thursday - 9:00am - 4:00pm: All day lab session tool/equipment safe
 ty, lead safe jobsite setup, air sealing techniques, dense pack and loose f
 ill cellulose installation techniques. Afternoon lab session: fundamentals 
 of blower door setup and operation, plus jobsite and lead safe cleanup skil
 ls, training skills review, question and answer session, awarding of Certif
 icates of Completion.\n
\nDates;\nCourse covers the dates of July 10-13, 20
 23\n\nStart Times:  ALL DAYS - 9:00am\n\nEnd Times: ALL DAYS 4:30pm to 5:00
 pm\n
 \n
Other Notes:\nDue to the nature of the training, all attendees wil
 l be required to sign a waiver of liability and a photo/video release form 
 at the start of the training.\n
\n
Prerequisites: None\n
\nClass Size: 10\n
 
\nBPI CEU: 16\n
\nInstructors:, Joe Ilacqua, NYSWDA\n\n
\nCourse Fees; \n

 $950/person - NY Weatherization Sub-grantees \n
$950/person - affiliate mem
 bers \n
$1,450/person - non-members \n
 \n
Lunches are included for each da
 y.\n
 \n
**Special note - if you wish to become an Affiliate Member, and sa
 ve off the non-member rate, please contact Karen McMahon (315-701-0440 ext.
  223, This email address is being protected from spambots. You need JavaScr
 ipt enabled to view it.
				document.getElementById('cloakfdada57a3fc24eb31
 f53ea6d82a57b41').innerHTML = '';
				var prefix = 'ma' + 'il' + 'to';
				
 var path = 'hr' + 'ef' + '=';
				var addyfdada57a3fc24eb31f53ea6d82a57b41 
 = 'kmcmahon' + '@';
				addyfdada57a3fc24eb31f53ea6d82a57b41 = addyfdada57a
 3fc24eb31f53ea6d82a57b41 + 'nyswda' + '.' + 'org';
				var addy_textfdada57
 a3fc24eb31f53ea6d82a57b41 = 'kmcmahon' + '@' + 'nyswda' + '.' + 'org';docum
 ent.getElementById('cloakfdada57a3fc24eb31f53ea6d82a57b41').innerHTML += '<
 a ' + path + '\'' + prefix + ':' + addyfdada57a3fc24eb31f53ea6d82a57b41 + '
 \'>'+addy_textfdada57a3fc24eb31f53ea6d82a57b41+'';
		) BEFORE YOU REGISTER 
 for the course.\n
 \n
NYSWDA will not be responsible for hotel costs, trave
 l to and from the training, breakfast and dinner meals, or incidentals.\n
 
  \n
CLASS FULL - call or email  This email address is being protected from 
 spambots. You need JavaScript enabled to view it.
				document.getElementBy
 Id('cloakd88d5311038d054c6d2a21648be2dd19').innerHTML = '';
				var prefix 
 = 'ma' + 'il' + 'to';
				var path = 'hr' + 'ef' + '=';
				var addyd88d531
 1038d054c6d2a21648be2dd19 = 'rvisser' + '@';
				addyd88d5311038d054c6d2a21
 648be2dd19 = addyd88d5311038d054c6d2a21648be2dd19 + 'nyswda' + '.' + 'org';
 
				var addy_textd88d5311038d054c6d2a21648be2dd19 = 'rvisser' + '@' + 'nys
 wda' + '.' + 'org';document.getElementById('cloakd88d5311038d054c6d2a21648b
 e2dd19').innerHTML += '<a ' + path + '\'' + prefix + ':' + addyd88d5311038d
 054c6d2a21648be2dd19 + '\'>'+addy_textd88d5311038d054c6d2a21648be2dd19+'';

 		 for availability or wait list\n
X-ALT-DESC;FMTTYPE=text/html:<p><strong><span style="font-family: Tahoma, sans-serif; color: #336699; fo
 nt-size: 13.5pt;">Boot Camp</span></strong></p><p>&nbsp;</p><p><strong><spa
 n style="font-family: Tahoma, sans-serif; color: #336699; font-size: 13.5pt
 ;">Training Location: NYSWDA Training Center (Building 2) - 5869 Fisher Roa
 d, East Syracuse, NY 13057</span></strong></p><p>&nbsp;</p><p><em><span sty
 le="text-decoration: underline;"><span style="font-family: Tahoma, sans-ser
 if; color: black; text-decoration: underline;"><span style="font-size: 12pt
 ;">Who Should Attend;<br /></span></span></span></em><span style="font-fami
 ly: Tahoma, sans-serif; color: black;"><span style="font-size: 12pt;"><span
 >Entry level field staff and weatherization contractors - see detailed belo
 w.</span></span></span></p><p><span style="font-family: Tahoma, sans-serif;
  color: #ffffff;"><span style="font-size: 12pt;"></span></span>&nbsp;</p><p
 ><em><span style="text-decoration: underline;"><span style="font-family: Ta
 homa, sans-serif; color: black; text-decoration: underline;"><span style="f
 ont-size: 12pt;">Course</span></span></span><span style="text-decoration: u
 nderline;"><span style="font-family: Tahoma, sans-serif; color: black; text
 -decoration: underline;"><span style="font-size: 12pt;"> Description</span>
 </span></span></em><span style="font-family: Tahoma, sans-serif; color: bla
 ck;"><span style="font-size: 12pt;">;<br /></span></span><span style="font-
 family: Tahoma, sans-serif; color: black; font-size: 12pt;">This intensive 
 4-day training based at NYSWDA's Energy Efficiency Training Center (Buildin
 g 2) in East Syracuse, is a great introduction to building science principl
 es and hands-on air sealing, dense pack and loose fill cellulose insulation
  installation. Using our state-of-the-art realistic wall, ceiling and attic
  props, trainees will learn the techniques needed to effectively weatherize
  our clients' homes.</span></p><p><span style="font-family: Tahoma, sans-se
 rif; color: #ffffff; font-size: 12pt;">Â</span></p><p><span style="font-fam
 ily: Tahoma, sans-serif; color: black; font-size: 12pt;">During this course
 , the trainees will be introduced to both HCR and BPI standards and regulat
 ions on Health &amp; Safety, Lead Safe work practices and safe and proper u
 se of tools and equipment. Trainees will also become proficient on the set 
 up of blower doors and understand basic use of an infrared camera during ai
 r sealing operations.</span></p><p><span style="font-family: Tahoma, sans-s
 erif; color: #ffffff; font-size: 12pt;">Â</span></p><p><span style="font-fa
 mily: Tahoma, sans-serif; color: black; font-size: 12pt;">All three HCR man
 datory trainings are covered in this course: </span></p><ul><li style="colo
 r: black;"><span style="font-family: Tahoma, sans-serif; font-size: 12pt;">
 Air Sealing - mandatory for WX directors, energy auditors, post inspectors,
  crew chiefs and crew personnel</span></li><li style="color: black;"><span 
 style="font-family: Tahoma, sans-serif; font-size: 12pt;">Health &amp; Safe
 ty - mandatory for WX directors, energy auditors, post inspectors, crew chi
 efs and heating technicians</span></li><li><span style="font-family: Tahoma
 , sans-serif; color: black; font-size: 12pt;">Lead Safe Weatherization - ma
 ndatory for all employees who may come in contact with lead based paint whi
 le performing their duties<br /></span></li></ul><p><span style="font-famil
 y: Tahoma, sans-serif; color: black; font-size: 12pt;">Please reference the
  WAP Policies and Procedures manual for further details. The above-listed t
 rainings are mandatory for the positions stated. If a subgrantee hires a ne
 w employee into one of these postions, or a current employee transfers into
  one of these positions, it is mandatory that they receive this training wi
 thin six (6) months of their start date. These mandatory training sessions 
 must be repeated every three (3) years by subgrantee personnel who occupy t
 hese positions.</span></p><p>&nbsp;&nbsp;</p><p><span style="font-size: 12p
 t;"><em><span style="text-decoration: underline;"><span style="font-family:
  Tahoma, sans-serif; color: black; text-decoration: underline;">Agenda;</sp
 an></span></em></span>&nbsp;<br /><span style="font-size: 12pt;"><span><spa
 n style="font-family: Tahoma, sans-serif; color: black;">Day One</span></sp
 an></span></p><p><span style="font-size: 12pt;"><span style="font-family: T
 ahoma, sans-serif; color: black;">Monday - 9:00am - 4:30pm: Residential Hea
 lth &amp; Safety Fundamentals</span></span></p><p><span style="font-size: 1
 2pt; color: #ffffff;"><em><span style="text-decoration: underline;"><span s
 tyle="font-family: Tahoma, sans-serif;"></span></span></em></span></p><p><s
 pan style="font-size: 12pt;"><span style="text-decoration: underline;"><spa
 n style="font-family: Tahoma, sans-serif; color: black; text-decoration: un
 derline;">Day Two</span></span></span></p><p><span style="font-size: 12pt;"
 ><span style="font-family: Tahoma, sans-serif; color: black;">Tuesday - 9:0
 0am - 4:30pm: Introduction to Building Science and Air Sealing Techniques, 
 introduction to infrared cameras, introduction to basic residential framing
  details with an emphasis on common air sealing areas and building codes re
 quirements for clearance to combustibles.</span></span></p><p><span style="
 font-size: 12pt; color: #ffffff;"><span style="font-family: Tahoma, sans-se
 rif;"></span></span>&nbsp;</p><p><span style="text-decoration: underline;">
 <span style="font-size: 12pt;"><span style="color: black; font-family: Taho
 ma, sans-serif; text-decoration: underline;">Day Three</span></span></span>
 </p><p><span style="font-size: 12pt;"><span style="font-family: Tahoma, san
 s-serif; color: black;">Wednesday - 9:00am - 4:30pm: Lead Safe Work Practic
 es</span></span></p><p><span style="font-size: 12pt; color: #ffffff;"><span
  style="font-family: Tahoma, sans-serif;"></span></span>&nbsp;</p><p><span 
 style="text-decoration: underline;"><span style="font-size: 12pt;"><span st
 yle="color: black; font-family: Tahoma, sans-serif; text-decoration: underl
 ine;">Day Four</span></span></span></p><p><span style="font-size: 12pt;"><s
 pan style="font-family: Tahoma, sans-serif; color: black;">Thursday - 9:00a
 m - 4:00pm: All day lab session tool/equipment safety, lead safe jobsite se
 tup, air sealing techniques, dense pack and loose fill cellulose installati
 on techniques. Afternoon lab session: fundamentals of blower door setup and
  operation, plus jobsite and lead safe cleanup skills, training skills revi
 ew, question and answer session, awarding of Certificates of Completion.</s
 pan></span></p><p><span style="font-size: 12pt;"><em><span style="text-deco
 ration: underline;"><span style="font-family: Tahoma, sans-serif; color: bl
 ack; text-decoration: underline;"><br /></span></span></em></span><span sty
 le="font-size: 12pt;"><em><span style="text-decoration: underline;"><span s
 tyle="font-family: Tahoma, sans-serif; color: black; text-decoration: under
 line;">Dates;<br /></span></span></em></span><span style="font-family: taho
 ma, arial, helvetica, sans-serif; color: black; font-size: 12pt;">Course co
 vers the dates of July 10-13, 2023<br /><br /></span><span style="font-fami
 ly: tahoma, arial, helvetica, sans-serif; color: black; font-size: 12pt;">S
 tart Times:&nbsp; ALL DAYS - 9:00am<br /><br /></span><span style="font-fam
 ily: tahoma, arial, helvetica, sans-serif; color: black; font-size: 12pt;">
 End Times: ALL DAYS 4:30pm to 5:00pm</span></p><p><span style="font-family:
  Arial, sans-serif; color: #ffffff; font-size: 12pt;"></span>&nbsp;</p><p><
 span style="font-size: 12pt;"><em><span style="text-decoration: underline;"
 ><span style="font-family: Tahoma, sans-serif; color: black; text-decoratio
 n: underline;">Other Notes:</span></span></em><span style="font-family: Tah
 oma, sans-serif; color: black;"><br /></span></span><span style="font-size:
  12pt;"><span style="font-family: Tahoma, sans-serif; color: black;">Due to
  the nature of the training, all attendees will be required to sign a waive
 r of liability and a photo/video release form at the start of the training.
 </span></span></p><p><span style="font-family: tahoma, arial, helvetica, sa
 ns-serif; font-size: 12pt;"><strong><span style="color: blue;"></span></str
 ong></span></p><p><span style="font-size: 12pt;"><em><span style="text-deco
 ration: underline;"><span style="font-family: Tahoma, sans-serif; color: bl
 ack; text-decoration: underline;">Prerequisites:</span></span></em><em><spa
 n style="font-family: Tahoma, sans-serif; color: black;"> </span></em><span
  style="font-family: Tahoma, sans-serif; color: black;">None</span></span><
 /p><p><span style="font-size: 12pt;"><em><span style="text-decoration: unde
 rline;"><span style="font-family: Tahoma, sans-serif; color: black; text-de
 coration: underline;"><br />Class Size:</span></span></em>&nbsp;<span style
 ="font-family: Tahoma, sans-serif;">10</span></span></p><p><span style="fon
 t-size: 12pt;"><em><span style="text-decoration: underline;"><span style="f
 ont-family: Tahoma, sans-serif; color: black; text-decoration: underline;">
 <br />BPI CEU</span></span></em><span style="text-decoration: underline;"><
 span style="font-family: Tahoma, sans-serif; color: black; text-decoration:
  underline;">:</span></span><span style="font-family: Tahoma, sans-serif; c
 olor: black;"> 16</span></span></p><p><span style="font-size: 12pt;"><em><s
 pan style="text-decoration: underline;"><span style="font-family: Tahoma, s
 ans-serif; color: black; text-decoration: underline;"><br /></span></span><
 /em><em><span style="text-decoration: underline;"><span style="font-family:
  Tahoma, sans-serif; color: black; text-decoration: underline;">Instructors
 :</span></span></em><span style="font-family: Tahoma, sans-serif; color: bl
 ack;">, Joe Ilacqua, NYSWDA<br /></span></span></p><p><span style="font-siz
 e: 12pt;"><em><span style="text-decoration: underline;"><span style="font-f
 amily: Tahoma, sans-serif; color: black; text-decoration: underline;"><br /
 >Course</span></span></em><span style="text-decoration: underline;"><span s
 tyle="font-family: Tahoma, sans-serif; color: black; text-decoration: under
 line;"> Fees;</span></span><span style="font-family: Tahoma, sans-serif; co
 lor: black;"> </span></span></p><p><span style="color: #000000;"><span styl
 e="font-family: Tahoma, sans-serif; font-size: 12pt;">$950/person - NY Weat
 herization Sub-grantees</span><span style="font-family: Tahoma, sans-serif;
  font-size: 12pt;"><em> </em></span></span></p><p><span style="font-family:
  Tahoma, sans-serif; color: #000000; font-size: 12pt;">$950/person - affili
 ate members </span></p><p><span style="font-family: Tahoma, sans-serif; col
 or: #000000; font-size: 12pt;">$1,450/person - non-members </span></p><p>&n
 bsp;</p><p><span style="font-family: Tahoma; font-size: 12pt; color: #00000
 0;">Lunches are included for each day.</span></p><p>&nbsp;</p><p style="mar
 gin-top: 0in; margin-right: 0in; margin-bottom: 0pt;"><strong><i><span styl
 e="background: white; color: #02613f; font-family: Georgia, serif;"><span s
 tyle="font-size: small;">**Special note</span></span></i></strong><strong><
 i><span style="background: white; color: black; font-family: Georgia, serif
 ;"><span style="font-size: small;">&nbsp;-&nbsp;if you wish to become an Af
 filiate Member, and&nbsp;save off the non-member rate, please contact&nbsp;
 Karen McMahon (315-701-0440 ext. 223,&nbsp;</span><span id="cloakfdada57a3f
 c24eb31f53ea6d82a57b41">This email address is being protected from spambots
 . You need JavaScript enabled to view it.</span><script type='text/javascri
 pt'>
				document.getElementById('cloakfdada57a3fc24eb31f53ea6d82a57b41').i
 nnerHTML = '';
				var prefix = 'ma' + 'il' + 'to';
				var path = 'hr' + '
 ef' + '=';
				var addyfdada57a3fc24eb31f53ea6d82a57b41 = 'kmcmahon' + '@';
 
				addyfdada57a3fc24eb31f53ea6d82a57b41 = addyfdada57a3fc24eb31f53ea6d82a
 57b41 + 'nyswda' + '.' + 'org';
				var addy_textfdada57a3fc24eb31f53ea6d82
 a57b41 = '<span style="color: #0000ff; font-size: small;">kmcmahon' + '@' +
  'nyswda' + '.' + 'org</span>';document.getElementById('cloakfdada57a3fc24e
 b31f53ea6d82a57b41').innerHTML += '<a ' + path + '\'' + prefix + ':' + addy
 fdada57a3fc24eb31f53ea6d82a57b41 + '\'>'+addy_textfdada57a3fc24eb31f53ea6d8
 2a57b41+'<\/a>';
		</script><span style="font-size: small;">)&nbsp;</span><
 /span></i></strong><span style="font-size: small;"><strong><span style="bac
 kground: white; color: #02613f; font-family: Georgia, serif;">BEFORE YOU RE
 GISTER&nbsp;</span></strong><em><b><span style="background: white; color: b
 lack; font-family: Georgia, serif;">for the course</span></b></em><strong><
 span style="background: white; color: black; font-family: Georgia, serif;">
 .</span></strong></span></p><p><span style="color: #ff6600; font-family: ta
 homa, arial, helvetica, sans-serif; font-size: 12pt;"><span style="color: #
 ff6600; font-family: tahoma, arial, helvetica, sans-serif; font-size: 12pt;
 "><span style="font-family: 'Times New Roman'; font-size: small;"></span></
 span></span>&nbsp;</p><p><span style="color: #ffffff;"></span><span style="
 color: black; font-family: Tahoma, sans-serif; font-size: 12pt;">NYSWDA wil
 l not be responsible for hotel costs, travel to and from the training, brea
 kfast and dinner meals, or incidentals.</span></p><p>&nbsp;&nbsp;</p><p><sp
 an style="font-family: tahoma, arial, helvetica, sans-serif; font-size: 14p
 t; color: #0000ff;"><strong><em><strong><span style="font-family: tahoma, a
 rial, helvetica, sans-serif; font-size: 14pt;"><span style="font-family: ta
 homa, arial, helvetica, sans-serif; font-size: 14pt;"><span style="font-fam
 ily: tahoma,arial,helvetica,sans-serif; font-size: 14pt;"><strong><em><stro
 ng><span style="color: #ffffff; font-family: tahoma,arial,helvetica,sans-se
 rif; font-size: 14pt;"><span style="color: #ff0000;">CLASS FULL - call or e
 mail</span>&nbsp; <span id="cloakd88d5311038d054c6d2a21648be2dd19">This ema
 il address is being protected from spambots. You need JavaScript enabled to
  view it.</span><script type='text/javascript'>
				document.getElementById
 ('cloakd88d5311038d054c6d2a21648be2dd19').innerHTML = '';
				var prefix = 
 'ma' + 'il' + 'to';
				var path = 'hr' + 'ef' + '=';
				var addyd88d53110
 38d054c6d2a21648be2dd19 = 'rvisser' + '@';
				addyd88d5311038d054c6d2a2164
 8be2dd19 = addyd88d5311038d054c6d2a21648be2dd19 + 'nyswda' + '.' + 'org';
	
 			var addy_textd88d5311038d054c6d2a21648be2dd19 = '<span style="color: #00
 66cc;">rvisser' + '@' + 'nyswda' + '.' + 'org</span>';document.getElementBy
 Id('cloakd88d5311038d054c6d2a21648be2dd19').innerHTML += '<a ' + path + '\'
 ' + prefix + ':' + addyd88d5311038d054c6d2a21648be2dd19 + '\'>'+addy_textd8
 8d5311038d054c6d2a21648be2dd19+'<\/a>';
		</script> <span style="color: #ff
 0000;">for availability or wait list</span></span></strong></em><span style
 ="color: #ffffff;"></span></strong><span style="font-family: tahoma, arial,
  helvetica, sans-serif; font-size: 14pt;"></span></span><span style="font-f
 amily: tahoma, arial, helvetica, sans-serif; font-size: 14pt;"></span></spa
 n><span style="font-family: tahoma, arial, helvetica, sans-serif; font-size
 : 14pt;"></span><em></em><span style="color: #0000ff;"></span></span></stro
 ng></em></strong></span></p>
CONTACT:This email address is being protected from spambots. You need JavaScript enabled to view it.
				document.getElementById('cloakaf6ada9d7db7e7ae37b1fda18c2bc3da').innerHTML = '';
				var prefix = '&#109;a' + 'i&#108;' + '&#116;o';
				var path = 'hr' + 'ef' + '=';
				var addyaf6ada9d7db7e7ae37b1fda18c2bc3da = 'rv&#105;ss&#101;r' + '&#64;';
				addyaf6ada9d7db7e7ae37b1fda18c2bc3da = addyaf6ada9d7db7e7ae37b1fda18c2bc3da + 'nyswd&#97;' + '&#46;' + '&#111;rg';
				var addy_textaf6ada9d7db7e7ae37b1fda18c2bc3da = 'rv&#105;ss&#101;r' + '&#64;' + 'nyswd&#97;' + '&#46;' + '&#111;rg';document.getElementById('cloakaf6ada9d7db7e7ae37b1fda18c2bc3da').innerHTML += '<a ' + path + '\'' + prefix + ':' + addyaf6ada9d7db7e7ae37b1fda18c2bc3da + '\'>'+addy_textaf6ada9d7db7e7ae37b1fda18c2bc3da+'';
		
DTSTAMP:20260424T162712
DTSTART;TZID=America/New_York:20230710T090000
DTEND;TZID=America/New_York:20230713T170000
SEQUENCE:0
TRANSP:OPAQUE
END:VEVENT
END:VCALENDAR