BEGIN:VCALENDAR
VERSION:2.0
PRODID:-//jEvents 2.0 for Joomla//EN
CALSCALE:GREGORIAN
METHOD:PUBLISH
BEGIN:VTIMEZONE
TZID:America/New_York
BEGIN:STANDARD
DTSTART:20221106T010000
RDATE:20230312T030000
TZOFFSETFROM:-0400
TZOFFSETTO:-0500
TZNAME:America/New_York EST
END:STANDARD
BEGIN:STANDARD
DTSTART:20231105T010000
RDATE:20240310T030000
TZOFFSETFROM:-0400
TZOFFSETTO:-0500
TZNAME:America/New_York EST
END:STANDARD
BEGIN:STANDARD
DTSTART:20241103T010000
RDATE:20250309T030000
TZOFFSETFROM:-0400
TZOFFSETTO:-0500
TZNAME:America/New_York EST
END:STANDARD
BEGIN:STANDARD
DTSTART:20251102T010000
RDATE:20260308T030000
TZOFFSETFROM:-0400
TZOFFSETTO:-0500
TZNAME:America/New_York EST
END:STANDARD
BEGIN:STANDARD
DTSTART:20261101T010000
RDATE:20270314T030000
TZOFFSETFROM:-0400
TZOFFSETTO:-0500
TZNAME:America/New_York EST
END:STANDARD
BEGIN:STANDARD
DTSTART:20271107T010000
RDATE:20280312T030000
TZOFFSETFROM:-0400
TZOFFSETTO:-0500
TZNAME:America/New_York EST
END:STANDARD
BEGIN:STANDARD
DTSTART:20281105T010000
RDATE:20290311T030000
TZOFFSETFROM:-0400
TZOFFSETTO:-0500
TZNAME:America/New_York EST
END:STANDARD
BEGIN:STANDARD
DTSTART:20291104T010000
RDATE:20300310T030000
TZOFFSETFROM:-0400
TZOFFSETTO:-0500
TZNAME:America/New_York EST
END:STANDARD
BEGIN:STANDARD
DTSTART:20301103T010000
RDATE:20310309T030000
TZOFFSETFROM:-0400
TZOFFSETTO:-0500
TZNAME:America/New_York EST
END:STANDARD
BEGIN:DAYLIGHT
DTSTART:20220612T090000
RDATE:20221106T010000
TZOFFSETFROM:-0500
TZOFFSETTO:-0400
TZNAME:America/New_York EDT
END:DAYLIGHT
BEGIN:DAYLIGHT
DTSTART:20230312T030000
RDATE:20231105T010000
TZOFFSETFROM:-0500
TZOFFSETTO:-0400
TZNAME:America/New_York EDT
END:DAYLIGHT
BEGIN:DAYLIGHT
DTSTART:20240310T030000
RDATE:20241103T010000
TZOFFSETFROM:-0500
TZOFFSETTO:-0400
TZNAME:America/New_York EDT
END:DAYLIGHT
BEGIN:DAYLIGHT
DTSTART:20250309T030000
RDATE:20251102T010000
TZOFFSETFROM:-0500
TZOFFSETTO:-0400
TZNAME:America/New_York EDT
END:DAYLIGHT
BEGIN:DAYLIGHT
DTSTART:20260308T030000
RDATE:20261101T010000
TZOFFSETFROM:-0500
TZOFFSETTO:-0400
TZNAME:America/New_York EDT
END:DAYLIGHT
BEGIN:DAYLIGHT
DTSTART:20270314T030000
RDATE:20271107T010000
TZOFFSETFROM:-0500
TZOFFSETTO:-0400
TZNAME:America/New_York EDT
END:DAYLIGHT
BEGIN:DAYLIGHT
DTSTART:20280312T030000
RDATE:20281105T010000
TZOFFSETFROM:-0500
TZOFFSETTO:-0400
TZNAME:America/New_York EDT
END:DAYLIGHT
BEGIN:DAYLIGHT
DTSTART:20290311T030000
RDATE:20291104T010000
TZOFFSETFROM:-0500
TZOFFSETTO:-0400
TZNAME:America/New_York EDT
END:DAYLIGHT
BEGIN:DAYLIGHT
DTSTART:20300310T030000
RDATE:20301103T010000
TZOFFSETFROM:-0500
TZOFFSETTO:-0400
TZNAME:America/New_York EDT
END:DAYLIGHT
END:VTIMEZONE
BEGIN:VEVENT
UID:bbe861aa399759b8d1ef7e601161d1bd
CATEGORIES:At Syracuse
CREATED:20230518T160954
SUMMARY:EPA RRP Lead Renovator Certification
LOCATION:NYSWDA Training Center - East Syracuse
DESCRIPTION:<p><span style="color: #336699;"><span style="font-family: Tahoma;"><span s
 tyle="font-size: medium;"><span style="color: #000000;"><span style="font-f
 amily: Arial, Helvetica;"><span style="font-size: x-small;"><span style="fo
 nt-family: Tahoma;"><span style="font-size: small;"><span style="font-famil
 y: Tahoma;"><span style="font-family: Tahoma;"><span style="font-family: Ta
 homa;"><span style="font-family: Arial, Helvetica;"><span style="font-size:
  x-small;"><span style="font-family: Tahoma;"><span style="font-size: small
 ;"><span style="font-family: Tahoma;"><span style="font-family: Tahoma;"><s
 pan style="font-family: Arial, Helvetica;"><span style="font-size: x-small;
 "><span style="font-family: Tahoma;"><span style="font-size: small;"><span 
 style="font-family: Arial, Helvetica;"><span style="font-size: x-small;"><s
 pan style="font-family: Tahoma;"><span style="font-size: small;"><span styl
 e="font-family: Arial, Helvetica;"><span style="font-size: x-small;"><span 
 style="font-family: Tahoma;"><span style="font-size: small;"><span style="f
 ont-family: Arial, Helvetica;"><span style="font-size: x-small;"><span styl
 e="color: #000000;"><span style="font-family: Tahoma;"><span style="font-si
 ze: small;"><span style="color: #000000;"><span style="font-family: Tahoma;
 "><span style="font-family: Tahoma;"><span><span style="color: #336699;"><s
 pan style="font-family: Tahoma;"><span style="font-size: medium;"></span></
 span></span><span style="color: #336699; font-family: tahoma,arial,helvetic
 a,sans-serif; font-size: 14pt;"><span><span><span style="color: #000000;"><
 span><span><span><strong><span style="color: #336699;">EPA RRP Lead Renovat
 or (Initial) </span></strong></span></span></span></span></span></span></sp
 an></span></span></span></span></span></span></span></span></span></span></
 span></span></span></span></span></span></span></span></span></span></span>
 </span></span></span></span></span></span></span></span></span></span></spa
 n></span></span></span></span></span></span></p><p>&nbsp;</p><p><span style
 ="color: #336699;"><span style="font-family: Tahoma;"><span style="font-siz
 e: medium;"><span style="color: #000000;"><span style="font-family: Arial, 
 Helvetica;"><span style="font-size: x-small;"><span style="font-family: Tah
 oma;"><span style="font-size: small;"><span style="font-family: Tahoma;"><s
 pan style="font-family: Tahoma;"><span style="font-family: Tahoma;"><span s
 tyle="font-family: Arial, Helvetica;"><span style="font-size: x-small;"><sp
 an style="font-family: Tahoma;"><span style="font-size: small;"><span style
 ="font-family: Tahoma;"><span style="font-family: Tahoma;"><span style="fon
 t-family: Arial, Helvetica;"><span style="font-size: x-small;"><span style=
 "font-family: Tahoma;"><span style="font-size: small;"><span style="font-fa
 mily: Arial, Helvetica;"><span style="font-size: x-small;"><span style="fon
 t-family: Tahoma;"><span style="font-size: small;"><span style="font-family
 : Arial, Helvetica;"><span style="font-size: x-small;"><span style="font-fa
 mily: Tahoma;"><span style="font-size: small;"><span style="font-family: Ar
 ial, Helvetica;"><span style="font-size: x-small;"><span style="color: #000
 000;"><span style="font-family: Tahoma;"><span style="font-size: small;"><s
 pan style="color: #000000;"><span style="font-family: Tahoma;"><span style=
 "font-family: Tahoma;"><span><span style="color: #336699; font-family: taho
 ma,arial,helvetica,sans-serif; font-size: 14pt;"><span><span><span style="c
 olor: #000000;"><span><span><span><strong><span style="color: #336699;">Loc
 ation:&nbsp; NYSWDA Training Center - 5869 Fisher Road, East Syracuse, NY&n
 bsp; 13057</span></strong></span></span></span></span></span></span></span>
 </span></span></span></span></span></span></span></span></span></span></spa
 n></span></span></span></span></span></span></span></span></span></span></s
 pan></span></span></span></span></span></span></span></span></span></span><
 /span></span></span></span></span></span></p><p>&nbsp;</p><p><span style="c
 olor: #336699;"><span style="font-family: Tahoma;"><span style="font-size: 
 medium;"><span style="color: #000000;"><span style="font-family: Arial, Hel
 vetica;"><span style="font-size: x-small;"><span style="font-family: Tahoma
 ;"><span style="font-size: small;"><span style="font-family: Tahoma;"><span
  style="font-family: Tahoma;"><span style="font-family: Tahoma;"><span styl
 e="font-family: Arial, Helvetica;"><span style="font-size: x-small;"><span 
 style="font-family: Tahoma;"><span style="font-size: small;"><span style="f
 ont-family: Tahoma;"><span style="font-family: Tahoma;"><span style="font-f
 amily: Arial, Helvetica;"><span style="font-size: x-small;"><span style="fo
 nt-family: Tahoma;"><span style="font-size: small;"><span style="font-famil
 y: Arial, Helvetica;"><span style="font-size: x-small;"><span style="font-f
 amily: Tahoma;"><span style="font-size: small;"><span style="font-family: A
 rial, Helvetica;"><span style="font-size: x-small;"><span style="font-famil
 y: Tahoma;"><span style="font-size: small;"><span style="font-family: Arial
 , Helvetica;"><span style="font-size: x-small;"><span style="color: #000000
 ;"><span style="font-family: Tahoma;"><span style="font-size: small;"><span
  style="color: #000000;"><span style="font-family: Tahoma;"><span style="fo
 nt-family: Tahoma;"><span><span style="color: #336699;"><span style="font-f
 amily: Tahoma;"><span style="font-size: medium;"><span style="color: #00000
 0;"><span style="font-family: Arial, Helvetica;"><span style="font-size: x-
 small;"><span><span style="font-size: small;"></span></span></span></span><
 /span></span></span></span></span></span></span></span></span></span></span
 ></span></span></span></span></span></span></span></span></span></span></sp
 an></span></span></span></span></span></span></span></span></span></span></
 span></span></span></span></span></span></span></span></span></span>&nbsp;<
 /p><p><span style="color: #336699;"><span style="font-family: Tahoma;"><spa
 n style="font-size: medium;"><span style="color: #000000;"><span style="fon
 t-family: Arial, Helvetica;"><span style="font-size: x-small;"><span style=
 "font-family: Tahoma;"><span style="font-size: small;"><span style="font-fa
 mily: Tahoma;"><span style="font-family: Tahoma;"><span style="font-family:
  Tahoma;"><span style="font-family: Arial, Helvetica;"><span style="font-si
 ze: x-small;"><span style="font-family: Tahoma;"><span style="font-size: sm
 all;"><span style="font-family: Tahoma;"><span style="font-family: Tahoma;"
 ><span style="font-family: Arial, Helvetica;"><span style="font-size: x-sma
 ll;"><span style="font-family: Tahoma;"><span style="font-size: small;"><sp
 an style="font-family: Arial, Helvetica;"><span style="font-size: x-small;"
 ><span style="font-family: Tahoma;"><span style="font-size: small;"><span s
 tyle="font-family: Arial, Helvetica;"><span style="font-size: x-small;"><sp
 an style="font-family: Tahoma;"><span style="font-size: small;"><span style
 ="font-family: Arial, Helvetica;"><span style="font-size: x-small;"><span s
 tyle="color: #000000;"><span style="font-family: Tahoma;"><span style="font
 -size: small;"><span style="color: #000000;"><span style="font-family: Taho
 ma;"><span style="font-family: Tahoma;"><span><span style="color: #336699;"
 ><span style="font-family: Tahoma;"><span style="font-size: medium;"><span 
 style="color: #000000;"><span style="font-family: Arial, Helvetica;"><span 
 style="font-size: x-small;"><span><span style="font-size: small;"><span sty
 le="font-size: 12pt;"><span style="text-decoration: underline;"><span style
 ="font-family: Tahoma;"><em>This training is for:</em></span></span><span s
 tyle="font-family: Tahoma;"><span style="font-family: Tahoma;"><br /></span
 ></span></span></span><span style="font-size: small;"><span style="font-fam
 ily: Tahoma;"><span style="font-family: Tahoma;"><span style="font-family: 
 Tahoma;"><span style="font-size: 12pt;">Class open to all attendees, includ
 ing construction and weatherization contractors.</span><span style="font-fa
 mily: Arial, Helvetica;"><span style="font-size: x-small;"><br /><span styl
 e="font-family: Tahoma;"><span style="font-size: small;"><br /><span style=
 "font-size: 12pt;"><br /><em><span style="text-decoration: underline;">Cour
 se Description</span>:<br /></em></span><span style="font-family: Tahoma;">
 <span style="font-family: Tahoma;"><span style="font-size: 12pt;">The US En
 vironmental Protection Agency (EPA) published the Lead; Renovation, Repair 
 and Painting Program that requires each contractor working on pre-1978 resi
 dences to have an EPA Certified Renovator on-site while jobs are set up and
  cleaned up. The certified person will be responsible for documenting that 
 all work was done in a lead safe manner. <br /><br />This is a <span style=
 "text-decoration: underline;">1-day</span> course with approximately 6 hour
 s classroom and 2 hours hands-on lab work, followed by a multiple choice wr
 itten test. Upon course completion, attendees will receive a Lead Renovator
  card from the training provider (NYSWDA). This certification requires a fi
 ve year renewal.</span><span style="font-family: Arial, Helvetica;"><span s
 tyle="font-size: x-small;"><br /><span style="font-family: Tahoma;"><span s
 tyle="font-size: small;"><br /><span style="font-family: Arial, Helvetica;"
 ><span style="font-size: x-small;"><br /><span style="font-family: Tahoma;"
 ><span style="font-size: small;"><span style="font-family: Arial, Helvetica
 ;"><span style="font-size: x-small;"><span style="font-family: Tahoma;"><sp
 an style="font-size: small;"><span style="font-family: Arial, Helvetica;"><
 span style="font-size: x-small;"><span style="color: #000000;"><span style=
 "font-size: 12pt;"><span style="font-family: Tahoma;"><span><span style="co
 lor: #000000;"><em><span style="text-decoration: underline;">Prerequisites<
 /span>:</em></span></span></span><span><span style="color: #000000;"><em> <
 /em></span></span></span><span style="font-family: Tahoma;"><span style="fo
 nt-size: small;"><span style="color: #000000;"><br /><span style="font-size
 : 12pt;">for WAP only- must have completed the One-Day Lead Safe Weatheriza
 tion training</span><span style="font-family: Tahoma;"><br /><br /><br /><s
 pan style="font-size: 12pt;"><em><span style="text-decoration: underline;">
 Class Size</span>: 8</em><br /><em><br /><br /><span style="text-decoration
 : underline;">BPI CEU:</span> </em>4<em><br /><br /><br /><span style="text
 -decoration: underline;"><span style="font-family: Tahoma;">Instructor:</sp
 an> </span></em></span><span style="font-family: Tahoma;"><br /><span style
 ="font-size: 12pt;">Al McMahon, EPA qualified RRP Lead Renovator Instructor
 <br /><em><br /><br /><span style="text-decoration: underline;">Course Fees
 :</span> <br /></em></span><span><span style="font-size: 12pt;">$172/person
  - NY Weatherization Sub-grantees<br /></span></span></span></span></span><
 /span></span></span></span></span></span></span></span></span></span></span
 ></span></span></span></span></span></span></span></span></span></span></sp
 an></span></span></span></span></span></span></span></span></span></span></
 span></span></span></span></span></span></span></span></span></span></span>
 </span></span></span></span></span></span></span></span></span></span></spa
 n></span></span></span></span></span></span></span></span></span></span></s
 pan></span></span></span></span></span></span></span><span style="color: #3
 36699;"><span style="font-family: Tahoma;"><span style="font-size: medium;"
 ><span style="color: #000000;"><span style="font-family: Arial, Helvetica;"
 ><span style="font-size: x-small;"><span style="font-family: Tahoma;"><span
  style="font-size: small;"><span><span><span><span style="font-family: Aria
 l, Helvetica;"><span style="font-size: x-small;"><span style="font-family: 
 Tahoma;"><span style="font-size: small;"><span><span><span style="font-fami
 ly: Arial, Helvetica;"><span style="font-size: x-small;"><span style="font-
 family: Tahoma;"><span style="font-size: small;"><span style="font-family: 
 Arial, Helvetica;"><span style="font-size: x-small;"><span style="font-fami
 ly: Tahoma;"><span style="font-size: small;"><span style="font-family: Aria
 l, Helvetica;"><span style="font-size: x-small;"><span style="font-family: 
 Tahoma;"><span style="font-size: small;"><span style="font-family: Arial, H
 elvetica;"><span style="font-size: x-small;"><span><span style="font-family
 : Tahoma;"><span style="font-size: small;"><span><span><span><span style="c
 olor: #336699;"><span><span style="font-size: medium;"><span style="color: 
 #000000;"><span style="font-family: Arial, Helvetica;"><span style="font-si
 ze: x-small;"><span style="font-size: small;"><span style="font-family: Tah
 oma;"><span><span><span style="font-family: Arial, Helvetica;"><span style=
 "font-size: x-small;"><span style="font-family: Tahoma;"><span style="font-
 size: small;"><span><span><span style="font-family: Arial, Helvetica;"><spa
 n style="font-size: x-small;"><span style="font-family: Tahoma;"><span styl
 e="font-size: small;"><span style="font-family: Arial, Helvetica;"><span st
 yle="font-size: x-small;"><span style="font-family: Tahoma;"><span style="f
 ont-size: small;"><span style="font-family: Arial, Helvetica;"><span style=
 "font-size: x-small;"><span style="font-family: Tahoma;"><span style="font-
 size: small;"><span style="font-family: Arial, Helvetica;"><span style="fon
 t-size: x-small;"><span><span style="font-family: Tahoma;"><span style="fon
 t-size: small;"><span><span><span><span style="font-size: 12pt;">$172/perso
 n - affiliate members<br /></span></span></span></span></span></span></span
 ></span></span></span></span></span></span></span></span></span></span></sp
 an></span></span></span></span></span></span></span></span></span></span></
 span></span></span></span></span></span></span></span></span></span></span>
 </span></span></span></span></span></span></span></span></span></span></spa
 n></span></span></span></span></span></span></span></span></span></span></s
 pan></span></span></span></span></span></span></span></span></span></span><
 /span></span></span><span style="color: #336699;"><span style="font-family:
  Tahoma;"><span style="font-size: medium;"><span style="color: #000000;"><s
 pan style="font-family: Arial, Helvetica;"><span style="font-size: x-small;
 "><span style="font-family: Tahoma;"><span style="font-size: small;"><span>
 <span><span><span style="font-family: Arial, Helvetica;"><span style="font-
 size: x-small;"><span style="font-family: Tahoma;"><span style="font-size: 
 small;"><span><span><span style="font-family: Arial, Helvetica;"><span styl
 e="font-size: x-small;"><span style="font-family: Tahoma;"><span style="fon
 t-size: small;"><span style="font-family: Arial, Helvetica;"><span style="f
 ont-size: x-small;"><span style="font-family: Tahoma;"><span style="font-si
 ze: small;"><span style="font-family: Arial, Helvetica;"><span style="font-
 size: x-small;"><span style="font-family: Tahoma;"><span style="font-size: 
 small;"><span style="font-family: Arial, Helvetica;"><span style="font-size
 : x-small;"><span><span style="font-family: Tahoma;"><span style="font-size
 : small;"><span><span><span><span style="color: #336699;"><span><span style
 ="font-size: medium;"><span style="color: #000000;"><span style="font-famil
 y: Arial, Helvetica;"><span style="font-size: x-small;"><span style="font-s
 ize: small;"><span style="font-family: Tahoma;"><span><span><span style="fo
 nt-family: Arial, Helvetica;"><span style="font-size: x-small;"><span style
 ="font-family: Tahoma;"><span style="font-size: small;"><span><span><span s
 tyle="font-family: Arial, Helvetica;"><span style="font-size: x-small;"><sp
 an style="font-family: Tahoma;"><span style="font-size: small;"><span style
 ="font-family: Arial, Helvetica;"><span style="font-size: x-small;"><span s
 tyle="font-family: Tahoma;"><span style="font-size: small;"><span style="fo
 nt-family: Arial, Helvetica;"><span style="font-size: x-small;"><span style
 ="font-family: Tahoma;"><span style="font-size: small;"><span style="font-f
 amily: Arial, Helvetica;"><span style="font-size: x-small;"><span><span sty
 le="font-family: Tahoma;"><span style="font-size: small;"><span><span><span
 ><span style="font-size: 12pt;">$250/person - non-members&nbsp;</span></spa
 n></span></span></span></span></span></span></span></span></span></span></s
 pan></span></span></span></span></span></span></span></span></span></span><
 /span></span></span></span></span></span></span></span></span></span></span
 ></span></span></span></span></span></span></span></span></span></span></sp
 an></span></span></span></span></span></span></span></span></span></span></
 span></span></span></span></span></span></span></span></span></span></span>
 </span></span></span></span></span></span></span></span></p><p>&nbsp;</p><p
 ><span style="color: #000000;"><strong><span style="font-family: tahoma, ar
 ial, helvetica, sans-serif; font-size: 14pt;"><em><em><span style="font-fam
 ily: tahoma, arial, helvetica, sans-serif; font-size: 14pt;"><span style="f
 ont-family: tahoma, arial, helvetica, sans-serif; font-size: 12pt;"><strong
 ><em>Course fees include DO NOT include lunch</em></strong></span>&nbsp;</s
 pan></em></em></span></strong></span></p><p>&nbsp;</p><p><em><strong><span 
 style="background: white; color: #02613f; font-family: 'Georgia','serif';">
 <span style="font-size: small;">**Special note</span></span></strong></em><
 span style="background: white; color: black; font-family: 'Georgia','serif'
 ;"><span style="font-size: small;"><i><strong>&nbsp;-&nbsp;if you wish to b
 ecome an Affiliate Member, and&nbsp;save off the non-member rate, please co
 ntact&nbsp;Karen McMahon (315-701-0440 ext. 223,&nbsp;</strong></i></span><
 i><strong><span id="cloake89c09ac33872a9f3f79f1157e244d01">This email addre
 ss is being protected from spambots. You need JavaScript enabled to view it
 .</span><script type='text/javascript'>
				document.getElementById('cloake
 89c09ac33872a9f3f79f1157e244d01').innerHTML = '';
				var prefix = 'ma' + '
 il' + 'to';
				var path = 'hr' + 'ef' + '=';
				var addye89c09ac33872a9f3
 f79f1157e244d01 = 'kmcmahon' + '@';
				addye89c09ac33872a9f3f79f1157e244d0
 1 = addye89c09ac33872a9f3f79f1157e244d01 + 'nyswda' + '.' + 'org';
				var 
 addy_texte89c09ac33872a9f3f79f1157e244d01 = '<span style="color: #0000ff; f
 ont-size: small;">kmcmahon' + '@' + 'nyswda' + '.' + 'org</span>';document.
 getElementById('cloake89c09ac33872a9f3f79f1157e244d01').innerHTML += '<a ' 
 + path + '\'' + prefix + ':' + addye89c09ac33872a9f3f79f1157e244d01 + '\'>'
 +addy_texte89c09ac33872a9f3f79f1157e244d01+'<\/a>';
		</script><span style=
 "font-size: small;">)&nbsp;</span></strong></i></span><i></i><span style="f
 ont-size: small;"><strong><span style="background: white; color: #02613f; f
 ont-family: 'Georgia','serif';">BEFORE YOU REGISTER&nbsp;</span></strong><e
 m><b><span style="background: white; color: black; font-family: 'Georgia','
 serif';">for the course</span></b></em><strong><span style="background: whi
 te; color: black; font-family: 'Georgia','serif';">.</span></strong></span>
 </p><p>&nbsp;</p><p><span style="color: #0000ff;"><em><strong><span style="
 font-family: tahoma, arial, helvetica, sans-serif; font-size: 14pt;"><span 
 style="font-family: tahoma, arial, helvetica, sans-serif; font-size: 14pt;"
 ><span style="font-family: tahoma,arial,helvetica,sans-serif; font-size: 14
 pt;"><strong><em><strong><span style="color: #ffffff; font-family: tahoma,a
 rial,helvetica,sans-serif; font-size: 14pt;"><span style="color: #ff0000;">
 CLASS FULL - call or email</span>&nbsp; <span id="cloak44da073d172bdb4a488d
 5344b9faa0f8">This email address is being protected from spambots. You need
  JavaScript enabled to view it.</span><script type='text/javascript'>
				d
 ocument.getElementById('cloak44da073d172bdb4a488d5344b9faa0f8').innerHTML =
  '';
				var prefix = 'ma' + 'il' + 'to';
				var path = 'hr' + 'ef' + '=';
 
				var addy44da073d172bdb4a488d5344b9faa0f8 = 'rvisser' + '@';
				addy44
 da073d172bdb4a488d5344b9faa0f8 = addy44da073d172bdb4a488d5344b9faa0f8 + 'ny
 swda' + '.' + 'org';
				var addy_text44da073d172bdb4a488d5344b9faa0f8 = '<
 span style="color: #0066cc;">rvisser' + '@' + 'nyswda' + '.' + 'org</span>'
 ;document.getElementById('cloak44da073d172bdb4a488d5344b9faa0f8').innerHTML
  += '<a ' + path + '\'' + prefix + ':' + addy44da073d172bdb4a488d5344b9faa0
 f8 + '\'>'+addy_text44da073d172bdb4a488d5344b9faa0f8+'<\/a>';
		</script> <
 span style="color: #ff0000;">for availability or wait list</span></span></s
 trong></em><span style="color: #ffffff;"></span></strong><span style="font-
 family: tahoma, arial, helvetica, sans-serif; font-size: 14pt;"></span></sp
 an><span style="font-family: tahoma, arial, helvetica, sans-serif; font-siz
 e: 14pt;"></span></span><em></em><span style="color: #0000ff;"></span></spa
 n></strong></em></span></p>
CONTACT:Robyn Visser
DTSTAMP:20260424T163146
DTSTART;TZID=America/New_York:20230613T090000
DTEND;TZID=America/New_York:20230613T170000
SEQUENCE:0
TRANSP:OPAQUE
END:VEVENT
END:VCALENDAR