BEGIN:VCALENDAR
VERSION:2.0
PRODID:-//jEvents 2.0 for Joomla//EN
CALSCALE:GREGORIAN
METHOD:PUBLISH
BEGIN:VTIMEZONE
TZID:America/New_York
BEGIN:STANDARD
DTSTART:20221106T010000
RDATE:20230312T030000
TZOFFSETFROM:-0400
TZOFFSETTO:-0500
TZNAME:America/New_York EST
END:STANDARD
BEGIN:STANDARD
DTSTART:20231105T010000
RDATE:20240310T030000
TZOFFSETFROM:-0400
TZOFFSETTO:-0500
TZNAME:America/New_York EST
END:STANDARD
BEGIN:STANDARD
DTSTART:20241103T010000
RDATE:20250309T030000
TZOFFSETFROM:-0400
TZOFFSETTO:-0500
TZNAME:America/New_York EST
END:STANDARD
BEGIN:STANDARD
DTSTART:20251102T010000
RDATE:20260308T030000
TZOFFSETFROM:-0400
TZOFFSETTO:-0500
TZNAME:America/New_York EST
END:STANDARD
BEGIN:STANDARD
DTSTART:20261101T010000
RDATE:20270314T030000
TZOFFSETFROM:-0400
TZOFFSETTO:-0500
TZNAME:America/New_York EST
END:STANDARD
BEGIN:STANDARD
DTSTART:20271107T010000
RDATE:20280312T030000
TZOFFSETFROM:-0400
TZOFFSETTO:-0500
TZNAME:America/New_York EST
END:STANDARD
BEGIN:STANDARD
DTSTART:20281105T010000
RDATE:20290311T030000
TZOFFSETFROM:-0400
TZOFFSETTO:-0500
TZNAME:America/New_York EST
END:STANDARD
BEGIN:STANDARD
DTSTART:20291104T010000
RDATE:20300310T030000
TZOFFSETFROM:-0400
TZOFFSETTO:-0500
TZNAME:America/New_York EST
END:STANDARD
BEGIN:STANDARD
DTSTART:20301103T010000
RDATE:20310309T030000
TZOFFSETFROM:-0400
TZOFFSETTO:-0500
TZNAME:America/New_York EST
END:STANDARD
BEGIN:DAYLIGHT
DTSTART:20220704T090000
RDATE:20221106T010000
TZOFFSETFROM:-0500
TZOFFSETTO:-0400
TZNAME:America/New_York EDT
END:DAYLIGHT
BEGIN:DAYLIGHT
DTSTART:20230312T030000
RDATE:20231105T010000
TZOFFSETFROM:-0500
TZOFFSETTO:-0400
TZNAME:America/New_York EDT
END:DAYLIGHT
BEGIN:DAYLIGHT
DTSTART:20240310T030000
RDATE:20241103T010000
TZOFFSETFROM:-0500
TZOFFSETTO:-0400
TZNAME:America/New_York EDT
END:DAYLIGHT
BEGIN:DAYLIGHT
DTSTART:20250309T030000
RDATE:20251102T010000
TZOFFSETFROM:-0500
TZOFFSETTO:-0400
TZNAME:America/New_York EDT
END:DAYLIGHT
BEGIN:DAYLIGHT
DTSTART:20260308T030000
RDATE:20261101T010000
TZOFFSETFROM:-0500
TZOFFSETTO:-0400
TZNAME:America/New_York EDT
END:DAYLIGHT
BEGIN:DAYLIGHT
DTSTART:20270314T030000
RDATE:20271107T010000
TZOFFSETFROM:-0500
TZOFFSETTO:-0400
TZNAME:America/New_York EDT
END:DAYLIGHT
BEGIN:DAYLIGHT
DTSTART:20280312T030000
RDATE:20281105T010000
TZOFFSETFROM:-0500
TZOFFSETTO:-0400
TZNAME:America/New_York EDT
END:DAYLIGHT
BEGIN:DAYLIGHT
DTSTART:20290311T030000
RDATE:20291104T010000
TZOFFSETFROM:-0500
TZOFFSETTO:-0400
TZNAME:America/New_York EDT
END:DAYLIGHT
BEGIN:DAYLIGHT
DTSTART:20300310T030000
RDATE:20301103T010000
TZOFFSETFROM:-0500
TZOFFSETTO:-0400
TZNAME:America/New_York EDT
END:DAYLIGHT
END:VTIMEZONE
BEGIN:VEVENT
UID:1d03840a1c05fc028e8aaea96d5bb8eb
CATEGORIES:At Syracuse
CREATED:20230601T110530
SUMMARY:Heating & Venting Fundamentals
LOCATION:NYSWDA Training Center - East Syracuse
DESCRIPTION:<p><span style="font-family: tahoma, arial, helvetica, sans-serif;"><em><sp
 an style="font-size: 13.5pt; color: #336699;"></span></em></span><strong><s
 pan style="color: #336699; font-family: tahoma, arial, helvetica, sans-seri
 f; font-size: 14pt;">Heating &amp; Venting Fundamentals </span></strong></p
 ><p>&nbsp;</p><p><strong><span style="color: #336699; font-family: tahoma, 
 arial, helvetica, sans-serif; font-size: 14pt;">Training</span><span style=
 "color: #336699; font-size: 13.5pt;"><span style="font-family: tahoma, aria
 l, helvetica, sans-serif; font-size: 14pt;"> Location: NYSWDA Training Cent
 er (Building 1) – 5869 Fisher Road, East Syracuse, NY 13057</span><br /><br
  /></span></strong><span style="font-family: tahoma, arial, helvetica, sans
 -serif; font-size: 12pt; color: #000000;"><em><span style="text-decoration:
  underline;"><span style="font-family: Tahoma;">This training is for;</span
 ></span></em><span style="font-family: Tahoma;"><span style="font-family: T
 ahoma;"><br /></span></span></span><span style="font-family: tahoma, arial,
  helvetica, sans-serif; font-size: 12pt; color: #000000;">Entry level HVAC 
 techs and auditors</span><span style="font-family: tahoma, arial, helvetica
 , sans-serif; font-size: 12pt; color: #000000;"><span style="font-family: T
 ahoma;"><span style="font-family: Tahoma;"><span style="font-family: Tahoma
 ;"><span style="font-family: Tahoma;"><span style="text-decoration: underli
 ne;"><em><span style="font-family: Tahoma;"></span></em></span></span></spa
 n></span></span></span></p><p>&nbsp;</p><p><span style="font-family: tahoma
 , arial, helvetica, sans-serif; font-size: 12pt; color: #000000;"><span sty
 le="font-family: Tahoma;"><span style="font-family: Tahoma;"><span style="f
 ont-family: Tahoma;"><span style="font-family: Tahoma;"><span style="text-d
 ecoration: underline;"><em><span style="font-family: Tahoma;">Course Descri
 ption;<br /></span></em></span></span></span></span></span></span><span sty
 le="font-family: tahoma, arial, helvetica, sans-serif; font-size: 12pt; col
 or: #000000;">This is an introductory course that will teach fundamentals o
 f heating systems and venting combustion appliances. The focus is to provid
 e all personnel working in client homes, the knowledge to identify differen
 t classifications of furnaces and boilers. Instruction on health and safety
  issues for those working on venting systems and an explanation of which ma
 terials can be used and which cannot. NFPA venting guidelines will be intro
 duced so that venting safety is built into the thought process. This traini
 ng will assist technicians in identifying problems, repairing and analysis 
 of venting systems in the field.<br /></span></p><p>&nbsp;</p><p><span styl
 e="color: #000000;"><span style="font-family: tahoma, arial, helvetica, san
 s-serif; font-size: 12pt;"><span style="font-family: Tahoma;"><span style="
 font-family: Tahoma;"><span style="font-family: Tahoma;"><span style="font-
 family: Tahoma;"><span style="font-family: Tahoma;"><span style="font-famil
 y: Tahoma;"><span style="font-family: Tahoma;"><span style="text-decoration
 : underline;"><em>Agenda;<br /></em></span></span></span></span></span></sp
 an></span></span></span><span style="font-family: tahoma, arial, helvetica,
  sans-serif; font-size: 12pt;">Morning session - classroom presentation<br 
 />Afternoon session - consists of hands-on lab training</span></span></p><p
 >&nbsp;</p><p><span style="color: #000000;"><span style="font-family: tahom
 a, arial, helvetica, sans-serif; font-size: 12pt;"><span style="font-family
 : Tahoma;"><span style="font-family: Tahoma;"><span style="font-family: Tah
 oma;"><span style="font-family: Tahoma;"><span style="font-family: Tahoma;"
 ><span style="font-family: Tahoma;"><span style="font-family: Tahoma;"><spa
 n style="text-decoration: underline;"><em>Dates;<br /></em></span><span sty
 le="font-family: Tahoma;">July 5, 2023 / 9:00am - 4:30pm</span></span></spa
 n></span></span></span></span></span></span></span></p><p>&nbsp;</p><p><spa
 n style="color: #000000;"><span style="font-family: tahoma, arial, helvetic
 a, sans-serif; font-size: 12pt;"><span style="font-family: Tahoma;"><span s
 tyle="font-family: Tahoma;"><span style="font-family: Tahoma;"><span style=
 "font-family: Tahoma;"><span style="font-family: Tahoma;"><span style="font
 -family: Tahoma;"><span style="font-family: Tahoma;"><span style="font-fami
 ly: Tahoma;"><span style="text-decoration: underline;"><em><span style="fon
 t-family: Tahoma;">Prerequisites:</span></em></span><em><span style="font-f
 amily: Tahoma;"> <br /></span></em><span style="font-family: Tahoma;">None<
 /span></span></span></span></span></span></span></span></span></span></span
 ></p><p>&nbsp;</p><p><span style="color: #000000;"><span style="font-family
 : tahoma, arial, helvetica, sans-serif; font-size: 12pt;"><span style="font
 -family: Tahoma;"><span style="font-family: Tahoma;"><span style="font-fami
 ly: Tahoma;"><span style="font-family: Tahoma;"><span style="font-family: T
 ahoma;"><span style="font-family: Tahoma;"><span style="font-family: Tahoma
 ;"><span style="font-family: Tahoma;"><span style="font-family: Tahoma;"><s
 pan style="font-family: Tahoma;"><em><span style="text-decoration: underlin
 e;">Class Size</span></em>: 8</span></span></span></span></span></span></sp
 an></span></span></span></span></span></p><p>&nbsp;</p><p><span style="colo
 r: #000000;"><span style="font-family: tahoma, arial, helvetica, sans-serif
 ; font-size: 12pt;"><span style="font-family: Tahoma;"><span style="font-fa
 mily: Tahoma;"><span style="font-family: Tahoma;"><span style="font-family:
  Tahoma;"><span style="font-family: Tahoma;"><span style="font-family: Taho
 ma;"><span style="font-family: Tahoma;"><span style="font-family: Tahoma;">
 <span style="font-family: Tahoma;"><span style="font-family: Tahoma;"><span
  style="text-decoration: underline;"><em>BPI</em></span><em><span style="te
 xt-decoration: underline;"> CEU's</span>;</em> 3</span></span></span></span
 ></span></span></span></span></span></span></span></span></p><p>&nbsp;</p><
 p><span style="color: #000000;"><span style="font-family: tahoma, arial, he
 lvetica, sans-serif; font-size: 12pt;"><span style="font-family: Tahoma;"><
 span style="font-family: Tahoma;"><span style="font-family: Tahoma;"><span 
 style="font-family: Tahoma;"><span style="font-family: Tahoma;"><span style
 ="font-family: Tahoma;"><span style="font-family: Tahoma;"><span style="fon
 t-family: Tahoma;"><span style="font-family: Tahoma;"><span style="font-fam
 ily: Tahoma;"><span style="font-family: Tahoma;"><span style="text-decorati
 on: underline;">Instructor</span>; Dave Hill</span><span style="font-family
 : Tahoma;">&nbsp;- HVAC instructor - NYSWDA</span></span></span></span></sp
 an></span></span></span></span></span></span></span></span></p><p>&nbsp;</p
 ><p><span style="color: #000000;"><span style="font-family: tahoma, arial, 
 helvetica, sans-serif; font-size: 12pt;"><span style="font-family: Tahoma;"
 ><span style="font-family: Tahoma;"><span style="font-family: Tahoma;"><spa
 n style="font-family: Tahoma;"><span style="font-family: Tahoma;"><span sty
 le="font-family: Tahoma;"><span style="font-family: Tahoma;"><span style="f
 ont-family: Tahoma;"><span style="font-family: Tahoma;"><span style="font-f
 amily: Tahoma;"><span style="font-family: Tahoma;"><span style="text-decora
 tion: underline;">Cours</span><span style="text-decoration: underline;">e<e
 m> Fees:</em></span><em>&nbsp;</em><br /><span style="font-family: Tahoma;"
 >$262/person</span><span style="font-family: Tahoma;"> - NY Weatherization 
 Sub-grantees</span></span></span></span></span></span></span></span></span>
 </span></span></span></span></span></p><p><span style="font-family: tahoma,
  arial, helvetica, sans-serif; font-size: 12pt; color: #000000;"><span styl
 e="font-family: Tahoma;"><span style="font-family: Tahoma;"><span style="fo
 nt-family: Tahoma;"><span style="font-family: Tahoma;"><span style="font-fa
 mily: Tahoma;"><span style="font-family: Tahoma;"><span style="font-family:
  Tahoma;"><span style="font-family: Tahoma;"><span style="font-family: Taho
 ma;"><span style="font-family: Tahoma;"><span style="font-family: Tahoma;">
 <span style="font-family: Tahoma;"> </span><span style="font-family: Tahoma
 ;">$262/person</span><span style="font-family: Tahoma;"> - </span><span sty
 le="font-family: Tahoma;">affiliate members</span></span></span></span></sp
 an></span></span></span></span></span></span></span></span></p><p><span sty
 le="font-family: tahoma, arial, helvetica, sans-serif; font-size: 12pt; col
 or: #000000;"><span style="font-family: Tahoma;"><span style="font-family: 
 Tahoma;"><span style="font-family: Tahoma;"><span style="font-family: Tahom
 a;"><span style="font-family: Tahoma;"><span style="font-family: Tahoma;"><
 span style="font-family: Tahoma;"><span style="font-family: Tahoma;"><span 
 style="font-family: Tahoma;"><span style="font-family: Tahoma;"><span style
 ="font-family: Tahoma;"><span style="font-family: Tahoma;"> </span><span st
 yle="font-family: Tahoma;">$380/person</span><span style="font-family: Taho
 ma;"> - </span><span style="font-family: Tahoma;">non-members</span></span>
 </span></span></span></span></span></span></span></span></span></span></spa
 n></p><p>&nbsp;</p><p><span style="color: #000000;"><em><span style="font-f
 amily: Tahoma; font-size: 12pt;"><strong>Course fees do not include lunch.<
 /strong></span></em></span></p><p><span style="font-family: tahoma, arial, 
 helvetica, sans-serif; font-size: 12pt; color: #ffffff;"><span><span style=
 "font-family: Tahoma;"><span style="font-family: Tahoma;"><span style="font
 -family: Tahoma;"><span style="font-family: Tahoma;"><span style="font-fami
 ly: Tahoma;"><span style="font-family: Tahoma;"><span style="font-family: T
 ahoma;"><span style="font-family: Tahoma;"><span style="font-family: Tahoma
 ;"><span style="font-family: Tahoma;"><span style="font-family: Tahoma;"><e
 m><span style="font-family: Tahoma;">ÂÂÂ&nbsp;</span></em></span></span></s
 pan></span></span></span></span></span></span></span></span></span></span><
 /p><p style="margin-top: 0in; margin-right: 0in; margin-bottom: 0pt;"><stro
 ng><i><span style="background: white; color: #02613f; font-family: Georgia,
  'serif';"><span style="font-size: small;">**Special note</span></span></i>
 </strong><strong><i><span style="background: white; color: black; font-fami
 ly: Georgia, 'serif';"><span style="font-size: small;">&nbsp;-&nbsp;if you 
 wish to become an Affiliate Member, and&nbsp;save off the non-member rate, 
 please contact Karen McMahon (315-701-0440 ext. 223,&nbsp;</span><span id="
 cloakdffcab35b7707808ee09970e147e2a59">This email address is being protecte
 d from spambots. You need JavaScript enabled to view it.</span><script type
 ='text/javascript'>
				document.getElementById('cloakdffcab35b7707808ee099
 70e147e2a59').innerHTML = '';
				var prefix = 'ma' + 'il' + 'to';
				var 
 path = 'hr' + 'ef' + '=';
				var addydffcab35b7707808ee09970e147e2a59 = 'k
 mcmahon' + '@';
				addydffcab35b7707808ee09970e147e2a59 = addydffcab35b770
 7808ee09970e147e2a59 + 'nyswda' + '.' + 'org';
				var addy_textdffcab35b77
 07808ee09970e147e2a59 = '<span style="color: #0000ff; font-size: small;">km
 cmahon' + '@' + 'nyswda' + '.' + 'org</span>';document.getElementById('cloa
 kdffcab35b7707808ee09970e147e2a59').innerHTML += '<a ' + path + '\'' + pref
 ix + ':' + addydffcab35b7707808ee09970e147e2a59 + '\'>'+addy_textdffcab35b7
 707808ee09970e147e2a59+'<\/a>';
		</script><span style="font-size: small;">
 )&nbsp;</span></span></i></strong><span style="font-size: small;"><strong><
 span style="background: white; color: #02613f; font-family: Georgia, 'serif
 ';">BEFORE YOU REGISTER&nbsp;</span></strong><em><b><span style="background
 : white; color: black; font-family: Georgia, 'serif';">for the course</span
 ></b></em><strong><span style="background: white; color: black; font-family
 : Georgia, 'serif';">.</span></strong></span></p><p>&nbsp;</p><p><span styl
 e="color: #0000ff;"><em><strong><span style="font-family: tahoma, arial, he
 lvetica, sans-serif; font-size: 14pt;"><a href="index.php?option=com_civicr
 m&amp;task=civicrm/event/register&amp;reset=1&amp;id=14215" style="color: #
 0000ff;">Click here to register</a></span></strong></em></span></p>
X-ALT-DESC;FMTTYPE=text/html:<p><span style="font-family: tahoma, arial, helvetica, sans-serif;"><em><sp
 an style="font-size: 13.5pt; color: #336699;"></span></em></span><strong><s
 pan style="color: #336699; font-family: tahoma, arial, helvetica, sans-seri
 f; font-size: 14pt;">Heating &amp; Venting Fundamentals </span></strong></p
 ><p>&nbsp;</p><p><strong><span style="color: #336699; font-family: tahoma, 
 arial, helvetica, sans-serif; font-size: 14pt;">Training</span><span style=
 "color: #336699; font-size: 13.5pt;"><span style="font-family: tahoma, aria
 l, helvetica, sans-serif; font-size: 14pt;"> Location: NYSWDA Training Cent
 er (Building 1) – 5869 Fisher Road, East Syracuse, NY 13057</span><br /><br
  /></span></strong><span style="font-family: tahoma, arial, helvetica, sans
 -serif; font-size: 12pt; color: #000000;"><em><span style="text-decoration:
  underline;"><span style="font-family: Tahoma;">This training is for;</span
 ></span></em><span style="font-family: Tahoma;"><span style="font-family: T
 ahoma;"><br /></span></span></span><span style="font-family: tahoma, arial,
  helvetica, sans-serif; font-size: 12pt; color: #000000;">Entry level HVAC 
 techs and auditors</span><span style="font-family: tahoma, arial, helvetica
 , sans-serif; font-size: 12pt; color: #000000;"><span style="font-family: T
 ahoma;"><span style="font-family: Tahoma;"><span style="font-family: Tahoma
 ;"><span style="font-family: Tahoma;"><span style="text-decoration: underli
 ne;"><em><span style="font-family: Tahoma;"></span></em></span></span></spa
 n></span></span></span></p><p>&nbsp;</p><p><span style="font-family: tahoma
 , arial, helvetica, sans-serif; font-size: 12pt; color: #000000;"><span sty
 le="font-family: Tahoma;"><span style="font-family: Tahoma;"><span style="f
 ont-family: Tahoma;"><span style="font-family: Tahoma;"><span style="text-d
 ecoration: underline;"><em><span style="font-family: Tahoma;">Course Descri
 ption;<br /></span></em></span></span></span></span></span></span><span sty
 le="font-family: tahoma, arial, helvetica, sans-serif; font-size: 12pt; col
 or: #000000;">This is an introductory course that will teach fundamentals o
 f heating systems and venting combustion appliances. The focus is to provid
 e all personnel working in client homes, the knowledge to identify differen
 t classifications of furnaces and boilers. Instruction on health and safety
  issues for those working on venting systems and an explanation of which ma
 terials can be used and which cannot. NFPA venting guidelines will be intro
 duced so that venting safety is built into the thought process. This traini
 ng will assist technicians in identifying problems, repairing and analysis 
 of venting systems in the field.<br /></span></p><p>&nbsp;</p><p><span styl
 e="color: #000000;"><span style="font-family: tahoma, arial, helvetica, san
 s-serif; font-size: 12pt;"><span style="font-family: Tahoma;"><span style="
 font-family: Tahoma;"><span style="font-family: Tahoma;"><span style="font-
 family: Tahoma;"><span style="font-family: Tahoma;"><span style="font-famil
 y: Tahoma;"><span style="font-family: Tahoma;"><span style="text-decoration
 : underline;"><em>Agenda;<br /></em></span></span></span></span></span></sp
 an></span></span></span><span style="font-family: tahoma, arial, helvetica,
  sans-serif; font-size: 12pt;">Morning session - classroom presentation<br 
 />Afternoon session - consists of hands-on lab training</span></span></p><p
 >&nbsp;</p><p><span style="color: #000000;"><span style="font-family: tahom
 a, arial, helvetica, sans-serif; font-size: 12pt;"><span style="font-family
 : Tahoma;"><span style="font-family: Tahoma;"><span style="font-family: Tah
 oma;"><span style="font-family: Tahoma;"><span style="font-family: Tahoma;"
 ><span style="font-family: Tahoma;"><span style="font-family: Tahoma;"><spa
 n style="text-decoration: underline;"><em>Dates;<br /></em></span><span sty
 le="font-family: Tahoma;">July 5, 2023 / 9:00am - 4:30pm</span></span></spa
 n></span></span></span></span></span></span></span></p><p>&nbsp;</p><p><spa
 n style="color: #000000;"><span style="font-family: tahoma, arial, helvetic
 a, sans-serif; font-size: 12pt;"><span style="font-family: Tahoma;"><span s
 tyle="font-family: Tahoma;"><span style="font-family: Tahoma;"><span style=
 "font-family: Tahoma;"><span style="font-family: Tahoma;"><span style="font
 -family: Tahoma;"><span style="font-family: Tahoma;"><span style="font-fami
 ly: Tahoma;"><span style="text-decoration: underline;"><em><span style="fon
 t-family: Tahoma;">Prerequisites:</span></em></span><em><span style="font-f
 amily: Tahoma;"> <br /></span></em><span style="font-family: Tahoma;">None<
 /span></span></span></span></span></span></span></span></span></span></span
 ></p><p>&nbsp;</p><p><span style="color: #000000;"><span style="font-family
 : tahoma, arial, helvetica, sans-serif; font-size: 12pt;"><span style="font
 -family: Tahoma;"><span style="font-family: Tahoma;"><span style="font-fami
 ly: Tahoma;"><span style="font-family: Tahoma;"><span style="font-family: T
 ahoma;"><span style="font-family: Tahoma;"><span style="font-family: Tahoma
 ;"><span style="font-family: Tahoma;"><span style="font-family: Tahoma;"><s
 pan style="font-family: Tahoma;"><em><span style="text-decoration: underlin
 e;">Class Size</span></em>: 8</span></span></span></span></span></span></sp
 an></span></span></span></span></span></p><p>&nbsp;</p><p><span style="colo
 r: #000000;"><span style="font-family: tahoma, arial, helvetica, sans-serif
 ; font-size: 12pt;"><span style="font-family: Tahoma;"><span style="font-fa
 mily: Tahoma;"><span style="font-family: Tahoma;"><span style="font-family:
  Tahoma;"><span style="font-family: Tahoma;"><span style="font-family: Taho
 ma;"><span style="font-family: Tahoma;"><span style="font-family: Tahoma;">
 <span style="font-family: Tahoma;"><span style="font-family: Tahoma;"><span
  style="text-decoration: underline;"><em>BPI</em></span><em><span style="te
 xt-decoration: underline;"> CEU's</span>;</em> 3</span></span></span></span
 ></span></span></span></span></span></span></span></span></p><p>&nbsp;</p><
 p><span style="color: #000000;"><span style="font-family: tahoma, arial, he
 lvetica, sans-serif; font-size: 12pt;"><span style="font-family: Tahoma;"><
 span style="font-family: Tahoma;"><span style="font-family: Tahoma;"><span 
 style="font-family: Tahoma;"><span style="font-family: Tahoma;"><span style
 ="font-family: Tahoma;"><span style="font-family: Tahoma;"><span style="fon
 t-family: Tahoma;"><span style="font-family: Tahoma;"><span style="font-fam
 ily: Tahoma;"><span style="font-family: Tahoma;"><span style="text-decorati
 on: underline;">Instructor</span>; Dave Hill</span><span style="font-family
 : Tahoma;">&nbsp;- HVAC instructor - NYSWDA</span></span></span></span></sp
 an></span></span></span></span></span></span></span></span></p><p>&nbsp;</p
 ><p><span style="color: #000000;"><span style="font-family: tahoma, arial, 
 helvetica, sans-serif; font-size: 12pt;"><span style="font-family: Tahoma;"
 ><span style="font-family: Tahoma;"><span style="font-family: Tahoma;"><spa
 n style="font-family: Tahoma;"><span style="font-family: Tahoma;"><span sty
 le="font-family: Tahoma;"><span style="font-family: Tahoma;"><span style="f
 ont-family: Tahoma;"><span style="font-family: Tahoma;"><span style="font-f
 amily: Tahoma;"><span style="font-family: Tahoma;"><span style="text-decora
 tion: underline;">Cours</span><span style="text-decoration: underline;">e<e
 m> Fees:</em></span><em>&nbsp;</em><br /><span style="font-family: Tahoma;"
 >$262/person</span><span style="font-family: Tahoma;"> - NY Weatherization 
 Sub-grantees</span></span></span></span></span></span></span></span></span>
 </span></span></span></span></span></p><p><span style="font-family: tahoma,
  arial, helvetica, sans-serif; font-size: 12pt; color: #000000;"><span styl
 e="font-family: Tahoma;"><span style="font-family: Tahoma;"><span style="fo
 nt-family: Tahoma;"><span style="font-family: Tahoma;"><span style="font-fa
 mily: Tahoma;"><span style="font-family: Tahoma;"><span style="font-family:
  Tahoma;"><span style="font-family: Tahoma;"><span style="font-family: Taho
 ma;"><span style="font-family: Tahoma;"><span style="font-family: Tahoma;">
 <span style="font-family: Tahoma;"> </span><span style="font-family: Tahoma
 ;">$262/person</span><span style="font-family: Tahoma;"> - </span><span sty
 le="font-family: Tahoma;">affiliate members</span></span></span></span></sp
 an></span></span></span></span></span></span></span></span></p><p><span sty
 le="font-family: tahoma, arial, helvetica, sans-serif; font-size: 12pt; col
 or: #000000;"><span style="font-family: Tahoma;"><span style="font-family: 
 Tahoma;"><span style="font-family: Tahoma;"><span style="font-family: Tahom
 a;"><span style="font-family: Tahoma;"><span style="font-family: Tahoma;"><
 span style="font-family: Tahoma;"><span style="font-family: Tahoma;"><span 
 style="font-family: Tahoma;"><span style="font-family: Tahoma;"><span style
 ="font-family: Tahoma;"><span style="font-family: Tahoma;"> </span><span st
 yle="font-family: Tahoma;">$380/person</span><span style="font-family: Taho
 ma;"> - </span><span style="font-family: Tahoma;">non-members</span></span>
 </span></span></span></span></span></span></span></span></span></span></spa
 n></p><p>&nbsp;</p><p><span style="color: #000000;"><em><span style="font-f
 amily: Tahoma; font-size: 12pt;"><strong>Course fees do not include lunch.<
 /strong></span></em></span></p><p><span style="font-family: tahoma, arial, 
 helvetica, sans-serif; font-size: 12pt; color: #ffffff;"><span><span style=
 "font-family: Tahoma;"><span style="font-family: Tahoma;"><span style="font
 -family: Tahoma;"><span style="font-family: Tahoma;"><span style="font-fami
 ly: Tahoma;"><span style="font-family: Tahoma;"><span style="font-family: T
 ahoma;"><span style="font-family: Tahoma;"><span style="font-family: Tahoma
 ;"><span style="font-family: Tahoma;"><span style="font-family: Tahoma;"><e
 m><span style="font-family: Tahoma;">ÂÂÂ&nbsp;</span></em></span></span></s
 pan></span></span></span></span></span></span></span></span></span></span><
 /p><p style="margin-top: 0in; margin-right: 0in; margin-bottom: 0pt;"><stro
 ng><i><span style="background: white; color: #02613f; font-family: Georgia,
  'serif';"><span style="font-size: small;">**Special note</span></span></i>
 </strong><strong><i><span style="background: white; color: black; font-fami
 ly: Georgia, 'serif';"><span style="font-size: small;">&nbsp;-&nbsp;if you 
 wish to become an Affiliate Member, and&nbsp;save off the non-member rate, 
 please contact Karen McMahon (315-701-0440 ext. 223,&nbsp;</span><span id="
 cloakdffcab35b7707808ee09970e147e2a59">This email address is being protecte
 d from spambots. You need JavaScript enabled to view it.</span><script type
 ='text/javascript'>
				document.getElementById('cloakdffcab35b7707808ee099
 70e147e2a59').innerHTML = '';
				var prefix = 'ma' + 'il' + 'to';
				var 
 path = 'hr' + 'ef' + '=';
				var addydffcab35b7707808ee09970e147e2a59 = 'k
 mcmahon' + '@';
				addydffcab35b7707808ee09970e147e2a59 = addydffcab35b770
 7808ee09970e147e2a59 + 'nyswda' + '.' + 'org';
				var addy_textdffcab35b77
 07808ee09970e147e2a59 = '<span style="color: #0000ff; font-size: small;">km
 cmahon' + '@' + 'nyswda' + '.' + 'org</span>';document.getElementById('cloa
 kdffcab35b7707808ee09970e147e2a59').innerHTML += '<a ' + path + '\'' + pref
 ix + ':' + addydffcab35b7707808ee09970e147e2a59 + '\'>'+addy_textdffcab35b7
 707808ee09970e147e2a59+'<\/a>';
		</script><span style="font-size: small;">
 )&nbsp;</span></span></i></strong><span style="font-size: small;"><strong><
 span style="background: white; color: #02613f; font-family: Georgia, 'serif
 ';">BEFORE YOU REGISTER&nbsp;</span></strong><em><b><span style="background
 : white; color: black; font-family: Georgia, 'serif';">for the course</span
 ></b></em><strong><span style="background: white; color: black; font-family
 : Georgia, 'serif';">.</span></strong></span></p><p>&nbsp;</p><p><span styl
 e="color: #0000ff;"><em><strong><span style="font-family: tahoma, arial, he
 lvetica, sans-serif; font-size: 14pt;"><a href="https://www.nyswda.org/inde
 x.php?option=com_civicrm&amp;task=civicrm/event/register&amp;reset=1&amp;id
 =14215" style="color: #0000ff;">Click here to register</a></span></strong><
 /em></span></p>
CONTACT:This email address is being protected from spambots. You need JavaScript enabled to view it.
				document.getElementById('cloak3e0050132d5d25807f9937ea5212387c').innerHTML = '';
				var prefix = '&#109;a' + 'i&#108;' + '&#116;o';
				var path = 'hr' + 'ef' + '=';
				var addy3e0050132d5d25807f9937ea5212387c = 'rv&#105;ss&#101;r' + '&#64;';
				addy3e0050132d5d25807f9937ea5212387c = addy3e0050132d5d25807f9937ea5212387c + 'nyswd&#97;' + '&#46;' + '&#111;rg';
				var addy_text3e0050132d5d25807f9937ea5212387c = 'rv&#105;ss&#101;r' + '&#64;' + 'nyswd&#97;' + '&#46;' + '&#111;rg';document.getElementById('cloak3e0050132d5d25807f9937ea5212387c').innerHTML += '<a ' + path + '\'' + prefix + ':' + addy3e0050132d5d25807f9937ea5212387c + '\'>'+addy_text3e0050132d5d25807f9937ea5212387c+'';
		
DTSTAMP:20260424T161220
DTSTART;TZID=America/New_York:20230705T090000
DTEND;TZID=America/New_York:20230705T160000
SEQUENCE:0
TRANSP:OPAQUE
END:VEVENT
END:VCALENDAR