BEGIN:VCALENDAR
VERSION:2.0
PRODID:-//jEvents 2.0 for Joomla//EN
CALSCALE:GREGORIAN
METHOD:PUBLISH
BEGIN:VTIMEZONE
TZID:America/New_York
BEGIN:STANDARD
DTSTART:20221106T010000
RDATE:20230312T030000
TZOFFSETFROM:-0400
TZOFFSETTO:-0500
TZNAME:America/New_York EST
END:STANDARD
BEGIN:STANDARD
DTSTART:20231105T010000
RDATE:20240310T030000
TZOFFSETFROM:-0400
TZOFFSETTO:-0500
TZNAME:America/New_York EST
END:STANDARD
BEGIN:STANDARD
DTSTART:20241103T010000
RDATE:20250309T030000
TZOFFSETFROM:-0400
TZOFFSETTO:-0500
TZNAME:America/New_York EST
END:STANDARD
BEGIN:STANDARD
DTSTART:20251102T010000
RDATE:20260308T030000
TZOFFSETFROM:-0400
TZOFFSETTO:-0500
TZNAME:America/New_York EST
END:STANDARD
BEGIN:STANDARD
DTSTART:20261101T010000
RDATE:20270314T030000
TZOFFSETFROM:-0400
TZOFFSETTO:-0500
TZNAME:America/New_York EST
END:STANDARD
BEGIN:STANDARD
DTSTART:20271107T010000
RDATE:20280312T030000
TZOFFSETFROM:-0400
TZOFFSETTO:-0500
TZNAME:America/New_York EST
END:STANDARD
BEGIN:STANDARD
DTSTART:20281105T010000
RDATE:20290311T030000
TZOFFSETFROM:-0400
TZOFFSETTO:-0500
TZNAME:America/New_York EST
END:STANDARD
BEGIN:STANDARD
DTSTART:20291104T010000
RDATE:20300310T030000
TZOFFSETFROM:-0400
TZOFFSETTO:-0500
TZNAME:America/New_York EST
END:STANDARD
BEGIN:STANDARD
DTSTART:20301103T010000
RDATE:20310309T030000
TZOFFSETFROM:-0400
TZOFFSETTO:-0500
TZNAME:America/New_York EST
END:STANDARD
BEGIN:DAYLIGHT
DTSTART:20220801T090000
RDATE:20221106T010000
TZOFFSETFROM:-0500
TZOFFSETTO:-0400
TZNAME:America/New_York EDT
END:DAYLIGHT
BEGIN:DAYLIGHT
DTSTART:20230312T030000
RDATE:20231105T010000
TZOFFSETFROM:-0500
TZOFFSETTO:-0400
TZNAME:America/New_York EDT
END:DAYLIGHT
BEGIN:DAYLIGHT
DTSTART:20240310T030000
RDATE:20241103T010000
TZOFFSETFROM:-0500
TZOFFSETTO:-0400
TZNAME:America/New_York EDT
END:DAYLIGHT
BEGIN:DAYLIGHT
DTSTART:20250309T030000
RDATE:20251102T010000
TZOFFSETFROM:-0500
TZOFFSETTO:-0400
TZNAME:America/New_York EDT
END:DAYLIGHT
BEGIN:DAYLIGHT
DTSTART:20260308T030000
RDATE:20261101T010000
TZOFFSETFROM:-0500
TZOFFSETTO:-0400
TZNAME:America/New_York EDT
END:DAYLIGHT
BEGIN:DAYLIGHT
DTSTART:20270314T030000
RDATE:20271107T010000
TZOFFSETFROM:-0500
TZOFFSETTO:-0400
TZNAME:America/New_York EDT
END:DAYLIGHT
BEGIN:DAYLIGHT
DTSTART:20280312T030000
RDATE:20281105T010000
TZOFFSETFROM:-0500
TZOFFSETTO:-0400
TZNAME:America/New_York EDT
END:DAYLIGHT
BEGIN:DAYLIGHT
DTSTART:20290311T030000
RDATE:20291104T010000
TZOFFSETFROM:-0500
TZOFFSETTO:-0400
TZNAME:America/New_York EDT
END:DAYLIGHT
BEGIN:DAYLIGHT
DTSTART:20300310T030000
RDATE:20301103T010000
TZOFFSETFROM:-0500
TZOFFSETTO:-0400
TZNAME:America/New_York EDT
END:DAYLIGHT
END:VTIMEZONE
BEGIN:VEVENT
UID:861fbedea76bba32e379c4f6a347df94
CATEGORIES:At Syracuse
CREATED:20230601T113538
SUMMARY:Heating & Venting Fundamentals
LOCATION:NYSWDA Training Center - East Syracuse
DESCRIPTION:Heating &amp; Venting Fundamentals \n
 \n
Training Location: NYSWDA Trainin
 g Center (Building 1) – 5869 Fisher Road, East Syracuse, NY 13057\n\nThis t
 raining is for;\nEntry level HVAC techs and auditors\n
 \n
Course Descripti
 on;\nThis is an introductory course that will teach fundamentals of heating
  systems and venting combustion appliances. The focus is to provide all per
 sonnel working in client homes, the knowledge to identify different classif
 ications of furnaces and boilers. Instruction on health and safety issues f
 or those working on venting systems and an explanation of which materials c
 an be used and which cannot. NFPA venting guidelines will be introduced so 
 that venting safety is built into the thought process. This training will a
 ssist technicians in identifying problems, repairing and analysis of ventin
 g systems in the field.\n\n
 \n
Agenda;\nMorning session - classroom presen
 tation\nAfternoon session - consists of hands-on lab training\n
 \n
Dates;\
 nAugust 2, 2023 / 9:00am - 4:30pm\n
 \n
Prerequisites: \nNone\n
 \n
Class S
 ize: 8\n
 \n
BPI CEU's; 3\n
 \n
Instructor; Dave Hill - HVAC instructor - N
 YSWDA\n
 \n
Course Fees: \n$262/person - NY Weatherization Sub-grantees\n
 
 $262/person - affiliate members\n
 $380/person - non-members\n
 \n
Course f
 ees do not include lunch.\n
ÂÂÂ \n
**Special note - if you wish to become a
 n Affiliate Member, and save off the non-member rate, please contact Karen 
 McMahon (315-701-0440 ext. 223, This email address is being protected from 
 spambots. You need JavaScript enabled to view it.
				document.getElementBy
 Id('cloak97949db5380d887968b20d71fdaf8a5a').innerHTML = '';
				var prefix 
 = 'ma' + 'il' + 'to';
				var path = 'hr' + 'ef' + '=';
				var addy97949db
 5380d887968b20d71fdaf8a5a = 'kmcmahon' + '@';
				addy97949db5380d887968b20
 d71fdaf8a5a = addy97949db5380d887968b20d71fdaf8a5a + 'nyswda' + '.' + 'org'
 ;
				var addy_text97949db5380d887968b20d71fdaf8a5a = 'kmcmahon' + '@' + 'n
 yswda' + '.' + 'org';document.getElementById('cloak97949db5380d887968b20d71
 fdaf8a5a').innerHTML += '<a ' + path + '\'' + prefix + ':' + addy97949db538
 0d887968b20d71fdaf8a5a + '\'>'+addy_text97949db5380d887968b20d71fdaf8a5a+''
 ;
		) BEFORE YOU REGISTER for the course.\n
 \n
CLASS FULL - call or email 
  This email address is being protected from spambots. You need JavaScript e
 nabled to view it.
				document.getElementById('cloakbbabdcf9dd743e1bedfe6e
 5bb445f5d1').innerHTML = '';
				var prefix = 'ma' + 'il' + 'to';
				var p
 ath = 'hr' + 'ef' + '=';
				var addybbabdcf9dd743e1bedfe6e5bb445f5d1 = 'rv
 isser' + '@';
				addybbabdcf9dd743e1bedfe6e5bb445f5d1 = addybbabdcf9dd743e
 1bedfe6e5bb445f5d1 + 'nyswda' + '.' + 'org';
				var addy_textbbabdcf9dd743
 e1bedfe6e5bb445f5d1 = 'rvisser' + '@' + 'nyswda' + '.' + 'org';document.get
 ElementById('cloakbbabdcf9dd743e1bedfe6e5bb445f5d1').innerHTML += '<a ' + p
 ath + '\'' + prefix + ':' + addybbabdcf9dd743e1bedfe6e5bb445f5d1 + '\'>'+ad
 dy_textbbabdcf9dd743e1bedfe6e5bb445f5d1+'';
		 for availability or wait lis
 t\n
X-ALT-DESC;FMTTYPE=text/html:<p><span style="font-family: tahoma, arial, helvetica, sans-serif;"><em><sp
 an style="font-size: 13.5pt; color: #336699;"></span></em></span><strong><s
 pan style="color: #336699; font-family: tahoma, arial, helvetica, sans-seri
 f; font-size: 14pt;">Heating &amp; Venting Fundamentals </span></strong></p
 ><p>&nbsp;</p><p><strong><span style="color: #336699; font-family: tahoma, 
 arial, helvetica, sans-serif; font-size: 14pt;">Training</span><span style=
 "color: #336699; font-size: 13.5pt;"><span style="font-family: tahoma, aria
 l, helvetica, sans-serif; font-size: 14pt;"> Location: NYSWDA Training Cent
 er (Building 1) – 5869 Fisher Road, East Syracuse, NY 13057</span><br /><br
  /></span></strong><span style="font-family: tahoma, arial, helvetica, sans
 -serif; font-size: 12pt; color: #000000;"><em><span style="text-decoration:
  underline;"><span style="font-family: Tahoma;">This training is for;</span
 ></span></em><span style="font-family: Tahoma;"><span style="font-family: T
 ahoma;"><br /></span></span></span><span style="font-family: tahoma, arial,
  helvetica, sans-serif; font-size: 12pt; color: #000000;">Entry level HVAC 
 techs and auditors</span><span style="font-family: tahoma, arial, helvetica
 , sans-serif; font-size: 12pt; color: #000000;"><span style="font-family: T
 ahoma;"><span style="font-family: Tahoma;"><span style="font-family: Tahoma
 ;"><span style="font-family: Tahoma;"><span style="text-decoration: underli
 ne;"><em><span style="font-family: Tahoma;"></span></em></span></span></spa
 n></span></span></span></p><p>&nbsp;</p><p><span style="font-family: tahoma
 , arial, helvetica, sans-serif; font-size: 12pt; color: #000000;"><span sty
 le="font-family: Tahoma;"><span style="font-family: Tahoma;"><span style="f
 ont-family: Tahoma;"><span style="font-family: Tahoma;"><span style="text-d
 ecoration: underline;"><em><span style="font-family: Tahoma;">Course Descri
 ption;<br /></span></em></span></span></span></span></span></span><span sty
 le="font-family: tahoma, arial, helvetica, sans-serif; font-size: 12pt; col
 or: #000000;">This is an introductory course that will teach fundamentals o
 f heating systems and venting combustion appliances. The focus is to provid
 e all personnel working in client homes, the knowledge to identify differen
 t classifications of furnaces and boilers. Instruction on health and safety
  issues for those working on venting systems and an explanation of which ma
 terials can be used and which cannot. NFPA venting guidelines will be intro
 duced so that venting safety is built into the thought process. This traini
 ng will assist technicians in identifying problems, repairing and analysis 
 of venting systems in the field.<br /></span></p><p>&nbsp;</p><p><span styl
 e="color: #000000;"><span style="font-family: tahoma, arial, helvetica, san
 s-serif; font-size: 12pt;"><span style="font-family: Tahoma;"><span style="
 font-family: Tahoma;"><span style="font-family: Tahoma;"><span style="font-
 family: Tahoma;"><span style="font-family: Tahoma;"><span style="font-famil
 y: Tahoma;"><span style="font-family: Tahoma;"><span style="text-decoration
 : underline;"><em>Agenda;<br /></em></span></span></span></span></span></sp
 an></span></span></span><span style="font-family: tahoma, arial, helvetica,
  sans-serif; font-size: 12pt;">Morning session - classroom presentation<br 
 />Afternoon session - consists of hands-on lab training</span></span></p><p
 >&nbsp;</p><p><span style="color: #000000;"><span style="font-family: tahom
 a, arial, helvetica, sans-serif; font-size: 12pt;"><span style="font-family
 : Tahoma;"><span style="font-family: Tahoma;"><span style="font-family: Tah
 oma;"><span style="font-family: Tahoma;"><span style="font-family: Tahoma;"
 ><span style="font-family: Tahoma;"><span style="font-family: Tahoma;"><spa
 n style="text-decoration: underline;"><em>Dates;<br /></em></span><span sty
 le="font-family: Tahoma;">August 2, 2023 / 9:00am - 4:30pm</span></span></s
 pan></span></span></span></span></span></span></span></p><p>&nbsp;</p><p><s
 pan style="color: #000000;"><span style="font-family: tahoma, arial, helvet
 ica, sans-serif; font-size: 12pt;"><span style="font-family: Tahoma;"><span
  style="font-family: Tahoma;"><span style="font-family: Tahoma;"><span styl
 e="font-family: Tahoma;"><span style="font-family: Tahoma;"><span style="fo
 nt-family: Tahoma;"><span style="font-family: Tahoma;"><span style="font-fa
 mily: Tahoma;"><span style="text-decoration: underline;"><em><span style="f
 ont-family: Tahoma;">Prerequisites:</span></em></span><em><span style="font
 -family: Tahoma;"> <br /></span></em><span style="font-family: Tahoma;">Non
 e</span></span></span></span></span></span></span></span></span></span></sp
 an></p><p>&nbsp;</p><p><span style="color: #000000;"><span style="font-fami
 ly: tahoma, arial, helvetica, sans-serif; font-size: 12pt;"><span style="fo
 nt-family: Tahoma;"><span style="font-family: Tahoma;"><span style="font-fa
 mily: Tahoma;"><span style="font-family: Tahoma;"><span style="font-family:
  Tahoma;"><span style="font-family: Tahoma;"><span style="font-family: Taho
 ma;"><span style="font-family: Tahoma;"><span style="font-family: Tahoma;">
 <span style="font-family: Tahoma;"><em><span style="text-decoration: underl
 ine;">Class Size</span></em>: 8</span></span></span></span></span></span></
 span></span></span></span></span></span></p><p>&nbsp;</p><p><span style="co
 lor: #000000;"><span style="font-family: tahoma, arial, helvetica, sans-ser
 if; font-size: 12pt;"><span style="font-family: Tahoma;"><span style="font-
 family: Tahoma;"><span style="font-family: Tahoma;"><span style="font-famil
 y: Tahoma;"><span style="font-family: Tahoma;"><span style="font-family: Ta
 homa;"><span style="font-family: Tahoma;"><span style="font-family: Tahoma;
 "><span style="font-family: Tahoma;"><span style="font-family: Tahoma;"><sp
 an style="text-decoration: underline;"><em>BPI</em></span><em><span style="
 text-decoration: underline;"> CEU's</span>;</em> 3</span></span></span></sp
 an></span></span></span></span></span></span></span></span></p><p>&nbsp;</p
 ><p><span style="color: #000000;"><span style="font-family: tahoma, arial, 
 helvetica, sans-serif; font-size: 12pt;"><span style="font-family: Tahoma;"
 ><span style="font-family: Tahoma;"><span style="font-family: Tahoma;"><spa
 n style="font-family: Tahoma;"><span style="font-family: Tahoma;"><span sty
 le="font-family: Tahoma;"><span style="font-family: Tahoma;"><span style="f
 ont-family: Tahoma;"><span style="font-family: Tahoma;"><span style="font-f
 amily: Tahoma;"><span style="font-family: Tahoma;"><span style="text-decora
 tion: underline;">Instructor</span>; Dave Hill</span><span style="font-fami
 ly: Tahoma;">&nbsp;- HVAC instructor - NYSWDA</span></span></span></span></
 span></span></span></span></span></span></span></span></span></p><p>&nbsp;<
 /p><p><span style="color: #000000;"><span style="font-family: tahoma, arial
 , helvetica, sans-serif; font-size: 12pt;"><span style="font-family: Tahoma
 ;"><span style="font-family: Tahoma;"><span style="font-family: Tahoma;"><s
 pan style="font-family: Tahoma;"><span style="font-family: Tahoma;"><span s
 tyle="font-family: Tahoma;"><span style="font-family: Tahoma;"><span style=
 "font-family: Tahoma;"><span style="font-family: Tahoma;"><span style="font
 -family: Tahoma;"><span style="font-family: Tahoma;"><span style="text-deco
 ration: underline;">Cours</span><span style="text-decoration: underline;">e
 <em> Fees:</em></span><em>&nbsp;</em><br /><span style="font-family: Tahoma
 ;">$262/person</span><span style="font-family: Tahoma;"> - NY Weatherizatio
 n Sub-grantees</span></span></span></span></span></span></span></span></spa
 n></span></span></span></span></span></p><p><span style="font-family: tahom
 a, arial, helvetica, sans-serif; font-size: 12pt; color: #000000;"><span st
 yle="font-family: Tahoma;"><span style="font-family: Tahoma;"><span style="
 font-family: Tahoma;"><span style="font-family: Tahoma;"><span style="font-
 family: Tahoma;"><span style="font-family: Tahoma;"><span style="font-famil
 y: Tahoma;"><span style="font-family: Tahoma;"><span style="font-family: Ta
 homa;"><span style="font-family: Tahoma;"><span style="font-family: Tahoma;
 "><span style="font-family: Tahoma;"> </span><span style="font-family: Taho
 ma;">$262/person</span><span style="font-family: Tahoma;"> - </span><span s
 tyle="font-family: Tahoma;">affiliate members</span></span></span></span></
 span></span></span></span></span></span></span></span></span></p><p><span s
 tyle="font-family: tahoma, arial, helvetica, sans-serif; font-size: 12pt; c
 olor: #000000;"><span style="font-family: Tahoma;"><span style="font-family
 : Tahoma;"><span style="font-family: Tahoma;"><span style="font-family: Tah
 oma;"><span style="font-family: Tahoma;"><span style="font-family: Tahoma;"
 ><span style="font-family: Tahoma;"><span style="font-family: Tahoma;"><spa
 n style="font-family: Tahoma;"><span style="font-family: Tahoma;"><span sty
 le="font-family: Tahoma;"><span style="font-family: Tahoma;"> </span><span 
 style="font-family: Tahoma;">$380/person</span><span style="font-family: Ta
 homa;"> - </span><span style="font-family: Tahoma;">non-members</span></spa
 n></span></span></span></span></span></span></span></span></span></span></s
 pan></p><p>&nbsp;</p><p><span style="color: #000000;"><em><span style="font
 -family: Tahoma; font-size: 12pt;"><strong>Course fees do not include lunch
 .</strong></span></em></span></p><p><span style="font-family: tahoma, arial
 , helvetica, sans-serif; font-size: 12pt; color: #ffffff;"><span><span styl
 e="font-family: Tahoma;"><span style="font-family: Tahoma;"><span style="fo
 nt-family: Tahoma;"><span style="font-family: Tahoma;"><span style="font-fa
 mily: Tahoma;"><span style="font-family: Tahoma;"><span style="font-family:
  Tahoma;"><span style="font-family: Tahoma;"><span style="font-family: Taho
 ma;"><span style="font-family: Tahoma;"><span style="font-family: Tahoma;">
 <em><span style="font-family: Tahoma;">ÂÂÂ&nbsp;</span></em></span></span><
 /span></span></span></span></span></span></span></span></span></span></span
 ></p><p style="margin-top: 0in; margin-right: 0in; margin-bottom: 0pt;"><st
 rong><i><span style="background: white; color: #02613f; font-family: Georgi
 a, 'serif';"><span style="font-size: small;">**Special note</span></span></
 i></strong><strong><i><span style="background: white; color: black; font-fa
 mily: Georgia, 'serif';"><span style="font-size: small;">&nbsp;-&nbsp;if yo
 u wish to become an Affiliate Member, and&nbsp;save off the non-member rate
 , please contact Karen McMahon (315-701-0440 ext. 223,&nbsp;</span><span id
 ="cloak97949db5380d887968b20d71fdaf8a5a">This email address is being protec
 ted from spambots. You need JavaScript enabled to view it.</span><script ty
 pe='text/javascript'>
				document.getElementById('cloak97949db5380d887968b
 20d71fdaf8a5a').innerHTML = '';
				var prefix = 'ma' + 'il' + 'to';
				va
 r path = 'hr' + 'ef' + '=';
				var addy97949db5380d887968b20d71fdaf8a5a = 
 'kmcmahon' + '@';
				addy97949db5380d887968b20d71fdaf8a5a = addy97949db538
 0d887968b20d71fdaf8a5a + 'nyswda' + '.' + 'org';
				var addy_text97949db53
 80d887968b20d71fdaf8a5a = '<span style="color: #0000ff; font-size: small;">
 kmcmahon' + '@' + 'nyswda' + '.' + 'org</span>';document.getElementById('cl
 oak97949db5380d887968b20d71fdaf8a5a').innerHTML += '<a ' + path + '\'' + pr
 efix + ':' + addy97949db5380d887968b20d71fdaf8a5a + '\'>'+addy_text97949db5
 380d887968b20d71fdaf8a5a+'<\/a>';
		</script><span style="font-size: small;
 ">)&nbsp;</span></span></i></strong><span style="font-size: small;"><strong
 ><span style="background: white; color: #02613f; font-family: Georgia, 'ser
 if';">BEFORE YOU REGISTER&nbsp;</span></strong><em><b><span style="backgrou
 nd: white; color: black; font-family: Georgia, 'serif';">for the course</sp
 an></b></em><strong><span style="background: white; color: black; font-fami
 ly: Georgia, 'serif';">.</span></strong></span></p><p>&nbsp;</p><p><span st
 yle="color: #0000ff;"><em><strong><span style="font-family: tahoma, arial, 
 helvetica, sans-serif; font-size: 14pt;"><span style="font-family: tahoma, 
 arial, helvetica, sans-serif; font-size: 14pt;"><span style="font-family: t
 ahoma, arial, helvetica, sans-serif; font-size: 14pt;"><span style="font-fa
 mily: tahoma,arial,helvetica,sans-serif; font-size: 14pt;"><strong><em><str
 ong><span style="color: #ffffff; font-family: tahoma,arial,helvetica,sans-s
 erif; font-size: 14pt;"><span style="color: #ff0000;">CLASS FULL - call or 
 email</span>&nbsp; <span id="cloakbbabdcf9dd743e1bedfe6e5bb445f5d1">This em
 ail address is being protected from spambots. You need JavaScript enabled t
 o view it.</span><script type='text/javascript'>
				document.getElementByI
 d('cloakbbabdcf9dd743e1bedfe6e5bb445f5d1').innerHTML = '';
				var prefix =
  'ma' + 'il' + 'to';
				var path = 'hr' + 'ef' + '=';
				var addybbabdcf9
 dd743e1bedfe6e5bb445f5d1 = 'rvisser' + '@';
				addybbabdcf9dd743e1bedfe6e5
 bb445f5d1 = addybbabdcf9dd743e1bedfe6e5bb445f5d1 + 'nyswda' + '.' + 'org';

 				var addy_textbbabdcf9dd743e1bedfe6e5bb445f5d1 = '<span style="color: #0
 066cc;">rvisser' + '@' + 'nyswda' + '.' + 'org</span>';document.getElementB
 yId('cloakbbabdcf9dd743e1bedfe6e5bb445f5d1').innerHTML += '<a ' + path + '\
 '' + prefix + ':' + addybbabdcf9dd743e1bedfe6e5bb445f5d1 + '\'>'+addy_textb
 babdcf9dd743e1bedfe6e5bb445f5d1+'<\/a>';
		</script> <span style="color: #f
 f0000;">for availability or wait list</span></span></strong></em><span styl
 e="color: #ffffff;"></span></strong><span style="font-family: tahoma, arial
 , helvetica, sans-serif; font-size: 14pt;"></span></span><span style="font-
 family: tahoma, arial, helvetica, sans-serif; font-size: 14pt;"></span></sp
 an><span style="font-family: tahoma, arial, helvetica, sans-serif; font-siz
 e: 14pt;"></span></span><em></em><span style="color: #0000ff;"></span></spa
 n></strong></em></span></p>
CONTACT:This email address is being protected from spambots. You need JavaScript enabled to view it.
				document.getElementById('cloak17eee48340ba567b6d6e5233968c0c76').innerHTML = '';
				var prefix = '&#109;a' + 'i&#108;' + '&#116;o';
				var path = 'hr' + 'ef' + '=';
				var addy17eee48340ba567b6d6e5233968c0c76 = 'rv&#105;ss&#101;r' + '&#64;';
				addy17eee48340ba567b6d6e5233968c0c76 = addy17eee48340ba567b6d6e5233968c0c76 + 'nyswd&#97;' + '&#46;' + '&#111;rg';
				var addy_text17eee48340ba567b6d6e5233968c0c76 = 'rv&#105;ss&#101;r' + '&#64;' + 'nyswd&#97;' + '&#46;' + '&#111;rg';document.getElementById('cloak17eee48340ba567b6d6e5233968c0c76').innerHTML += '<a ' + path + '\'' + prefix + ':' + addy17eee48340ba567b6d6e5233968c0c76 + '\'>'+addy_text17eee48340ba567b6d6e5233968c0c76+'';
		
DTSTAMP:20260424T160741
DTSTART;TZID=America/New_York:20230802T090000
DTEND;TZID=America/New_York:20230802T160000
SEQUENCE:0
TRANSP:OPAQUE
END:VEVENT
END:VCALENDAR