BEGIN:VCALENDAR
VERSION:2.0
PRODID:-//jEvents 2.0 for Joomla//EN
CALSCALE:GREGORIAN
METHOD:PUBLISH
BEGIN:VTIMEZONE
TZID:America/New_York
BEGIN:STANDARD
DTSTART:20221106T010000
RDATE:20230312T030000
TZOFFSETFROM:-0400
TZOFFSETTO:-0500
TZNAME:America/New_York EST
END:STANDARD
BEGIN:STANDARD
DTSTART:20231105T010000
RDATE:20240310T030000
TZOFFSETFROM:-0400
TZOFFSETTO:-0500
TZNAME:America/New_York EST
END:STANDARD
BEGIN:STANDARD
DTSTART:20241103T010000
RDATE:20250309T030000
TZOFFSETFROM:-0400
TZOFFSETTO:-0500
TZNAME:America/New_York EST
END:STANDARD
BEGIN:STANDARD
DTSTART:20251102T010000
RDATE:20260308T030000
TZOFFSETFROM:-0400
TZOFFSETTO:-0500
TZNAME:America/New_York EST
END:STANDARD
BEGIN:STANDARD
DTSTART:20261101T010000
RDATE:20270314T030000
TZOFFSETFROM:-0400
TZOFFSETTO:-0500
TZNAME:America/New_York EST
END:STANDARD
BEGIN:STANDARD
DTSTART:20271107T010000
RDATE:20280312T030000
TZOFFSETFROM:-0400
TZOFFSETTO:-0500
TZNAME:America/New_York EST
END:STANDARD
BEGIN:STANDARD
DTSTART:20281105T010000
RDATE:20290311T030000
TZOFFSETFROM:-0400
TZOFFSETTO:-0500
TZNAME:America/New_York EST
END:STANDARD
BEGIN:STANDARD
DTSTART:20291104T010000
RDATE:20300310T030000
TZOFFSETFROM:-0400
TZOFFSETTO:-0500
TZNAME:America/New_York EST
END:STANDARD
BEGIN:STANDARD
DTSTART:20301103T010000
RDATE:20310309T030000
TZOFFSETFROM:-0400
TZOFFSETTO:-0500
TZNAME:America/New_York EST
END:STANDARD
BEGIN:DAYLIGHT
DTSTART:20220802T090000
RDATE:20221106T010000
TZOFFSETFROM:-0500
TZOFFSETTO:-0400
TZNAME:America/New_York EDT
END:DAYLIGHT
BEGIN:DAYLIGHT
DTSTART:20230312T030000
RDATE:20231105T010000
TZOFFSETFROM:-0500
TZOFFSETTO:-0400
TZNAME:America/New_York EDT
END:DAYLIGHT
BEGIN:DAYLIGHT
DTSTART:20240310T030000
RDATE:20241103T010000
TZOFFSETFROM:-0500
TZOFFSETTO:-0400
TZNAME:America/New_York EDT
END:DAYLIGHT
BEGIN:DAYLIGHT
DTSTART:20250309T030000
RDATE:20251102T010000
TZOFFSETFROM:-0500
TZOFFSETTO:-0400
TZNAME:America/New_York EDT
END:DAYLIGHT
BEGIN:DAYLIGHT
DTSTART:20260308T030000
RDATE:20261101T010000
TZOFFSETFROM:-0500
TZOFFSETTO:-0400
TZNAME:America/New_York EDT
END:DAYLIGHT
BEGIN:DAYLIGHT
DTSTART:20270314T030000
RDATE:20271107T010000
TZOFFSETFROM:-0500
TZOFFSETTO:-0400
TZNAME:America/New_York EDT
END:DAYLIGHT
BEGIN:DAYLIGHT
DTSTART:20280312T030000
RDATE:20281105T010000
TZOFFSETFROM:-0500
TZOFFSETTO:-0400
TZNAME:America/New_York EDT
END:DAYLIGHT
BEGIN:DAYLIGHT
DTSTART:20290311T030000
RDATE:20291104T010000
TZOFFSETFROM:-0500
TZOFFSETTO:-0400
TZNAME:America/New_York EDT
END:DAYLIGHT
BEGIN:DAYLIGHT
DTSTART:20300310T030000
RDATE:20301103T010000
TZOFFSETFROM:-0500
TZOFFSETTO:-0400
TZNAME:America/New_York EDT
END:DAYLIGHT
END:VTIMEZONE
BEGIN:VEVENT
UID:9f2459228000d1cab6a2fda15ec71ac7
CATEGORIES:At Syracuse
CREATED:20230601T115317
SUMMARY:Clean and Tune for Heating Systems
LOCATION:NYSWDA Training Center - East Syracuse
DESCRIPTION:Clean &amp; Tune for Heating Systems\n
 \n
Training Location: NYSWDA Traini
 ng Center (Building 1) – 5869 Fisher Road, East Syracuse, NY 13057\n\n\nThi
 s training is for;\nWeatherization Directors, Auditors, Heating Techs, Heat
 ing Subcontractors\n
 \n
Course Description;\nAgencies working on 1-4 famil
 y dwellings will now have a method of ensuring technicians performing WAP h
 eating services, have HCR and DOE specification on what constitutes a prope
 r heating system clean and tune. Agencies may find the information useful i
 n writing bid proposals, and for inspection of completed work. Heating subc
 ontractors are urged to attend. This course is useful as a first step in pe
 rforming heating system clean and tunes in-house.\n\n
 \n
Agenda;\nMorning 
 session - classroom presentation\nAfternoon session - consists of hands-on 
 lab training on oil boiler and natural gas forced hot air furnace\n
 \n
Dat
 es;\nAugust 3, 2023/ 9:00am - 4:30pm\n
 \n
\n
Prerequisites: \nHeating &amp
 ; Venting Fundamentals\n
 \n
\n
Class Size: 8\n
 \n
BPI CEU's; 3\n
 \n
Inst
 ructors; Dave Hill - HVAC instructor - NYSWDA\n
 \n
Course Fees:\n$262/pers
 on - NY Weatherization Sub-grantees\n
$262/person - affiliate members\n
$38
 0/person - non-members\n
ÂÂ \n
Course fees do not include lunch\n
 \n
**Spe
 cial note - if you wish to become an Affiliate Member, and save off the non
 -member rate, please contact Karen McMahon (315-701-0440, This email addres
 s is being protected from spambots. You need JavaScript enabled to view it.
 
				document.getElementById('cloakdc6353e8559541a8cc60fa40754a714b').inner
 HTML = '';
				var prefix = 'ma' + 'il' + 'to';
				var path = 'hr' + 'ef' 
 + '=';
				var addydc6353e8559541a8cc60fa40754a714b = 'kmcmahon' + '@';
			
 	addydc6353e8559541a8cc60fa40754a714b = addydc6353e8559541a8cc60fa40754a714
 b + 'nyswda' + '.' + 'org';
				var addy_textdc6353e8559541a8cc60fa40754a71
 4b = 'kmcmahon' + '@' + 'nyswda' + '.' + 'org';document.getElementById('clo
 akdc6353e8559541a8cc60fa40754a714b').innerHTML += '<a ' + path + '\'' + pre
 fix + ':' + addydc6353e8559541a8cc60fa40754a714b + '\'>'+addy_textdc6353e85
 59541a8cc60fa40754a714b+'';
		) BEFORE YOU REGISTER for the course.\n
 \n
C
 lick here to registerClick here to register  (index.php?option=com_civicrm&
 amp;task=civicrm/event/register&amp;reset=1&amp;id=14218)\n
 \n
X-ALT-DESC;FMTTYPE=text/html:<p><strong><span style="color: #336699; font-size: 13.5pt;"><span style="fo
 nt-family: tahoma, arial, helvetica, sans-serif;">Clean &amp; Tune for Heat
 ing Systems</span></span></strong></p><p>&nbsp;</p><p><strong><span style="
 color: #336699; font-size: 13.5pt;"><span style="font-family: tahoma, arial
 , helvetica, sans-serif;">Training Location: NYSWDA Training Center (Buildi
 ng 1) – 5869 Fisher Road, East Syracuse, NY 13057</span><br /><br /><br /><
 /span></strong><span style="color: #000000;"><span style="font-family: taho
 ma, arial, helvetica, sans-serif; font-size: 12pt;"><em><span style="text-d
 ecoration: underline;"><span style="font-family: Tahoma;">This training is 
 for;</span></span></em><span style="font-family: Tahoma;"><span style="font
 -family: Tahoma;"><br /></span></span></span><span style="font-family: taho
 ma, arial, helvetica, sans-serif; font-size: 12pt;">Weatherization Director
 s, Auditors, Heating Techs, Heating Subcontractors</span></span></p><p>&nbs
 p;</p><p><span style="color: #000000;"><span style="font-family: tahoma, ar
 ial, helvetica, sans-serif; font-size: 12pt;"><span style="font-family: Tah
 oma;"><span style="font-family: Tahoma;"><span style="font-family: Tahoma;"
 ><span style="font-family: Tahoma;"><span style="text-decoration: underline
 ;"><em><span style="font-family: Tahoma;">Course Description;<br /></span><
 /em></span></span></span></span></span></span><span style="font-family: tah
 oma, arial, helvetica, sans-serif; font-size: 12pt;">Agencies working on 1-
 4 family dwellings will now have a method of ensuring technicians performin
 g WAP heating services, have HCR and DOE specification on what constitutes 
 a proper heating system clean and tune. Agencies may find the information u
 seful in writing bid proposals, and for inspection of completed work. Heati
 ng subcontractors are urged to attend. This course is useful as a first ste
 p in performing heating system clean and tunes in-house.<br /></span><span 
 style="font-family: tahoma, arial, helvetica, sans-serif; font-size: 12pt;"
 ><span style="font-family: Tahoma;"><span style="font-family: Tahoma;"><spa
 n style="font-family: Tahoma;"><span style="font-family: Tahoma;"><span sty
 le="font-family: Tahoma;"><span style="font-family: Tahoma;"><span style="f
 ont-family: Tahoma;"><span style="text-decoration: underline;"><em></em></s
 pan></span></span></span></span></span></span></span></span></span></p><p>&
 nbsp;</p><p><span style="color: #000000;"><span style="font-family: tahoma,
  arial, helvetica, sans-serif; font-size: 12pt;"><span style="font-family: 
 Tahoma;"><span style="font-family: Tahoma;"><span style="font-family: Tahom
 a;"><span style="font-family: Tahoma;"><span style="font-family: Tahoma;"><
 span style="font-family: Tahoma;"><span style="font-family: Tahoma;"><span 
 style="text-decoration: underline;"><em>Agenda;<br /></em></span></span></s
 pan></span></span></span></span></span></span><span style="font-family: tah
 oma, arial, helvetica, sans-serif; font-size: 12pt;">Morning session - clas
 sroom presentation<br />Afternoon session - consists of hands-on lab traini
 ng on oil boiler and natural gas forced hot air furnace</span></span></p><p
 >&nbsp;</p><p><span style="font-family: tahoma, arial, helvetica, sans-seri
 f; font-size: 12pt; color: #000000;"><span style="font-family: Tahoma;"><sp
 an style="font-family: Tahoma;"><span style="font-family: Tahoma;"><span st
 yle="font-family: Tahoma;"><span style="font-family: Tahoma;"><span style="
 font-family: Tahoma;"><span style="font-family: Tahoma;"><span style="text-
 decoration: underline;"><em>Dates;<br /></em></span><span style="font-famil
 y: Tahoma;">August 3, 2023/ 9:00am - 4:30pm</span></span></span></span></sp
 an></span></span></span></span></p><p>&nbsp;</p><p><span style="color: #000
 000;"></span></p><p><span style="font-family: tahoma, arial, helvetica, san
 s-serif; font-size: 12pt; color: #000000;"><span style="font-family: Tahoma
 ;"><span style="font-family: Tahoma;"><span style="font-family: Tahoma;"><s
 pan style="font-family: Tahoma;"><span style="font-family: Tahoma;"><span s
 tyle="font-family: Tahoma;"><span style="font-family: Tahoma;"><span style=
 "font-family: Tahoma;"><span style="text-decoration: underline;"><em><span 
 style="font-family: Tahoma;">Prerequisites:</span></em></span><em><span sty
 le="font-family: Tahoma;"> <br /></span></em><span style="font-family: Taho
 ma;"><span style="font-family: Tahoma;">Heating &amp; Venting Fundamentals<
 /span></span></span></span></span></span></span></span></span></span></span
 ></p><p>&nbsp;</p><p><span style="color: #000000;"></span></p><p><span styl
 e="font-family: tahoma, arial, helvetica, sans-serif; font-size: 12pt; colo
 r: #000000;"><span style="font-family: Tahoma;"><span style="font-family: T
 ahoma;"><span style="font-family: Tahoma;"><span style="font-family: Tahoma
 ;"><span style="font-family: Tahoma;"><span style="font-family: Tahoma;"><s
 pan style="font-family: Tahoma;"><span style="font-family: Tahoma;"><span s
 tyle="font-family: Tahoma;"><span style="font-family: Tahoma;"><em><span st
 yle="text-decoration: underline;">Class Size</span></em>: 8</span></span></
 span></span></span></span></span></span></span></span></span></p><p>&nbsp;<
 /p><p><span style="font-family: tahoma, arial, helvetica, sans-serif; font-
 size: 12pt; color: #000000;"><span style="font-family: Tahoma;"><span style
 ="font-family: Tahoma;"><span style="font-family: Tahoma;"><span style="fon
 t-family: Tahoma;"><span style="font-family: Tahoma;"><span style="font-fam
 ily: Tahoma;"><span style="font-family: Tahoma;"><span style="font-family: 
 Tahoma;"><span style="font-family: Tahoma;"><span style="font-family: Tahom
 a;"><span style="text-decoration: underline;"><em>BPI</em> <em>CEU's;</em><
 /span> 3</span></span></span></span></span></span></span></span></span></sp
 an></span></p><p>&nbsp;</p><p><span style="font-family: tahoma, arial, helv
 etica, sans-serif; font-size: 12pt; color: #000000;"><span style="font-fami
 ly: Tahoma;"><span style="font-family: Tahoma;"><span style="font-family: T
 ahoma;"><span style="font-family: Tahoma;"><span style="font-family: Tahoma
 ;"><span style="font-family: Tahoma;"><span style="font-family: Tahoma;"><s
 pan style="font-family: Tahoma;"><span style="font-family: Tahoma;"><span s
 tyle="font-family: Tahoma;"><em><span style="text-decoration: underline;"><
 span style="font-family: Tahoma;">Instructors;</span></span></em><span styl
 e="font-family: Tahoma;">&nbsp;Dave Hill</span><span style="font-family: Ta
 homa;">&nbsp;- HVAC instructor - NYSWDA</span></span></span></span></span><
 /span></span></span></span></span></span></span></p><p>&nbsp;</p><p><span s
 tyle="font-family: tahoma, arial, helvetica, sans-serif; font-size: 12pt; c
 olor: #000000;"><span style="font-family: Tahoma;"><span style="font-family
 : Tahoma;"><span style="font-family: Tahoma;"><span style="font-family: Tah
 oma;"><span style="font-family: Tahoma;"><span style="font-family: Tahoma;"
 ><span style="font-family: Tahoma;"><span style="font-family: Tahoma;"><spa
 n style="font-family: Tahoma;"><span style="font-family: Tahoma;"><span sty
 le="font-family: Tahoma;"><em><span style="text-decoration: underline;">Cou
 rs</span></em><span style="text-decoration: underline;"><em>e Fees:<span></
 span></em></span><em><br /></em><span style="font-family: Tahoma;">$262/per
 son - NY Weatherization Sub-grantees</span></span></span></span></span></sp
 an></span></span></span></span></span></span></span></p><p><span style="fon
 t-family: tahoma, arial, helvetica, sans-serif; font-size: 12pt; color: #00
 0000;"><span style="font-family: Tahoma;"><span style="font-family: Tahoma;
 "><span style="font-family: Tahoma;"><span style="font-family: Tahoma;"><sp
 an style="font-family: Tahoma;"><span style="font-family: Tahoma;"><span st
 yle="font-family: Tahoma;"><span style="font-family: Tahoma;"><span style="
 font-family: Tahoma;"><span style="font-family: Tahoma;"><span style="font-
 family: Tahoma;"><span style="font-family: Tahoma;">$262/person - affiliate
  members</span></span></span></span></span></span></span></span></span></sp
 an></span></span></span></p><p><span style="font-family: tahoma, arial, hel
 vetica, sans-serif; font-size: 12pt; color: #000000;"><span style="font-fam
 ily: Tahoma;"><span style="font-family: Tahoma;"><span style="font-family: 
 Tahoma;"><span style="font-family: Tahoma;"><span style="font-family: Tahom
 a;"><span style="font-family: Tahoma;"><span style="font-family: Tahoma;"><
 span style="font-family: Tahoma;"><span style="font-family: Tahoma;"><span 
 style="font-family: Tahoma;"><span style="font-family: Tahoma;"><span style
 ="font-family: Tahoma;">$380/person - non-members</span></span></span></spa
 n></span></span></span></span></span></span></span></span></span></p><p><sp
 an style="font-family: tahoma, arial, helvetica, sans-serif; font-size: 12p
 t; color: #ffffff;"><span><span style="font-family: Tahoma;"><span style="f
 ont-family: Tahoma;"><span style="font-family: Tahoma;"><span style="font-f
 amily: Tahoma;"><span style="font-family: Tahoma;"><span style="font-family
 : Tahoma;"><span style="font-family: Tahoma;"><span style="font-family: Tah
 oma;"><span style="font-family: Tahoma;"><span style="font-family: Tahoma;"
 ><span style="font-family: Tahoma;"><em><span style="font-family: Tahoma;">
 ÂÂ&nbsp;</span></em></span></span></span></span></span></span></span></span
 ></span></span></span></span></span></p><p><span style="font-size: 12pt; co
 lor: #000000;"><strong><em><span style="font-family: Tahoma;">Course fees d
 o not include lunch</span></em></strong></span></p><p>&nbsp;</p><p style="m
 argin-top: 0in; margin-right: 0in; margin-bottom: 0pt;"><strong><i><span st
 yle="background: white; color: #02613f; font-family: Georgia, 'serif';"><sp
 an style="font-size: small;">**Special note</span></span></i></strong><stro
 ng><i><span style="background: white; color: black; font-family: Georgia, '
 serif';"><span style="font-size: small;">&nbsp;-&nbsp;if you wish to become
  an Affiliate Member, and&nbsp;save&nbsp;off the non-member rate, please co
 ntact Karen McMahon (315-701-0440,&nbsp;</span><span id="cloakdc6353e855954
 1a8cc60fa40754a714b">This email address is being protected from spambots. Y
 ou need JavaScript enabled to view it.</span><script type='text/javascript'
 >
				document.getElementById('cloakdc6353e8559541a8cc60fa40754a714b').inne
 rHTML = '';
				var prefix = 'ma' + 'il' + 'to';
				var path = 'hr' + 'ef'
  + '=';
				var addydc6353e8559541a8cc60fa40754a714b = 'kmcmahon' + '@';
		
 		addydc6353e8559541a8cc60fa40754a714b = addydc6353e8559541a8cc60fa40754a71
 4b + 'nyswda' + '.' + 'org';
				var addy_textdc6353e8559541a8cc60fa40754a7
 14b = '<span style="color: #0000ff; font-size: small;">kmcmahon' + '@' + 'n
 yswda' + '.' + 'org</span>';document.getElementById('cloakdc6353e8559541a8c
 c60fa40754a714b').innerHTML += '<a ' + path + '\'' + prefix + ':' + addydc6
 353e8559541a8cc60fa40754a714b + '\'>'+addy_textdc6353e8559541a8cc60fa40754a
 714b+'<\/a>';
		</script><span style="font-size: small;">)&nbsp;</span></sp
 an></i></strong><span style="font-size: small;"><strong><span style="backgr
 ound: white; color: #02613f; font-family: Georgia, 'serif';">BEFORE YOU REG
 ISTER&nbsp;</span></strong><em><b><span style="background: white; color: bl
 ack; font-family: Georgia, 'serif';">for the course</span></b></em><strong>
 <span style="background: white; color: black; font-family: Georgia, 'serif'
 ;">.</span></strong></span></p><p>&nbsp;</p><p><span style="font-family: ta
 homa, arial, helvetica, sans-serif; font-size: 14pt;"><span style="font-fam
 ily: tahoma, arial, helvetica, sans-serif; font-size: 14pt;"><a href="https
 ://www.nyswda.org/index.php?option=com_civicrm&amp;task=civicrm/event/regis
 ter&amp;reset=1&amp;id=14218"><span style="font-family: tahoma,arial,helvet
 ica,sans-serif; font-size: 14pt;"><span style="font-family: tahoma, arial, 
 helvetica, sans-serif; font-size: 14pt;"><span style="color: #0000ff;"><em>
 <strong>Click here to register</strong></em></span>Click here to register&n
 bsp;</span></span></a><span style="font-family: tahoma, arial, helvetica, s
 ans-serif; font-size: 14pt;"></span></span><span style="font-family: tahoma
 , arial, helvetica, sans-serif; font-size: 14pt;"></span></span><em></em><s
 pan style="color: #0000ff;"></span></p><p>&nbsp;</p>
CONTACT:This email address is being protected from spambots. You need JavaScript enabled to view it.
				document.getElementById('cloak929ce597857a77a0bf0c86088f7e520c').innerHTML = '';
				var prefix = '&#109;a' + 'i&#108;' + '&#116;o';
				var path = 'hr' + 'ef' + '=';
				var addy929ce597857a77a0bf0c86088f7e520c = 'rv&#105;ss&#101;r' + '&#64;';
				addy929ce597857a77a0bf0c86088f7e520c = addy929ce597857a77a0bf0c86088f7e520c + 'nyswd&#97;' + '&#46;' + '&#111;rg';
				var addy_text929ce597857a77a0bf0c86088f7e520c = 'rv&#105;ss&#101;r' + '&#64;' + 'nyswd&#97;' + '&#46;' + '&#111;rg';document.getElementById('cloak929ce597857a77a0bf0c86088f7e520c').innerHTML += '<a ' + path + '\'' + prefix + ':' + addy929ce597857a77a0bf0c86088f7e520c + '\'>'+addy_text929ce597857a77a0bf0c86088f7e520c+'';
		
DTSTAMP:20260424T160711
DTSTART;TZID=America/New_York:20230803T090000
DTEND;TZID=America/New_York:20230803T160000
SEQUENCE:0
TRANSP:OPAQUE
END:VEVENT
END:VCALENDAR