BEGIN:VCALENDAR
VERSION:2.0
PRODID:-//jEvents 2.0 for Joomla//EN
CALSCALE:GREGORIAN
METHOD:PUBLISH
BEGIN:VTIMEZONE
TZID:America/New_York
BEGIN:STANDARD
DTSTART:20221106T010000
RDATE:20230312T030000
TZOFFSETFROM:-0400
TZOFFSETTO:-0500
TZNAME:America/New_York EST
END:STANDARD
BEGIN:STANDARD
DTSTART:20231105T010000
RDATE:20240310T030000
TZOFFSETFROM:-0400
TZOFFSETTO:-0500
TZNAME:America/New_York EST
END:STANDARD
BEGIN:STANDARD
DTSTART:20241103T010000
RDATE:20250309T030000
TZOFFSETFROM:-0400
TZOFFSETTO:-0500
TZNAME:America/New_York EST
END:STANDARD
BEGIN:STANDARD
DTSTART:20251102T010000
RDATE:20260308T030000
TZOFFSETFROM:-0400
TZOFFSETTO:-0500
TZNAME:America/New_York EST
END:STANDARD
BEGIN:STANDARD
DTSTART:20261101T010000
RDATE:20270314T030000
TZOFFSETFROM:-0400
TZOFFSETTO:-0500
TZNAME:America/New_York EST
END:STANDARD
BEGIN:STANDARD
DTSTART:20271107T010000
RDATE:20280312T030000
TZOFFSETFROM:-0400
TZOFFSETTO:-0500
TZNAME:America/New_York EST
END:STANDARD
BEGIN:STANDARD
DTSTART:20281105T010000
RDATE:20290311T030000
TZOFFSETFROM:-0400
TZOFFSETTO:-0500
TZNAME:America/New_York EST
END:STANDARD
BEGIN:STANDARD
DTSTART:20291104T010000
RDATE:20300310T030000
TZOFFSETFROM:-0400
TZOFFSETTO:-0500
TZNAME:America/New_York EST
END:STANDARD
BEGIN:STANDARD
DTSTART:20301103T010000
RDATE:20310309T030000
TZOFFSETFROM:-0400
TZOFFSETTO:-0500
TZNAME:America/New_York EST
END:STANDARD
BEGIN:DAYLIGHT
DTSTART:20220725T090000
RDATE:20221106T010000
TZOFFSETFROM:-0500
TZOFFSETTO:-0400
TZNAME:America/New_York EDT
END:DAYLIGHT
BEGIN:DAYLIGHT
DTSTART:20230312T030000
RDATE:20231105T010000
TZOFFSETFROM:-0500
TZOFFSETTO:-0400
TZNAME:America/New_York EDT
END:DAYLIGHT
BEGIN:DAYLIGHT
DTSTART:20240310T030000
RDATE:20241103T010000
TZOFFSETFROM:-0500
TZOFFSETTO:-0400
TZNAME:America/New_York EDT
END:DAYLIGHT
BEGIN:DAYLIGHT
DTSTART:20250309T030000
RDATE:20251102T010000
TZOFFSETFROM:-0500
TZOFFSETTO:-0400
TZNAME:America/New_York EDT
END:DAYLIGHT
BEGIN:DAYLIGHT
DTSTART:20260308T030000
RDATE:20261101T010000
TZOFFSETFROM:-0500
TZOFFSETTO:-0400
TZNAME:America/New_York EDT
END:DAYLIGHT
BEGIN:DAYLIGHT
DTSTART:20270314T030000
RDATE:20271107T010000
TZOFFSETFROM:-0500
TZOFFSETTO:-0400
TZNAME:America/New_York EDT
END:DAYLIGHT
BEGIN:DAYLIGHT
DTSTART:20280312T030000
RDATE:20281105T010000
TZOFFSETFROM:-0500
TZOFFSETTO:-0400
TZNAME:America/New_York EDT
END:DAYLIGHT
BEGIN:DAYLIGHT
DTSTART:20290311T030000
RDATE:20291104T010000
TZOFFSETFROM:-0500
TZOFFSETTO:-0400
TZNAME:America/New_York EDT
END:DAYLIGHT
BEGIN:DAYLIGHT
DTSTART:20300310T030000
RDATE:20301103T010000
TZOFFSETFROM:-0500
TZOFFSETTO:-0400
TZNAME:America/New_York EDT
END:DAYLIGHT
END:VTIMEZONE
BEGIN:VEVENT
UID:681193e359f13dce3c11de2e8cb86243
CATEGORIES:At Syracuse
CREATED:20230601T143720
SUMMARY:EPA RRP Lead Renovator Certification
LOCATION:NYSWDA Training Center - East Syracuse
DESCRIPTION:EPA RRP Lead Renovator (Initial) \n
 \n
Location:  NYSWDA Training Center -
  5869 Fisher Road, East Syracuse, NY  13057\n
 \n
 \n
This training is for:
 \nClass open to all attendees, including construction and weatherization co
 ntractors.\n\n\nCourse Description:\nThe US Environmental Protection Agency
  (EPA) published the Lead; Renovation, Repair and Painting Program that req
 uires each contractor working on pre-1978 residences to have an EPA Certifi
 ed Renovator on-site while jobs are set up and cleaned up. The certified pe
 rson will be responsible for documenting that all work was done in a lead s
 afe manner. \n\nThis is a 1-day course with approximately 6 hours classroom
  and 2 hours hands-on lab work, followed by a multiple choice written test.
  Upon course completion, attendees will receive a Lead Renovator card from 
 the training provider (NYSWDA). This certification requires a five year ren
 ewal.\n\n\nPrerequisites: \nfor WAP only- must have completed the One-Day L
 ead Safe Weatherization training\n\n\nClass Size: 8\n\n\nBPI CEU: 4\n\n\nIn
 structor: \nAl McMahon, EPA qualified RRP Lead Renovator Instructor\n\n\nCo
 urse Fees: \n$172/person - NY Weatherization Sub-grantees\n$172/person - af
 filiate members\n$250/person - non-members \n
 \n
Course fees include DO NO
 T include lunch \n
 \n
**Special note - if you wish to become an Affiliate 
 Member, and save off the non-member rate, please contact Karen McMahon (315
 -701-0440 ext. 223, This email address is being protected from spambots. Yo
 u need JavaScript enabled to view it.
				document.getElementById('cloak894
 39d79a00a361bf64cd4e246388bcc').innerHTML = '';
				var prefix = 'ma' + 'il
 ' + 'to';
				var path = 'hr' + 'ef' + '=';
				var addy89439d79a00a361bf64
 cd4e246388bcc = 'kmcmahon' + '@';
				addy89439d79a00a361bf64cd4e246388bcc 
 = addy89439d79a00a361bf64cd4e246388bcc + 'nyswda' + '.' + 'org';
				var ad
 dy_text89439d79a00a361bf64cd4e246388bcc = 'kmcmahon' + '@' + 'nyswda' + '.'
  + 'org';document.getElementById('cloak89439d79a00a361bf64cd4e246388bcc').i
 nnerHTML += '<a ' + path + '\'' + prefix + ':' + addy89439d79a00a361bf64cd4
 e246388bcc + '\'>'+addy_text89439d79a00a361bf64cd4e246388bcc+'';
		) BEFORE
  YOU REGISTER for the course.\n
 \n
CLASS FULL - call or email  This email 
 address is being protected from spambots. You need JavaScript enabled to vi
 ew it.
				document.getElementById('cloakb58984e4d677bb51d4c7075c1e786544')
 .innerHTML = '';
				var prefix = 'ma' + 'il' + 'to';
				var path = 'hr' +
  'ef' + '=';
				var addyb58984e4d677bb51d4c7075c1e786544 = 'rvisser' + '@'
 ;
				addyb58984e4d677bb51d4c7075c1e786544 = addyb58984e4d677bb51d4c7075c1e
 786544 + 'nyswda' + '.' + 'org';
				var addy_textb58984e4d677bb51d4c7075c1
 e786544 = 'rvisser' + '@' + 'nyswda' + '.' + 'org';document.getElementById(
 'cloakb58984e4d677bb51d4c7075c1e786544').innerHTML += '<a ' + path + '\'' +
  prefix + ':' + addyb58984e4d677bb51d4c7075c1e786544 + '\'>'+addy_textb5898
 4e4d677bb51d4c7075c1e786544+'';
		 for availability or wait list\n
X-ALT-DESC;FMTTYPE=text/html:<p><span style="color: #336699;"><span style="font-family: Tahoma;"><span s
 tyle="font-size: medium;"><span style="color: #000000;"><span style="font-f
 amily: Arial, Helvetica;"><span style="font-size: x-small;"><span style="fo
 nt-family: Tahoma;"><span style="font-size: small;"><span style="font-famil
 y: Tahoma;"><span style="font-family: Tahoma;"><span style="font-family: Ta
 homa;"><span style="font-family: Arial, Helvetica;"><span style="font-size:
  x-small;"><span style="font-family: Tahoma;"><span style="font-size: small
 ;"><span style="font-family: Tahoma;"><span style="font-family: Tahoma;"><s
 pan style="font-family: Arial, Helvetica;"><span style="font-size: x-small;
 "><span style="font-family: Tahoma;"><span style="font-size: small;"><span 
 style="font-family: Arial, Helvetica;"><span style="font-size: x-small;"><s
 pan style="font-family: Tahoma;"><span style="font-size: small;"><span styl
 e="font-family: Arial, Helvetica;"><span style="font-size: x-small;"><span 
 style="font-family: Tahoma;"><span style="font-size: small;"><span style="f
 ont-family: Arial, Helvetica;"><span style="font-size: x-small;"><span styl
 e="color: #000000;"><span style="font-family: Tahoma;"><span style="font-si
 ze: small;"><span style="color: #000000;"><span style="font-family: Tahoma;
 "><span style="font-family: Tahoma;"><span><span style="color: #336699;"><s
 pan style="font-family: Tahoma;"><span style="font-size: medium;"></span></
 span></span><span style="color: #336699; font-family: tahoma,arial,helvetic
 a,sans-serif; font-size: 14pt;"><span><span><span style="color: #000000;"><
 span><span><span><strong><span style="color: #336699;">EPA RRP Lead Renovat
 or (Initial) </span></strong></span></span></span></span></span></span></sp
 an></span></span></span></span></span></span></span></span></span></span></
 span></span></span></span></span></span></span></span></span></span></span>
 </span></span></span></span></span></span></span></span></span></span></spa
 n></span></span></span></span></span></span></p><p>&nbsp;</p><p><span style
 ="color: #336699;"><span style="font-family: Tahoma;"><span style="font-siz
 e: medium;"><span style="color: #000000;"><span style="font-family: Arial, 
 Helvetica;"><span style="font-size: x-small;"><span style="font-family: Tah
 oma;"><span style="font-size: small;"><span style="font-family: Tahoma;"><s
 pan style="font-family: Tahoma;"><span style="font-family: Tahoma;"><span s
 tyle="font-family: Arial, Helvetica;"><span style="font-size: x-small;"><sp
 an style="font-family: Tahoma;"><span style="font-size: small;"><span style
 ="font-family: Tahoma;"><span style="font-family: Tahoma;"><span style="fon
 t-family: Arial, Helvetica;"><span style="font-size: x-small;"><span style=
 "font-family: Tahoma;"><span style="font-size: small;"><span style="font-fa
 mily: Arial, Helvetica;"><span style="font-size: x-small;"><span style="fon
 t-family: Tahoma;"><span style="font-size: small;"><span style="font-family
 : Arial, Helvetica;"><span style="font-size: x-small;"><span style="font-fa
 mily: Tahoma;"><span style="font-size: small;"><span style="font-family: Ar
 ial, Helvetica;"><span style="font-size: x-small;"><span style="color: #000
 000;"><span style="font-family: Tahoma;"><span style="font-size: small;"><s
 pan style="color: #000000;"><span style="font-family: Tahoma;"><span style=
 "font-family: Tahoma;"><span><span style="color: #336699; font-family: taho
 ma,arial,helvetica,sans-serif; font-size: 14pt;"><span><span><span style="c
 olor: #000000;"><span><span><span><strong><span style="color: #336699;">Loc
 ation:&nbsp; NYSWDA Training Center - 5869 Fisher Road, East Syracuse, NY&n
 bsp; 13057</span></strong></span></span></span></span></span></span></span>
 </span></span></span></span></span></span></span></span></span></span></spa
 n></span></span></span></span></span></span></span></span></span></span></s
 pan></span></span></span></span></span></span></span></span></span></span><
 /span></span></span></span></span></span></p><p>&nbsp;</p><p><span style="c
 olor: #336699;"><span style="font-family: Tahoma;"><span style="font-size: 
 medium;"><span style="color: #000000;"><span style="font-family: Arial, Hel
 vetica;"><span style="font-size: x-small;"><span style="font-family: Tahoma
 ;"><span style="font-size: small;"><span style="font-family: Tahoma;"><span
  style="font-family: Tahoma;"><span style="font-family: Tahoma;"><span styl
 e="font-family: Arial, Helvetica;"><span style="font-size: x-small;"><span 
 style="font-family: Tahoma;"><span style="font-size: small;"><span style="f
 ont-family: Tahoma;"><span style="font-family: Tahoma;"><span style="font-f
 amily: Arial, Helvetica;"><span style="font-size: x-small;"><span style="fo
 nt-family: Tahoma;"><span style="font-size: small;"><span style="font-famil
 y: Arial, Helvetica;"><span style="font-size: x-small;"><span style="font-f
 amily: Tahoma;"><span style="font-size: small;"><span style="font-family: A
 rial, Helvetica;"><span style="font-size: x-small;"><span style="font-famil
 y: Tahoma;"><span style="font-size: small;"><span style="font-family: Arial
 , Helvetica;"><span style="font-size: x-small;"><span style="color: #000000
 ;"><span style="font-family: Tahoma;"><span style="font-size: small;"><span
  style="color: #000000;"><span style="font-family: Tahoma;"><span style="fo
 nt-family: Tahoma;"><span><span style="color: #336699;"><span style="font-f
 amily: Tahoma;"><span style="font-size: medium;"><span style="color: #00000
 0;"><span style="font-family: Arial, Helvetica;"><span style="font-size: x-
 small;"><span><span style="font-size: small;"></span></span></span></span><
 /span></span></span></span></span></span></span></span></span></span></span
 ></span></span></span></span></span></span></span></span></span></span></sp
 an></span></span></span></span></span></span></span></span></span></span></
 span></span></span></span></span></span></span></span></span></span>&nbsp;<
 /p><p><span style="color: #336699;"><span style="font-family: Tahoma;"><spa
 n style="font-size: medium;"><span style="color: #000000;"><span style="fon
 t-family: Arial, Helvetica;"><span style="font-size: x-small;"><span style=
 "font-family: Tahoma;"><span style="font-size: small;"><span style="font-fa
 mily: Tahoma;"><span style="font-family: Tahoma;"><span style="font-family:
  Tahoma;"><span style="font-family: Arial, Helvetica;"><span style="font-si
 ze: x-small;"><span style="font-family: Tahoma;"><span style="font-size: sm
 all;"><span style="font-family: Tahoma;"><span style="font-family: Tahoma;"
 ><span style="font-family: Arial, Helvetica;"><span style="font-size: x-sma
 ll;"><span style="font-family: Tahoma;"><span style="font-size: small;"><sp
 an style="font-family: Arial, Helvetica;"><span style="font-size: x-small;"
 ><span style="font-family: Tahoma;"><span style="font-size: small;"><span s
 tyle="font-family: Arial, Helvetica;"><span style="font-size: x-small;"><sp
 an style="font-family: Tahoma;"><span style="font-size: small;"><span style
 ="font-family: Arial, Helvetica;"><span style="font-size: x-small;"><span s
 tyle="color: #000000;"><span style="font-family: Tahoma;"><span style="font
 -size: small;"><span style="color: #000000;"><span style="font-family: Taho
 ma;"><span style="font-family: Tahoma;"><span><span style="color: #336699;"
 ><span style="font-family: Tahoma;"><span style="font-size: medium;"><span 
 style="color: #000000;"><span style="font-family: Arial, Helvetica;"><span 
 style="font-size: x-small;"><span><span style="font-size: small;"><span sty
 le="font-size: 12pt;"><span style="text-decoration: underline;"><span style
 ="font-family: Tahoma;"><em>This training is for:</em></span></span><span s
 tyle="font-family: Tahoma;"><span style="font-family: Tahoma;"><br /></span
 ></span></span></span><span style="font-size: small;"><span style="font-fam
 ily: Tahoma;"><span style="font-family: Tahoma;"><span style="font-family: 
 Tahoma;"><span style="font-size: 12pt;">Class open to all attendees, includ
 ing construction and weatherization contractors.</span><span style="font-fa
 mily: Arial, Helvetica;"><span style="font-size: x-small;"><br /><span styl
 e="font-family: Tahoma;"><span style="font-size: small;"><br /><span style=
 "font-size: 12pt;"><br /><em><span style="text-decoration: underline;">Cour
 se Description</span>:<br /></em></span><span style="font-family: Tahoma;">
 <span style="font-family: Tahoma;"><span style="font-size: 12pt;">The US En
 vironmental Protection Agency (EPA) published the Lead; Renovation, Repair 
 and Painting Program that requires each contractor working on pre-1978 resi
 dences to have an EPA Certified Renovator on-site while jobs are set up and
  cleaned up. The certified person will be responsible for documenting that 
 all work was done in a lead safe manner. <br /><br />This is a <span style=
 "text-decoration: underline;">1-day</span> course with approximately 6 hour
 s classroom and 2 hours hands-on lab work, followed by a multiple choice wr
 itten test. Upon course completion, attendees will receive a Lead Renovator
  card from the training provider (NYSWDA). This certification requires a fi
 ve year renewal.</span><span style="font-family: Arial, Helvetica;"><span s
 tyle="font-size: x-small;"><br /><span style="font-family: Tahoma;"><span s
 tyle="font-size: small;"><br /><span style="font-family: Arial, Helvetica;"
 ><span style="font-size: x-small;"><br /><span style="font-family: Tahoma;"
 ><span style="font-size: small;"><span style="font-family: Arial, Helvetica
 ;"><span style="font-size: x-small;"><span style="font-family: Tahoma;"><sp
 an style="font-size: small;"><span style="font-family: Arial, Helvetica;"><
 span style="font-size: x-small;"><span style="color: #000000;"><span style=
 "font-size: 12pt;"><span style="font-family: Tahoma;"><span><span style="co
 lor: #000000;"><em><span style="text-decoration: underline;">Prerequisites<
 /span>:</em></span></span></span><span><span style="color: #000000;"><em> <
 /em></span></span></span><span style="font-family: Tahoma;"><span style="fo
 nt-size: small;"><span style="color: #000000;"><br /><span style="font-size
 : 12pt;">for WAP only- must have completed the One-Day Lead Safe Weatheriza
 tion training</span><span style="font-family: Tahoma;"><br /><br /><br /><s
 pan style="font-size: 12pt;"><em><span style="text-decoration: underline;">
 Class Size</span>: 8</em><br /><em><br /><br /><span style="text-decoration
 : underline;">BPI CEU:</span> </em>4<em><br /><br /><br /><span style="text
 -decoration: underline;"><span style="font-family: Tahoma;">Instructor:</sp
 an> </span></em></span><span style="font-family: Tahoma;"><br /><span style
 ="font-size: 12pt;">Al McMahon, EPA qualified RRP Lead Renovator Instructor
 <br /><em><br /><br /><span style="text-decoration: underline;">Course Fees
 :</span> <br /></em></span><span><span style="font-size: 12pt;">$172/person
  - NY Weatherization Sub-grantees<br /></span></span></span></span></span><
 /span></span></span></span></span></span></span></span></span></span></span
 ></span></span></span></span></span></span></span></span></span></span></sp
 an></span></span></span></span></span></span></span></span></span></span></
 span></span></span></span></span></span></span></span></span></span></span>
 </span></span></span></span></span></span></span></span></span></span></spa
 n></span></span></span></span></span></span></span></span></span></span></s
 pan></span></span></span></span></span></span></span><span style="color: #3
 36699;"><span style="font-family: Tahoma;"><span style="font-size: medium;"
 ><span style="color: #000000;"><span style="font-family: Arial, Helvetica;"
 ><span style="font-size: x-small;"><span style="font-family: Tahoma;"><span
  style="font-size: small;"><span><span><span><span style="font-family: Aria
 l, Helvetica;"><span style="font-size: x-small;"><span style="font-family: 
 Tahoma;"><span style="font-size: small;"><span><span><span style="font-fami
 ly: Arial, Helvetica;"><span style="font-size: x-small;"><span style="font-
 family: Tahoma;"><span style="font-size: small;"><span style="font-family: 
 Arial, Helvetica;"><span style="font-size: x-small;"><span style="font-fami
 ly: Tahoma;"><span style="font-size: small;"><span style="font-family: Aria
 l, Helvetica;"><span style="font-size: x-small;"><span style="font-family: 
 Tahoma;"><span style="font-size: small;"><span style="font-family: Arial, H
 elvetica;"><span style="font-size: x-small;"><span><span style="font-family
 : Tahoma;"><span style="font-size: small;"><span><span><span><span style="c
 olor: #336699;"><span><span style="font-size: medium;"><span style="color: 
 #000000;"><span style="font-family: Arial, Helvetica;"><span style="font-si
 ze: x-small;"><span style="font-size: small;"><span style="font-family: Tah
 oma;"><span><span><span style="font-family: Arial, Helvetica;"><span style=
 "font-size: x-small;"><span style="font-family: Tahoma;"><span style="font-
 size: small;"><span><span><span style="font-family: Arial, Helvetica;"><spa
 n style="font-size: x-small;"><span style="font-family: Tahoma;"><span styl
 e="font-size: small;"><span style="font-family: Arial, Helvetica;"><span st
 yle="font-size: x-small;"><span style="font-family: Tahoma;"><span style="f
 ont-size: small;"><span style="font-family: Arial, Helvetica;"><span style=
 "font-size: x-small;"><span style="font-family: Tahoma;"><span style="font-
 size: small;"><span style="font-family: Arial, Helvetica;"><span style="fon
 t-size: x-small;"><span><span style="font-family: Tahoma;"><span style="fon
 t-size: small;"><span><span><span><span style="font-size: 12pt;">$172/perso
 n - affiliate members<br /></span></span></span></span></span></span></span
 ></span></span></span></span></span></span></span></span></span></span></sp
 an></span></span></span></span></span></span></span></span></span></span></
 span></span></span></span></span></span></span></span></span></span></span>
 </span></span></span></span></span></span></span></span></span></span></spa
 n></span></span></span></span></span></span></span></span></span></span></s
 pan></span></span></span></span></span></span></span></span></span></span><
 /span></span></span><span style="color: #336699;"><span style="font-family:
  Tahoma;"><span style="font-size: medium;"><span style="color: #000000;"><s
 pan style="font-family: Arial, Helvetica;"><span style="font-size: x-small;
 "><span style="font-family: Tahoma;"><span style="font-size: small;"><span>
 <span><span><span style="font-family: Arial, Helvetica;"><span style="font-
 size: x-small;"><span style="font-family: Tahoma;"><span style="font-size: 
 small;"><span><span><span style="font-family: Arial, Helvetica;"><span styl
 e="font-size: x-small;"><span style="font-family: Tahoma;"><span style="fon
 t-size: small;"><span style="font-family: Arial, Helvetica;"><span style="f
 ont-size: x-small;"><span style="font-family: Tahoma;"><span style="font-si
 ze: small;"><span style="font-family: Arial, Helvetica;"><span style="font-
 size: x-small;"><span style="font-family: Tahoma;"><span style="font-size: 
 small;"><span style="font-family: Arial, Helvetica;"><span style="font-size
 : x-small;"><span><span style="font-family: Tahoma;"><span style="font-size
 : small;"><span><span><span><span style="color: #336699;"><span><span style
 ="font-size: medium;"><span style="color: #000000;"><span style="font-famil
 y: Arial, Helvetica;"><span style="font-size: x-small;"><span style="font-s
 ize: small;"><span style="font-family: Tahoma;"><span><span><span style="fo
 nt-family: Arial, Helvetica;"><span style="font-size: x-small;"><span style
 ="font-family: Tahoma;"><span style="font-size: small;"><span><span><span s
 tyle="font-family: Arial, Helvetica;"><span style="font-size: x-small;"><sp
 an style="font-family: Tahoma;"><span style="font-size: small;"><span style
 ="font-family: Arial, Helvetica;"><span style="font-size: x-small;"><span s
 tyle="font-family: Tahoma;"><span style="font-size: small;"><span style="fo
 nt-family: Arial, Helvetica;"><span style="font-size: x-small;"><span style
 ="font-family: Tahoma;"><span style="font-size: small;"><span style="font-f
 amily: Arial, Helvetica;"><span style="font-size: x-small;"><span><span sty
 le="font-family: Tahoma;"><span style="font-size: small;"><span><span><span
 ><span style="font-size: 12pt;">$250/person - non-members&nbsp;</span></spa
 n></span></span></span></span></span></span></span></span></span></span></s
 pan></span></span></span></span></span></span></span></span></span></span><
 /span></span></span></span></span></span></span></span></span></span></span
 ></span></span></span></span></span></span></span></span></span></span></sp
 an></span></span></span></span></span></span></span></span></span></span></
 span></span></span></span></span></span></span></span></span></span></span>
 </span></span></span></span></span></span></span></span></p><p>&nbsp;</p><p
 ><span style="color: #000000;"><strong><span style="font-family: tahoma, ar
 ial, helvetica, sans-serif; font-size: 14pt;"><em><em><span style="font-fam
 ily: tahoma, arial, helvetica, sans-serif; font-size: 14pt;"><span style="f
 ont-family: tahoma, arial, helvetica, sans-serif; font-size: 12pt;"><strong
 ><em>Course fees include DO NOT include lunch</em></strong></span>&nbsp;</s
 pan></em></em></span></strong></span></p><p>&nbsp;</p><p><em><strong><span 
 style="background: white; color: #02613f; font-family: 'Georgia','serif';">
 <span style="font-size: small;">**Special note</span></span></strong></em><
 span style="background: white; color: black; font-family: 'Georgia','serif'
 ;"><span style="font-size: small;"><i><strong>&nbsp;-&nbsp;if you wish to b
 ecome an Affiliate Member, and&nbsp;save off the non-member rate, please co
 ntact&nbsp;Karen McMahon (315-701-0440 ext. 223,&nbsp;</strong></i></span><
 i><strong><span id="cloak89439d79a00a361bf64cd4e246388bcc">This email addre
 ss is being protected from spambots. You need JavaScript enabled to view it
 .</span><script type='text/javascript'>
				document.getElementById('cloak8
 9439d79a00a361bf64cd4e246388bcc').innerHTML = '';
				var prefix = 'ma' + '
 il' + 'to';
				var path = 'hr' + 'ef' + '=';
				var addy89439d79a00a361bf
 64cd4e246388bcc = 'kmcmahon' + '@';
				addy89439d79a00a361bf64cd4e246388bc
 c = addy89439d79a00a361bf64cd4e246388bcc + 'nyswda' + '.' + 'org';
				var 
 addy_text89439d79a00a361bf64cd4e246388bcc = '<span style="color: #0000ff; f
 ont-size: small;">kmcmahon' + '@' + 'nyswda' + '.' + 'org</span>';document.
 getElementById('cloak89439d79a00a361bf64cd4e246388bcc').innerHTML += '<a ' 
 + path + '\'' + prefix + ':' + addy89439d79a00a361bf64cd4e246388bcc + '\'>'
 +addy_text89439d79a00a361bf64cd4e246388bcc+'<\/a>';
		</script><span style=
 "font-size: small;">)&nbsp;</span></strong></i></span><i></i><span style="f
 ont-size: small;"><strong><span style="background: white; color: #02613f; f
 ont-family: 'Georgia','serif';">BEFORE YOU REGISTER&nbsp;</span></strong><e
 m><b><span style="background: white; color: black; font-family: 'Georgia','
 serif';">for the course</span></b></em><strong><span style="background: whi
 te; color: black; font-family: 'Georgia','serif';">.</span></strong></span>
 </p><p>&nbsp;</p><p><span style="color: #0000ff;"><em><strong><span style="
 font-family: tahoma, arial, helvetica, sans-serif; font-size: 14pt;"><span 
 style="font-family: tahoma, arial, helvetica, sans-serif; font-size: 14pt;"
 ><span style="font-family: tahoma,arial,helvetica,sans-serif; font-size: 14
 pt;"><strong><em><strong><span style="color: #ffffff; font-family: tahoma,a
 rial,helvetica,sans-serif; font-size: 14pt;"><span style="color: #ff0000;">
 CLASS FULL - call or email</span>&nbsp; <span id="cloakb58984e4d677bb51d4c7
 075c1e786544">This email address is being protected from spambots. You need
  JavaScript enabled to view it.</span><script type='text/javascript'>
				d
 ocument.getElementById('cloakb58984e4d677bb51d4c7075c1e786544').innerHTML =
  '';
				var prefix = 'ma' + 'il' + 'to';
				var path = 'hr' + 'ef' + '=';
 
				var addyb58984e4d677bb51d4c7075c1e786544 = 'rvisser' + '@';
				addyb5
 8984e4d677bb51d4c7075c1e786544 = addyb58984e4d677bb51d4c7075c1e786544 + 'ny
 swda' + '.' + 'org';
				var addy_textb58984e4d677bb51d4c7075c1e786544 = '<
 span style="color: #0066cc;">rvisser' + '@' + 'nyswda' + '.' + 'org</span>'
 ;document.getElementById('cloakb58984e4d677bb51d4c7075c1e786544').innerHTML
  += '<a ' + path + '\'' + prefix + ':' + addyb58984e4d677bb51d4c7075c1e7865
 44 + '\'>'+addy_textb58984e4d677bb51d4c7075c1e786544+'<\/a>';
		</script> <
 span style="color: #ff0000;">for availability or wait list</span></span></s
 trong></em><span style="color: #ffffff;"></span></strong><span style="font-
 family: tahoma, arial, helvetica, sans-serif; font-size: 14pt;"></span></sp
 an><span style="font-family: tahoma, arial, helvetica, sans-serif; font-siz
 e: 14pt;"></span></span><span style="font-family: tahoma, arial, helvetica,
  sans-serif; font-size: 14pt;"></span><em></em><span style="color: #0000ff;
 "></span></span></strong></em></span></p>
CONTACT:Robyn Visser
DTSTAMP:20260424T162754
DTSTART;TZID=America/New_York:20230726T090000
DTEND;TZID=America/New_York:20230726T170000
SEQUENCE:0
TRANSP:OPAQUE
END:VEVENT
END:VCALENDAR