BEGIN:VCALENDAR
VERSION:2.0
PRODID:-//jEvents 2.0 for Joomla//EN
CALSCALE:GREGORIAN
METHOD:PUBLISH
BEGIN:VTIMEZONE
TZID:America/New_York
BEGIN:STANDARD
DTSTART:20221106T010000
RDATE:20230312T030000
TZOFFSETFROM:-0400
TZOFFSETTO:-0500
TZNAME:America/New_York EST
END:STANDARD
BEGIN:STANDARD
DTSTART:20231105T010000
RDATE:20240310T030000
TZOFFSETFROM:-0400
TZOFFSETTO:-0500
TZNAME:America/New_York EST
END:STANDARD
BEGIN:STANDARD
DTSTART:20241103T010000
RDATE:20250309T030000
TZOFFSETFROM:-0400
TZOFFSETTO:-0500
TZNAME:America/New_York EST
END:STANDARD
BEGIN:STANDARD
DTSTART:20251102T010000
RDATE:20260308T030000
TZOFFSETFROM:-0400
TZOFFSETTO:-0500
TZNAME:America/New_York EST
END:STANDARD
BEGIN:STANDARD
DTSTART:20261101T010000
RDATE:20270314T030000
TZOFFSETFROM:-0400
TZOFFSETTO:-0500
TZNAME:America/New_York EST
END:STANDARD
BEGIN:STANDARD
DTSTART:20271107T010000
RDATE:20280312T030000
TZOFFSETFROM:-0400
TZOFFSETTO:-0500
TZNAME:America/New_York EST
END:STANDARD
BEGIN:STANDARD
DTSTART:20281105T010000
RDATE:20290311T030000
TZOFFSETFROM:-0400
TZOFFSETTO:-0500
TZNAME:America/New_York EST
END:STANDARD
BEGIN:STANDARD
DTSTART:20291104T010000
RDATE:20300310T030000
TZOFFSETFROM:-0400
TZOFFSETTO:-0500
TZNAME:America/New_York EST
END:STANDARD
BEGIN:STANDARD
DTSTART:20301103T010000
RDATE:20310309T030000
TZOFFSETFROM:-0400
TZOFFSETTO:-0500
TZNAME:America/New_York EST
END:STANDARD
BEGIN:DAYLIGHT
DTSTART:20220806T090000
RDATE:20221106T010000
TZOFFSETFROM:-0500
TZOFFSETTO:-0400
TZNAME:America/New_York EDT
END:DAYLIGHT
BEGIN:DAYLIGHT
DTSTART:20230312T030000
RDATE:20231105T010000
TZOFFSETFROM:-0500
TZOFFSETTO:-0400
TZNAME:America/New_York EDT
END:DAYLIGHT
BEGIN:DAYLIGHT
DTSTART:20240310T030000
RDATE:20241103T010000
TZOFFSETFROM:-0500
TZOFFSETTO:-0400
TZNAME:America/New_York EDT
END:DAYLIGHT
BEGIN:DAYLIGHT
DTSTART:20250309T030000
RDATE:20251102T010000
TZOFFSETFROM:-0500
TZOFFSETTO:-0400
TZNAME:America/New_York EDT
END:DAYLIGHT
BEGIN:DAYLIGHT
DTSTART:20260308T030000
RDATE:20261101T010000
TZOFFSETFROM:-0500
TZOFFSETTO:-0400
TZNAME:America/New_York EDT
END:DAYLIGHT
BEGIN:DAYLIGHT
DTSTART:20270314T030000
RDATE:20271107T010000
TZOFFSETFROM:-0500
TZOFFSETTO:-0400
TZNAME:America/New_York EDT
END:DAYLIGHT
BEGIN:DAYLIGHT
DTSTART:20280312T030000
RDATE:20281105T010000
TZOFFSETFROM:-0500
TZOFFSETTO:-0400
TZNAME:America/New_York EDT
END:DAYLIGHT
BEGIN:DAYLIGHT
DTSTART:20290311T030000
RDATE:20291104T010000
TZOFFSETFROM:-0500
TZOFFSETTO:-0400
TZNAME:America/New_York EDT
END:DAYLIGHT
BEGIN:DAYLIGHT
DTSTART:20300310T030000
RDATE:20301103T010000
TZOFFSETFROM:-0500
TZOFFSETTO:-0400
TZNAME:America/New_York EDT
END:DAYLIGHT
END:VTIMEZONE
BEGIN:VEVENT
UID:e9b3909bb0a036f1e75428c9dad49af8
CATEGORIES:WEB
CREATED:20230601T151259
SUMMARY:Weatherization Health & Safety - Online
LOCATION:Online
DESCRIPTION:\n Weatherization Health &amp; Safety - Online \n
 \n
GoToWebinar Event\n
\
 n
 \n
Course Description: \n
This online course will be covered in one day.
   Class starts at 9:00am and will break at noon for an hour lunch.  The nex
 t half session will start at 1:00pm and go until 4:00pm.\n\nIdentifying hea
 lth and safety issues in client homes is a fundamental task in the Weatheri
 zation program. This course will prepare the weatherization professional to
  perform the H&amp;S inspection as well as required tests. Areas to be cove
 red include: CO in ambient and flue gases, CAZ depressurization, worst case
  backdrafting, moisture/mold, asbestos, lead, clearances to combustibles, o
 verloaded electrical circuits, unvented space heating. \n\nThis is an HCR m
 andated training for Weatherization Directors, Auditors, Crew Supervisors a
 nd Crews. If you are a new Director or have new staff, you are strongly adv
 ised to attend.  This training requires attendance every three (3) years. \
 n
 \n
\n
Class Size: 25 \n
 \n
BPI CEU: 6\n
\n
 \n
Instructor:  Joe Ilacqua
  &amp; Al McMahon - NYSWDA \n
\n
 \n
Course Fees:  \n
$262/person - NY Weat
 herization Sub-grantees\n
$262/person - affiliate members\n
$380/person - n
 on-members\n\n
 \n
 **Special note - if you wish to become an Affiliate Mem
 ber please contact Karen McMahon (315-701-0440 ext. 223, This email address
  is being protected from spambots. You need JavaScript enabled to view it.

 				document.getElementById('cloak34c9246d6f53a9f083fc15c8663fbdf3').innerH
 TML = '';
				var prefix = 'ma' + 'il' + 'to';
				var path = 'hr' + 'ef' +
  '=';
				var addy34c9246d6f53a9f083fc15c8663fbdf3 = 'kmcmahon' + '@';
				
 addy34c9246d6f53a9f083fc15c8663fbdf3 = addy34c9246d6f53a9f083fc15c8663fbdf3
  + 'nyswda' + '.' + 'org';
				var addy_text34c9246d6f53a9f083fc15c8663fbdf
 3 = 'kmcmahon' + '@' + 'nyswda' + '.' + 'org';document.getElementById('cloa
 k34c9246d6f53a9f083fc15c8663fbdf3').innerHTML += '<a ' + path + '\'' + pref
 ix + ':' + addy34c9246d6f53a9f083fc15c8663fbdf3 + '\'>'+addy_text34c9246d6f
 53a9f083fc15c8663fbdf3+'';
		) BEFORE YOU REGISTER for the course.\n
 \n
Th
 rough the support of NYS HCR funding, we are able to provide quality traini
 ng at discounted rates to NYSWDA members.\n
 \n
Click here to register  (in
 dex.php?option=com_civicrm&amp;task=civicrm/event/register&amp;reset=1&amp;
 id=14224)\n
\n
 \n
\n
 \n
 \n
 \n
 \n
 \n
X-ALT-DESC;FMTTYPE=text/html:<p><br />&nbsp;<span style="color: #336699; font-family: tahoma,arial,helve
 tica,sans-serif; font-size: 14pt;"><span style="color: #000000;"><strong><s
 pan style="color: #336699;">Weatherization Health &amp; Safety - Online&nbs
 p;</span></strong></span></span></p><p>&nbsp;</p><p><span style="color: #33
 6699; font-family: tahoma,arial,helvetica,sans-serif; font-size: 14pt;"><sp
 an style="color: #000000;"><strong><span style="color: #336699;">GoToWebina
 r Event</span></strong></span></span></p><p><strong><span style="font-famil
 y: 'Tahoma','sans-serif'; color: #336699; font-size: 13.5pt;"></span></stro
 ng></p><p>&nbsp;</p><p><span style="font-size: 12pt;"><em><span style="text
 -decoration: underline;"><span style="font-family: 'Tahoma','sans-serif'; c
 olor: black;">Course Description:</span></span></em></span>&nbsp;</p><p><sp
 an style="font-family: Tahoma, sans-serif; color: black; font-size: 12pt;">
 This online course will be covered in one day.&nbsp; Class starts at 9:00am
  and will break at noon for an hour lunch.&nbsp; The next half session will
  start at 1:00pm and go until 4:00pm.<br /><br /></span><span style="font-f
 amily: Tahoma, sans-serif; color: black; font-size: 12pt;">Identifying heal
 th and safety issues in client homes is a fundamental task in the Weatheriz
 ation program. This course will prepare the weatherization professional to 
 perform the H&amp;S inspection as well as required tests. Areas to be cover
 ed include: CO in ambient and flue gases, CAZ depressurization, worst case 
 backdrafting, moisture/mold, asbestos, lead, clearances to combustibles, ov
 erloaded electrical circuits, unvented space heating.&nbsp;<br /><br /></sp
 an><span style="font-family: Tahoma, sans-serif; color: black; font-size: 1
 2pt;">This is an HCR mandated training for Weatherization Directors, Audito
 rs, Crew Supervisors and Crews. If you are a new Director or have new staff
 , you are strongly advised to attend.&nbsp; This training requires attendan
 ce every three (3) years.</span>&nbsp;</p><p>&nbsp;</p><p><span style="font
 -family: 'Tahoma', 'sans-serif'; color: black; font-size: 12pt;"></span></p
 ><p><span style="font-size: 12pt;"><em><span style="text-decoration: underl
 ine;"><span style="font-family: 'Tahoma','sans-serif'; color: black;">Class
  Size</span></span></em><span style="font-family: 'Tahoma','sans-serif'; co
 lor: black;">: 25</span></span>&nbsp;<span style="font-family: 'Tahoma', 's
 ans-serif'; color: black; font-size: 12pt;"></span></p><p>&nbsp;</p><p><spa
 n style="font-size: 12pt;"><em><span style="text-decoration: underline;"><s
 pan style="font-family: 'Tahoma','sans-serif'; color: black;">BPI CEU</span
 ></span></em><span style="text-decoration: underline;"><span style="font-fa
 mily: 'Tahoma','sans-serif'; color: black;">:</span></span><span style="fon
 t-family: 'Tahoma','sans-serif'; color: black;">&nbsp;6</span></span></p><p
 ><span style="font-family: 'Tahoma', 'sans-serif'; color: black; font-size:
  12pt;"></span></p><p>&nbsp;</p><p><span style="font-size: 12pt;"><span sty
 le="text-decoration: underline;"><span style="font-family: 'Tahoma','sans-s
 erif'; color: black;"><em>Instructor</em>:</span></span><span style="font-f
 amily: 'Tahoma','sans-serif'; color: black;">&nbsp; Joe Ilacqua &amp; Al Mc
 Mahon</span><span style="font-family: 'Tahoma','sans-serif'; color: black;"
 >&nbsp;- NYSWDA</span></span>&nbsp;</p><p><span style="font-family: 'Tahoma
 ', 'sans-serif'; color: black; font-size: 12pt;"></span></p><p>&nbsp;</p><p
 ><span style="font-size: 12pt;"><em><span style="text-decoration: underline
 ;"><span style="font-family: 'Tahoma','sans-serif'; color: black;">Course F
 ees:&nbsp;</span></span></em></span>&nbsp;</p><p><span style="font-size: 12
 pt;"><span style="color: black; font-family: 'Tahoma','sans-serif';">$262/p
 erson - NY&nbsp;Weatherization Sub-grantees</span></span></p><p><span style
 ="font-size: 12pt;"><span style="color: black; font-family: 'Tahoma','sans-
 serif';">$262/person - affiliate members</span><span style="color: black; f
 ont-family: 'Tahoma','sans-serif';"></span></span></p><p><span style="font-
 size: 12pt;"><span style="color: black; font-family: 'Tahoma','sans-serif';
 ">$380/person - non-members</span><span style="color: black; font-family: '
 Tahoma','sans-serif';"></span><span style="color: black; font-family: 'Taho
 ma','sans-serif';"></span><em><span style="color: black; font-family: 'Taho
 ma','sans-serif';"><br /></span></em></span></p><p>&nbsp;</p><p><span style
 ="color: #0000ff;"><em><strong><span style="font-family: tahoma, arial, hel
 vetica, sans-serif; font-size: 14pt;"><span style="color: #0000ff;"></span>
 </span></strong></em></span><span style="background-color: initial; color: 
 inherit; font-family: inherit; font-size: 1rem;"> </span><em style="backgro
 und-color: initial; color: inherit; font-family: inherit; font-size: 1rem;"
 ><strong><span style="background: white; color: #02613f; font-family: 'Geor
 gia','serif';"><span style="font-size: small;">**Special note</span></span>
 </strong></em><span style="background: white; color: black; font-family: 'G
 eorgia','serif';"><span style="font-size: small;"><i><strong>&nbsp;-&nbsp;i
 f you wish to become an Affiliate Member please contact&nbsp;Karen McMahon 
 (315-701-0440 ext. 223,&nbsp;</strong></i></span><i><strong><span id="cloak
 34c9246d6f53a9f083fc15c8663fbdf3">This email address is being protected fro
 m spambots. You need JavaScript enabled to view it.</span><script type='tex
 t/javascript'>
				document.getElementById('cloak34c9246d6f53a9f083fc15c866
 3fbdf3').innerHTML = '';
				var prefix = 'ma' + 'il' + 'to';
				var path 
 = 'hr' + 'ef' + '=';
				var addy34c9246d6f53a9f083fc15c8663fbdf3 = 'kmcmah
 on' + '@';
				addy34c9246d6f53a9f083fc15c8663fbdf3 = addy34c9246d6f53a9f08
 3fc15c8663fbdf3 + 'nyswda' + '.' + 'org';
				var addy_text34c9246d6f53a9f0
 83fc15c8663fbdf3 = '<span style="color: #0000ff; font-size: small;">kmcmaho
 n' + '@' + 'nyswda' + '.' + 'org</span>';document.getElementById('cloak34c9
 246d6f53a9f083fc15c8663fbdf3').innerHTML += '<a ' + path + '\'' + prefix + 
 ':' + addy34c9246d6f53a9f083fc15c8663fbdf3 + '\'>'+addy_text34c9246d6f53a9f
 083fc15c8663fbdf3+'<\/a>';
		</script><span style="font-size: small;">)&nbs
 p;</span></strong></i></span><i style="background-color: initial; color: in
 herit; font-family: inherit; font-size: 1rem;"></i><span style="font-size: 
 small;"><strong><span style="background: white; color: #02613f; font-family
 : 'Georgia','serif';">BEFORE YOU REGISTER&nbsp;</span></strong><em><b><span
  style="background: white; color: black; font-family: 'Georgia','serif';">f
 or the course</span></b></em><strong><span style="background: white; color:
  black; font-family: 'Georgia','serif';">.</span></strong></span><span styl
 e="background-color: initial; color: inherit; font-family: inherit; font-si
 ze: 1rem;"></span></p><p>&nbsp;</p><p><span style="font-family: georgia, pa
 latino; font-size: 10pt;"><strong><em><span style="color: #10704d; backgrou
 nd: white;">Through the support of NYS HCR funding, we are able to provide 
 </span></em></strong><em><strong><span style="color: #02613f; background: w
 hite;">quality training at&nbsp;discounted rates to NYSWDA members.</span><
 /strong></em></span></p><p>&nbsp;</p><p><span style="font-size: 12pt;"><em 
 style="background-color: initial; color: inherit; font-family: inherit; fon
 t-size: 1rem;"><strong><span style="font-family: tahoma, arial, helvetica, 
 sans-serif; font-size: 14pt; color: #0000ff;"><a href="https://www.nyswda.o
 rg/index.php?option=com_civicrm&amp;task=civicrm/event/register&amp;reset=1
 &amp;id=14224"><span style="color: #0000ff;">Click here to register&nbsp;</
 span></a><span></span></span><span style="font-family: Tahoma;"></span><spa
 n style="font-family: Tahoma;"></span><span style="font-family: Tahoma;"></
 span><span style="font-family: Arial, Helvetica;"></span><span style="font-
 family: Tahoma;"></span><span style="font-family: Tahoma;"></span><span sty
 le="font-family: Tahoma;"></span><span style="font-family: Tahoma;"></span>
 <span style="font-family: Arial, Helvetica;"></span><span style="font-famil
 y: Tahoma;"></span><em></em><span style="font-size: 14pt;"></span></strong>
 </em></span></p><p><span style="font-family: 'Arial','sans-serif'; color: b
 lack; font-size: 10pt;"></span></p><p>&nbsp;</p><p><span style="font-family
 : 'Arial','sans-serif'; color: black; font-size: 10pt;"></span></p><p>&nbsp
 ;</p><p>&nbsp;</p><p>&nbsp;</p><p>&nbsp;</p><p>&nbsp;</p>
CONTACT:This email address is being protected from spambots. You need JavaScript enabled to view it.
				document.getElementById('cloak57dfb87bcd6a65f2668b41e17823d978').innerHTML = '';
				var prefix = '&#109;a' + 'i&#108;' + '&#116;o';
				var path = 'hr' + 'ef' + '=';
				var addy57dfb87bcd6a65f2668b41e17823d978 = 'rv&#105;ss&#101;r' + '&#64;';
				addy57dfb87bcd6a65f2668b41e17823d978 = addy57dfb87bcd6a65f2668b41e17823d978 + 'nyswd&#97;' + '&#46;' + '&#111;rg';
				var addy_text57dfb87bcd6a65f2668b41e17823d978 = 'rv&#105;ss&#101;r' + '&#64;' + 'nyswd&#97;' + '&#46;' + '&#111;rg';document.getElementById('cloak57dfb87bcd6a65f2668b41e17823d978').innerHTML += '<a ' + path + '\'' + prefix + ':' + addy57dfb87bcd6a65f2668b41e17823d978 + '\'>'+addy_text57dfb87bcd6a65f2668b41e17823d978+'';
		
DTSTAMP:20260424T161958
DTSTART;TZID=America/New_York:20230807T090000
DTEND;TZID=America/New_York:20230807T160000
SEQUENCE:0
TRANSP:OPAQUE
END:VEVENT
END:VCALENDAR