BEGIN:VCALENDAR
VERSION:2.0
PRODID:-//jEvents 2.0 for Joomla//EN
CALSCALE:GREGORIAN
METHOD:PUBLISH
BEGIN:VTIMEZONE
TZID:America/New_York
BEGIN:STANDARD
DTSTART:20221106T010000
RDATE:20230312T030000
TZOFFSETFROM:-0400
TZOFFSETTO:-0500
TZNAME:America/New_York EST
END:STANDARD
BEGIN:STANDARD
DTSTART:20231105T010000
RDATE:20240310T030000
TZOFFSETFROM:-0400
TZOFFSETTO:-0500
TZNAME:America/New_York EST
END:STANDARD
BEGIN:STANDARD
DTSTART:20241103T010000
RDATE:20250309T030000
TZOFFSETFROM:-0400
TZOFFSETTO:-0500
TZNAME:America/New_York EST
END:STANDARD
BEGIN:STANDARD
DTSTART:20251102T010000
RDATE:20260308T030000
TZOFFSETFROM:-0400
TZOFFSETTO:-0500
TZNAME:America/New_York EST
END:STANDARD
BEGIN:STANDARD
DTSTART:20261101T010000
RDATE:20270314T030000
TZOFFSETFROM:-0400
TZOFFSETTO:-0500
TZNAME:America/New_York EST
END:STANDARD
BEGIN:STANDARD
DTSTART:20271107T010000
RDATE:20280312T030000
TZOFFSETFROM:-0400
TZOFFSETTO:-0500
TZNAME:America/New_York EST
END:STANDARD
BEGIN:STANDARD
DTSTART:20281105T010000
RDATE:20290311T030000
TZOFFSETFROM:-0400
TZOFFSETTO:-0500
TZNAME:America/New_York EST
END:STANDARD
BEGIN:STANDARD
DTSTART:20291104T010000
RDATE:20300310T030000
TZOFFSETFROM:-0400
TZOFFSETTO:-0500
TZNAME:America/New_York EST
END:STANDARD
BEGIN:STANDARD
DTSTART:20301103T010000
RDATE:20310309T030000
TZOFFSETFROM:-0400
TZOFFSETTO:-0500
TZNAME:America/New_York EST
END:STANDARD
BEGIN:DAYLIGHT
DTSTART:20220807T090000
RDATE:20221106T010000
TZOFFSETFROM:-0500
TZOFFSETTO:-0400
TZNAME:America/New_York EDT
END:DAYLIGHT
BEGIN:DAYLIGHT
DTSTART:20230312T030000
RDATE:20231105T010000
TZOFFSETFROM:-0500
TZOFFSETTO:-0400
TZNAME:America/New_York EDT
END:DAYLIGHT
BEGIN:DAYLIGHT
DTSTART:20240310T030000
RDATE:20241103T010000
TZOFFSETFROM:-0500
TZOFFSETTO:-0400
TZNAME:America/New_York EDT
END:DAYLIGHT
BEGIN:DAYLIGHT
DTSTART:20250309T030000
RDATE:20251102T010000
TZOFFSETFROM:-0500
TZOFFSETTO:-0400
TZNAME:America/New_York EDT
END:DAYLIGHT
BEGIN:DAYLIGHT
DTSTART:20260308T030000
RDATE:20261101T010000
TZOFFSETFROM:-0500
TZOFFSETTO:-0400
TZNAME:America/New_York EDT
END:DAYLIGHT
BEGIN:DAYLIGHT
DTSTART:20270314T030000
RDATE:20271107T010000
TZOFFSETFROM:-0500
TZOFFSETTO:-0400
TZNAME:America/New_York EDT
END:DAYLIGHT
BEGIN:DAYLIGHT
DTSTART:20280312T030000
RDATE:20281105T010000
TZOFFSETFROM:-0500
TZOFFSETTO:-0400
TZNAME:America/New_York EDT
END:DAYLIGHT
BEGIN:DAYLIGHT
DTSTART:20290311T030000
RDATE:20291104T010000
TZOFFSETFROM:-0500
TZOFFSETTO:-0400
TZNAME:America/New_York EDT
END:DAYLIGHT
BEGIN:DAYLIGHT
DTSTART:20300310T030000
RDATE:20301103T010000
TZOFFSETFROM:-0500
TZOFFSETTO:-0400
TZNAME:America/New_York EDT
END:DAYLIGHT
END:VTIMEZONE
BEGIN:VEVENT
UID:dffafa836b2e32a373f4395562cd9536
CATEGORIES:WEB
CREATED:20230601T151901
SUMMARY:Air Sealing Techniques - Online
LOCATION:Online
DESCRIPTION:<p><br />&nbsp;<span style="color: #336699; font-family: tahoma,arial,helve
 tica,sans-serif; font-size: 14pt;"><span style="color: #000000;"><strong><s
 pan style="color: #336699;">Air Sealing Techniques - Online&nbsp;</span></s
 trong></span></span></p><p>&nbsp;</p><p><span style="color: #336699; font-f
 amily: tahoma,arial,helvetica,sans-serif; font-size: 14pt;"><span style="co
 lor: #000000;"><strong><span style="color: #336699;">GoToWebinar Event</spa
 n></strong></span></span></p><p><strong><span style="font-family: 'Tahoma',
 'sans-serif'; color: #336699; font-size: 13.5pt;"></span></strong></p><p>&n
 bsp;</p><p><span style="font-size: 12pt;"><em><span style="text-decoration:
  underline;"><span style="font-family: 'Tahoma','sans-serif'; color: black;
 ">Course Description:</span></span></em></span>&nbsp;</p><p><span style="fo
 nt-family: Tahoma, sans-serif; color: black; font-size: 12pt;"><span style=
 "font-family: Tahoma, sans-serif; color: black; font-size: 12pt;">This onli
 ne course will be covered in one day.&nbsp; Class starts at 9:00am and will
  break at noon for an hour lunch.&nbsp; The next half session will start at
  1:00pm and go until 4:00pm.</span><br /><br /></span><span style="font-fam
 ily: Tahoma, sans-serif; color: black; font-size: 12pt;">This training will
  review procedures meant to optimize a crew's work production so they bette
 r meet their air sealing goals.&nbsp; Using powerpoint and video, the audie
 nce will learn about basic physics that effect air flow, techniques used in
  air sealing, use of blower doors to diagnose problems, prioritizing worksc
 opes, and the use of proper air sealing materials.<br /><br /></span><span 
 style="font-family: Tahoma, sans-serif; color: black; font-size: 12pt;">Thi
 s is an HCR mandated training for Weatherization Directors, Auditors, Crew 
 Supervisors and Crews. If you are a new Director or have new staff, you are
  strongly advised to attend.&nbsp; This training requires attendance every 
 three (3) years.</span>&nbsp;</p><p>&nbsp;</p><p><span style="font-family: 
 'Tahoma', 'sans-serif'; color: black; font-size: 12pt;"></span></p><p><span
  style="font-size: 12pt;"><em><span style="text-decoration: underline;"><sp
 an style="font-family: 'Tahoma','sans-serif'; color: black;">Class Size</sp
 an></span></em><span style="font-family: 'Tahoma','sans-serif'; color: blac
 k;">: 25</span></span>&nbsp;<span style="font-family: 'Tahoma', 'sans-serif
 '; color: black; font-size: 12pt;"></span></p><p>&nbsp;</p><p><span style="
 font-size: 12pt;"><em><span style="text-decoration: underline;"><span style
 ="font-family: 'Tahoma','sans-serif'; color: black;">BPI CEU</span></span><
 /em><span style="text-decoration: underline;"><span style="font-family: 'Ta
 homa','sans-serif'; color: black;">:</span></span><span style="font-family:
  'Tahoma','sans-serif'; color: black;">&nbsp;6</span></span></p><p><span st
 yle="font-family: 'Tahoma', 'sans-serif'; color: black; font-size: 12pt;"><
 /span></p><p>&nbsp;</p><p><span style="font-size: 12pt;"><span style="text-
 decoration: underline;"><span style="font-family: 'Tahoma','sans-serif'; co
 lor: black;"><em>Instructor</em>:</span></span><span style="font-family: 'T
 ahoma','sans-serif'; color: black;">&nbsp; Joe Ilacqua &amp; Al McMahon</sp
 an><span style="font-family: 'Tahoma','sans-serif'; color: black;">&nbsp;- 
 NYSWDA</span></span>&nbsp;</p><p><span style="font-family: 'Tahoma', 'sans-
 serif'; color: black; font-size: 12pt;"></span></p><p>&nbsp;</p><p><span st
 yle="font-size: 12pt;"><em><span style="text-decoration: underline;"><span 
 style="font-family: 'Tahoma','sans-serif'; color: black;">Course Fees:&nbsp
 ;</span></span></em></span>&nbsp;</p><p><span style="font-size: 12pt;"><spa
 n style="color: black; font-family: 'Tahoma','sans-serif';">$262/person - N
 Y&nbsp;Weatherization Sub-grantees</span></span></p><p><span style="font-si
 ze: 12pt;"><span style="color: black; font-family: 'Tahoma','sans-serif';">
 $262/person - affiliate members</span><span style="color: black; font-famil
 y: 'Tahoma','sans-serif';"></span></span></p><p><span style="font-size: 12p
 t;"><span style="color: black; font-family: 'Tahoma','sans-serif';">$380/pe
 rson - non-members</span><span style="color: black; font-family: 'Tahoma','
 sans-serif';"></span><span style="color: black; font-family: 'Tahoma','sans
 -serif';"></span><em><span style="color: black; font-family: 'Tahoma','sans
 -serif';"><br /></span></em></span></p><p>&nbsp;</p><p><span style="color: 
 #0000ff;"><em><strong><span style="font-family: tahoma, arial, helvetica, s
 ans-serif; font-size: 14pt;"><span style="color: #0000ff;"></span></span></
 strong></em></span><span style="background-color: initial; color: inherit; 
 font-family: inherit; font-size: 1rem;"> </span><em style="background-color
 : initial; color: inherit; font-family: inherit; font-size: 1rem;"><strong>
 <span style="background: white; color: #02613f; font-family: 'Georgia','ser
 if';"><span style="font-size: small;">**Special note</span></span></strong>
 </em><span style="background: white; color: black; font-family: 'Georgia','
 serif';"><span style="font-size: small;"><i><strong>&nbsp;-&nbsp;if you wis
 h to become an Affiliate Member please contact&nbsp;Karen McMahon (315-701-
 0440 ext. 223,&nbsp;</strong></i></span><i><strong><span id="cloakd0544e576
 951265fe327eafd57a415eb">This email address is being protected from spambot
 s. You need JavaScript enabled to view it.</span><script type='text/javascr
 ipt'>
				document.getElementById('cloakd0544e576951265fe327eafd57a415eb').
 innerHTML = '';
				var prefix = 'ma' + 'il' + 'to';
				var path = 'hr' + 
 'ef' + '=';
				var addyd0544e576951265fe327eafd57a415eb = 'kmcmahon' + '@'
 ;
				addyd0544e576951265fe327eafd57a415eb = addyd0544e576951265fe327eafd57
 a415eb + 'nyswda' + '.' + 'org';
				var addy_textd0544e576951265fe327eafd5
 7a415eb = '<span style="color: #0000ff; font-size: small;">kmcmahon' + '@' 
 + 'nyswda' + '.' + 'org</span>';document.getElementById('cloakd0544e5769512
 65fe327eafd57a415eb').innerHTML += '<a ' + path + '\'' + prefix + ':' + add
 yd0544e576951265fe327eafd57a415eb + '\'>'+addy_textd0544e576951265fe327eafd
 57a415eb+'<\/a>';
		</script><span style="font-size: small;">)&nbsp;</span>
 </strong></i></span><i style="background-color: initial; color: inherit; fo
 nt-family: inherit; font-size: 1rem;"></i><span style="font-size: small;"><
 strong><span style="background: white; color: #02613f; font-family: 'Georgi
 a','serif';">BEFORE YOU REGISTER&nbsp;</span></strong><em><b><span style="b
 ackground: white; color: black; font-family: 'Georgia','serif';">for the co
 urse</span></b></em><strong><span style="background: white; color: black; f
 ont-family: 'Georgia','serif';">.</span></strong></span><span style="backgr
 ound-color: initial; color: inherit; font-family: inherit; font-size: 1rem;
 "></span></p><p>&nbsp;</p><p>&nbsp;</p><p><em style="background-color: init
 ial; color: inherit; font-family: inherit; font-size: 1rem;"><a href="index
 .php?option=com_civicrm&amp;task=civicrm/event/register&amp;reset=1&amp;id=
 14225"><span style="font-family: tahoma, arial, helvetica, sans-serif; colo
 r: #0000ff; font-size: 14pt;"><strong><span style="color: #0000ff;">Click h
 ere to register&nbsp;&nbsp;</span></strong></span><span style="font-family:
  Arial, Helvetica;"></span></a><span style="font-family: Tahoma;"></span><s
 pan style="font-family: Tahoma;"></span><span style="font-family: Tahoma;">
 </span><span style="font-family: Tahoma;"></span><span style="font-family: 
 Arial, Helvetica;"></span><span style="font-family: Tahoma;"></span><em></e
 m><span style="font-size: 14pt;"></span></em><em><span style="font-family: 
 Tahoma, sans-serif; color: black;"><br /></span></em></p><p><span style="fo
 nt-family: 'Arial','sans-serif'; color: black; font-size: 10pt;"></span></p
 ><p>&nbsp;</p><p><span style="font-family: 'Arial','sans-serif'; color: bla
 ck; font-size: 10pt;"></span></p><p>&nbsp;</p><p>&nbsp;</p><p>&nbsp;</p><p>
 &nbsp;</p><p>&nbsp;</p>
X-ALT-DESC;FMTTYPE=text/html:<p><br />&nbsp;<span style="color: #336699; font-family: tahoma,arial,helve
 tica,sans-serif; font-size: 14pt;"><span style="color: #000000;"><strong><s
 pan style="color: #336699;">Air Sealing Techniques - Online&nbsp;</span></s
 trong></span></span></p><p>&nbsp;</p><p><span style="color: #336699; font-f
 amily: tahoma,arial,helvetica,sans-serif; font-size: 14pt;"><span style="co
 lor: #000000;"><strong><span style="color: #336699;">GoToWebinar Event</spa
 n></strong></span></span></p><p><strong><span style="font-family: 'Tahoma',
 'sans-serif'; color: #336699; font-size: 13.5pt;"></span></strong></p><p>&n
 bsp;</p><p><span style="font-size: 12pt;"><em><span style="text-decoration:
  underline;"><span style="font-family: 'Tahoma','sans-serif'; color: black;
 ">Course Description:</span></span></em></span>&nbsp;</p><p><span style="fo
 nt-family: Tahoma, sans-serif; color: black; font-size: 12pt;"><span style=
 "font-family: Tahoma, sans-serif; color: black; font-size: 12pt;">This onli
 ne course will be covered in one day.&nbsp; Class starts at 9:00am and will
  break at noon for an hour lunch.&nbsp; The next half session will start at
  1:00pm and go until 4:00pm.</span><br /><br /></span><span style="font-fam
 ily: Tahoma, sans-serif; color: black; font-size: 12pt;">This training will
  review procedures meant to optimize a crew's work production so they bette
 r meet their air sealing goals.&nbsp; Using powerpoint and video, the audie
 nce will learn about basic physics that effect air flow, techniques used in
  air sealing, use of blower doors to diagnose problems, prioritizing worksc
 opes, and the use of proper air sealing materials.<br /><br /></span><span 
 style="font-family: Tahoma, sans-serif; color: black; font-size: 12pt;">Thi
 s is an HCR mandated training for Weatherization Directors, Auditors, Crew 
 Supervisors and Crews. If you are a new Director or have new staff, you are
  strongly advised to attend.&nbsp; This training requires attendance every 
 three (3) years.</span>&nbsp;</p><p>&nbsp;</p><p><span style="font-family: 
 'Tahoma', 'sans-serif'; color: black; font-size: 12pt;"></span></p><p><span
  style="font-size: 12pt;"><em><span style="text-decoration: underline;"><sp
 an style="font-family: 'Tahoma','sans-serif'; color: black;">Class Size</sp
 an></span></em><span style="font-family: 'Tahoma','sans-serif'; color: blac
 k;">: 25</span></span>&nbsp;<span style="font-family: 'Tahoma', 'sans-serif
 '; color: black; font-size: 12pt;"></span></p><p>&nbsp;</p><p><span style="
 font-size: 12pt;"><em><span style="text-decoration: underline;"><span style
 ="font-family: 'Tahoma','sans-serif'; color: black;">BPI CEU</span></span><
 /em><span style="text-decoration: underline;"><span style="font-family: 'Ta
 homa','sans-serif'; color: black;">:</span></span><span style="font-family:
  'Tahoma','sans-serif'; color: black;">&nbsp;6</span></span></p><p><span st
 yle="font-family: 'Tahoma', 'sans-serif'; color: black; font-size: 12pt;"><
 /span></p><p>&nbsp;</p><p><span style="font-size: 12pt;"><span style="text-
 decoration: underline;"><span style="font-family: 'Tahoma','sans-serif'; co
 lor: black;"><em>Instructor</em>:</span></span><span style="font-family: 'T
 ahoma','sans-serif'; color: black;">&nbsp; Joe Ilacqua &amp; Al McMahon</sp
 an><span style="font-family: 'Tahoma','sans-serif'; color: black;">&nbsp;- 
 NYSWDA</span></span>&nbsp;</p><p><span style="font-family: 'Tahoma', 'sans-
 serif'; color: black; font-size: 12pt;"></span></p><p>&nbsp;</p><p><span st
 yle="font-size: 12pt;"><em><span style="text-decoration: underline;"><span 
 style="font-family: 'Tahoma','sans-serif'; color: black;">Course Fees:&nbsp
 ;</span></span></em></span>&nbsp;</p><p><span style="font-size: 12pt;"><spa
 n style="color: black; font-family: 'Tahoma','sans-serif';">$262/person - N
 Y&nbsp;Weatherization Sub-grantees</span></span></p><p><span style="font-si
 ze: 12pt;"><span style="color: black; font-family: 'Tahoma','sans-serif';">
 $262/person - affiliate members</span><span style="color: black; font-famil
 y: 'Tahoma','sans-serif';"></span></span></p><p><span style="font-size: 12p
 t;"><span style="color: black; font-family: 'Tahoma','sans-serif';">$380/pe
 rson - non-members</span><span style="color: black; font-family: 'Tahoma','
 sans-serif';"></span><span style="color: black; font-family: 'Tahoma','sans
 -serif';"></span><em><span style="color: black; font-family: 'Tahoma','sans
 -serif';"><br /></span></em></span></p><p>&nbsp;</p><p><span style="color: 
 #0000ff;"><em><strong><span style="font-family: tahoma, arial, helvetica, s
 ans-serif; font-size: 14pt;"><span style="color: #0000ff;"></span></span></
 strong></em></span><span style="background-color: initial; color: inherit; 
 font-family: inherit; font-size: 1rem;"> </span><em style="background-color
 : initial; color: inherit; font-family: inherit; font-size: 1rem;"><strong>
 <span style="background: white; color: #02613f; font-family: 'Georgia','ser
 if';"><span style="font-size: small;">**Special note</span></span></strong>
 </em><span style="background: white; color: black; font-family: 'Georgia','
 serif';"><span style="font-size: small;"><i><strong>&nbsp;-&nbsp;if you wis
 h to become an Affiliate Member please contact&nbsp;Karen McMahon (315-701-
 0440 ext. 223,&nbsp;</strong></i></span><i><strong><span id="cloakd0544e576
 951265fe327eafd57a415eb">This email address is being protected from spambot
 s. You need JavaScript enabled to view it.</span><script type='text/javascr
 ipt'>
				document.getElementById('cloakd0544e576951265fe327eafd57a415eb').
 innerHTML = '';
				var prefix = 'ma' + 'il' + 'to';
				var path = 'hr' + 
 'ef' + '=';
				var addyd0544e576951265fe327eafd57a415eb = 'kmcmahon' + '@'
 ;
				addyd0544e576951265fe327eafd57a415eb = addyd0544e576951265fe327eafd57
 a415eb + 'nyswda' + '.' + 'org';
				var addy_textd0544e576951265fe327eafd5
 7a415eb = '<span style="color: #0000ff; font-size: small;">kmcmahon' + '@' 
 + 'nyswda' + '.' + 'org</span>';document.getElementById('cloakd0544e5769512
 65fe327eafd57a415eb').innerHTML += '<a ' + path + '\'' + prefix + ':' + add
 yd0544e576951265fe327eafd57a415eb + '\'>'+addy_textd0544e576951265fe327eafd
 57a415eb+'<\/a>';
		</script><span style="font-size: small;">)&nbsp;</span>
 </strong></i></span><i style="background-color: initial; color: inherit; fo
 nt-family: inherit; font-size: 1rem;"></i><span style="font-size: small;"><
 strong><span style="background: white; color: #02613f; font-family: 'Georgi
 a','serif';">BEFORE YOU REGISTER&nbsp;</span></strong><em><b><span style="b
 ackground: white; color: black; font-family: 'Georgia','serif';">for the co
 urse</span></b></em><strong><span style="background: white; color: black; f
 ont-family: 'Georgia','serif';">.</span></strong></span><span style="backgr
 ound-color: initial; color: inherit; font-family: inherit; font-size: 1rem;
 "></span></p><p>&nbsp;</p><p>&nbsp;</p><p><em style="background-color: init
 ial; color: inherit; font-family: inherit; font-size: 1rem;"><a href="https
 ://www.nyswda.org/index.php?option=com_civicrm&amp;task=civicrm/event/regis
 ter&amp;reset=1&amp;id=14225"><span style="font-family: tahoma, arial, helv
 etica, sans-serif; color: #0000ff; font-size: 14pt;"><strong><span style="c
 olor: #0000ff;">Click here to register&nbsp;&nbsp;</span></strong></span><s
 pan style="font-family: Arial, Helvetica;"></span></a><span style="font-fam
 ily: Tahoma;"></span><span style="font-family: Tahoma;"></span><span style=
 "font-family: Tahoma;"></span><span style="font-family: Tahoma;"></span><sp
 an style="font-family: Arial, Helvetica;"></span><span style="font-family: 
 Tahoma;"></span><em></em><span style="font-size: 14pt;"></span></em><em><sp
 an style="font-family: Tahoma, sans-serif; color: black;"><br /></span></em
 ></p><p><span style="font-family: 'Arial','sans-serif'; color: black; font-
 size: 10pt;"></span></p><p>&nbsp;</p><p><span style="font-family: 'Arial','
 sans-serif'; color: black; font-size: 10pt;"></span></p><p>&nbsp;</p><p>&nb
 sp;</p><p>&nbsp;</p><p>&nbsp;</p><p>&nbsp;</p>
CONTACT:This email address is being protected from spambots. You need JavaScript enabled to view it.
				document.getElementById('cloak51ab887f62c3906f3f4090ac696bcc6d').innerHTML = '';
				var prefix = '&#109;a' + 'i&#108;' + '&#116;o';
				var path = 'hr' + 'ef' + '=';
				var addy51ab887f62c3906f3f4090ac696bcc6d = 'rv&#105;ss&#101;r' + '&#64;';
				addy51ab887f62c3906f3f4090ac696bcc6d = addy51ab887f62c3906f3f4090ac696bcc6d + 'nyswd&#97;' + '&#46;' + '&#111;rg';
				var addy_text51ab887f62c3906f3f4090ac696bcc6d = 'rv&#105;ss&#101;r' + '&#64;' + 'nyswd&#97;' + '&#46;' + '&#111;rg';document.getElementById('cloak51ab887f62c3906f3f4090ac696bcc6d').innerHTML += '<a ' + path + '\'' + prefix + ':' + addy51ab887f62c3906f3f4090ac696bcc6d + '\'>'+addy_text51ab887f62c3906f3f4090ac696bcc6d+'';
		
DTSTAMP:20260424T162211
DTSTART;TZID=America/New_York:20230808T090000
DTEND;TZID=America/New_York:20230808T160000
SEQUENCE:0
TRANSP:OPAQUE
END:VEVENT
END:VCALENDAR