BEGIN:VCALENDAR
VERSION:2.0
PRODID:-//jEvents 2.0 for Joomla//EN
CALSCALE:GREGORIAN
METHOD:PUBLISH
BEGIN:VTIMEZONE
TZID:America/New_York
BEGIN:STANDARD
DTSTART:20221106T010000
RDATE:20230312T030000
TZOFFSETFROM:-0400
TZOFFSETTO:-0500
TZNAME:America/New_York EST
END:STANDARD
BEGIN:STANDARD
DTSTART:20231105T010000
RDATE:20240310T030000
TZOFFSETFROM:-0400
TZOFFSETTO:-0500
TZNAME:America/New_York EST
END:STANDARD
BEGIN:STANDARD
DTSTART:20241103T010000
RDATE:20250309T030000
TZOFFSETFROM:-0400
TZOFFSETTO:-0500
TZNAME:America/New_York EST
END:STANDARD
BEGIN:STANDARD
DTSTART:20251102T010000
RDATE:20260308T030000
TZOFFSETFROM:-0400
TZOFFSETTO:-0500
TZNAME:America/New_York EST
END:STANDARD
BEGIN:STANDARD
DTSTART:20261101T010000
RDATE:20270314T030000
TZOFFSETFROM:-0400
TZOFFSETTO:-0500
TZNAME:America/New_York EST
END:STANDARD
BEGIN:STANDARD
DTSTART:20271107T010000
RDATE:20280312T030000
TZOFFSETFROM:-0400
TZOFFSETTO:-0500
TZNAME:America/New_York EST
END:STANDARD
BEGIN:STANDARD
DTSTART:20281105T010000
RDATE:20290311T030000
TZOFFSETFROM:-0400
TZOFFSETTO:-0500
TZNAME:America/New_York EST
END:STANDARD
BEGIN:STANDARD
DTSTART:20291104T010000
RDATE:20300310T030000
TZOFFSETFROM:-0400
TZOFFSETTO:-0500
TZNAME:America/New_York EST
END:STANDARD
BEGIN:STANDARD
DTSTART:20301103T010000
RDATE:20310309T030000
TZOFFSETFROM:-0400
TZOFFSETTO:-0500
TZNAME:America/New_York EST
END:STANDARD
BEGIN:DAYLIGHT
DTSTART:20220827T090000
RDATE:20221106T010000
TZOFFSETFROM:-0500
TZOFFSETTO:-0400
TZNAME:America/New_York EDT
END:DAYLIGHT
BEGIN:DAYLIGHT
DTSTART:20230312T030000
RDATE:20231105T010000
TZOFFSETFROM:-0500
TZOFFSETTO:-0400
TZNAME:America/New_York EDT
END:DAYLIGHT
BEGIN:DAYLIGHT
DTSTART:20240310T030000
RDATE:20241103T010000
TZOFFSETFROM:-0500
TZOFFSETTO:-0400
TZNAME:America/New_York EDT
END:DAYLIGHT
BEGIN:DAYLIGHT
DTSTART:20250309T030000
RDATE:20251102T010000
TZOFFSETFROM:-0500
TZOFFSETTO:-0400
TZNAME:America/New_York EDT
END:DAYLIGHT
BEGIN:DAYLIGHT
DTSTART:20260308T030000
RDATE:20261101T010000
TZOFFSETFROM:-0500
TZOFFSETTO:-0400
TZNAME:America/New_York EDT
END:DAYLIGHT
BEGIN:DAYLIGHT
DTSTART:20270314T030000
RDATE:20271107T010000
TZOFFSETFROM:-0500
TZOFFSETTO:-0400
TZNAME:America/New_York EDT
END:DAYLIGHT
BEGIN:DAYLIGHT
DTSTART:20280312T030000
RDATE:20281105T010000
TZOFFSETFROM:-0500
TZOFFSETTO:-0400
TZNAME:America/New_York EDT
END:DAYLIGHT
BEGIN:DAYLIGHT
DTSTART:20290311T030000
RDATE:20291104T010000
TZOFFSETFROM:-0500
TZOFFSETTO:-0400
TZNAME:America/New_York EDT
END:DAYLIGHT
BEGIN:DAYLIGHT
DTSTART:20300310T030000
RDATE:20301103T010000
TZOFFSETFROM:-0500
TZOFFSETTO:-0400
TZNAME:America/New_York EDT
END:DAYLIGHT
END:VTIMEZONE
BEGIN:VEVENT
UID:02583cf68d094d461220f0270a3d8598
CATEGORIES:At Syracuse
CREATED:20230718T164918
SUMMARY:Boot Camp for Weatherization Installers
LOCATION:NYSWDA Training Center - East Syracuse
DESCRIPTION:<p><strong><span style="font-family: Tahoma, sans-serif; color: #336699; fo
 nt-size: 13.5pt;">Boot Camp</span></strong></p><p>&nbsp;</p><p><strong><spa
 n style="font-family: Tahoma, sans-serif; color: #336699; font-size: 13.5pt
 ;">Training Location: NYSWDA Training Center (Building 2) - 5869 Fisher Roa
 d, East Syracuse, NY 13057</span></strong></p><p>&nbsp;</p><p><em><span sty
 le="text-decoration: underline;"><span style="font-family: Tahoma, sans-ser
 if; color: black; text-decoration: underline;"><span style="font-size: 12pt
 ;">Who Should Attend;<br /></span></span></span></em><span style="font-fami
 ly: Tahoma, sans-serif; color: black;"><span style="font-size: 12pt;"><span
 >Entry level field staff and weatherization contractors - see detailed belo
 w.</span></span></span></p><p><span style="font-family: Tahoma, sans-serif;
  color: #ffffff;"><span style="font-size: 12pt;"></span></span>&nbsp;</p><p
 ><em><span style="text-decoration: underline;"><span style="font-family: Ta
 homa, sans-serif; color: black; text-decoration: underline;"><span style="f
 ont-size: 12pt;">Course</span></span></span><span style="text-decoration: u
 nderline;"><span style="font-family: Tahoma, sans-serif; color: black; text
 -decoration: underline;"><span style="font-size: 12pt;"> Description</span>
 </span></span></em><span style="font-family: Tahoma, sans-serif; color: bla
 ck;"><span style="font-size: 12pt;">;<br /></span></span><span style="font-
 family: Tahoma, sans-serif; color: black; font-size: 12pt;">This intensive 
 4-day training based at NYSWDA's Energy Efficiency Training Center (Buildin
 g 2) in East Syracuse, is a great introduction to building science principl
 es and hands-on air sealing, dense pack and loose fill cellulose insulation
  installation. Using our state-of-the-art realistic wall, ceiling and attic
  props, trainees will learn the techniques needed to effectively weatherize
  our clients' homes.</span></p><p><span style="font-family: Tahoma, sans-se
 rif; color: #ffffff; font-size: 12pt;">Â</span></p><p><span style="font-fam
 ily: Tahoma, sans-serif; color: black; font-size: 12pt;">During this course
 , the trainees will be introduced to both HCR and BPI standards and regulat
 ions on Health &amp; Safety, Lead Safe work practices and safe and proper u
 se of tools and equipment. Trainees will also become proficient on the set 
 up of blower doors and understand basic use of an infrared camera during ai
 r sealing operations.</span></p><p><span style="font-family: Tahoma, sans-s
 erif; color: #ffffff; font-size: 12pt;">Â</span></p><p><span style="font-fa
 mily: Tahoma, sans-serif; color: black; font-size: 12pt;">All three HCR man
 datory trainings are covered in this course: </span></p><ul><li style="colo
 r: black;"><span style="font-family: Tahoma, sans-serif; font-size: 12pt;">
 Air Sealing - mandatory for WX directors, energy auditors, post inspectors,
  crew chiefs and crew personnel</span></li><li style="color: black;"><span 
 style="font-family: Tahoma, sans-serif; font-size: 12pt;">Health &amp; Safe
 ty - mandatory for WX directors, energy auditors, post inspectors, crew chi
 efs and heating technicians</span></li><li><span style="font-family: Tahoma
 , sans-serif; color: black; font-size: 12pt;">Lead Safe Weatherization - ma
 ndatory for all employees who may come in contact with lead based paint whi
 le performing their duties<br /></span></li></ul><p><span style="font-famil
 y: Tahoma, sans-serif; color: black; font-size: 12pt;">Please reference the
  WAP Policies and Procedures manual for further details. The above-listed t
 rainings are mandatory for the positions stated. If a subgrantee hires a ne
 w employee into one of these postions, or a current employee transfers into
  one of these positions, it is mandatory that they receive this training wi
 thin six (6) months of their start date. These mandatory training sessions 
 must be repeated every three (3) years by subgrantee personnel who occupy t
 hese positions.</span></p><p>&nbsp;&nbsp;</p><p><span style="font-size: 12p
 t;"><em><span style="text-decoration: underline;"><span style="font-family:
  Tahoma, sans-serif; color: black; text-decoration: underline;">Agenda;</sp
 an></span></em></span>&nbsp;<br /><span style="font-size: 12pt;"><span><spa
 n style="font-family: Tahoma, sans-serif; color: black;">Day One</span></sp
 an></span></p><p><span style="font-size: 12pt;"><span style="font-family: T
 ahoma, sans-serif; color: black;">Monday - 9:00am - 4:30pm: Residential Hea
 lth &amp; Safety Fundamentals</span></span></p><p><span style="font-size: 1
 2pt; color: #ffffff;"><em><span style="text-decoration: underline;"><span s
 tyle="font-family: Tahoma, sans-serif;"></span></span></em></span></p><p><s
 pan style="font-size: 12pt;"><span style="text-decoration: underline;"><spa
 n style="font-family: Tahoma, sans-serif; color: black; text-decoration: un
 derline;">Day Two</span></span></span></p><p><span style="font-size: 12pt;"
 ><span style="font-family: Tahoma, sans-serif; color: black;">Tuesday - 9:0
 0am - 4:30pm: Introduction to Building Science and Air Sealing Techniques, 
 introduction to infrared cameras, introduction to basic residential framing
  details with an emphasis on common air sealing areas and building codes re
 quirements for clearance to combustibles.</span></span></p><p><span style="
 font-size: 12pt; color: #ffffff;"><span style="font-family: Tahoma, sans-se
 rif;"></span></span>&nbsp;</p><p><span style="text-decoration: underline;">
 <span style="font-size: 12pt;"><span style="color: black; font-family: Taho
 ma, sans-serif; text-decoration: underline;">Day Three</span></span></span>
 </p><p><span style="font-size: 12pt;"><span style="font-family: Tahoma, san
 s-serif; color: black;">Wednesday - 9:00am - 4:30pm: Lead Safe Work Practic
 es</span></span></p><p><span style="font-size: 12pt; color: #ffffff;"><span
  style="font-family: Tahoma, sans-serif;"></span></span>&nbsp;</p><p><span 
 style="text-decoration: underline;"><span style="font-size: 12pt;"><span st
 yle="color: black; font-family: Tahoma, sans-serif; text-decoration: underl
 ine;">Day Four</span></span></span></p><p><span style="font-size: 12pt;"><s
 pan style="font-family: Tahoma, sans-serif; color: black;">Thursday - 9:00a
 m - 4:00pm: All day lab session tool/equipment safety, lead safe jobsite se
 tup, air sealing techniques, dense pack and loose fill cellulose installati
 on techniques. Afternoon lab session: fundamentals of blower door setup and
  operation, plus jobsite and lead safe cleanup skills, training skills revi
 ew, question and answer session, awarding of Certificates of Completion.</s
 pan></span></p><p><span style="font-size: 12pt;"><em><span style="text-deco
 ration: underline;"><span style="font-family: Tahoma, sans-serif; color: bl
 ack; text-decoration: underline;"><br /></span></span></em></span><span sty
 le="font-size: 12pt;"><em><span style="text-decoration: underline;"><span s
 tyle="font-family: Tahoma, sans-serif; color: black; text-decoration: under
 line;">Dates;<br /></span></span></em></span><span style="font-family: taho
 ma, arial, helvetica, sans-serif; color: black; font-size: 12pt;">Course co
 vers the dates of August 28-31, 2023<br /><br /></span><span style="font-fa
 mily: tahoma, arial, helvetica, sans-serif; color: black; font-size: 12pt;"
 >Start Times:&nbsp; ALL DAYS - 9:00am<br /><br /></span><span style="font-f
 amily: tahoma, arial, helvetica, sans-serif; color: black; font-size: 12pt;
 ">End Times: ALL DAYS 4:30pm to 5:00pm</span></p><p><span style="font-famil
 y: Arial, sans-serif; color: #ffffff; font-size: 12pt;"></span>&nbsp;</p><p
 ><span style="font-size: 12pt;"><em><span style="text-decoration: underline
 ;"><span style="font-family: Tahoma, sans-serif; color: black; text-decorat
 ion: underline;">Other Notes:</span></span></em><span style="font-family: T
 ahoma, sans-serif; color: black;"><br /></span></span><span style="font-siz
 e: 12pt;"><span style="font-family: Tahoma, sans-serif; color: black;">Due 
 to the nature of the training, all attendees will be required to sign a wai
 ver of liability and a photo/video release form at the start of the trainin
 g.</span></span></p><p><span style="font-family: tahoma, arial, helvetica, 
 sans-serif; font-size: 12pt;"><strong><span style="color: blue;"></span></s
 trong></span></p><p><span style="font-size: 12pt;"><em><span style="text-de
 coration: underline;"><span style="font-family: Tahoma, sans-serif; color: 
 black; text-decoration: underline;">Prerequisites:</span></span></em><em><s
 pan style="font-family: Tahoma, sans-serif; color: black;"> </span></em><sp
 an style="font-family: Tahoma, sans-serif; color: black;">None</span></span
 ></p><p><span style="font-size: 12pt;"><em><span style="text-decoration: un
 derline;"><span style="font-family: Tahoma, sans-serif; color: black; text-
 decoration: underline;"><br />Class Size:</span></span></em>&nbsp;<span sty
 le="font-family: Tahoma, sans-serif;">10</span></span></p><p><span style="f
 ont-size: 12pt;"><em><span style="text-decoration: underline;"><span style=
 "font-family: Tahoma, sans-serif; color: black; text-decoration: underline;
 "><br />BPI CEU</span></span></em><span style="text-decoration: underline;"
 ><span style="font-family: Tahoma, sans-serif; color: black; text-decoratio
 n: underline;">:</span></span><span style="font-family: Tahoma, sans-serif;
  color: black;"> 16</span></span></p><p><span style="font-size: 12pt;"><em>
 <span style="text-decoration: underline;"><span style="font-family: Tahoma,
  sans-serif; color: black; text-decoration: underline;"><br /></span></span
 ></em><em><span style="text-decoration: underline;"><span style="font-famil
 y: Tahoma, sans-serif; color: black; text-decoration: underline;">Instructo
 rs:</span></span></em><span style="font-family: Tahoma, sans-serif; color: 
 black;">, Joe Ilacqua, NYSWDA<br /></span></span></p><p><span style="font-s
 ize: 12pt;"><em><span style="text-decoration: underline;"><span style="font
 -family: Tahoma, sans-serif; color: black; text-decoration: underline;"><br
  />Course</span></span></em><span style="text-decoration: underline;"><span
  style="font-family: Tahoma, sans-serif; color: black; text-decoration: und
 erline;"> Fees;</span></span><span style="font-family: Tahoma, sans-serif; 
 color: black;"> </span></span></p><p><span style="color: #000000;"><span st
 yle="font-family: Tahoma, sans-serif; font-size: 12pt;">$950/person - NY We
 atherization Sub-grantees</span><span style="font-family: Tahoma, sans-seri
 f; font-size: 12pt;"><em> </em></span></span></p><p><span style="font-famil
 y: Tahoma, sans-serif; color: #000000; font-size: 12pt;">$950/person - affi
 liate members </span></p><p><span style="font-family: Tahoma, sans-serif; c
 olor: #000000; font-size: 12pt;">$1,450/person - non-members </span></p><p>
 &nbsp;</p><p><span style="font-family: Tahoma; font-size: 12pt; color: #000
 000;">Lunches are included for each day.</span></p><p>&nbsp;</p><p style="m
 argin-top: 0in; margin-right: 0in; margin-bottom: 0pt;"><strong><i><span st
 yle="background: white; color: #02613f; font-family: Georgia, serif;"><span
  style="font-size: small;">**Special note</span></span></i></strong><strong
 ><i><span style="background: white; color: black; font-family: Georgia, ser
 if;"><span style="font-size: small;">&nbsp;-&nbsp;if you wish to become an 
 Affiliate Member, and&nbsp;save off the non-member rate, please contact&nbs
 p;Karen McMahon (315-701-0440 ext. 223,&nbsp;</span><span id="cloak1c020964
 0203d82c3a06c87b03894cb6">This email address is being protected from spambo
 ts. You need JavaScript enabled to view it.</span><script type='text/javasc
 ript'>
				document.getElementById('cloak1c0209640203d82c3a06c87b03894cb6')
 .innerHTML = '';
				var prefix = 'ma' + 'il' + 'to';
				var path = 'hr' +
  'ef' + '=';
				var addy1c0209640203d82c3a06c87b03894cb6 = 'kmcmahon' + '@
 ';
				addy1c0209640203d82c3a06c87b03894cb6 = addy1c0209640203d82c3a06c87b0
 3894cb6 + 'nyswda' + '.' + 'org';
				var addy_text1c0209640203d82c3a06c87b
 03894cb6 = '<span style="color: #0000ff; font-size: small;">kmcmahon' + '@'
  + 'nyswda' + '.' + 'org</span>';document.getElementById('cloak1c0209640203
 d82c3a06c87b03894cb6').innerHTML += '<a ' + path + '\'' + prefix + ':' + ad
 dy1c0209640203d82c3a06c87b03894cb6 + '\'>'+addy_text1c0209640203d82c3a06c87
 b03894cb6+'<\/a>';
		</script><span style="font-size: small;">)&nbsp;</span
 ></span></i></strong><span style="font-size: small;"><strong><span style="b
 ackground: white; color: #02613f; font-family: Georgia, serif;">BEFORE YOU 
 REGISTER&nbsp;</span></strong><em><b><span style="background: white; color:
  black; font-family: Georgia, serif;">for the course</span></b></em><strong
 ><span style="background: white; color: black; font-family: Georgia, serif;
 ">.</span></strong></span></p><p><span style="color: #ff6600; font-family: 
 tahoma, arial, helvetica, sans-serif; font-size: 12pt;"><span style="color:
  #ff6600; font-family: tahoma, arial, helvetica, sans-serif; font-size: 12p
 t;"><span style="font-family: 'Times New Roman'; font-size: small;"></span>
 </span></span>&nbsp;</p><p><span style="color: #ffffff;"></span><span style
 ="color: black; font-family: Tahoma, sans-serif; font-size: 12pt;">NYSWDA w
 ill not be responsible for hotel costs, travel to and from the training, br
 eakfast and dinner meals, or incidentals.</span></p><p>&nbsp;&nbsp;</p><p><
 span style="font-family: tahoma, arial, helvetica, sans-serif; font-size: 1
 4pt; color: #0000ff;"><strong><em><strong><span style="font-family: tahoma,
  arial, helvetica, sans-serif; font-size: 14pt;"><span style="font-family: 
 tahoma, arial, helvetica, sans-serif; font-size: 14pt;"><span style="font-f
 amily: tahoma,arial,helvetica,sans-serif; font-size: 14pt;"><span style="fo
 nt-family: tahoma, arial, helvetica, sans-serif; font-size: 14pt;"><span st
 yle="color: #0000ff;"><span style="color: #ffffff; font-family: tahoma,aria
 l,helvetica,sans-serif; font-size: 14pt;"><span style="color: #ff0000;">CLA
 SS FULL - call or email</span>&nbsp; <span id="cloak8bee10c2ac69975bd74c33e
 6e2354886">This email address is being protected from spambots. You need Ja
 vaScript enabled to view it.</span><script type='text/javascript'>
				docu
 ment.getElementById('cloak8bee10c2ac69975bd74c33e6e2354886').innerHTML = ''
 ;
				var prefix = 'ma' + 'il' + 'to';
				var path = 'hr' + 'ef' + '=';
		
 		var addy8bee10c2ac69975bd74c33e6e2354886 = 'rvisser' + '@';
				addy8bee1
 0c2ac69975bd74c33e6e2354886 = addy8bee10c2ac69975bd74c33e6e2354886 + 'nyswd
 a' + '.' + 'org';
				var addy_text8bee10c2ac69975bd74c33e6e2354886 = '<spa
 n style="color: #0066cc;">rvisser' + '@' + 'nyswda' + '.' + 'org</span>';do
 cument.getElementById('cloak8bee10c2ac69975bd74c33e6e2354886').innerHTML +=
  '<a ' + path + '\'' + prefix + ':' + addy8bee10c2ac69975bd74c33e6e2354886 
 + '\'>'+addy_text8bee10c2ac69975bd74c33e6e2354886+'<\/a>';
		</script> <spa
 n style="color: #ff0000;">for availability or wait list</span></span><em></
 em><span style="font-family: tahoma,arial,helvetica,sans-serif; font-size: 
 14pt;"></span><span style="font-family: tahoma, arial, helvetica, sans-seri
 f; font-size: 14pt;"></span><span style="font-family: tahoma, arial, helvet
 ica, sans-serif; font-size: 14pt;"></span><em></em><span style="color: #000
 0ff;"></span></span></span></span></span></span></strong></em></strong></sp
 an></p>
CONTACT:This email address is being protected from spambots. You need JavaScript enabled to view it.
				document.getElementById('cloak57198622a8874b6f14c14060e0dc6f1b').innerHTML = '';
				var prefix = '&#109;a' + 'i&#108;' + '&#116;o';
				var path = 'hr' + 'ef' + '=';
				var addy57198622a8874b6f14c14060e0dc6f1b = 'rv&#105;ss&#101;r' + '&#64;';
				addy57198622a8874b6f14c14060e0dc6f1b = addy57198622a8874b6f14c14060e0dc6f1b + 'nyswd&#97;' + '&#46;' + '&#111;rg';
				var addy_text57198622a8874b6f14c14060e0dc6f1b = 'rv&#105;ss&#101;r' + '&#64;' + 'nyswd&#97;' + '&#46;' + '&#111;rg';document.getElementById('cloak57198622a8874b6f14c14060e0dc6f1b').innerHTML += '<a ' + path + '\'' + prefix + ':' + addy57198622a8874b6f14c14060e0dc6f1b + '\'>'+addy_text57198622a8874b6f14c14060e0dc6f1b+'';
		
DTSTAMP:20260424T161222
DTSTART;TZID=America/New_York:20230828T090000
DTEND;TZID=America/New_York:20230831T170000
SEQUENCE:0
TRANSP:OPAQUE
END:VEVENT
END:VCALENDAR