BEGIN:VCALENDAR
VERSION:2.0
PRODID:-//jEvents 2.0 for Joomla//EN
CALSCALE:GREGORIAN
METHOD:PUBLISH
BEGIN:VTIMEZONE
TZID:America/New_York
BEGIN:STANDARD
DTSTART:20221106T010000
RDATE:20230312T030000
TZOFFSETFROM:-0400
TZOFFSETTO:-0500
TZNAME:America/New_York EST
END:STANDARD
BEGIN:STANDARD
DTSTART:20231105T010000
RDATE:20240310T030000
TZOFFSETFROM:-0400
TZOFFSETTO:-0500
TZNAME:America/New_York EST
END:STANDARD
BEGIN:STANDARD
DTSTART:20241103T010000
RDATE:20250309T030000
TZOFFSETFROM:-0400
TZOFFSETTO:-0500
TZNAME:America/New_York EST
END:STANDARD
BEGIN:STANDARD
DTSTART:20251102T010000
RDATE:20260308T030000
TZOFFSETFROM:-0400
TZOFFSETTO:-0500
TZNAME:America/New_York EST
END:STANDARD
BEGIN:STANDARD
DTSTART:20261101T010000
RDATE:20270314T030000
TZOFFSETFROM:-0400
TZOFFSETTO:-0500
TZNAME:America/New_York EST
END:STANDARD
BEGIN:STANDARD
DTSTART:20271107T010000
RDATE:20280312T030000
TZOFFSETFROM:-0400
TZOFFSETTO:-0500
TZNAME:America/New_York EST
END:STANDARD
BEGIN:STANDARD
DTSTART:20281105T010000
RDATE:20290311T030000
TZOFFSETFROM:-0400
TZOFFSETTO:-0500
TZNAME:America/New_York EST
END:STANDARD
BEGIN:STANDARD
DTSTART:20291104T010000
RDATE:20300310T030000
TZOFFSETFROM:-0400
TZOFFSETTO:-0500
TZNAME:America/New_York EST
END:STANDARD
BEGIN:STANDARD
DTSTART:20301103T010000
RDATE:20310309T030000
TZOFFSETFROM:-0400
TZOFFSETTO:-0500
TZNAME:America/New_York EST
END:STANDARD
BEGIN:DAYLIGHT
DTSTART:20220904T090000
RDATE:20221106T010000
TZOFFSETFROM:-0500
TZOFFSETTO:-0400
TZNAME:America/New_York EDT
END:DAYLIGHT
BEGIN:DAYLIGHT
DTSTART:20230312T030000
RDATE:20231105T010000
TZOFFSETFROM:-0500
TZOFFSETTO:-0400
TZNAME:America/New_York EDT
END:DAYLIGHT
BEGIN:DAYLIGHT
DTSTART:20240310T030000
RDATE:20241103T010000
TZOFFSETFROM:-0500
TZOFFSETTO:-0400
TZNAME:America/New_York EDT
END:DAYLIGHT
BEGIN:DAYLIGHT
DTSTART:20250309T030000
RDATE:20251102T010000
TZOFFSETFROM:-0500
TZOFFSETTO:-0400
TZNAME:America/New_York EDT
END:DAYLIGHT
BEGIN:DAYLIGHT
DTSTART:20260308T030000
RDATE:20261101T010000
TZOFFSETFROM:-0500
TZOFFSETTO:-0400
TZNAME:America/New_York EDT
END:DAYLIGHT
BEGIN:DAYLIGHT
DTSTART:20270314T030000
RDATE:20271107T010000
TZOFFSETFROM:-0500
TZOFFSETTO:-0400
TZNAME:America/New_York EDT
END:DAYLIGHT
BEGIN:DAYLIGHT
DTSTART:20280312T030000
RDATE:20281105T010000
TZOFFSETFROM:-0500
TZOFFSETTO:-0400
TZNAME:America/New_York EDT
END:DAYLIGHT
BEGIN:DAYLIGHT
DTSTART:20290311T030000
RDATE:20291104T010000
TZOFFSETFROM:-0500
TZOFFSETTO:-0400
TZNAME:America/New_York EDT
END:DAYLIGHT
BEGIN:DAYLIGHT
DTSTART:20300310T030000
RDATE:20301103T010000
TZOFFSETFROM:-0500
TZOFFSETTO:-0400
TZNAME:America/New_York EDT
END:DAYLIGHT
END:VTIMEZONE
BEGIN:VEVENT
UID:7a62961f06fbb5f96229d128be7baa8f
CATEGORIES:At Syracuse
CREATED:20230811T155907
SUMMARY:BPI Manufactured Housing Professional
LOCATION:NYSWDA Training Center - East Syracuse
DESCRIPTION:\n BPI Manufactured Housing Professional \n
 \n
Training Location:  NYSWDA 
 Training Center (Building 1) - 5869 Fisher Road, East Syracuse, NY 13057\n

  \n
Course Description:\nThis four day course will prepare you to take the 
 BPI Manufactured Housing Specialist Certification written and field tests. 
 As part of this training, BPI standards and work practices will be reviewed
 . Attendees will look at common problem areas during the course of an energ
 y audit and prepare a workscope to remedy these issues. Topics addressed wi
 ll include typical manufactured home construction, heating system basics, d
 istribution system evaluation and repairs, belly repair, air sealing and in
 sulation best practices. Because of the large amount of BPI building analys
 t curriculum incorporated into this training, it is strongly recommended th
 at attendees hold BPI Building Analyst certification and have a good workin
 g knowledge of auditing procedures. After the trainees successfully complet
 e the written portion of the test, we will schedule them for the Field test
 .\n\n\nAgenda \nDay 1: Pre-Test \nMH Overview/ Construction Standards \nBPI
  Standards and Best Work Practices \nMH Tools and Equipment\nHeating and Di
 stribution Systems \n\nDay 2: Overview of Belly Repairs \nOverview of Roof 
 Insulation Installation \nOverview of Sidewall Insulation Installation \nDo
 or &amp; Window Replacement\n\nDay 3: Manufactured Housing Audit Procedures
 \nMH CAZ Testing / Duct Diagnostics\nReview of BPI Standards and Best Work 
 Practices\n\nDay 4: Online MH Test\n\n\nWho Should Attend:\nAuditors/Energy
  Analysts with strong auditing skills\n\n\nDates;\nCourse covers the dates 
 of September 5-8, 2023\n
 \n
Start Time: Tuesday-Friday 9:00am\nEnd Time: T
 uesday-Friday 5:00pm / Friday test starts at 1:00pm with 1 1/2 hours to com
 plete\n\n\nPrerequisites: BPI Building Analyst certification\n\n\nClass Siz
 e: 6\n\n\nBPI CEU: 6\n\n\nInstructors:\nJoe Ilacqua, NYSWDA\n\n\nOther Note
 s:\nFor agencies to comply with HCR staff certification regulations only on
 e Manufactured Housing Specialist is required per agency. See PPM- Subgrant
 ee Staff Certification Requirements for more information. Bring your auditi
 ng bags with meters and appropriate work clothes.\n\n\nCourse Fees; \n$725/
 person - NY Weatherization Sub-grantees \n$725/person - affiliate members \
 n$1,450/person - non-members and private contractors \n
 \n
**Special note 
 - if you wish to become an Affiliate Member, and save off the non-member ra
 te, please contact Karen McMahon (315-701-0440 ext. 223, This email address
  is being protected from spambots. You need JavaScript enabled to view it.

 				document.getElementById('cloakfc926a337311c587c712addc9dd3cb82').innerH
 TML = '';
				var prefix = 'ma' + 'il' + 'to';
				var path = 'hr' + 'ef' +
  '=';
				var addyfc926a337311c587c712addc9dd3cb82 = 'kmcmahon' + '@';
				
 addyfc926a337311c587c712addc9dd3cb82 = addyfc926a337311c587c712addc9dd3cb82
  + 'nyswda' + '.' + 'org';
				var addy_textfc926a337311c587c712addc9dd3cb8
 2 = 'kmcmahon' + '@' + 'nyswda' + '.' + 'org';document.getElementById('cloa
 kfc926a337311c587c712addc9dd3cb82').innerHTML += '<a ' + path + '\'' + pref
 ix + ':' + addyfc926a337311c587c712addc9dd3cb82 + '\'>'+addy_textfc926a3373
 11c587c712addc9dd3cb82+'';
		) BEFORE YOU REGISTER for the course.\n
 \n
NY
 SWDA will not be responsible for hotel costs, travel to and from the traini
 ng, breakfast and dinner meals, or incidentals. Lunches are ARE NOT include
 d.\n\nCourse fees include "Your Mobile Home: Energy and Repair Guide" by Jo
 hn Krigger\n\n(Financial assistance may be available from local NYS Departm
 ent of Labor One-Stop Centers)\n\n\nBPI Fees;\n$220/person - 50-question wr
 itten Manufactured Housing test\n$550/person - Field test\n \n
Click here t
 o register (index.php?option=com_civicrm&amp;task=civicrm/event/register&am
 p;reset=1&amp;id=14242)\n
 \n
X-ALT-DESC;FMTTYPE=text/html:<p><span style="color: #336699;"><strong><span style="font-family: Tahoma;"
 ><span style="font-size: medium;"><span style="color: #336699; font-size: 1
 2pt;"><span><span><br />&nbsp;</span><span style="font-size: 14pt;"><span s
 tyle="color: #000000;"><strong><span style="color: #336699;">BPI Manufactur
 ed Housing Professional </span></strong></span></span></span></span></span>
 </span></strong></span></p><p>&nbsp;</p><p><span style="color: #336699;"><s
 trong><span style="font-family: Tahoma;"><span style="font-size: medium;"><
 span style="color: #336699; font-size: 12pt;"><span><span style="font-size:
  14pt;"><span style="color: #000000;"><strong><span style="color: #336699;"
 >Training Location:&nbsp;&nbsp;NYSWDA Training Center (Building 1)&nbsp;- 5
 869 Fisher Road, East Syracuse, NY 13057</span></strong></span></span></spa
 n></span></span></span></strong></span></p><p>&nbsp;</p><p><span style="col
 or: #336699;"><span style="font-family: Tahoma;"><span style="font-size: me
 dium;"><span style="color: #336699; font-size: 12pt;"><span><span style="fo
 nt-size: 14pt;"><span style="color: #000000;"><span style="color: #336699;"
 ></span></span></span></span></span></span></span><span style="font-family:
  Tahoma;"><span style="font-size: medium;"><span style="color: #000000;"><s
 pan style="font-size: small;"><span style="font-size: 12pt;"><span style="t
 ext-decoration: underline;"><em><span style="font-family: Tahoma;">Course D
 escription:<br /></span></em></span><span style="font-family: Tahoma;">This
  four day course will prepare you to&nbsp;take the BPI Manufactured Housing
  Specialist Certification written and field tests. As part of this training
 , BPI standards and work practices will be reviewed. Attendees will look at
  common problem areas during the course of an energy audit and prepare a wo
 rkscope to remedy these issues. Topics addressed will include typical manuf
 actured home construction, heating system basics, distribution system evalu
 ation and repairs, belly repair, air sealing and insulation best practices.
  Because of the large amount of BPI building analyst curriculum incorporate
 d into this training, it is strongly recommended that attendees hold BPI Bu
 ilding Analyst certification and have a good working knowledge of auditing 
 procedures. A<span style="font-family: Tahoma;">fter the trainees successfu
 lly complete the written portion of the test, we will schedule them for the
  Field test.<span style="color: #000000;"><span style="font-family: Tahoma;
 "><br /><span style="text-decoration: underline;"><em><br /><br />Agenda</e
 m><span style="font-family: Arial, Helvetica;"> <br /></span></span><span s
 tyle="font-family: Arial, Helvetica;"><span style="color: #000000;"><span s
 tyle="font-family: Times;"><strong><span style="font-family: Tahoma;">Day 1
 : Pre-Test </span></strong><span style="font-family: Tahoma;"><br />MH Over
 view/ Construction Standards <br />BPI Standards and Best Work Practices <b
 r />MH Tools and Equipment<br />Heating and Distribution Systems <br /><br 
 /><strong>Day 2: Overview of Belly Repairs </strong><br />Overview of Roof 
 Insulation Installation <br />Overview of Sidewall Insulation Installation 
 <br />Door &amp; Window Replacement<br /><br /><strong>Day 3: Manufactured 
 Housing Audit Procedures</strong><br />MH CAZ Testing / Duct Diagnostics<br
  />Review of BPI Standards and Best Work Practices<span style="color: #0000
 00;"><br /><br /><span style="color: #000000;"><strong>Day 4: Online MH Tes
 t<span style="text-decoration: underline;"></span></strong><span style="tex
 t-decoration: underline;"><em><br /><br /><br />Who Should Attend:<br /></e
 m></span><em><span style="font-family: Tahoma;"></span></em><span style="fo
 nt-family: Tahoma;"><span style="font-family: Tahoma;">Auditors/Energy Anal
 ysts with strong auditing skills<span style="font-family: Tahoma;"><br /><b
 r /><br /><span style="text-decoration: underline;"><em><span style="font-f
 amily: Tahoma;">Dates;<br /></span></em></span><em><span style="font-family
 : Tahoma;"><span style="font-family: Tahoma;"></span></span></em><span styl
 e="font-family: Tahoma;"><span style="font-family: Tahoma;">Course covers t
 he dates of&nbsp;September 5-8, 2023</span></span></span></span></span></sp
 an></span></span></span></span></span></span></span></span></span></span></
 span></span></span></span></span></p><p><span style="color: #336699;"><span
  style="font-family: Tahoma;"><span style="font-size: medium;"><span style=
 "color: #000000;"><span style="font-size: small;"><span style="font-size: 1
 2pt;"><span style="font-family: Tahoma;"><span style="font-family: Tahoma;"
 ><span style="color: #000000;"><span style="font-family: Tahoma;"><span sty
 le="font-family: Arial, Helvetica;"><span style="color: #000000;"><span sty
 le="font-family: Times;"><span style="font-family: Tahoma;"><span style="co
 lor: #000000;"><span style="color: #000000;"><span style="font-family: Taho
 ma;"><span style="font-family: Tahoma;"><span style="font-family: Tahoma;">
 <span style="font-family: Tahoma;"><span style="font-family: Tahoma;"></spa
 n></span></span></span></span></span></span></span></span></span></span></s
 pan></span></span></span></span></span></span></span></span></span>&nbsp;</
 p><p><span style="color: #336699;"><span style="font-family: Tahoma;"><span
  style="font-size: medium;"><span style="color: #000000;"><span style="font
 -size: small;"><span style="font-size: 12pt;"><span style="font-family: Tah
 oma;"><span style="font-family: Tahoma;"><span style="color: #000000;"><spa
 n style="font-family: Tahoma;"><span style="font-family: Arial, Helvetica;"
 ><span style="color: #000000;"><span style="font-family: Times;"><span styl
 e="font-family: Tahoma;"><span style="color: #000000;"><span style="color: 
 #000000;"><span style="font-family: Tahoma;"><span style="font-family: Taho
 ma;"><span style="font-family: Tahoma;"><span style="font-family: Tahoma;">
 <span style="font-family: Tahoma;">Start Time: Tuesday-Friday 9:00am<br />E
 nd Time: Tuesday-Friday 5:00pm / Friday test starts at 1:00pm with&nbsp;1 1
 /2&nbsp;hours to complete<br /><br /><br /><span style="text-decoration: un
 derline;"><em><span style="font-family: Tahoma;">Prerequisites:</span></em>
 </span><em><span style="font-family: Tahoma;"> </span></em><span style="fon
 t-family: Tahoma;"><span style="font-family: Tahoma;">BPI Building Analyst 
 certification<em><span style="font-family: Tahoma;"><br /></span></em><span
  style="font-family: Tahoma;"><span style="font-family: Tahoma;"><br /><br 
 /><span style="text-decoration: underline;"><em>Class Size</em></span>: 6<b
 r /><br /><br /><span style="text-decoration: underline;"><em>BPI CEU</em>:
 </span> 6<br /><br /><br /><span style="text-decoration: underline;"><em><s
 pan style="font-family: Tahoma;">Instructors:<br /></span></em></span><span
  style="font-family: Tahoma;">Joe Ilacqua, NYSWDA<span style="font-family: 
 Tahoma;"><br /><br /><br /><span style="text-decoration: underline;"><em><s
 pan style="font-family: Tahoma;">Other Notes:<br /></span></em></span><span
  style="font-family: Tahoma;">For agencies to comply with HCR staff certifi
 cation regulations only <span style="text-decoration: underline;">one</span
 > Manufactured Housing Specialist is required per agency. See PPM- Subgrant
 ee Staff Certification Requirements for more information. Bring your auditi
 ng bags with meters and appropriate work clothes.<span style="font-family: 
 Times;"><br /><span style="font-family: Tahoma;"><br /><br /><span style="t
 ext-decoration: underline;"><em><span style="font-family: Tahoma;">Course F
 ees;&nbsp;</span></em><span style="font-family: Tahoma;"></span><span style
 ="font-family: Tahoma;"></span></span><span style="font-family: Tahoma;"><s
 pan style="color: #ff6600;"></span></span><span style="font-family: Tahoma;
 "><br /></span><span style="font-family: Tahoma;"><span style="font-family:
  Tahoma;">$725/person - NY Weatherization Sub-grantees&nbsp;<br />$725/pers
 on - affiliate members&nbsp;<br />$1,450/person - non-members and private c
 ontractors&nbsp;</span></span></span></span></span></span></span></span></s
 pan></span></span></span></span></span></span></span></span></span></span><
 /span></span></span></span></span></span></span></span></span></span></span
 ></span></span></p><p>&nbsp;</p><p style="margin-top: 0in; margin-right: 0i
 n; margin-bottom: 0pt;"><strong><i><span style="background: white; color: #
 02613f; font-family: 'Georgia','serif';"><span style="font-size: small;">**
 Special note</span></span></i></strong><strong><i><span style="background: 
 white; color: black; font-family: 'Georgia','serif';"><span style="font-siz
 e: small;">&nbsp;-&nbsp;if you wish to become an Affiliate Member, and&nbsp
 ;save off the non-member rate, please contact&nbsp;Karen McMahon (315-701-0
 440 ext. 223,&nbsp;</span><span id="cloakfc926a337311c587c712addc9dd3cb82">
 This email address is being protected from spambots. You need JavaScript en
 abled to view it.</span><script type='text/javascript'>
				document.getEle
 mentById('cloakfc926a337311c587c712addc9dd3cb82').innerHTML = '';
				var p
 refix = 'ma' + 'il' + 'to';
				var path = 'hr' + 'ef' + '=';
				var addyf
 c926a337311c587c712addc9dd3cb82 = 'kmcmahon' + '@';
				addyfc926a337311c58
 7c712addc9dd3cb82 = addyfc926a337311c587c712addc9dd3cb82 + 'nyswda' + '.' +
  'org';
				var addy_textfc926a337311c587c712addc9dd3cb82 = '<span style="c
 olor: #0000ff; font-size: small;">kmcmahon' + '@' + 'nyswda' + '.' + 'org</
 span>';document.getElementById('cloakfc926a337311c587c712addc9dd3cb82').inn
 erHTML += '<a ' + path + '\'' + prefix + ':' + addyfc926a337311c587c712addc
 9dd3cb82 + '\'>'+addy_textfc926a337311c587c712addc9dd3cb82+'<\/a>';
		</scr
 ipt><span style="font-size: small;">)&nbsp;</span></span></i></strong><span
  style="font-size: small;"><strong><span style="background: white; color: #
 02613f; font-family: 'Georgia','serif';">BEFORE YOU REGISTER&nbsp;</span></
 strong><em><b><span style="background: white; color: black; font-family: 'G
 eorgia','serif';">for the course</span></b></em><strong><span style="backgr
 ound: white; color: black; font-family: 'Georgia','serif';">.</span></stron
 g></span></p><p>&nbsp;</p><p><span style="color: #336699;"><span style="fon
 t-family: Tahoma;"><span style="font-size: medium;"><span style="color: #00
 0000;"><span style="font-size: small;"><span style="font-size: 12pt;"><span
  style="font-family: Tahoma;"><span style="font-family: Tahoma;"><span styl
 e="color: #000000;"><span style="font-family: Tahoma;"><span style="font-fa
 mily: Arial, Helvetica;"><span style="color: #000000;"><span style="font-fa
 mily: Times;"><span style="font-family: Tahoma;"><span style="color: #00000
 0;"><span style="color: #000000;"><span style="font-family: Tahoma;"><span 
 style="font-family: Tahoma;"><span style="font-family: Tahoma;"><span style
 ="font-family: Tahoma;"><span style="font-family: Tahoma;"><span style="fon
 t-family: Tahoma;"><span style="font-family: Tahoma;"><span style="font-fam
 ily: Tahoma;"><span style="font-family: Tahoma;"><span style="font-family: 
 Tahoma;"><span style="font-family: Tahoma;"><span style="font-family: Tahom
 a;"><span style="font-family: Times;"><span style="font-family: Tahoma;"><s
 pan style="font-family: Tahoma;"><span style="font-family: Tahoma;"><span s
 tyle="font-family: Times New Roman; font-size: small;"></span><span style="
 font-family: Tahoma;">NYSWDA will not be responsible for hotel costs, trave
 l to and from the training, breakfast and dinner meals, or incidentals. Lun
 ches are ARE NOT included.<br /><br />Course fees include<span style="font-
 family: Times;"> <span style="font-family: Tahoma;">"Your Mobile Home: Ener
 gy and Repair Guide" by John Krigger<br /><br /><em>(Financial assistance m
 ay be available from local NYS Department of Labor One-Stop Centers)</em><s
 pan style="font-family: Times;"><br /><span style="font-family: Tahoma;"><b
 r /><br /><span style="text-decoration: underline;"><em>BPI Fees;<br /></em
 ></span><span style="font-family: Tahoma;">$220/person - 50-question writte
 n Manufactured Housing test<br />$550/person - Field test<br /><span style=
 "color: #000000;"><strong>&nbsp;</strong></span></span></span></span></span
 ></span></span></span></span></span></span></span></span></span></span></sp
 an></span></span></span></span></span></span></span></span></span></span></
 span></span></span></span></span></span></span></span></span></span></span>
 </span></span></p><p><em><strong><span style="color: #0000ff; font-family: 
 tahoma,arial,helvetica,sans-serif; font-size: 14pt;"><a href="https://www.n
 yswda.org/index.php?option=com_civicrm&amp;task=civicrm/event/register&amp;
 reset=1&amp;id=14242" style="color: #0000ff;">Click here to register</a></s
 pan></strong></em></p><p>&nbsp;</p>
CONTACT:This email address is being protected from spambots. You need JavaScript enabled to view it.
				document.getElementById('cloakb498f323729083117edf018b7a76ce5d').innerHTML = '';
				var prefix = '&#109;a' + 'i&#108;' + '&#116;o';
				var path = 'hr' + 'ef' + '=';
				var addyb498f323729083117edf018b7a76ce5d = 'rv&#105;ss&#101;r' + '&#64;';
				addyb498f323729083117edf018b7a76ce5d = addyb498f323729083117edf018b7a76ce5d + 'nyswd&#97;' + '&#46;' + '&#111;rg';
				var addy_textb498f323729083117edf018b7a76ce5d = 'rv&#105;ss&#101;r' + '&#64;' + 'nyswd&#97;' + '&#46;' + '&#111;rg';document.getElementById('cloakb498f323729083117edf018b7a76ce5d').innerHTML += '<a ' + path + '\'' + prefix + ':' + addyb498f323729083117edf018b7a76ce5d + '\'>'+addy_textb498f323729083117edf018b7a76ce5d+'';
		
DTSTAMP:20260424T161901
DTSTART;TZID=America/New_York:20230905T090000
DTEND;TZID=America/New_York:20230908T163000
SEQUENCE:0
TRANSP:OPAQUE
END:VEVENT
END:VCALENDAR