BEGIN:VCALENDAR
VERSION:2.0
PRODID:-//jEvents 2.0 for Joomla//EN
CALSCALE:GREGORIAN
METHOD:PUBLISH
BEGIN:VTIMEZONE
TZID:America/New_York
BEGIN:STANDARD
DTSTART:20221106T010000
RDATE:20230312T030000
TZOFFSETFROM:-0400
TZOFFSETTO:-0500
TZNAME:America/New_York EST
END:STANDARD
BEGIN:STANDARD
DTSTART:20231105T010000
RDATE:20240310T030000
TZOFFSETFROM:-0400
TZOFFSETTO:-0500
TZNAME:America/New_York EST
END:STANDARD
BEGIN:STANDARD
DTSTART:20241103T010000
RDATE:20250309T030000
TZOFFSETFROM:-0400
TZOFFSETTO:-0500
TZNAME:America/New_York EST
END:STANDARD
BEGIN:STANDARD
DTSTART:20251102T010000
RDATE:20260308T030000
TZOFFSETFROM:-0400
TZOFFSETTO:-0500
TZNAME:America/New_York EST
END:STANDARD
BEGIN:STANDARD
DTSTART:20261101T010000
RDATE:20270314T030000
TZOFFSETFROM:-0400
TZOFFSETTO:-0500
TZNAME:America/New_York EST
END:STANDARD
BEGIN:STANDARD
DTSTART:20271107T010000
RDATE:20280312T030000
TZOFFSETFROM:-0400
TZOFFSETTO:-0500
TZNAME:America/New_York EST
END:STANDARD
BEGIN:STANDARD
DTSTART:20281105T010000
RDATE:20290311T030000
TZOFFSETFROM:-0400
TZOFFSETTO:-0500
TZNAME:America/New_York EST
END:STANDARD
BEGIN:STANDARD
DTSTART:20291104T010000
RDATE:20300310T030000
TZOFFSETFROM:-0400
TZOFFSETTO:-0500
TZNAME:America/New_York EST
END:STANDARD
BEGIN:STANDARD
DTSTART:20301103T010000
RDATE:20310309T030000
TZOFFSETFROM:-0400
TZOFFSETTO:-0500
TZNAME:America/New_York EST
END:STANDARD
BEGIN:DAYLIGHT
DTSTART:20221002T090000
RDATE:20221106T010000
TZOFFSETFROM:-0500
TZOFFSETTO:-0400
TZNAME:America/New_York EDT
END:DAYLIGHT
BEGIN:DAYLIGHT
DTSTART:20230312T030000
RDATE:20231105T010000
TZOFFSETFROM:-0500
TZOFFSETTO:-0400
TZNAME:America/New_York EDT
END:DAYLIGHT
BEGIN:DAYLIGHT
DTSTART:20240310T030000
RDATE:20241103T010000
TZOFFSETFROM:-0500
TZOFFSETTO:-0400
TZNAME:America/New_York EDT
END:DAYLIGHT
BEGIN:DAYLIGHT
DTSTART:20250309T030000
RDATE:20251102T010000
TZOFFSETFROM:-0500
TZOFFSETTO:-0400
TZNAME:America/New_York EDT
END:DAYLIGHT
BEGIN:DAYLIGHT
DTSTART:20260308T030000
RDATE:20261101T010000
TZOFFSETFROM:-0500
TZOFFSETTO:-0400
TZNAME:America/New_York EDT
END:DAYLIGHT
BEGIN:DAYLIGHT
DTSTART:20270314T030000
RDATE:20271107T010000
TZOFFSETFROM:-0500
TZOFFSETTO:-0400
TZNAME:America/New_York EDT
END:DAYLIGHT
BEGIN:DAYLIGHT
DTSTART:20280312T030000
RDATE:20281105T010000
TZOFFSETFROM:-0500
TZOFFSETTO:-0400
TZNAME:America/New_York EDT
END:DAYLIGHT
BEGIN:DAYLIGHT
DTSTART:20290311T030000
RDATE:20291104T010000
TZOFFSETFROM:-0500
TZOFFSETTO:-0400
TZNAME:America/New_York EDT
END:DAYLIGHT
BEGIN:DAYLIGHT
DTSTART:20300310T030000
RDATE:20301103T010000
TZOFFSETFROM:-0500
TZOFFSETTO:-0400
TZNAME:America/New_York EDT
END:DAYLIGHT
END:VTIMEZONE
BEGIN:VEVENT
UID:d9bdc6c582030f757a05a39513c052a4
CATEGORIES:WEB
CREATED:20230822T161125
SUMMARY:NYS Manufactured Housing Mechanics Continuing Education - Online
LOCATION:NYSWDA Training Center - East Syracuse
DESCRIPTION:<p>&nbsp;</p><p><span style="color: #336699; font-size: 12pt;"><span><span>
 &nbsp;</span><span style="font-family: tahoma,arial,helvetica,sans-serif; f
 ont-size: 14pt;"><span style="color: #000000;"><strong><span style="color: 
 #336699;">NYS Manufactured Housing Mechanics Continuing Education - Online<
 /span></strong></span></span></span></span></p><p>&nbsp;</p><p><span style=
 "color: #336699; font-size: 12pt;"><span><span style="font-family: tahoma,a
 rial,helvetica,sans-serif; font-size: 14pt;"><span style="color: #000000;">
 <strong><span style="color: #336699;"><span style="color: #336699;">GoToWeb
 inar Event</span><span></span><span></span><span></span><span style="color:
  #000000;"></span><span></span><span></span><span style="color: #336699; fo
 nt-family: tahoma,arial,helvetica,sans-serif; font-size: 14pt;"></span><spa
 n></span><span style="font-family: Tahoma;"></span><span style="font-family
 : Tahoma;"></span><span style="color: #000000;"></span><span style="font-si
 ze: small;"></span><span style="font-family: Tahoma;"></span><span style="c
 olor: #000000;"></span><span style="font-size: x-small;"></span><span style
 ="font-family: Arial, Helvetica;"></span><span style="font-size: small;"></
 span><span style="font-family: Tahoma;"></span><span style="font-size: x-sm
 all;"></span><span style="font-family: Arial, Helvetica;"></span><span styl
 e="font-size: small;"></span><span style="font-family: Tahoma;"></span><spa
 n style="font-size: x-small;"></span><span style="font-family: Arial, Helve
 tica;"></span><span style="font-size: small;"></span><span style="font-fami
 ly: Tahoma;"></span><span style="font-size: x-small;"></span><span style="f
 ont-family: Arial, Helvetica;"></span><span style="font-family: Tahoma;"></
 span><span style="font-family: Tahoma;"></span><span style="font-size: smal
 l;"></span><span style="font-family: Tahoma;"></span><span style="font-size
 : x-small;"></span><span style="font-family: Arial, Helvetica;"></span><spa
 n style="font-family: Tahoma;"></span><span style="font-family: Tahoma;"></
 span><span style="font-family: Tahoma;"></span><span style="font-size: smal
 l;"></span><span style="font-family: Tahoma;"></span><span style="font-size
 : x-small;"></span><span style="font-family: Arial, Helvetica;"></span><spa
 n style="color: #000000;"></span><span style="font-size: medium;"></span><s
 pan style="font-family: Tahoma;"></span><span style="color: #336699;"></spa
 n></span></strong></span></span></span></span><span style="color: #336699; 
 font-size: 12pt;"><span><span><span style="color: #000000;"><span><br /><sp
 an style="text-decoration: underline;"><span style="font-family: Tahoma;"><
 em></em></span></span></span></span></span></span></span></p><p><span style
 ="color: #336699; font-size: 12pt;"><span><span><span style="color: #000000
 ;"><span><span style="text-decoration: underline;"><span style="font-family
 : Tahoma;"><em>This training is for:</em></span></span><span style="font-fa
 mily: Tahoma;"><span style="font-family: Tahoma;"><br /></span></span><span
  style="font-family: Tahoma;"><span style="font-family: Tahoma;"><span styl
 e="font-family: Tahoma;">ONLY those who have taken the NYS MH Mechanics Cer
 tification training and also hold a Limited Certification.<span style="font
 -family: Tahoma;"><br /><br /><span style="text-decoration: underline;"><em
 ><span style="font-family: Tahoma;">Course Description:</span></em></span><
 em><span style="font-family: Tahoma;"><span style="font-family: Tahoma;"><b
 r /></span></span></em><span style="font-family: Tahoma;"><span style="font
 -family: Tahoma;"><span style="font-family: Tahoma;">This 3 hour training i
 s for those who have already certified and hold a Limited Certification for
  the NYS Manufactured Housing Mechanics Certification. <br /><br />Mechanic
 s certification is valid for 2 years - and the renewal process required by 
 the Dept. of State is to complete their continuing education and the renewa
 l application process prior to expiration of their certificates. <br /><br 
 />If your business or agency conducts structural repairs on mobile homes or
  manufactured housing to stay in compliance with NY State Code Enforcement 
 requirements, you will need at least one staff member with this certificati
 on. <br /><br />Structural repairs include replacement of door/window frami
 ng, replacement of subfloor plywood, or replacement of interior wall and ce
 iling panels. This staff member must be on-site during these repairs. Indiv
 idual certification is valid for two years. <br /><br /><span style="text-d
 ecoration: underline;"><em>Dates;<br /></em></span><span style="font-family
 : Tahoma;">October 3, 2023 / 9:00am - 12:00pm<br /><br /><span style="text-
 decoration: underline;"><em><span style="font-family: Tahoma;">Prerequisite
 s:</span></em></span><em><span style="font-family: Tahoma;"> <br /></span><
 /em><span style="font-family: Tahoma;">Must have completed the initial NYS 
 MH Mechanics Certification training and also hold a Limited Certification.<
 br /><span style="font-family: Tahoma;"><em><br /><span style="text-decorat
 ion: underline;">Class Size</span></em>: 16<br /><br /><span style="text-de
 coration: underline;"><em>BPI CEU</em>:</span> 1.5<br /><br /><span style="
 text-decoration: underline;"><em><span style="font-family: Tahoma;">Instruc
 tors:</span></em></span><em><span style="font-family: Tahoma;"> </span></em
 ><span style="font-family: Tahoma;">Joel Harper - MHC Consultants LLC</span
 ></span></span></span></span></span></span></span></span></span></span></sp
 an></span></span></span></span></p><p><span style="color: #336699; font-siz
 e: 12pt;"><span><span><span style="color: #000000;"><span><span style="font
 -family: Tahoma;"><span style="font-family: Tahoma;"><span style="font-fami
 ly: Tahoma;"><span style="font-family: Tahoma;"><span style="font-family: T
 ahoma;"><span style="font-family: Tahoma;"><span style="font-family: Tahoma
 ;"><span style="font-family: Tahoma;"><span style="font-family: Tahoma;"><s
 pan style="font-family: Tahoma;"><span style="font-family: Tahoma;"><br /><
 span style="color: #336699; font-size: 12pt;"><span><span><span style="colo
 r: #000000;"><span><span style="font-family: Tahoma;"><span style="font-fam
 ily: Tahoma;"><span style="font-family: Tahoma;"><span style="font-family: 
 Tahoma;"><span style="font-family: Tahoma;"><span style="font-family: Tahom
 a;"><span style="font-family: Tahoma;"><span style="font-family: Tahoma;"><
 span style="font-family: Tahoma;"><span style="font-family: Tahoma;"><span 
 style="font-family: Tahoma;"><span style="text-decoration: underline;"><em>
 Course Fees: </em></span><span style="text-decoration: underline;"><em><br 
 /></em></span><span style="font-family: Tahoma;">$151/person - NY Weatheriz
 ation Sub-grantees<br /></span></span></span></span></span></span></span></
 span></span></span></span></span></span></span></span></span></span></span>
 </span></span></span></span></span></span></span></span></span></span></spa
 n></span></span></span></span><span style="color: #336699; font-size: 12pt;
 "><span style="color: #000000;"><span style="font-family: Tahoma;"><span><s
 pan><span><span><span><span><span><span><span><span><span style="color: #33
 6699; font-size: 12pt;"><span style="color: #000000;"><span><span><span><sp
 an><span><span><span><span><span><span><span><span>$151/person - affiliate 
 members<br /></span></span></span></span></span></span></span></span></span
 ></span></span></span></span></span></span></span></span></span></span></sp
 an></span></span></span></span></span></span></span><span style="color: #33
 6699; font-size: 12pt;"><span style="color: #000000;"><span style="font-fam
 ily: Tahoma;"><span><span><span><span><span><span><span><span><span><span><
 span style="color: #336699; font-size: 12pt;"><span style="color: #000000;"
 ><span><span><span><span><span><span><span><span><span><span><span><span>$2
 20/person - non-members</span><em><span></span></em></span></span></span></
 span></span></span></span></span></span></span></span></span></span></span>
 </span></span></span></span></span></span></span></span></span></span></spa
 n></span></p><p>&nbsp;</p><p><span style="color: #336699; font-size: 12pt;"
 ><span><span><span style="color: #000000;"><span><span style="font-family: 
 Tahoma;"><span style="font-family: Tahoma;"><span style="font-family: Tahom
 a;"><span style="font-family: Tahoma;"><span style="font-family: Tahoma;"><
 span style="font-family: Tahoma;"><span style="font-family: Tahoma;"><span 
 style="font-family: Tahoma;"><span style="font-family: Tahoma;"><span style
 ="font-family: Tahoma;"><span style="font-family: Tahoma;"><em><strong><spa
 n style="background: white; color: #02613f; font-family: 'Georgia','serif';
 "><span style="font-size: small;">**Special note</span></span></strong></em
 ><span style="background: white; color: black; font-family: 'Georgia','seri
 f';"><span style="font-size: small;"><i><strong>&nbsp;-&nbsp;if you wish to
  become an Affiliate Member, and&nbsp;save&nbsp;off the non-member rate, pl
 ease contact Karen McMahon (315-701-0440 ext. 223,&nbsp;</strong></i></span
 ><i><strong><span id="cloak855696c86695d4dae5c20d0618b4a407">This email add
 ress is being protected from spambots. You need JavaScript enabled to view 
 it.</span><script type='text/javascript'>
				document.getElementById('cloa
 k855696c86695d4dae5c20d0618b4a407').innerHTML = '';
				var prefix = 'ma' +
  'il' + 'to';
				var path = 'hr' + 'ef' + '=';
				var addy855696c86695d4d
 ae5c20d0618b4a407 = 'kmcmahon' + '@';
				addy855696c86695d4dae5c20d0618b4a
 407 = addy855696c86695d4dae5c20d0618b4a407 + 'nyswda' + '.' + 'org';
				va
 r addy_text855696c86695d4dae5c20d0618b4a407 = '<span style="color: #0000ff;
  font-size: small;">kmcmahon' + '@' + 'nyswda' + '.' + 'org</span>';documen
 t.getElementById('cloak855696c86695d4dae5c20d0618b4a407').innerHTML += '<a 
 ' + path + '\'' + prefix + ':' + addy855696c86695d4dae5c20d0618b4a407 + '\'
 >'+addy_text855696c86695d4dae5c20d0618b4a407+'<\/a>';
		</script><span styl
 e="font-size: small;">)&nbsp;</span></strong></i></span><i></i><span style=
 "font-size: small;"><strong><span style="background: white; color: #02613f;
  font-family: 'Georgia','serif';">BEFORE YOU REGISTER&nbsp;</span></strong>
 <em><b><span style="background: white; color: black; font-family: 'Georgia'
 ,'serif';">for the course</span></b></em><strong><span style="background: w
 hite; color: black; font-family: 'Georgia','serif';">.</span></strong></spa
 n></span></span></span></span></span></span></span></span></span></span></s
 pan></span></span></span></span></span></p><p>&nbsp;</p><p><a href="index.p
 hp?option=com_civicrm&amp;task=civicrm/event/register&amp;reset=1&amp;id=14
 246">&nbsp;<span style="color: #336699; font-size: 12pt;"><span><span><span
  style="color: #000000;"><span><span style="font-family: Tahoma;"><span sty
 le="font-family: Tahoma;"><span style="font-family: Tahoma;"><span style="f
 ont-family: Tahoma;"><span style="font-family: Tahoma;"><span style="font-f
 amily: Tahoma;"><span style="font-family: Tahoma;"><span style="font-family
 : Tahoma;"><span style="font-family: Tahoma;"><span style="font-family: Tah
 oma;"><span style="font-family: Tahoma;"><span style="color: #0000ff; font-
 size: 14pt;"><em><strong>Click here to register</strong></em></span></span>
 </span></span></span></span></span></span></span></span></span></span></spa
 n></span></span></span></span></a></p>
X-ALT-DESC;FMTTYPE=text/html:<p>&nbsp;</p><p><span style="color: #336699; font-size: 12pt;"><span><span>
 &nbsp;</span><span style="font-family: tahoma,arial,helvetica,sans-serif; f
 ont-size: 14pt;"><span style="color: #000000;"><strong><span style="color: 
 #336699;">NYS Manufactured Housing Mechanics Continuing Education - Online<
 /span></strong></span></span></span></span></p><p>&nbsp;</p><p><span style=
 "color: #336699; font-size: 12pt;"><span><span style="font-family: tahoma,a
 rial,helvetica,sans-serif; font-size: 14pt;"><span style="color: #000000;">
 <strong><span style="color: #336699;"><span style="color: #336699;">GoToWeb
 inar Event</span><span></span><span></span><span></span><span style="color:
  #000000;"></span><span></span><span></span><span style="color: #336699; fo
 nt-family: tahoma,arial,helvetica,sans-serif; font-size: 14pt;"></span><spa
 n></span><span style="font-family: Tahoma;"></span><span style="font-family
 : Tahoma;"></span><span style="color: #000000;"></span><span style="font-si
 ze: small;"></span><span style="font-family: Tahoma;"></span><span style="c
 olor: #000000;"></span><span style="font-size: x-small;"></span><span style
 ="font-family: Arial, Helvetica;"></span><span style="font-size: small;"></
 span><span style="font-family: Tahoma;"></span><span style="font-size: x-sm
 all;"></span><span style="font-family: Arial, Helvetica;"></span><span styl
 e="font-size: small;"></span><span style="font-family: Tahoma;"></span><spa
 n style="font-size: x-small;"></span><span style="font-family: Arial, Helve
 tica;"></span><span style="font-size: small;"></span><span style="font-fami
 ly: Tahoma;"></span><span style="font-size: x-small;"></span><span style="f
 ont-family: Arial, Helvetica;"></span><span style="font-family: Tahoma;"></
 span><span style="font-family: Tahoma;"></span><span style="font-size: smal
 l;"></span><span style="font-family: Tahoma;"></span><span style="font-size
 : x-small;"></span><span style="font-family: Arial, Helvetica;"></span><spa
 n style="font-family: Tahoma;"></span><span style="font-family: Tahoma;"></
 span><span style="font-family: Tahoma;"></span><span style="font-size: smal
 l;"></span><span style="font-family: Tahoma;"></span><span style="font-size
 : x-small;"></span><span style="font-family: Arial, Helvetica;"></span><spa
 n style="color: #000000;"></span><span style="font-size: medium;"></span><s
 pan style="font-family: Tahoma;"></span><span style="color: #336699;"></spa
 n></span></strong></span></span></span></span><span style="color: #336699; 
 font-size: 12pt;"><span><span><span style="color: #000000;"><span><br /><sp
 an style="text-decoration: underline;"><span style="font-family: Tahoma;"><
 em></em></span></span></span></span></span></span></span></p><p><span style
 ="color: #336699; font-size: 12pt;"><span><span><span style="color: #000000
 ;"><span><span style="text-decoration: underline;"><span style="font-family
 : Tahoma;"><em>This training is for:</em></span></span><span style="font-fa
 mily: Tahoma;"><span style="font-family: Tahoma;"><br /></span></span><span
  style="font-family: Tahoma;"><span style="font-family: Tahoma;"><span styl
 e="font-family: Tahoma;">ONLY those who have taken the NYS MH Mechanics Cer
 tification training and also hold a Limited Certification.<span style="font
 -family: Tahoma;"><br /><br /><span style="text-decoration: underline;"><em
 ><span style="font-family: Tahoma;">Course Description:</span></em></span><
 em><span style="font-family: Tahoma;"><span style="font-family: Tahoma;"><b
 r /></span></span></em><span style="font-family: Tahoma;"><span style="font
 -family: Tahoma;"><span style="font-family: Tahoma;">This 3 hour training i
 s for those who have already certified and hold a Limited Certification for
  the NYS Manufactured Housing Mechanics Certification. <br /><br />Mechanic
 s certification is valid for 2 years - and the renewal process required by 
 the Dept. of State is to complete their continuing education and the renewa
 l application process prior to expiration of their certificates. <br /><br 
 />If your business or agency conducts structural repairs on mobile homes or
  manufactured housing to stay in compliance with NY State Code Enforcement 
 requirements, you will need at least one staff member with this certificati
 on. <br /><br />Structural repairs include replacement of door/window frami
 ng, replacement of subfloor plywood, or replacement of interior wall and ce
 iling panels. This staff member must be on-site during these repairs. Indiv
 idual certification is valid for two years. <br /><br /><span style="text-d
 ecoration: underline;"><em>Dates;<br /></em></span><span style="font-family
 : Tahoma;">October 3, 2023 / 9:00am - 12:00pm<br /><br /><span style="text-
 decoration: underline;"><em><span style="font-family: Tahoma;">Prerequisite
 s:</span></em></span><em><span style="font-family: Tahoma;"> <br /></span><
 /em><span style="font-family: Tahoma;">Must have completed the initial NYS 
 MH Mechanics Certification training and also hold a Limited Certification.<
 br /><span style="font-family: Tahoma;"><em><br /><span style="text-decorat
 ion: underline;">Class Size</span></em>: 16<br /><br /><span style="text-de
 coration: underline;"><em>BPI CEU</em>:</span> 1.5<br /><br /><span style="
 text-decoration: underline;"><em><span style="font-family: Tahoma;">Instruc
 tors:</span></em></span><em><span style="font-family: Tahoma;"> </span></em
 ><span style="font-family: Tahoma;">Joel Harper - MHC Consultants LLC</span
 ></span></span></span></span></span></span></span></span></span></span></sp
 an></span></span></span></span></p><p><span style="color: #336699; font-siz
 e: 12pt;"><span><span><span style="color: #000000;"><span><span style="font
 -family: Tahoma;"><span style="font-family: Tahoma;"><span style="font-fami
 ly: Tahoma;"><span style="font-family: Tahoma;"><span style="font-family: T
 ahoma;"><span style="font-family: Tahoma;"><span style="font-family: Tahoma
 ;"><span style="font-family: Tahoma;"><span style="font-family: Tahoma;"><s
 pan style="font-family: Tahoma;"><span style="font-family: Tahoma;"><br /><
 span style="color: #336699; font-size: 12pt;"><span><span><span style="colo
 r: #000000;"><span><span style="font-family: Tahoma;"><span style="font-fam
 ily: Tahoma;"><span style="font-family: Tahoma;"><span style="font-family: 
 Tahoma;"><span style="font-family: Tahoma;"><span style="font-family: Tahom
 a;"><span style="font-family: Tahoma;"><span style="font-family: Tahoma;"><
 span style="font-family: Tahoma;"><span style="font-family: Tahoma;"><span 
 style="font-family: Tahoma;"><span style="text-decoration: underline;"><em>
 Course Fees: </em></span><span style="text-decoration: underline;"><em><br 
 /></em></span><span style="font-family: Tahoma;">$151/person - NY Weatheriz
 ation Sub-grantees<br /></span></span></span></span></span></span></span></
 span></span></span></span></span></span></span></span></span></span></span>
 </span></span></span></span></span></span></span></span></span></span></spa
 n></span></span></span></span><span style="color: #336699; font-size: 12pt;
 "><span style="color: #000000;"><span style="font-family: Tahoma;"><span><s
 pan><span><span><span><span><span><span><span><span><span style="color: #33
 6699; font-size: 12pt;"><span style="color: #000000;"><span><span><span><sp
 an><span><span><span><span><span><span><span><span>$151/person - affiliate 
 members<br /></span></span></span></span></span></span></span></span></span
 ></span></span></span></span></span></span></span></span></span></span></sp
 an></span></span></span></span></span></span></span><span style="color: #33
 6699; font-size: 12pt;"><span style="color: #000000;"><span style="font-fam
 ily: Tahoma;"><span><span><span><span><span><span><span><span><span><span><
 span style="color: #336699; font-size: 12pt;"><span style="color: #000000;"
 ><span><span><span><span><span><span><span><span><span><span><span><span>$2
 20/person - non-members</span><em><span></span></em></span></span></span></
 span></span></span></span></span></span></span></span></span></span></span>
 </span></span></span></span></span></span></span></span></span></span></spa
 n></span></p><p>&nbsp;</p><p><span style="color: #336699; font-size: 12pt;"
 ><span><span><span style="color: #000000;"><span><span style="font-family: 
 Tahoma;"><span style="font-family: Tahoma;"><span style="font-family: Tahom
 a;"><span style="font-family: Tahoma;"><span style="font-family: Tahoma;"><
 span style="font-family: Tahoma;"><span style="font-family: Tahoma;"><span 
 style="font-family: Tahoma;"><span style="font-family: Tahoma;"><span style
 ="font-family: Tahoma;"><span style="font-family: Tahoma;"><em><strong><spa
 n style="background: white; color: #02613f; font-family: 'Georgia','serif';
 "><span style="font-size: small;">**Special note</span></span></strong></em
 ><span style="background: white; color: black; font-family: 'Georgia','seri
 f';"><span style="font-size: small;"><i><strong>&nbsp;-&nbsp;if you wish to
  become an Affiliate Member, and&nbsp;save&nbsp;off the non-member rate, pl
 ease contact Karen McMahon (315-701-0440 ext. 223,&nbsp;</strong></i></span
 ><i><strong><span id="cloak855696c86695d4dae5c20d0618b4a407">This email add
 ress is being protected from spambots. You need JavaScript enabled to view 
 it.</span><script type='text/javascript'>
				document.getElementById('cloa
 k855696c86695d4dae5c20d0618b4a407').innerHTML = '';
				var prefix = 'ma' +
  'il' + 'to';
				var path = 'hr' + 'ef' + '=';
				var addy855696c86695d4d
 ae5c20d0618b4a407 = 'kmcmahon' + '@';
				addy855696c86695d4dae5c20d0618b4a
 407 = addy855696c86695d4dae5c20d0618b4a407 + 'nyswda' + '.' + 'org';
				va
 r addy_text855696c86695d4dae5c20d0618b4a407 = '<span style="color: #0000ff;
  font-size: small;">kmcmahon' + '@' + 'nyswda' + '.' + 'org</span>';documen
 t.getElementById('cloak855696c86695d4dae5c20d0618b4a407').innerHTML += '<a 
 ' + path + '\'' + prefix + ':' + addy855696c86695d4dae5c20d0618b4a407 + '\'
 >'+addy_text855696c86695d4dae5c20d0618b4a407+'<\/a>';
		</script><span styl
 e="font-size: small;">)&nbsp;</span></strong></i></span><i></i><span style=
 "font-size: small;"><strong><span style="background: white; color: #02613f;
  font-family: 'Georgia','serif';">BEFORE YOU REGISTER&nbsp;</span></strong>
 <em><b><span style="background: white; color: black; font-family: 'Georgia'
 ,'serif';">for the course</span></b></em><strong><span style="background: w
 hite; color: black; font-family: 'Georgia','serif';">.</span></strong></spa
 n></span></span></span></span></span></span></span></span></span></span></s
 pan></span></span></span></span></span></p><p>&nbsp;</p><p><a href="https:/
 /www.nyswda.org/index.php?option=com_civicrm&amp;task=civicrm/event/registe
 r&amp;reset=1&amp;id=14246">&nbsp;<span style="color: #336699; font-size: 1
 2pt;"><span><span><span style="color: #000000;"><span><span style="font-fam
 ily: Tahoma;"><span style="font-family: Tahoma;"><span style="font-family: 
 Tahoma;"><span style="font-family: Tahoma;"><span style="font-family: Tahom
 a;"><span style="font-family: Tahoma;"><span style="font-family: Tahoma;"><
 span style="font-family: Tahoma;"><span style="font-family: Tahoma;"><span 
 style="font-family: Tahoma;"><span style="font-family: Tahoma;"><span style
 ="color: #0000ff; font-size: 14pt;"><em><strong>Click here to register</str
 ong></em></span></span></span></span></span></span></span></span></span></s
 pan></span></span></span></span></span></span></span></a></p>
CONTACT:This email address is being protected from spambots. You need JavaScript enabled to view it.
				document.getElementById('cloak508672eb2a2f2f3e821012f6e0cf1629').innerHTML = '';
				var prefix = '&#109;a' + 'i&#108;' + '&#116;o';
				var path = 'hr' + 'ef' + '=';
				var addy508672eb2a2f2f3e821012f6e0cf1629 = 'rv&#105;ss&#101;r' + '&#64;';
				addy508672eb2a2f2f3e821012f6e0cf1629 = addy508672eb2a2f2f3e821012f6e0cf1629 + 'nyswd&#97;' + '&#46;' + '&#111;rg';
				var addy_text508672eb2a2f2f3e821012f6e0cf1629 = 'rv&#105;ss&#101;r' + '&#64;' + 'nyswd&#97;' + '&#46;' + '&#111;rg';document.getElementById('cloak508672eb2a2f2f3e821012f6e0cf1629').innerHTML += '<a ' + path + '\'' + prefix + ':' + addy508672eb2a2f2f3e821012f6e0cf1629 + '\'>'+addy_text508672eb2a2f2f3e821012f6e0cf1629+'';
		
DTSTAMP:20260424T162304
DTSTART;TZID=America/New_York:20231003T090000
DTEND;TZID=America/New_York:20231003T120000
SEQUENCE:0
TRANSP:OPAQUE
END:VEVENT
END:VCALENDAR