BEGIN:VCALENDAR
VERSION:2.0
PRODID:-//jEvents 2.0 for Joomla//EN
CALSCALE:GREGORIAN
METHOD:PUBLISH
BEGIN:VTIMEZONE
TZID:America/New_York
BEGIN:STANDARD
DTSTART:20221106T010000
RDATE:20230312T030000
TZOFFSETFROM:-0400
TZOFFSETTO:-0500
TZNAME:America/New_York EST
END:STANDARD
BEGIN:STANDARD
DTSTART:20231105T010000
RDATE:20240310T030000
TZOFFSETFROM:-0400
TZOFFSETTO:-0500
TZNAME:America/New_York EST
END:STANDARD
BEGIN:STANDARD
DTSTART:20241103T010000
RDATE:20250309T030000
TZOFFSETFROM:-0400
TZOFFSETTO:-0500
TZNAME:America/New_York EST
END:STANDARD
BEGIN:STANDARD
DTSTART:20251102T010000
RDATE:20260308T030000
TZOFFSETFROM:-0400
TZOFFSETTO:-0500
TZNAME:America/New_York EST
END:STANDARD
BEGIN:STANDARD
DTSTART:20261101T010000
RDATE:20270314T030000
TZOFFSETFROM:-0400
TZOFFSETTO:-0500
TZNAME:America/New_York EST
END:STANDARD
BEGIN:STANDARD
DTSTART:20271107T010000
RDATE:20280312T030000
TZOFFSETFROM:-0400
TZOFFSETTO:-0500
TZNAME:America/New_York EST
END:STANDARD
BEGIN:STANDARD
DTSTART:20281105T010000
RDATE:20290311T030000
TZOFFSETFROM:-0400
TZOFFSETTO:-0500
TZNAME:America/New_York EST
END:STANDARD
BEGIN:STANDARD
DTSTART:20291104T010000
RDATE:20300310T030000
TZOFFSETFROM:-0400
TZOFFSETTO:-0500
TZNAME:America/New_York EST
END:STANDARD
BEGIN:STANDARD
DTSTART:20301103T010000
RDATE:20310309T030000
TZOFFSETFROM:-0400
TZOFFSETTO:-0500
TZNAME:America/New_York EST
END:STANDARD
BEGIN:DAYLIGHT
DTSTART:20221003T090000
RDATE:20221106T010000
TZOFFSETFROM:-0500
TZOFFSETTO:-0400
TZNAME:America/New_York EDT
END:DAYLIGHT
BEGIN:DAYLIGHT
DTSTART:20230312T030000
RDATE:20231105T010000
TZOFFSETFROM:-0500
TZOFFSETTO:-0400
TZNAME:America/New_York EDT
END:DAYLIGHT
BEGIN:DAYLIGHT
DTSTART:20240310T030000
RDATE:20241103T010000
TZOFFSETFROM:-0500
TZOFFSETTO:-0400
TZNAME:America/New_York EDT
END:DAYLIGHT
BEGIN:DAYLIGHT
DTSTART:20250309T030000
RDATE:20251102T010000
TZOFFSETFROM:-0500
TZOFFSETTO:-0400
TZNAME:America/New_York EDT
END:DAYLIGHT
BEGIN:DAYLIGHT
DTSTART:20260308T030000
RDATE:20261101T010000
TZOFFSETFROM:-0500
TZOFFSETTO:-0400
TZNAME:America/New_York EDT
END:DAYLIGHT
BEGIN:DAYLIGHT
DTSTART:20270314T030000
RDATE:20271107T010000
TZOFFSETFROM:-0500
TZOFFSETTO:-0400
TZNAME:America/New_York EDT
END:DAYLIGHT
BEGIN:DAYLIGHT
DTSTART:20280312T030000
RDATE:20281105T010000
TZOFFSETFROM:-0500
TZOFFSETTO:-0400
TZNAME:America/New_York EDT
END:DAYLIGHT
BEGIN:DAYLIGHT
DTSTART:20290311T030000
RDATE:20291104T010000
TZOFFSETFROM:-0500
TZOFFSETTO:-0400
TZNAME:America/New_York EDT
END:DAYLIGHT
BEGIN:DAYLIGHT
DTSTART:20300310T030000
RDATE:20301103T010000
TZOFFSETFROM:-0500
TZOFFSETTO:-0400
TZNAME:America/New_York EDT
END:DAYLIGHT
END:VTIMEZONE
BEGIN:VEVENT
UID:70d5b3a3118e032d3e3c00aefc0d1150
CATEGORIES:WEB
CREATED:20230822T161946
SUMMARY:NYS Manufactured Housing Mechanics Certification - Online
LOCATION:NYSWDA Training Center - East Syracuse
DESCRIPTION:<p>&nbsp;</p><p><span style="color: #336699; font-size: 12pt;"><span><span>
 &nbsp;</span><span><span style="color: #000000;"><span><strong><span style=
 "color: #336699;"><span style="font-family: tahoma,arial,helvetica,sans-ser
 if; font-size: 14pt;">NYS Manufactured Housing Mechanics Certification - On
 line</span></span></strong></span></span></span></span></span></p><p>&nbsp;
 </p><p><span style="color: #336699; font-size: 12pt;"><span><span><span sty
 le="color: #000000;"><span><strong><span style="color: #336699;"><span styl
 e="font-family: tahoma,arial,helvetica,sans-serif; font-size: 14pt;"><span 
 style="color: #336699;">GoToWebinar Event</span><span></span><span></span><
 span></span><span style="color: #000000;"></span><span></span><span></span>
 <span style="color: #336699; font-family: tahoma,arial,helvetica,sans-serif
 ; font-size: 14pt;"></span><span></span><span style="font-family: Tahoma;">
 </span><span style="font-family: Tahoma;"></span><span style="color: #00000
 0;"></span><span style="font-size: small;"></span><span style="font-family:
  Tahoma;"></span><span style="color: #000000;"></span><span style="font-siz
 e: x-small;"></span><span style="font-family: Arial, Helvetica;"></span><sp
 an style="font-size: small;"></span><span style="font-family: Tahoma;"></sp
 an><span style="font-size: x-small;"></span><span style="font-family: Arial
 , Helvetica;"></span><span style="font-size: small;"></span><span style="fo
 nt-family: Tahoma;"></span><span style="font-size: x-small;"></span><span s
 tyle="font-family: Arial, Helvetica;"></span><span style="font-size: small;
 "></span><span style="font-family: Tahoma;"></span><span style="font-size: 
 x-small;"></span><span style="font-family: Arial, Helvetica;"></span><span 
 style="font-family: Tahoma;"></span><span style="font-family: Tahoma;"></sp
 an><span style="font-size: small;"></span><span style="font-family: Tahoma;
 "></span><span style="font-size: x-small;"></span><span style="font-family:
  Arial, Helvetica;"></span><span style="font-family: Tahoma;"></span><span 
 style="font-family: Tahoma;"></span><span style="font-family: Tahoma;"></sp
 an><span style="font-size: small;"></span><span style="font-family: Tahoma;
 "></span><span style="font-size: x-small;"></span><span style="font-family:
  Arial, Helvetica;"></span><span style="color: #000000;"></span><span style
 ="font-size: medium;"></span><span style="font-family: Tahoma;"></span><spa
 n style="color: #336699;"></span></span><br /></span></strong></span></span
 ></span></span></span><span style="color: #336699; font-size: 12pt;"><span 
 style="font-family: Tahoma;"><span><span style="color: #000000;"><em><span>
 <br /></span></em></span></span></span></span><span style="color: #336699; 
 font-size: 12pt;"><span style="font-family: Tahoma;"><span><span style="col
 or: #000000;"><em><span><span style="text-decoration: underline;"><span sty
 le="font-family: Tahoma;">This training is for:</span></span><span style="f
 ont-family: Tahoma;"><span style="font-family: Tahoma;"><br /></span></span
 ></span></em><span style="font-family: Tahoma;"><span style="font-family: T
 ahoma;"><span style="font-family: Tahoma;">Weatherization crew chiefs/audit
 ors, weatherization agency sub-contractors, private contractors<span style=
 "font-family: Tahoma;"><br /><br /><span style="text-decoration: underline;
 "><em><span style="font-family: Tahoma;">Course Description:</span></em></s
 pan><em><span style="font-family: Tahoma;"><span style="font-family: Tahoma
 ;"><br /></span></span></em><span style="font-family: Tahoma;"><span style=
 "font-family: Tahoma;"><span style="font-family: Tahoma;">This training wil
 l prepare those attending to take the New York State Manufactured Housing M
 echanic certification written test. If your business or agency conducts str
 uctural repairs on mobile homes or manufactured housing to stay in complian
 ce with NY State Code Enforcement requirements, you will need at least one 
 staff member with this certification. Structural repairs include replacemen
 t of door/window framing, replacement of subfloor plywood, or replacement o
 f interior wall and ceiling panels. This staff member must be on-site durin
 g these repairs. This individual certification is valid for two years.<br /
 ><br /><span style="text-decoration: underline;"><em>Dates;<br /></em></spa
 n><span style="font-family: Tahoma;">October 4, 2023/ 9:00am - noon (with a
  1 hour break) then class resumes from 1:00pm - 4:00pm.&nbsp; There is an e
 xception for Retailers &amp; Installers - you will only be taking the first
  half of this class.&nbsp; Only those looking for the Mechanics certificati
 on will complete the second half.<br /><br /><span style="text-decoration: 
 underline;"><em><span style="font-family: Tahoma;">Prerequisites:</span></e
 m></span><em><span style="font-family: Tahoma;"> <br /></span></em><span st
 yle="font-family: Tahoma;">Completion of high school, GED or equivalent (U.
 S. Armed Forces report) showing successful completion of high school level 
 education.&nbsp; One year full time employment in manufactured housing indu
 stry or an industry substantially similar (1 year construction industry exp
 erience or 1 year manufactured housing repair and weatherization experience
  generally accepted). Field experience in manufactured housing repairs and 
 weatherization techniques<span style="font-family: Tahoma;"><br /><em><br /
 ><span style="text-decoration: underline;">Class Size</span></em>: 16<br />
 <br /><span style="text-decoration: underline;"><em>BPI CEU</em>:</span>&nb
 sp;3<br /><br /><span style="text-decoration: underline;"><em><span style="
 font-family: Tahoma;">Instructors:</span></em></span><em><span style="font-
 family: Tahoma;"> </span></em><span style="font-family: Tahoma;">Joel Harpe
 r -&nbsp;<span style="font-family: Tahoma;">MHC Consultants LLC</span><span
  style="font-family: Tahoma;"></span><span style="font-family: Tahoma;"></s
 pan><span style="font-family: Tahoma;"></span><span style="font-family: Tah
 oma;"></span><span style="font-family: Tahoma;"></span><span style="font-fa
 mily: Tahoma;"></span><span style="font-family: Tahoma;"></span><span style
 ="font-family: Tahoma;"></span><span style="font-family: Tahoma;"></span><s
 pan style="font-family: Tahoma;"></span><span></span><span style="color: #0
 00000;"></span><span></span><span></span><span style="color: #336699; font-
 size: 12pt;"></span><br /><br /><span style="text-decoration: underline;"><
 em>Course Fees:&nbsp;</em></span><em><span style="color: #ff6600;"></span><
 /em><em><br /></em><span style="font-family: Tahoma;">$262/person -&nbsp;NY
 &nbsp;Weatherization Sub-grantees<br /></span></span></span></span></span><
 /span></span></span></span></span></span></span></span></span></span></span
 ><span style="color: #336699; font-size: 12pt;"><span style="font-family: T
 ahoma;"><span style="color: #000000;"><span><span><span><span><span><span><
 span><span><span><span><span><span>$262/person -&nbsp;affiliate members<br 
 /></span></span></span></span></span></span></span></span></span></span></s
 pan></span></span></span></span><span style="color: #336699; font-size: 12p
 t;"><span style="font-family: Tahoma;"><span style="color: #000000;"><span>
 <span><span><span><span><span><span><span><span><span><span><span>$380/pers
 on -&nbsp;non-members<br />$220/person - Retailers and Installers&nbsp;</sp
 an></span></span></span></span></span></span></span></span></span></span></
 span></span></span></span></p><p>&nbsp;</p><p><span style="color: #336699; 
 font-size: 12pt;"><span style="font-family: Tahoma;"><span><span style="col
 or: #000000;"><span><span style="font-family: Tahoma;"><span style="font-fa
 mily: Tahoma;"><span style="font-family: Tahoma;"><span style="font-family:
  Tahoma;"><span style="font-family: Tahoma;"><span style="font-family: Taho
 ma;"><span style="font-family: Tahoma;"><span style="font-family: Tahoma;">
 <span style="font-family: Tahoma;"><span style="font-family: Tahoma;"><span
  style="font-family: Tahoma;"><em><span style="font-family: Tahoma;"><em><s
 trong><span style="background: white; color: #02613f; font-family: 'Georgia
 ','serif';"><span style="font-size: small;">**Special note</span></span></s
 trong></em><span style="background: white; color: black; font-family: 'Geor
 gia','serif';"><span style="font-size: small;"><i><strong>&nbsp;-&nbsp;if y
 ou wish to become an Affiliate Member, and&nbsp;save off the non-member rat
 e, please contact&nbsp;Karen McMahon (315-701-0440 ext. 223,&nbsp;</strong>
 </i></span><i><strong><span id="cloak479621cd27b3eb59065b35d108420ddd">This
  email address is being protected from spambots. You need JavaScript enable
 d to view it.</span><script type='text/javascript'>
				document.getElement
 ById('cloak479621cd27b3eb59065b35d108420ddd').innerHTML = '';
				var prefi
 x = 'ma' + 'il' + 'to';
				var path = 'hr' + 'ef' + '=';
				var addy47962
 1cd27b3eb59065b35d108420ddd = 'kmcmahon' + '@';
				addy479621cd27b3eb59065
 b35d108420ddd = addy479621cd27b3eb59065b35d108420ddd + 'nyswda' + '.' + 'or
 g';
				var addy_text479621cd27b3eb59065b35d108420ddd = '<span style="color
 : #0000ff; font-size: small;">kmcmahon' + '@' + 'nyswda' + '.' + 'org</span
 >';document.getElementById('cloak479621cd27b3eb59065b35d108420ddd').innerHT
 ML += '<a ' + path + '\'' + prefix + ':' + addy479621cd27b3eb59065b35d10842
 0ddd + '\'>'+addy_text479621cd27b3eb59065b35d108420ddd+'<\/a>';
		</script>
 <span style="font-size: small;">)&nbsp;</span></strong></i></span><i></i><s
 pan style="font-size: small;"><strong><span style="background: white; color
 : #02613f; font-family: 'Georgia','serif';">BEFORE YOU REGISTER&nbsp;</span
 ></strong><em><b><span style="background: white; color: black; font-family:
  'Georgia','serif';">for the course</span></b></em><strong><span style="bac
 kground: white; color: black; font-family: 'Georgia','serif';">.</span></st
 rong></span></span></em></span></span></span></span></span></span></span></
 span></span></span></span></span></span></span><span style="background-colo
 r: initial; color: inherit; font-family: inherit; font-size: 1rem;"></span>
 <span style="color: #0000ff;"><em><strong><span style="font-size: 14pt; fon
 t-family: tahoma,arial,helvetica,sans-serif;"></span></strong></em></span><
 span style="background-color: initial; color: inherit; font-family: inherit
 ; font-size: 1rem;"></span><span><span style="color: #000000;"><span><span 
 style="font-family: Tahoma;"><span style="font-family: Tahoma;"><span style
 ="font-family: Tahoma;"><span style="font-family: Tahoma;"><span style="fon
 t-family: Tahoma;"><span style="font-family: Tahoma;"><span style="font-fam
 ily: Tahoma;"><span style="font-family: Tahoma;"><span style="font-family: 
 Tahoma;"><span style="font-family: Tahoma;"><span style="font-family: Tahom
 a;"><em><span style="font-family: Tahoma;"><br /></span></em></span></span>
 </span></span></span></span></span></span></span></span></span></span></spa
 n></span></span></span></p><p>&nbsp;</p><p><span style="color: #0000ff;"><e
 m><strong><span style="font-family: tahoma, arial, helvetica, sans-serif; f
 ont-size: 14pt;"><a href="index.php?option=com_civicrm&amp;task=civicrm/eve
 nt/register&amp;reset=1&amp;id=14247" style="color: #0000ff;">Click here to
  register</a></span></strong></em></span></p>
X-ALT-DESC;FMTTYPE=text/html:<p>&nbsp;</p><p><span style="color: #336699; font-size: 12pt;"><span><span>
 &nbsp;</span><span><span style="color: #000000;"><span><strong><span style=
 "color: #336699;"><span style="font-family: tahoma,arial,helvetica,sans-ser
 if; font-size: 14pt;">NYS Manufactured Housing Mechanics Certification - On
 line</span></span></strong></span></span></span></span></span></p><p>&nbsp;
 </p><p><span style="color: #336699; font-size: 12pt;"><span><span><span sty
 le="color: #000000;"><span><strong><span style="color: #336699;"><span styl
 e="font-family: tahoma,arial,helvetica,sans-serif; font-size: 14pt;"><span 
 style="color: #336699;">GoToWebinar Event</span><span></span><span></span><
 span></span><span style="color: #000000;"></span><span></span><span></span>
 <span style="color: #336699; font-family: tahoma,arial,helvetica,sans-serif
 ; font-size: 14pt;"></span><span></span><span style="font-family: Tahoma;">
 </span><span style="font-family: Tahoma;"></span><span style="color: #00000
 0;"></span><span style="font-size: small;"></span><span style="font-family:
  Tahoma;"></span><span style="color: #000000;"></span><span style="font-siz
 e: x-small;"></span><span style="font-family: Arial, Helvetica;"></span><sp
 an style="font-size: small;"></span><span style="font-family: Tahoma;"></sp
 an><span style="font-size: x-small;"></span><span style="font-family: Arial
 , Helvetica;"></span><span style="font-size: small;"></span><span style="fo
 nt-family: Tahoma;"></span><span style="font-size: x-small;"></span><span s
 tyle="font-family: Arial, Helvetica;"></span><span style="font-size: small;
 "></span><span style="font-family: Tahoma;"></span><span style="font-size: 
 x-small;"></span><span style="font-family: Arial, Helvetica;"></span><span 
 style="font-family: Tahoma;"></span><span style="font-family: Tahoma;"></sp
 an><span style="font-size: small;"></span><span style="font-family: Tahoma;
 "></span><span style="font-size: x-small;"></span><span style="font-family:
  Arial, Helvetica;"></span><span style="font-family: Tahoma;"></span><span 
 style="font-family: Tahoma;"></span><span style="font-family: Tahoma;"></sp
 an><span style="font-size: small;"></span><span style="font-family: Tahoma;
 "></span><span style="font-size: x-small;"></span><span style="font-family:
  Arial, Helvetica;"></span><span style="color: #000000;"></span><span style
 ="font-size: medium;"></span><span style="font-family: Tahoma;"></span><spa
 n style="color: #336699;"></span></span><br /></span></strong></span></span
 ></span></span></span><span style="color: #336699; font-size: 12pt;"><span 
 style="font-family: Tahoma;"><span><span style="color: #000000;"><em><span>
 <br /></span></em></span></span></span></span><span style="color: #336699; 
 font-size: 12pt;"><span style="font-family: Tahoma;"><span><span style="col
 or: #000000;"><em><span><span style="text-decoration: underline;"><span sty
 le="font-family: Tahoma;">This training is for:</span></span><span style="f
 ont-family: Tahoma;"><span style="font-family: Tahoma;"><br /></span></span
 ></span></em><span style="font-family: Tahoma;"><span style="font-family: T
 ahoma;"><span style="font-family: Tahoma;">Weatherization crew chiefs/audit
 ors, weatherization agency sub-contractors, private contractors<span style=
 "font-family: Tahoma;"><br /><br /><span style="text-decoration: underline;
 "><em><span style="font-family: Tahoma;">Course Description:</span></em></s
 pan><em><span style="font-family: Tahoma;"><span style="font-family: Tahoma
 ;"><br /></span></span></em><span style="font-family: Tahoma;"><span style=
 "font-family: Tahoma;"><span style="font-family: Tahoma;">This training wil
 l prepare those attending to take the New York State Manufactured Housing M
 echanic certification written test. If your business or agency conducts str
 uctural repairs on mobile homes or manufactured housing to stay in complian
 ce with NY State Code Enforcement requirements, you will need at least one 
 staff member with this certification. Structural repairs include replacemen
 t of door/window framing, replacement of subfloor plywood, or replacement o
 f interior wall and ceiling panels. This staff member must be on-site durin
 g these repairs. This individual certification is valid for two years.<br /
 ><br /><span style="text-decoration: underline;"><em>Dates;<br /></em></spa
 n><span style="font-family: Tahoma;">October 4, 2023/ 9:00am - noon (with a
  1 hour break) then class resumes from 1:00pm - 4:00pm.&nbsp; There is an e
 xception for Retailers &amp; Installers - you will only be taking the first
  half of this class.&nbsp; Only those looking for the Mechanics certificati
 on will complete the second half.<br /><br /><span style="text-decoration: 
 underline;"><em><span style="font-family: Tahoma;">Prerequisites:</span></e
 m></span><em><span style="font-family: Tahoma;"> <br /></span></em><span st
 yle="font-family: Tahoma;">Completion of high school, GED or equivalent (U.
 S. Armed Forces report) showing successful completion of high school level 
 education.&nbsp; One year full time employment in manufactured housing indu
 stry or an industry substantially similar (1 year construction industry exp
 erience or 1 year manufactured housing repair and weatherization experience
  generally accepted). Field experience in manufactured housing repairs and 
 weatherization techniques<span style="font-family: Tahoma;"><br /><em><br /
 ><span style="text-decoration: underline;">Class Size</span></em>: 16<br />
 <br /><span style="text-decoration: underline;"><em>BPI CEU</em>:</span>&nb
 sp;3<br /><br /><span style="text-decoration: underline;"><em><span style="
 font-family: Tahoma;">Instructors:</span></em></span><em><span style="font-
 family: Tahoma;"> </span></em><span style="font-family: Tahoma;">Joel Harpe
 r -&nbsp;<span style="font-family: Tahoma;">MHC Consultants LLC</span><span
  style="font-family: Tahoma;"></span><span style="font-family: Tahoma;"></s
 pan><span style="font-family: Tahoma;"></span><span style="font-family: Tah
 oma;"></span><span style="font-family: Tahoma;"></span><span style="font-fa
 mily: Tahoma;"></span><span style="font-family: Tahoma;"></span><span style
 ="font-family: Tahoma;"></span><span style="font-family: Tahoma;"></span><s
 pan style="font-family: Tahoma;"></span><span></span><span style="color: #0
 00000;"></span><span></span><span></span><span style="color: #336699; font-
 size: 12pt;"></span><br /><br /><span style="text-decoration: underline;"><
 em>Course Fees:&nbsp;</em></span><em><span style="color: #ff6600;"></span><
 /em><em><br /></em><span style="font-family: Tahoma;">$262/person -&nbsp;NY
 &nbsp;Weatherization Sub-grantees<br /></span></span></span></span></span><
 /span></span></span></span></span></span></span></span></span></span></span
 ><span style="color: #336699; font-size: 12pt;"><span style="font-family: T
 ahoma;"><span style="color: #000000;"><span><span><span><span><span><span><
 span><span><span><span><span><span>$262/person -&nbsp;affiliate members<br 
 /></span></span></span></span></span></span></span></span></span></span></s
 pan></span></span></span></span><span style="color: #336699; font-size: 12p
 t;"><span style="font-family: Tahoma;"><span style="color: #000000;"><span>
 <span><span><span><span><span><span><span><span><span><span><span>$380/pers
 on -&nbsp;non-members<br />$220/person - Retailers and Installers&nbsp;</sp
 an></span></span></span></span></span></span></span></span></span></span></
 span></span></span></span></p><p>&nbsp;</p><p><span style="color: #336699; 
 font-size: 12pt;"><span style="font-family: Tahoma;"><span><span style="col
 or: #000000;"><span><span style="font-family: Tahoma;"><span style="font-fa
 mily: Tahoma;"><span style="font-family: Tahoma;"><span style="font-family:
  Tahoma;"><span style="font-family: Tahoma;"><span style="font-family: Taho
 ma;"><span style="font-family: Tahoma;"><span style="font-family: Tahoma;">
 <span style="font-family: Tahoma;"><span style="font-family: Tahoma;"><span
  style="font-family: Tahoma;"><em><span style="font-family: Tahoma;"><em><s
 trong><span style="background: white; color: #02613f; font-family: 'Georgia
 ','serif';"><span style="font-size: small;">**Special note</span></span></s
 trong></em><span style="background: white; color: black; font-family: 'Geor
 gia','serif';"><span style="font-size: small;"><i><strong>&nbsp;-&nbsp;if y
 ou wish to become an Affiliate Member, and&nbsp;save off the non-member rat
 e, please contact&nbsp;Karen McMahon (315-701-0440 ext. 223,&nbsp;</strong>
 </i></span><i><strong><span id="cloak479621cd27b3eb59065b35d108420ddd">This
  email address is being protected from spambots. You need JavaScript enable
 d to view it.</span><script type='text/javascript'>
				document.getElement
 ById('cloak479621cd27b3eb59065b35d108420ddd').innerHTML = '';
				var prefi
 x = 'ma' + 'il' + 'to';
				var path = 'hr' + 'ef' + '=';
				var addy47962
 1cd27b3eb59065b35d108420ddd = 'kmcmahon' + '@';
				addy479621cd27b3eb59065
 b35d108420ddd = addy479621cd27b3eb59065b35d108420ddd + 'nyswda' + '.' + 'or
 g';
				var addy_text479621cd27b3eb59065b35d108420ddd = '<span style="color
 : #0000ff; font-size: small;">kmcmahon' + '@' + 'nyswda' + '.' + 'org</span
 >';document.getElementById('cloak479621cd27b3eb59065b35d108420ddd').innerHT
 ML += '<a ' + path + '\'' + prefix + ':' + addy479621cd27b3eb59065b35d10842
 0ddd + '\'>'+addy_text479621cd27b3eb59065b35d108420ddd+'<\/a>';
		</script>
 <span style="font-size: small;">)&nbsp;</span></strong></i></span><i></i><s
 pan style="font-size: small;"><strong><span style="background: white; color
 : #02613f; font-family: 'Georgia','serif';">BEFORE YOU REGISTER&nbsp;</span
 ></strong><em><b><span style="background: white; color: black; font-family:
  'Georgia','serif';">for the course</span></b></em><strong><span style="bac
 kground: white; color: black; font-family: 'Georgia','serif';">.</span></st
 rong></span></span></em></span></span></span></span></span></span></span></
 span></span></span></span></span></span></span><span style="background-colo
 r: initial; color: inherit; font-family: inherit; font-size: 1rem;"></span>
 <span style="color: #0000ff;"><em><strong><span style="font-size: 14pt; fon
 t-family: tahoma,arial,helvetica,sans-serif;"></span></strong></em></span><
 span style="background-color: initial; color: inherit; font-family: inherit
 ; font-size: 1rem;"></span><span><span style="color: #000000;"><span><span 
 style="font-family: Tahoma;"><span style="font-family: Tahoma;"><span style
 ="font-family: Tahoma;"><span style="font-family: Tahoma;"><span style="fon
 t-family: Tahoma;"><span style="font-family: Tahoma;"><span style="font-fam
 ily: Tahoma;"><span style="font-family: Tahoma;"><span style="font-family: 
 Tahoma;"><span style="font-family: Tahoma;"><span style="font-family: Tahom
 a;"><em><span style="font-family: Tahoma;"><br /></span></em></span></span>
 </span></span></span></span></span></span></span></span></span></span></spa
 n></span></span></span></p><p>&nbsp;</p><p><span style="color: #0000ff;"><e
 m><strong><span style="font-family: tahoma, arial, helvetica, sans-serif; f
 ont-size: 14pt;"><a href="https://www.nyswda.org/index.php?option=com_civic
 rm&amp;task=civicrm/event/register&amp;reset=1&amp;id=14247" style="color: 
 #0000ff;">Click here to register</a></span></strong></em></span></p>
CONTACT:Robyn Visser
DTSTAMP:20260424T162238
DTSTART;TZID=America/New_York:20231004T090000
DTEND;TZID=America/New_York:20231004T160000
SEQUENCE:0
TRANSP:OPAQUE
END:VEVENT
END:VCALENDAR