BEGIN:VCALENDAR
VERSION:2.0
PRODID:-//jEvents 2.0 for Joomla//EN
CALSCALE:GREGORIAN
METHOD:PUBLISH
BEGIN:VTIMEZONE
TZID:America/New_York
BEGIN:STANDARD
DTSTART:20221112T090000
RDATE:20230312T030000
TZOFFSETFROM:-0400
TZOFFSETTO:-0500
TZNAME:America/New_York EST
END:STANDARD
BEGIN:STANDARD
DTSTART:20231105T010000
RDATE:20240310T030000
TZOFFSETFROM:-0400
TZOFFSETTO:-0500
TZNAME:America/New_York EST
END:STANDARD
BEGIN:STANDARD
DTSTART:20241103T010000
RDATE:20250309T030000
TZOFFSETFROM:-0400
TZOFFSETTO:-0500
TZNAME:America/New_York EST
END:STANDARD
BEGIN:STANDARD
DTSTART:20251102T010000
RDATE:20260308T030000
TZOFFSETFROM:-0400
TZOFFSETTO:-0500
TZNAME:America/New_York EST
END:STANDARD
BEGIN:STANDARD
DTSTART:20261101T010000
RDATE:20270314T030000
TZOFFSETFROM:-0400
TZOFFSETTO:-0500
TZNAME:America/New_York EST
END:STANDARD
BEGIN:STANDARD
DTSTART:20271107T010000
RDATE:20280312T030000
TZOFFSETFROM:-0400
TZOFFSETTO:-0500
TZNAME:America/New_York EST
END:STANDARD
BEGIN:STANDARD
DTSTART:20281105T010000
RDATE:20290311T030000
TZOFFSETFROM:-0400
TZOFFSETTO:-0500
TZNAME:America/New_York EST
END:STANDARD
BEGIN:STANDARD
DTSTART:20291104T010000
RDATE:20300310T030000
TZOFFSETFROM:-0400
TZOFFSETTO:-0500
TZNAME:America/New_York EST
END:STANDARD
BEGIN:STANDARD
DTSTART:20301103T010000
RDATE:20310309T030000
TZOFFSETFROM:-0400
TZOFFSETTO:-0500
TZNAME:America/New_York EST
END:STANDARD
BEGIN:DAYLIGHT
DTSTART:20230312T030000
RDATE:20231105T010000
TZOFFSETFROM:-0500
TZOFFSETTO:-0400
TZNAME:America/New_York EDT
END:DAYLIGHT
BEGIN:DAYLIGHT
DTSTART:20240310T030000
RDATE:20241103T010000
TZOFFSETFROM:-0500
TZOFFSETTO:-0400
TZNAME:America/New_York EDT
END:DAYLIGHT
BEGIN:DAYLIGHT
DTSTART:20250309T030000
RDATE:20251102T010000
TZOFFSETFROM:-0500
TZOFFSETTO:-0400
TZNAME:America/New_York EDT
END:DAYLIGHT
BEGIN:DAYLIGHT
DTSTART:20260308T030000
RDATE:20261101T010000
TZOFFSETFROM:-0500
TZOFFSETTO:-0400
TZNAME:America/New_York EDT
END:DAYLIGHT
BEGIN:DAYLIGHT
DTSTART:20270314T030000
RDATE:20271107T010000
TZOFFSETFROM:-0500
TZOFFSETTO:-0400
TZNAME:America/New_York EDT
END:DAYLIGHT
BEGIN:DAYLIGHT
DTSTART:20280312T030000
RDATE:20281105T010000
TZOFFSETFROM:-0500
TZOFFSETTO:-0400
TZNAME:America/New_York EDT
END:DAYLIGHT
BEGIN:DAYLIGHT
DTSTART:20290311T030000
RDATE:20291104T010000
TZOFFSETFROM:-0500
TZOFFSETTO:-0400
TZNAME:America/New_York EDT
END:DAYLIGHT
BEGIN:DAYLIGHT
DTSTART:20300310T030000
RDATE:20301103T010000
TZOFFSETFROM:-0500
TZOFFSETTO:-0400
TZNAME:America/New_York EDT
END:DAYLIGHT
END:VTIMEZONE
BEGIN:VEVENT
UID:7c03b0bbd5dbed811b0e6f2e799d679c
CATEGORIES:At Syracuse
CREATED:20230928T102610
SUMMARY:Boot Camp for Weatherization Installers
LOCATION:NYSWDA Training Center - East Syracuse
DESCRIPTION:Boot Camp\n
 \n
Training Location: NYSWDA Training Center (Building 2) - 58
 69 Fisher Road, East Syracuse, NY 13057\n
 \n
Who Should Attend;\nEntry lev
 el field staff and weatherization contractors - see detailed below.\n
 \n
C
 ourse Description;\nThis intensive 4-day training based at NYSWDA's Energy 
 Efficiency Training Center (Building 2) in East Syracuse, is a great introd
 uction to building science principles and hands-on air sealing, dense pack 
 and loose fill cellulose insulation installation. Using our state-of-the-ar
 t realistic wall, ceiling and attic props, trainees will learn the techniqu
 es needed to effectively weatherize our clients' homes.\n
Â\n
During this c
 ourse, the trainees will be introduced to both HCR and BPI standards and re
 gulations on Health &amp; Safety, Lead Safe work practices and safe and pro
 per use of tools and equipment. Trainees will also become proficient on the
  set up of blower doors and understand basic use of an infrared camera duri
 ng air sealing operations.\n
Â\n
All three HCR mandatory trainings are cove
 red in this course: \n

Air Sealing - mandatory for WX directors, energy au
 ditors, post inspectors, crew chiefs and crew personnel
Health &amp; Safety
  - mandatory for WX directors, energy auditors, post inspectors, crew chief
 s and heating technicians
\n - Lead Safe Weatherization - mandatory for all
  employees who may come in contact with lead based paint while performing t
 heir duties\n

Please reference the WAP Policies and Procedures manual for 
 further details. The above-listed trainings are mandatory for the positions
  stated. If a subgrantee hires a new employee into one of these postions, o
 r a current employee transfers into one of these positions, it is mandatory
  that they receive this training within six (6) months of their start date.
  These mandatory training sessions must be repeated every three (3) years b
 y subgrantee personnel who occupy these positions.\n
  \n
Agenda; \nDay One
 \n
Monday - 9:00am - 4:30pm: Residential Health &amp; Safety Fundamentals\n
 
\n
Day Two\n
Tuesday - 9:00am - 4:30pm: Introduction to Building Science a
 nd Air Sealing Techniques, introduction to infrared cameras, introduction t
 o basic residential framing details with an emphasis on common air sealing 
 areas and building codes requirements for clearance to combustibles.\n
 \n

 Day Three\n
Wednesday - 9:00am - 4:30pm: Lead Safe Work Practices\n
 \n
Day
  Four\n
Thursday - 9:00am - 4:00pm: All day lab session tool/equipment safe
 ty, lead safe jobsite setup, air sealing techniques, dense pack and loose f
 ill cellulose installation techniques. Afternoon lab session: fundamentals 
 of blower door setup and operation, plus jobsite and lead safe cleanup skil
 ls, training skills review, question and answer session, awarding of Certif
 icates of Completion.\n
\nDates;\nCourse covers the dates of November 13-16
 , 2023\n\nStart Times:  ALL DAYS - 9:00am\n\nEnd Times: ALL DAYS 4:30pm to 
 5:00pm\n
 \n
Other Notes:\nDue to the nature of the training, all attendees
  will be required to sign a waiver of liability and a photo/video release f
 orm at the start of the training.\n
\n
Prerequisites: None\n
\nClass Size: 
 10\n
\nBPI CEU: 16\n
\nInstructors:, Joe Ilacqua, NYSWDA\n\n
\nCourse Fees;
  \n
$950/person - NY Weatherization Sub-grantees \n
$950/person - affiliate
  members \n
$1,450/person - non-members \n
 \n
Lunches are included for eac
 h day.\n
 \n
**Special note - if you wish to become an Affiliate Member, an
 d save off the non-member rate, please contact Karen McMahon (315-701-0440 
 ext. 223, This email address is being protected from spambots. You need Jav
 aScript enabled to view it.
				document.getElementById('cloak39d83917cf584
 d851c7a46c3d30d4b2e').innerHTML = '';
				var prefix = 'ma' + 'il' + 'to';

 				var path = 'hr' + 'ef' + '=';
				var addy39d83917cf584d851c7a46c3d30d4
 b2e = 'kmcmahon' + '@';
				addy39d83917cf584d851c7a46c3d30d4b2e = addy39d8
 3917cf584d851c7a46c3d30d4b2e + 'nyswda' + '.' + 'org';
				var addy_text39d
 83917cf584d851c7a46c3d30d4b2e = 'kmcmahon' + '@' + 'nyswda' + '.' + 'org';d
 ocument.getElementById('cloak39d83917cf584d851c7a46c3d30d4b2e').innerHTML +
 = '<a ' + path + '\'' + prefix + ':' + addy39d83917cf584d851c7a46c3d30d4b2e
  + '\'>'+addy_text39d83917cf584d851c7a46c3d30d4b2e+'';
		) BEFORE YOU REGIS
 TER for the course.\n
 \n
NYSWDA will not be responsible for hotel costs, t
 ravel to and from the training, breakfast and dinner meals, or incidentals.
 \n
  \n
Only those on the wait list will be notified to register for this t
 raining.  Please email  This email address is being protected from spambots
 . You need JavaScript enabled to view it.
				document.getElementById('cloa
 kad5e40122d05463cdb8a62d0a4705f47').innerHTML = '';
				var prefix = 'ma' +
  'il' + 'to';
				var path = 'hr' + 'ef' + '=';
				var addyad5e40122d05463
 cdb8a62d0a4705f47 = 'rvisser' + '@';
				addyad5e40122d05463cdb8a62d0a4705f
 47 = addyad5e40122d05463cdb8a62d0a4705f47 + 'nyswda' + '.' + 'org';
				var
  addy_textad5e40122d05463cdb8a62d0a4705f47 = 'rvisser' + '@' + 'nyswda' + '
 .' + 'org';document.getElementById('cloakad5e40122d05463cdb8a62d0a4705f47')
 .innerHTML += '<a ' + path + '\'' + prefix + ':' + addyad5e40122d05463cdb8a
 62d0a4705f47 + '\'>'+addy_textad5e40122d05463cdb8a62d0a4705f47+'';
		 for a
 vailability or wait list \n
X-ALT-DESC;FMTTYPE=text/html:<p><strong><span style="font-family: Tahoma, sans-serif; color: #336699; fo
 nt-size: 13.5pt;">Boot Camp</span></strong></p><p>&nbsp;</p><p><strong><spa
 n style="font-family: Tahoma, sans-serif; color: #336699; font-size: 13.5pt
 ;">Training Location: NYSWDA Training Center (Building 2) - 5869 Fisher Roa
 d, East Syracuse, NY 13057</span></strong></p><p>&nbsp;</p><p><em><span sty
 le="text-decoration: underline;"><span style="font-family: Tahoma, sans-ser
 if; color: black; text-decoration: underline;"><span style="font-size: 12pt
 ;">Who Should Attend;<br /></span></span></span></em><span style="font-fami
 ly: Tahoma, sans-serif; color: black;"><span style="font-size: 12pt;"><span
 >Entry level field staff and weatherization contractors - see detailed belo
 w.</span></span></span></p><p><span style="font-family: Tahoma, sans-serif;
  color: #ffffff;"><span style="font-size: 12pt;"></span></span>&nbsp;</p><p
 ><em><span style="text-decoration: underline;"><span style="font-family: Ta
 homa, sans-serif; color: black; text-decoration: underline;"><span style="f
 ont-size: 12pt;">Course</span></span></span><span style="text-decoration: u
 nderline;"><span style="font-family: Tahoma, sans-serif; color: black; text
 -decoration: underline;"><span style="font-size: 12pt;"> Description</span>
 </span></span></em><span style="font-family: Tahoma, sans-serif; color: bla
 ck;"><span style="font-size: 12pt;">;<br /></span></span><span style="font-
 family: Tahoma, sans-serif; color: black; font-size: 12pt;">This intensive 
 4-day training based at NYSWDA's Energy Efficiency Training Center (Buildin
 g 2) in East Syracuse, is a great introduction to building science principl
 es and hands-on air sealing, dense pack and loose fill cellulose insulation
  installation. Using our state-of-the-art realistic wall, ceiling and attic
  props, trainees will learn the techniques needed to effectively weatherize
  our clients' homes.</span></p><p><span style="font-family: Tahoma, sans-se
 rif; color: #ffffff; font-size: 12pt;">Â</span></p><p><span style="font-fam
 ily: Tahoma, sans-serif; color: black; font-size: 12pt;">During this course
 , the trainees will be introduced to both HCR and BPI standards and regulat
 ions on Health &amp; Safety, Lead Safe work practices and safe and proper u
 se of tools and equipment. Trainees will also become proficient on the set 
 up of blower doors and understand basic use of an infrared camera during ai
 r sealing operations.</span></p><p><span style="font-family: Tahoma, sans-s
 erif; color: #ffffff; font-size: 12pt;">Â</span></p><p><span style="font-fa
 mily: Tahoma, sans-serif; color: black; font-size: 12pt;">All three HCR man
 datory trainings are covered in this course: </span></p><ul><li style="colo
 r: black;"><span style="font-family: Tahoma, sans-serif; font-size: 12pt;">
 Air Sealing - mandatory for WX directors, energy auditors, post inspectors,
  crew chiefs and crew personnel</span></li><li style="color: black;"><span 
 style="font-family: Tahoma, sans-serif; font-size: 12pt;">Health &amp; Safe
 ty - mandatory for WX directors, energy auditors, post inspectors, crew chi
 efs and heating technicians</span></li><li><span style="font-family: Tahoma
 , sans-serif; color: black; font-size: 12pt;">Lead Safe Weatherization - ma
 ndatory for all employees who may come in contact with lead based paint whi
 le performing their duties<br /></span></li></ul><p><span style="font-famil
 y: Tahoma, sans-serif; color: black; font-size: 12pt;">Please reference the
  WAP Policies and Procedures manual for further details. The above-listed t
 rainings are mandatory for the positions stated. If a subgrantee hires a ne
 w employee into one of these postions, or a current employee transfers into
  one of these positions, it is mandatory that they receive this training wi
 thin six (6) months of their start date. These mandatory training sessions 
 must be repeated every three (3) years by subgrantee personnel who occupy t
 hese positions.</span></p><p>&nbsp;&nbsp;</p><p><span style="font-size: 12p
 t;"><em><span style="text-decoration: underline;"><span style="font-family:
  Tahoma, sans-serif; color: black; text-decoration: underline;">Agenda;</sp
 an></span></em></span>&nbsp;<br /><span style="font-size: 12pt;"><span><spa
 n style="font-family: Tahoma, sans-serif; color: black;">Day One</span></sp
 an></span></p><p><span style="font-size: 12pt;"><span style="font-family: T
 ahoma, sans-serif; color: black;">Monday - 9:00am - 4:30pm: Residential Hea
 lth &amp; Safety Fundamentals</span></span></p><p><span style="font-size: 1
 2pt; color: #ffffff;"><em><span style="text-decoration: underline;"><span s
 tyle="font-family: Tahoma, sans-serif;"></span></span></em></span></p><p><s
 pan style="font-size: 12pt;"><span style="text-decoration: underline;"><spa
 n style="font-family: Tahoma, sans-serif; color: black; text-decoration: un
 derline;">Day Two</span></span></span></p><p><span style="font-size: 12pt;"
 ><span style="font-family: Tahoma, sans-serif; color: black;">Tuesday - 9:0
 0am - 4:30pm: Introduction to Building Science and Air Sealing Techniques, 
 introduction to infrared cameras, introduction to basic residential framing
  details with an emphasis on common air sealing areas and building codes re
 quirements for clearance to combustibles.</span></span></p><p><span style="
 font-size: 12pt; color: #ffffff;"><span style="font-family: Tahoma, sans-se
 rif;"></span></span>&nbsp;</p><p><span style="text-decoration: underline;">
 <span style="font-size: 12pt;"><span style="color: black; font-family: Taho
 ma, sans-serif; text-decoration: underline;">Day Three</span></span></span>
 </p><p><span style="font-size: 12pt;"><span style="font-family: Tahoma, san
 s-serif; color: black;">Wednesday - 9:00am - 4:30pm: Lead Safe Work Practic
 es</span></span></p><p><span style="font-size: 12pt; color: #ffffff;"><span
  style="font-family: Tahoma, sans-serif;"></span></span>&nbsp;</p><p><span 
 style="text-decoration: underline;"><span style="font-size: 12pt;"><span st
 yle="color: black; font-family: Tahoma, sans-serif; text-decoration: underl
 ine;">Day Four</span></span></span></p><p><span style="font-size: 12pt;"><s
 pan style="font-family: Tahoma, sans-serif; color: black;">Thursday - 9:00a
 m - 4:00pm: All day lab session tool/equipment safety, lead safe jobsite se
 tup, air sealing techniques, dense pack and loose fill cellulose installati
 on techniques. Afternoon lab session: fundamentals of blower door setup and
  operation, plus jobsite and lead safe cleanup skills, training skills revi
 ew, question and answer session, awarding of Certificates of Completion.</s
 pan></span></p><p><span style="font-size: 12pt;"><em><span style="text-deco
 ration: underline;"><span style="font-family: Tahoma, sans-serif; color: bl
 ack; text-decoration: underline;"><br /></span></span></em></span><span sty
 le="font-size: 12pt;"><em><span style="text-decoration: underline;"><span s
 tyle="font-family: Tahoma, sans-serif; color: black; text-decoration: under
 line;">Dates;<br /></span></span></em></span><span style="font-family: taho
 ma, arial, helvetica, sans-serif; color: black; font-size: 12pt;">Course co
 vers the dates of November 13-16, 2023<br /><br /></span><span style="font-
 family: tahoma, arial, helvetica, sans-serif; color: black; font-size: 12pt
 ;">Start Times:&nbsp; ALL DAYS - 9:00am<br /><br /></span><span style="font
 -family: tahoma, arial, helvetica, sans-serif; color: black; font-size: 12p
 t;">End Times: ALL DAYS 4:30pm to 5:00pm</span></p><p><span style="font-fam
 ily: Arial, sans-serif; color: #ffffff; font-size: 12pt;"></span>&nbsp;</p>
 <p><span style="font-size: 12pt;"><em><span style="text-decoration: underli
 ne;"><span style="font-family: Tahoma, sans-serif; color: black; text-decor
 ation: underline;">Other Notes:</span></span></em><span style="font-family:
  Tahoma, sans-serif; color: black;"><br /></span></span><span style="font-s
 ize: 12pt;"><span style="font-family: Tahoma, sans-serif; color: black;">Du
 e to the nature of the training, all attendees will be required to sign a w
 aiver of liability and a photo/video release form at the start of the train
 ing.</span></span></p><p><span style="font-family: tahoma, arial, helvetica
 , sans-serif; font-size: 12pt;"><strong><span style="color: blue;"></span><
 /strong></span></p><p><span style="font-size: 12pt;"><em><span style="text-
 decoration: underline;"><span style="font-family: Tahoma, sans-serif; color
 : black; text-decoration: underline;">Prerequisites:</span></span></em><em>
 <span style="font-family: Tahoma, sans-serif; color: black;"> </span></em><
 span style="font-family: Tahoma, sans-serif; color: black;">None</span></sp
 an></p><p><span style="font-size: 12pt;"><em><span style="text-decoration: 
 underline;"><span style="font-family: Tahoma, sans-serif; color: black; tex
 t-decoration: underline;"><br />Class Size:</span></span></em>&nbsp;<span s
 tyle="font-family: Tahoma, sans-serif;">10</span></span></p><p><span style=
 "font-size: 12pt;"><em><span style="text-decoration: underline;"><span styl
 e="font-family: Tahoma, sans-serif; color: black; text-decoration: underlin
 e;"><br />BPI CEU</span></span></em><span style="text-decoration: underline
 ;"><span style="font-family: Tahoma, sans-serif; color: black; text-decorat
 ion: underline;">:</span></span><span style="font-family: Tahoma, sans-seri
 f; color: black;"> 16</span></span></p><p><span style="font-size: 12pt;"><e
 m><span style="text-decoration: underline;"><span style="font-family: Tahom
 a, sans-serif; color: black; text-decoration: underline;"><br /></span></sp
 an></em><em><span style="text-decoration: underline;"><span style="font-fam
 ily: Tahoma, sans-serif; color: black; text-decoration: underline;">Instruc
 tors:</span></span></em><span style="font-family: Tahoma, sans-serif; color
 : black;">, Joe Ilacqua, NYSWDA<br /></span></span></p><p><span style="font
 -size: 12pt;"><em><span style="text-decoration: underline;"><span style="fo
 nt-family: Tahoma, sans-serif; color: black; text-decoration: underline;"><
 br />Course</span></span></em><span style="text-decoration: underline;"><sp
 an style="font-family: Tahoma, sans-serif; color: black; text-decoration: u
 nderline;"> Fees;</span></span><span style="font-family: Tahoma, sans-serif
 ; color: black;"> </span></span></p><p><span style="color: #000000;"><span 
 style="font-family: Tahoma, sans-serif; font-size: 12pt;">$950/person - NY 
 Weatherization Sub-grantees</span><span style="font-family: Tahoma, sans-se
 rif; font-size: 12pt;"><em> </em></span></span></p><p><span style="font-fam
 ily: Tahoma, sans-serif; color: #000000; font-size: 12pt;">$950/person - af
 filiate members </span></p><p><span style="font-family: Tahoma, sans-serif;
  color: #000000; font-size: 12pt;">$1,450/person - non-members </span></p><
 p>&nbsp;</p><p><span style="font-family: Tahoma; font-size: 12pt; color: #0
 00000;">Lunches are included for each day.</span></p><p>&nbsp;</p><p style=
 "margin-top: 0in; margin-right: 0in; margin-bottom: 0pt;"><strong><i><span 
 style="background: white; color: #02613f; font-family: Georgia, serif;"><sp
 an style="font-size: small;">**Special note</span></span></i></strong><stro
 ng><i><span style="background: white; color: black; font-family: Georgia, s
 erif;"><span style="font-size: small;">&nbsp;-&nbsp;if you wish to become a
 n Affiliate Member, and&nbsp;save off the non-member rate, please contact&n
 bsp;Karen McMahon (315-701-0440 ext. 223,&nbsp;</span><span id="cloak39d839
 17cf584d851c7a46c3d30d4b2e">This email address is being protected from spam
 bots. You need JavaScript enabled to view it.</span><script type='text/java
 script'>
				document.getElementById('cloak39d83917cf584d851c7a46c3d30d4b2e
 ').innerHTML = '';
				var prefix = 'ma' + 'il' + 'to';
				var path = 'hr'
  + 'ef' + '=';
				var addy39d83917cf584d851c7a46c3d30d4b2e = 'kmcmahon' + 
 '@';
				addy39d83917cf584d851c7a46c3d30d4b2e = addy39d83917cf584d851c7a46c
 3d30d4b2e + 'nyswda' + '.' + 'org';
				var addy_text39d83917cf584d851c7a46
 c3d30d4b2e = '<span style="color: #0000ff; font-size: small;">kmcmahon' + '
 @' + 'nyswda' + '.' + 'org</span>';document.getElementById('cloak39d83917cf
 584d851c7a46c3d30d4b2e').innerHTML += '<a ' + path + '\'' + prefix + ':' + 
 addy39d83917cf584d851c7a46c3d30d4b2e + '\'>'+addy_text39d83917cf584d851c7a4
 6c3d30d4b2e+'<\/a>';
		</script><span style="font-size: small;">)&nbsp;</sp
 an></span></i></strong><span style="font-size: small;"><strong><span style=
 "background: white; color: #02613f; font-family: Georgia, serif;">BEFORE YO
 U REGISTER&nbsp;</span></strong><em><b><span style="background: white; colo
 r: black; font-family: Georgia, serif;">for the course</span></b></em><stro
 ng><span style="background: white; color: black; font-family: Georgia, seri
 f;">.</span></strong></span></p><p><span style="color: #ff6600; font-family
 : tahoma, arial, helvetica, sans-serif; font-size: 12pt;"><span style="colo
 r: #ff6600; font-family: tahoma, arial, helvetica, sans-serif; font-size: 1
 2pt;"><span style="font-family: 'Times New Roman'; font-size: small;"></spa
 n></span></span>&nbsp;</p><p><span style="color: #ffffff;"></span><span sty
 le="color: black; font-family: Tahoma, sans-serif; font-size: 12pt;">NYSWDA
  will not be responsible for hotel costs, travel to and from the training, 
 breakfast and dinner meals, or incidentals.</span></p><p>&nbsp;&nbsp;</p><p
 ><span style="color: #0000ff;"><em><strong><span style="font-family: tahoma
 , arial, helvetica, sans-serif; font-size: 14pt;"><span style="color: #0000
 ff;"><span style="font-family: tahoma, arial, helvetica, sans-serif; font-s
 ize: 14pt;"><span style="font-family: tahoma, arial, helvetica, sans-serif;
  font-size: 14pt;"><span style="font-family: tahoma, arial, helvetica, sans
 -serif; font-size: 14pt;"><span style="font-family: tahoma,arial,helvetica,
 sans-serif; font-size: 14pt;"><strong><em><strong><span style="color: #ffff
 ff; font-family: tahoma,arial,helvetica,sans-serif; font-size: 14pt;"><span
  style="color: #ff0000;">Only those on the wait list will be notified to re
 gister for this training.&nbsp; Please email</span>&nbsp; <span id="cloakad
 5e40122d05463cdb8a62d0a4705f47">This email address is being protected from 
 spambots. You need JavaScript enabled to view it.</span><script type='text/
 javascript'>
				document.getElementById('cloakad5e40122d05463cdb8a62d0a470
 5f47').innerHTML = '';
				var prefix = 'ma' + 'il' + 'to';
				var path = 
 'hr' + 'ef' + '=';
				var addyad5e40122d05463cdb8a62d0a4705f47 = 'rvisser'
  + '@';
				addyad5e40122d05463cdb8a62d0a4705f47 = addyad5e40122d05463cdb8a
 62d0a4705f47 + 'nyswda' + '.' + 'org';
				var addy_textad5e40122d05463cdb8
 a62d0a4705f47 = '<span style="color: #0066cc;">rvisser' + '@' + 'nyswda' + 
 '.' + 'org</span>';document.getElementById('cloakad5e40122d05463cdb8a62d0a4
 705f47').innerHTML += '<a ' + path + '\'' + prefix + ':' + addyad5e40122d05
 463cdb8a62d0a4705f47 + '\'>'+addy_textad5e40122d05463cdb8a62d0a4705f47+'<\/
 a>';
		</script> <span style="color: #ff0000;">for availability or wait lis
 t</span></span></strong></em><span style="color: #ffffff;"></span></strong>
 <span style="font-family: tahoma, arial, helvetica, sans-serif; font-size: 
 14pt;"></span></span><span style="font-family: tahoma, arial, helvetica, sa
 ns-serif; font-size: 14pt;"></span></span><span style="font-family: tahoma,
  arial, helvetica, sans-serif; font-size: 14pt;"></span></span><em></em><sp
 an style="color: #0000ff;"></span> </span><span style="font-family: tahoma,
  arial, helvetica, sans-serif; font-size: 14pt;"></span><em></em><span styl
 e="color: #0000ff;"></span></span><span style="font-family: tahoma, arial, 
 helvetica, sans-serif; font-size: 14pt;"></span><span style="font-family: t
 ahoma,arial,helvetica,sans-serif; font-size: 14pt;"></span><span style="fon
 t-family: tahoma, arial, helvetica, sans-serif; font-size: 14pt;"></span><s
 pan style="font-family: tahoma, arial, helvetica, sans-serif; font-size: 14
 pt;"></span><em></em><span style="font-family: tahoma, arial, helvetica, sa
 ns-serif; font-size: 14pt; color: #0000ff;"></span></span></strong></em></s
 pan></p>
CONTACT:This email address is being protected from spambots. You need JavaScript enabled to view it.
				document.getElementById('cloak6c513c29092a6ac77e7b795c46d6e62b').innerHTML = '';
				var prefix = '&#109;a' + 'i&#108;' + '&#116;o';
				var path = 'hr' + 'ef' + '=';
				var addy6c513c29092a6ac77e7b795c46d6e62b = 'rv&#105;ss&#101;r' + '&#64;';
				addy6c513c29092a6ac77e7b795c46d6e62b = addy6c513c29092a6ac77e7b795c46d6e62b + 'nyswd&#97;' + '&#46;' + '&#111;rg';
				var addy_text6c513c29092a6ac77e7b795c46d6e62b = 'rv&#105;ss&#101;r' + '&#64;' + 'nyswd&#97;' + '&#46;' + '&#111;rg';document.getElementById('cloak6c513c29092a6ac77e7b795c46d6e62b').innerHTML += '<a ' + path + '\'' + prefix + ':' + addy6c513c29092a6ac77e7b795c46d6e62b + '\'>'+addy_text6c513c29092a6ac77e7b795c46d6e62b+'';
		
DTSTAMP:20260424T161851
DTSTART;TZID=America/New_York:20231113T090000
DTEND;TZID=America/New_York:20231116T170000
SEQUENCE:0
TRANSP:OPAQUE
END:VEVENT
END:VCALENDAR