BEGIN:VCALENDAR
VERSION:2.0
PRODID:-//jEvents 2.0 for Joomla//EN
CALSCALE:GREGORIAN
METHOD:PUBLISH
BEGIN:VTIMEZONE
TZID:America/New_York
BEGIN:STANDARD
DTSTART:20230117T090000
RDATE:20230312T030000
TZOFFSETFROM:-0400
TZOFFSETTO:-0500
TZNAME:America/New_York EST
END:STANDARD
BEGIN:STANDARD
DTSTART:20231105T010000
RDATE:20240310T030000
TZOFFSETFROM:-0400
TZOFFSETTO:-0500
TZNAME:America/New_York EST
END:STANDARD
BEGIN:STANDARD
DTSTART:20241103T010000
RDATE:20250309T030000
TZOFFSETFROM:-0400
TZOFFSETTO:-0500
TZNAME:America/New_York EST
END:STANDARD
BEGIN:STANDARD
DTSTART:20251102T010000
RDATE:20260308T030000
TZOFFSETFROM:-0400
TZOFFSETTO:-0500
TZNAME:America/New_York EST
END:STANDARD
BEGIN:STANDARD
DTSTART:20261101T010000
RDATE:20270314T030000
TZOFFSETFROM:-0400
TZOFFSETTO:-0500
TZNAME:America/New_York EST
END:STANDARD
BEGIN:STANDARD
DTSTART:20271107T010000
RDATE:20280312T030000
TZOFFSETFROM:-0400
TZOFFSETTO:-0500
TZNAME:America/New_York EST
END:STANDARD
BEGIN:STANDARD
DTSTART:20281105T010000
RDATE:20290311T030000
TZOFFSETFROM:-0400
TZOFFSETTO:-0500
TZNAME:America/New_York EST
END:STANDARD
BEGIN:STANDARD
DTSTART:20291104T010000
RDATE:20300310T030000
TZOFFSETFROM:-0400
TZOFFSETTO:-0500
TZNAME:America/New_York EST
END:STANDARD
BEGIN:STANDARD
DTSTART:20301103T010000
RDATE:20310309T030000
TZOFFSETFROM:-0400
TZOFFSETTO:-0500
TZNAME:America/New_York EST
END:STANDARD
BEGIN:DAYLIGHT
DTSTART:20230312T030000
RDATE:20231105T010000
TZOFFSETFROM:-0500
TZOFFSETTO:-0400
TZNAME:America/New_York EDT
END:DAYLIGHT
BEGIN:DAYLIGHT
DTSTART:20240310T030000
RDATE:20241103T010000
TZOFFSETFROM:-0500
TZOFFSETTO:-0400
TZNAME:America/New_York EDT
END:DAYLIGHT
BEGIN:DAYLIGHT
DTSTART:20250309T030000
RDATE:20251102T010000
TZOFFSETFROM:-0500
TZOFFSETTO:-0400
TZNAME:America/New_York EDT
END:DAYLIGHT
BEGIN:DAYLIGHT
DTSTART:20260308T030000
RDATE:20261101T010000
TZOFFSETFROM:-0500
TZOFFSETTO:-0400
TZNAME:America/New_York EDT
END:DAYLIGHT
BEGIN:DAYLIGHT
DTSTART:20270314T030000
RDATE:20271107T010000
TZOFFSETFROM:-0500
TZOFFSETTO:-0400
TZNAME:America/New_York EDT
END:DAYLIGHT
BEGIN:DAYLIGHT
DTSTART:20280312T030000
RDATE:20281105T010000
TZOFFSETFROM:-0500
TZOFFSETTO:-0400
TZNAME:America/New_York EDT
END:DAYLIGHT
BEGIN:DAYLIGHT
DTSTART:20290311T030000
RDATE:20291104T010000
TZOFFSETFROM:-0500
TZOFFSETTO:-0400
TZNAME:America/New_York EDT
END:DAYLIGHT
BEGIN:DAYLIGHT
DTSTART:20300310T030000
RDATE:20301103T010000
TZOFFSETFROM:-0500
TZOFFSETTO:-0400
TZNAME:America/New_York EDT
END:DAYLIGHT
END:VTIMEZONE
BEGIN:VEVENT
UID:249c4b76a75c882e297f82031dc20cb2
CATEGORIES:At Syracuse
CREATED:20231207T131306
SUMMARY:Clean and Tune for Heating Systems
LOCATION:NYSWDA Training Center - East Syracuse
DESCRIPTION:Clean &amp; Tune for Heating Systems\n
 \n
Training Location: NYSWDA Traini
 ng Center (Building 1) – 5869 Fisher Road, East Syracuse, NY 13057\n\n\nThi
 s training is for;\nWeatherization Directors, Auditors, Heating Techs, Heat
 ing Subcontractors\n
 \n
Course Description;\nAgencies working on 1-4 famil
 y dwellings will now have a method of ensuring technicians performing WAP h
 eating services, have HCR and DOE specification on what constitutes a prope
 r heating system clean and tune. Agencies may find the information useful i
 n writing bid proposals, and for inspection of completed work. Heating subc
 ontractors are urged to attend. This course is useful as a first step in pe
 rforming heating system clean and tunes in-house.\n\n
 \n
Agenda;\nMorning 
 session - classroom presentation\nAfternoon session - consists of hands-on 
 lab training on oil boiler and natural gas forced hot air furnace\n
 \n
Dat
 es;\nJanuary 18, 2024 / 9:00am - 4:30pm\n
 \n
\n
Prerequisites: \nHeating &
 amp; Venting Fundamentals\n
 \n
\n
Class Size: 8\n
 \n
BPI CEU's; 3\n
 \n
I
 nstructors; Dave Hill - HVAC instructor - NYSWDA\n
 \n
Course Fees:\n$262/p
 erson - NY Weatherization Sub-grantees\n
$262/person - affiliate members\n

 $380/person - non-members\n
ÂÂ \n
Course fees do not include lunch\n
 \n
**
 Special note - if you wish to become an Affiliate Member, and save off the 
 non-member rate, please contact Karen McMahon (315-701-0440, This email add
 ress is being protected from spambots. You need JavaScript enabled to view 
 it.
				document.getElementById('cloak535ce833ca5436820ef685791dea69d9').in
 nerHTML = '';
				var prefix = 'ma' + 'il' + 'to';
				var path = 'hr' + 'e
 f' + '=';
				var addy535ce833ca5436820ef685791dea69d9 = 'kmcmahon' + '@';

 				addy535ce833ca5436820ef685791dea69d9 = addy535ce833ca5436820ef685791dea
 69d9 + 'nyswda' + '.' + 'org';
				var addy_text535ce833ca5436820ef685791de
 a69d9 = 'kmcmahon' + '@' + 'nyswda' + '.' + 'org';document.getElementById('
 cloak535ce833ca5436820ef685791dea69d9').innerHTML += '<a ' + path + '\'' + 
 prefix + ':' + addy535ce833ca5436820ef685791dea69d9 + '\'>'+addy_text535ce8
 33ca5436820ef685791dea69d9+'';
		) BEFORE YOU REGISTER for the course.\n
 \
 n
Click here to register (index.php?option=com_civicrm&amp;task=civicrm/eve
 nt/register&amp;reset=1&amp;id=14271)\n
 \n
X-ALT-DESC;FMTTYPE=text/html:<p><strong><span style="color: #336699; font-size: 13.5pt;"><span style="fo
 nt-family: tahoma, arial, helvetica, sans-serif;">Clean &amp; Tune for Heat
 ing Systems</span></span></strong></p><p>&nbsp;</p><p><strong><span style="
 color: #336699; font-size: 13.5pt;"><span style="font-family: tahoma, arial
 , helvetica, sans-serif;">Training Location: NYSWDA Training Center (Buildi
 ng 1) – 5869 Fisher Road, East Syracuse, NY 13057</span><br /><br /><br /><
 /span></strong><span style="color: #000000;"><span style="font-family: taho
 ma, arial, helvetica, sans-serif; font-size: 12pt;"><em><span style="text-d
 ecoration: underline;"><span style="font-family: Tahoma;">This training is 
 for;</span></span></em><span style="font-family: Tahoma;"><span style="font
 -family: Tahoma;"><br /></span></span></span><span style="font-family: taho
 ma, arial, helvetica, sans-serif; font-size: 12pt;">Weatherization Director
 s, Auditors, Heating Techs, Heating Subcontractors</span></span></p><p>&nbs
 p;</p><p><span style="color: #000000;"><span style="font-family: tahoma, ar
 ial, helvetica, sans-serif; font-size: 12pt;"><span style="font-family: Tah
 oma;"><span style="font-family: Tahoma;"><span style="font-family: Tahoma;"
 ><span style="font-family: Tahoma;"><span style="text-decoration: underline
 ;"><em><span style="font-family: Tahoma;">Course Description;<br /></span><
 /em></span></span></span></span></span></span><span style="font-family: tah
 oma, arial, helvetica, sans-serif; font-size: 12pt;">Agencies working on 1-
 4 family dwellings will now have a method of ensuring technicians performin
 g WAP heating services, have HCR and DOE specification on what constitutes 
 a proper heating system clean and tune. Agencies may find the information u
 seful in writing bid proposals, and for inspection of completed work. Heati
 ng subcontractors are urged to attend. This course is useful as a first ste
 p in performing heating system clean and tunes in-house.<br /></span><span 
 style="font-family: tahoma, arial, helvetica, sans-serif; font-size: 12pt;"
 ><span style="font-family: Tahoma;"><span style="font-family: Tahoma;"><spa
 n style="font-family: Tahoma;"><span style="font-family: Tahoma;"><span sty
 le="font-family: Tahoma;"><span style="font-family: Tahoma;"><span style="f
 ont-family: Tahoma;"><span style="text-decoration: underline;"><em></em></s
 pan></span></span></span></span></span></span></span></span></span></p><p>&
 nbsp;</p><p><span style="color: #000000;"><span style="font-family: tahoma,
  arial, helvetica, sans-serif; font-size: 12pt;"><span style="font-family: 
 Tahoma;"><span style="font-family: Tahoma;"><span style="font-family: Tahom
 a;"><span style="font-family: Tahoma;"><span style="font-family: Tahoma;"><
 span style="font-family: Tahoma;"><span style="font-family: Tahoma;"><span 
 style="text-decoration: underline;"><em>Agenda;<br /></em></span></span></s
 pan></span></span></span></span></span></span><span style="font-family: tah
 oma, arial, helvetica, sans-serif; font-size: 12pt;">Morning session - clas
 sroom presentation<br />Afternoon session - consists of hands-on lab traini
 ng on oil boiler and natural gas forced hot air furnace</span></span></p><p
 >&nbsp;</p><p><span style="font-family: tahoma, arial, helvetica, sans-seri
 f; font-size: 12pt; color: #000000;"><span style="font-family: Tahoma;"><sp
 an style="font-family: Tahoma;"><span style="font-family: Tahoma;"><span st
 yle="font-family: Tahoma;"><span style="font-family: Tahoma;"><span style="
 font-family: Tahoma;"><span style="font-family: Tahoma;"><span style="text-
 decoration: underline;"><em>Dates;<br /></em></span><span style="font-famil
 y: Tahoma;">January 18, 2024 / 9:00am - 4:30pm</span></span></span></span><
 /span></span></span></span></span></p><p>&nbsp;</p><p><span style="color: #
 000000;"></span></p><p><span style="font-family: tahoma, arial, helvetica, 
 sans-serif; font-size: 12pt; color: #000000;"><span style="font-family: Tah
 oma;"><span style="font-family: Tahoma;"><span style="font-family: Tahoma;"
 ><span style="font-family: Tahoma;"><span style="font-family: Tahoma;"><spa
 n style="font-family: Tahoma;"><span style="font-family: Tahoma;"><span sty
 le="font-family: Tahoma;"><span style="text-decoration: underline;"><em><sp
 an style="font-family: Tahoma;">Prerequisites:</span></em></span><em><span 
 style="font-family: Tahoma;"> <br /></span></em><span style="font-family: T
 ahoma;"><span style="font-family: Tahoma;">Heating &amp; Venting Fundamenta
 ls</span></span></span></span></span></span></span></span></span></span></s
 pan></p><p>&nbsp;</p><p><span style="color: #000000;"></span></p><p><span s
 tyle="font-family: tahoma, arial, helvetica, sans-serif; font-size: 12pt; c
 olor: #000000;"><span style="font-family: Tahoma;"><span style="font-family
 : Tahoma;"><span style="font-family: Tahoma;"><span style="font-family: Tah
 oma;"><span style="font-family: Tahoma;"><span style="font-family: Tahoma;"
 ><span style="font-family: Tahoma;"><span style="font-family: Tahoma;"><spa
 n style="font-family: Tahoma;"><span style="font-family: Tahoma;"><em><span
  style="text-decoration: underline;">Class Size</span></em>: 8</span></span
 ></span></span></span></span></span></span></span></span></span></p><p>&nbs
 p;</p><p><span style="font-family: tahoma, arial, helvetica, sans-serif; fo
 nt-size: 12pt; color: #000000;"><span style="font-family: Tahoma;"><span st
 yle="font-family: Tahoma;"><span style="font-family: Tahoma;"><span style="
 font-family: Tahoma;"><span style="font-family: Tahoma;"><span style="font-
 family: Tahoma;"><span style="font-family: Tahoma;"><span style="font-famil
 y: Tahoma;"><span style="font-family: Tahoma;"><span style="font-family: Ta
 homa;"><span style="text-decoration: underline;"><em>BPI</em> <em>CEU's;</e
 m></span> 3</span></span></span></span></span></span></span></span></span><
 /span></span></p><p>&nbsp;</p><p><span style="font-family: tahoma, arial, h
 elvetica, sans-serif; font-size: 12pt; color: #000000;"><span style="font-f
 amily: Tahoma;"><span style="font-family: Tahoma;"><span style="font-family
 : Tahoma;"><span style="font-family: Tahoma;"><span style="font-family: Tah
 oma;"><span style="font-family: Tahoma;"><span style="font-family: Tahoma;"
 ><span style="font-family: Tahoma;"><span style="font-family: Tahoma;"><spa
 n style="font-family: Tahoma;"><em><span style="text-decoration: underline;
 "><span style="font-family: Tahoma;">Instructors;</span></span></em><span s
 tyle="font-family: Tahoma;">&nbsp;Dave Hill</span><span style="font-family:
  Tahoma;">&nbsp;- HVAC instructor - NYSWDA</span></span></span></span></spa
 n></span></span></span></span></span></span></span></p><p>&nbsp;</p><p><spa
 n style="font-family: tahoma, arial, helvetica, sans-serif; font-size: 12pt
 ; color: #000000;"><span style="font-family: Tahoma;"><span style="font-fam
 ily: Tahoma;"><span style="font-family: Tahoma;"><span style="font-family: 
 Tahoma;"><span style="font-family: Tahoma;"><span style="font-family: Tahom
 a;"><span style="font-family: Tahoma;"><span style="font-family: Tahoma;"><
 span style="font-family: Tahoma;"><span style="font-family: Tahoma;"><span 
 style="font-family: Tahoma;"><em><span style="text-decoration: underline;">
 Cours</span></em><span style="text-decoration: underline;"><em>e Fees:<span
 ></span></em></span><em><br /></em><span style="font-family: Tahoma;">$262/
 person - NY Weatherization Sub-grantees</span></span></span></span></span><
 /span></span></span></span></span></span></span></span></p><p><span style="
 font-family: tahoma, arial, helvetica, sans-serif; font-size: 12pt; color: 
 #000000;"><span style="font-family: Tahoma;"><span style="font-family: Taho
 ma;"><span style="font-family: Tahoma;"><span style="font-family: Tahoma;">
 <span style="font-family: Tahoma;"><span style="font-family: Tahoma;"><span
  style="font-family: Tahoma;"><span style="font-family: Tahoma;"><span styl
 e="font-family: Tahoma;"><span style="font-family: Tahoma;"><span style="fo
 nt-family: Tahoma;"><span style="font-family: Tahoma;">$262/person - affili
 ate members</span></span></span></span></span></span></span></span></span><
 /span></span></span></span></p><p><span style="font-family: tahoma, arial, 
 helvetica, sans-serif; font-size: 12pt; color: #000000;"><span style="font-
 family: Tahoma;"><span style="font-family: Tahoma;"><span style="font-famil
 y: Tahoma;"><span style="font-family: Tahoma;"><span style="font-family: Ta
 homa;"><span style="font-family: Tahoma;"><span style="font-family: Tahoma;
 "><span style="font-family: Tahoma;"><span style="font-family: Tahoma;"><sp
 an style="font-family: Tahoma;"><span style="font-family: Tahoma;"><span st
 yle="font-family: Tahoma;">$380/person - non-members</span></span></span></
 span></span></span></span></span></span></span></span></span></span></p><p>
 <span style="font-family: tahoma, arial, helvetica, sans-serif; font-size: 
 12pt; color: #ffffff;"><span><span style="font-family: Tahoma;"><span style
 ="font-family: Tahoma;"><span style="font-family: Tahoma;"><span style="fon
 t-family: Tahoma;"><span style="font-family: Tahoma;"><span style="font-fam
 ily: Tahoma;"><span style="font-family: Tahoma;"><span style="font-family: 
 Tahoma;"><span style="font-family: Tahoma;"><span style="font-family: Tahom
 a;"><span style="font-family: Tahoma;"><em><span style="font-family: Tahoma
 ;">ÂÂ&nbsp;</span></em></span></span></span></span></span></span></span></s
 pan></span></span></span></span></span></p><p><span style="font-size: 12pt;
  color: #000000;"><strong><em><span style="font-family: Tahoma;">Course fee
 s do not include lunch</span></em></strong></span></p><p>&nbsp;</p><p style
 ="margin-top: 0in; margin-right: 0in; margin-bottom: 0pt;"><strong><i><span
  style="background: white; color: #02613f; font-family: Georgia, 'serif';">
 <span style="font-size: small;">**Special note</span></span></i></strong><s
 trong><i><span style="background: white; color: black; font-family: Georgia
 , 'serif';"><span style="font-size: small;">&nbsp;-&nbsp;if you wish to bec
 ome an Affiliate Member, and&nbsp;save&nbsp;off the non-member rate, please
  contact Karen McMahon (315-701-0440,&nbsp;</span><span id="cloak535ce833ca
 5436820ef685791dea69d9">This email address is being protected from spambots
 . You need JavaScript enabled to view it.</span><script type='text/javascri
 pt'>
				document.getElementById('cloak535ce833ca5436820ef685791dea69d9').i
 nnerHTML = '';
				var prefix = 'ma' + 'il' + 'to';
				var path = 'hr' + '
 ef' + '=';
				var addy535ce833ca5436820ef685791dea69d9 = 'kmcmahon' + '@';
 
				addy535ce833ca5436820ef685791dea69d9 = addy535ce833ca5436820ef685791de
 a69d9 + 'nyswda' + '.' + 'org';
				var addy_text535ce833ca5436820ef685791d
 ea69d9 = '<span style="color: #0000ff; font-size: small;">kmcmahon' + '@' +
  'nyswda' + '.' + 'org</span>';document.getElementById('cloak535ce833ca5436
 820ef685791dea69d9').innerHTML += '<a ' + path + '\'' + prefix + ':' + addy
 535ce833ca5436820ef685791dea69d9 + '\'>'+addy_text535ce833ca5436820ef685791
 dea69d9+'<\/a>';
		</script><span style="font-size: small;">)&nbsp;</span><
 /span></i></strong><span style="font-size: small;"><strong><span style="bac
 kground: white; color: #02613f; font-family: Georgia, 'serif';">BEFORE YOU 
 REGISTER&nbsp;</span></strong><em><b><span style="background: white; color:
  black; font-family: Georgia, 'serif';">for the course</span></b></em><stro
 ng><span style="background: white; color: black; font-family: Georgia, 'ser
 if';">.</span></strong></span></p><p>&nbsp;</p><p><span style="color: #0000
 ff;"><em><strong><span style="font-family: tahoma, arial, helvetica, sans-s
 erif; font-size: 14pt;"><a href="https://www.nyswda.org/index.php?option=co
 m_civicrm&amp;task=civicrm/event/register&amp;reset=1&amp;id=14271" style="
 color: #0000ff;">Click here to register</a></span></strong></em></span></p>
 <p>&nbsp;</p>
CONTACT:This email address is being protected from spambots. You need JavaScript enabled to view it.
				document.getElementById('cloak37bdac1d067fb4c0d996dd0f0fa5d20e').innerHTML = '';
				var prefix = '&#109;a' + 'i&#108;' + '&#116;o';
				var path = 'hr' + 'ef' + '=';
				var addy37bdac1d067fb4c0d996dd0f0fa5d20e = 'rv&#105;ss&#101;r' + '&#64;';
				addy37bdac1d067fb4c0d996dd0f0fa5d20e = addy37bdac1d067fb4c0d996dd0f0fa5d20e + 'nyswd&#97;' + '&#46;' + '&#111;rg';
				var addy_text37bdac1d067fb4c0d996dd0f0fa5d20e = 'rv&#105;ss&#101;r' + '&#64;' + 'nyswd&#97;' + '&#46;' + '&#111;rg';document.getElementById('cloak37bdac1d067fb4c0d996dd0f0fa5d20e').innerHTML += '<a ' + path + '\'' + prefix + ':' + addy37bdac1d067fb4c0d996dd0f0fa5d20e + '\'>'+addy_text37bdac1d067fb4c0d996dd0f0fa5d20e+'';
		
DTSTAMP:20260424T094338
DTSTART;TZID=America/New_York:20240118T090000
DTEND;TZID=America/New_York:20240118T160000
SEQUENCE:0
TRANSP:OPAQUE
END:VEVENT
END:VCALENDAR