BEGIN:VCALENDAR
VERSION:2.0
PRODID:-//jEvents 2.0 for Joomla//EN
CALSCALE:GREGORIAN
METHOD:PUBLISH
BEGIN:VTIMEZONE
TZID:America/New_York
BEGIN:STANDARD
DTSTART:20230304T090000
RDATE:20230312T030000
TZOFFSETFROM:-0400
TZOFFSETTO:-0500
TZNAME:America/New_York EST
END:STANDARD
BEGIN:STANDARD
DTSTART:20231105T010000
RDATE:20240310T030000
TZOFFSETFROM:-0400
TZOFFSETTO:-0500
TZNAME:America/New_York EST
END:STANDARD
BEGIN:STANDARD
DTSTART:20241103T010000
RDATE:20250309T030000
TZOFFSETFROM:-0400
TZOFFSETTO:-0500
TZNAME:America/New_York EST
END:STANDARD
BEGIN:STANDARD
DTSTART:20251102T010000
RDATE:20260308T030000
TZOFFSETFROM:-0400
TZOFFSETTO:-0500
TZNAME:America/New_York EST
END:STANDARD
BEGIN:STANDARD
DTSTART:20261101T010000
RDATE:20270314T030000
TZOFFSETFROM:-0400
TZOFFSETTO:-0500
TZNAME:America/New_York EST
END:STANDARD
BEGIN:STANDARD
DTSTART:20271107T010000
RDATE:20280312T030000
TZOFFSETFROM:-0400
TZOFFSETTO:-0500
TZNAME:America/New_York EST
END:STANDARD
BEGIN:STANDARD
DTSTART:20281105T010000
RDATE:20290311T030000
TZOFFSETFROM:-0400
TZOFFSETTO:-0500
TZNAME:America/New_York EST
END:STANDARD
BEGIN:STANDARD
DTSTART:20291104T010000
RDATE:20300310T030000
TZOFFSETFROM:-0400
TZOFFSETTO:-0500
TZNAME:America/New_York EST
END:STANDARD
BEGIN:STANDARD
DTSTART:20301103T010000
RDATE:20310309T030000
TZOFFSETFROM:-0400
TZOFFSETTO:-0500
TZNAME:America/New_York EST
END:STANDARD
BEGIN:DAYLIGHT
DTSTART:20230312T030000
RDATE:20231105T010000
TZOFFSETFROM:-0500
TZOFFSETTO:-0400
TZNAME:America/New_York EDT
END:DAYLIGHT
BEGIN:DAYLIGHT
DTSTART:20240310T030000
RDATE:20241103T010000
TZOFFSETFROM:-0500
TZOFFSETTO:-0400
TZNAME:America/New_York EDT
END:DAYLIGHT
BEGIN:DAYLIGHT
DTSTART:20250309T030000
RDATE:20251102T010000
TZOFFSETFROM:-0500
TZOFFSETTO:-0400
TZNAME:America/New_York EDT
END:DAYLIGHT
BEGIN:DAYLIGHT
DTSTART:20260308T030000
RDATE:20261101T010000
TZOFFSETFROM:-0500
TZOFFSETTO:-0400
TZNAME:America/New_York EDT
END:DAYLIGHT
BEGIN:DAYLIGHT
DTSTART:20270314T030000
RDATE:20271107T010000
TZOFFSETFROM:-0500
TZOFFSETTO:-0400
TZNAME:America/New_York EDT
END:DAYLIGHT
BEGIN:DAYLIGHT
DTSTART:20280312T030000
RDATE:20281105T010000
TZOFFSETFROM:-0500
TZOFFSETTO:-0400
TZNAME:America/New_York EDT
END:DAYLIGHT
BEGIN:DAYLIGHT
DTSTART:20290311T030000
RDATE:20291104T010000
TZOFFSETFROM:-0500
TZOFFSETTO:-0400
TZNAME:America/New_York EDT
END:DAYLIGHT
BEGIN:DAYLIGHT
DTSTART:20300310T030000
RDATE:20301103T010000
TZOFFSETFROM:-0500
TZOFFSETTO:-0400
TZNAME:America/New_York EDT
END:DAYLIGHT
END:VTIMEZONE
BEGIN:VEVENT
UID:24811f24921dc249083837d0095086ab
CATEGORIES:At Syracuse
CREATED:20240124T142204
SUMMARY:BPI Heating Professional
LOCATION:NYSWDA Training Center - East Syracuse
DESCRIPTION:<p><span style="color: #336699;"><strong><span style="font-family: Tahoma;"
 ><span style="font-size: medium;"><span style="font-family: tahoma,arial,he
 lvetica,sans-serif;"><em></em></span><span style="font-size: 14pt;"><strong
 ><span style="color: #336699;">BPI Heating Professional</span></strong></sp
 an></span></span></strong></span></p><p>&nbsp;</p><p><span style="color: #3
 36699;"><strong><span style="font-family: Tahoma;"><span style="font-size: 
 medium;"><strong><span style="color: #336699; font-size: 13.5pt;">Training<
 /span><span style="color: #336699; font-size: 13.5pt;"> Location: NYSWDA Tr
 aining Center (Building 1) – 5869 Fisher Road, East Syracuse, NY 13057</spa
 n></strong></span></span></strong></span></p><p>&nbsp;</p><p>&nbsp;</p><p><
 span style="color: #ff0000;"><span style="font-family: tahoma, arial, helve
 tica, sans-serif; font-size: 12pt; color: #000000;"></span></span><span sty
 le="color: #336699;"><span style="font-family: Tahoma; font-size: 12pt;"><s
 pan style="color: #000000;"><span style="text-decoration: underline;"><em><
 span>Course Description:<br /></span></em></span></span></span></span><span
  style="color: #336699;"><span style="font-family: Tahoma; font-size: 12pt;
 "><span style="color: #000000;"><span>This four day course, which includes 
 classroom and heating lab sessions, will prepare you to take the BPI Heatin
 g Professional written and field tests. Using NYSWDA's state-of-the art Hea
 ting Lab, attendees will train on 15 of the most common residential heating
  systems, from 70% efficient atmospheric furnaces to 90%+ efficient two-sta
 ge ECM blower furnaces. Additionally, trainees will become knowledgeable on
  gas and oil-fired hydronic boilers, their controls and components. Attende
 es will be introduced to system load and sizing concepts, system design, du
 ct system diagnostics, and proper maintenance and efficiency analysis. This
  is a challenging course, and as such, NYSWDA strongly recommends that atte
 ndees hold BPI Building Analyst certification and have strong HVAC experien
 ce. After the trainees successfully complete the written portion of the tes
 t, we will schedule them to return for the field test.&nbsp; Candidates hav
 e&nbsp;one year from the time they&nbsp;pass the written test to&nbsp;compl
 ete their field test.&nbsp;&nbsp;</span></span></span></span></p><p><span s
 tyle="color: #336699;"><span style="font-family: Tahoma; font-size: 12pt;">
 <span><span style="color: #000000;"><span><span style="font-family: Tahoma;
 "><span style="color: #000000;"><span style="text-decoration: underline;"><
 em><br />Agenda</em><span style="font-family: Arial, Helvetica;"> <br /><sp
 an style="color: #000000;"></span></span></span><span style="font-family: A
 rial, Helvetica;"><span style="color: #000000;"><span style="font-family: T
 imes;"><strong><span style="font-family: Tahoma;">Day 1: </span></strong><s
 pan style="font-family: Tahoma;">AM - classroom / PM - Heating Lab <br /><s
 trong>Day 2: </strong>AM - classroom / PM - Heating Lab <br /><strong>Day 3
 : </strong>AM - all day labs <br /><strong>Day 4: </strong>AM - review / PM
  - written test <br /><br /><span style="text-decoration: underline;"><em><
 br />Who Should Attend:<br /></em></span><em><span style="font-family: Taho
 ma;"></span></em><span style="font-family: Tahoma;"><span style="font-famil
 y: Tahoma;">Auditors, Building Analysts, HVAC professionals<span style="fon
 t-family: Tahoma;"><br /><br /><br /><span style="text-decoration: underlin
 e;"><em><span style="font-family: Tahoma;">Dates;<br /></span></em></span><
 em><span style="font-family: Tahoma;"><span style="font-family: Tahoma;"></
 span></span></em><span style="font-family: Tahoma;"><span style="font-famil
 y: Tahoma;">Course covers the dates of March 4-7, 2024</span></span></span>
 </span></span></span></span></span></span></span></span></span></span></spa
 n></span></span></p><p><span style="color: #336699;"><span style="font-fami
 ly: Tahoma; font-size: 12pt;"><span><span style="color: #000000;"><span><sp
 an style="font-family: Tahoma;"><span style="color: #000000;"><span style="
 font-family: Arial, Helvetica;"><span style="color: #000000;"><span style="
 font-family: Times;"><span style="font-family: Tahoma;"><span style="font-f
 amily: Tahoma;"><span style="font-family: Tahoma;"><span style="font-family
 : Tahoma;"><span style="font-family: Tahoma;"><span style="font-family: Tah
 oma;"><span style="color: #336699;"><span style="font-family: Tahoma; font-
 size: 12pt;"><span><span style="color: #000000;"><span><span style="font-fa
 mily: Tahoma;"><span style="color: #000000;"><span style="font-family: Aria
 l, Helvetica;"><span style="color: #000000;"><span style="font-family: Time
 s;"><span style="font-family: Tahoma;"><span style="font-family: Tahoma;"><
 span style="font-family: Tahoma;"><span style="font-family: Tahoma;"><span 
 style="font-family: Tahoma;"><span style="font-family: Tahoma;">Start Time:
  Tuesday-Friday 9:00am<br />End Time: Tuesday-Thursday 4:00pm / Friday test
  starts at 10:00am (or after the review session) with 1 1/2 hours to comple
 te<br /><br /><br /><span style="text-decoration: underline;"><em><span sty
 le="font-family: Tahoma;">Prerequisites:</span></em></span><em><span style=
 "font-family: Tahoma;"> </span></em><span style="font-family: Tahoma;"><spa
 n style="font-family: Tahoma;">those holding a current BPI certification ar
 e eligible to take a 50 question test.&nbsp; All others would have to sit f
 or a 100 question test (50 questions being relevant to course content and 5
 0 questions on building science which is not included in the course curricu
 lum)<em><span style="font-family: Tahoma;"><br /></span></em><span style="f
 ont-family: Tahoma;"><span style="font-family: Tahoma;"><br /><br /><span s
 tyle="text-decoration: underline;"><em>Class Size</em></span>: 6<br /><br /
 ><br /><span style="text-decoration: underline;"><em>BPI CEU</em>:</span> 6
 <br /><br /><br /><span style="text-decoration: underline;"><em><span style
 ="font-family: Tahoma;">Instructors:<br /></span></em></span><span style="f
 ont-family: Tahoma;">Dave Hill / NYSWDA HVAC trainer<span style="font-famil
 y: Tahoma;"><span style="font-family: Tahoma;"><span style="font-family: Ti
 mes;"><br /><span style="font-family: Tahoma;"><br /><br /><span style="tex
 t-decoration: underline;"><em><span style="font-family: Tahoma;">Course Fee
 s;</span></em></span><em><span style="font-family: Tahoma;"><br /></span></
 em><span style="font-family: Tahoma;"><span style="font-family: Tahoma;">$7
 25/person - NY Weatherization Sub-grantees<span style="color: #ff6600;"> </
 span><br />$725/person - affiliate members&nbsp;<br />$1,450/person - non-m
 embers </span></span></span></span></span></span></span></span></span></spa
 n></span></span></span></span></span></span></span></span></span></span></s
 pan></span></span></span></span></span></span></span></span></span></span><
 /span></span></span></span></span></span></span></span></span></span></span
 ></span></p><p>&nbsp;</p><p style="margin-top: 0in; margin-right: 0in; marg
 in-bottom: 0pt;"><strong><i><span style="background: white; color: #02613f;
  font-family: 'Georgia','serif';"><span style="font-size: small;">**Special
  note</span></span></i></strong><strong><i><span style="background: white; 
 color: black; font-family: 'Georgia','serif';"><span style="font-size: smal
 l;">&nbsp;-&nbsp;if you wish to become an Affiliate Member and&nbsp;save of
 f the non-member rate, please contact&nbsp;Karen McMahon (315-701-0440 ext.
  223,&nbsp;</span><span id="cloak881d4e4ead9f9711ef0ad2810620c6f2">This ema
 il address is being protected from spambots. You need JavaScript enabled to
  view it.</span><script type='text/javascript'>
				document.getElementById
 ('cloak881d4e4ead9f9711ef0ad2810620c6f2').innerHTML = '';
				var prefix = 
 'ma' + 'il' + 'to';
				var path = 'hr' + 'ef' + '=';
				var addy881d4e4ea
 d9f9711ef0ad2810620c6f2 = 'kmcmahon' + '@';
				addy881d4e4ead9f9711ef0ad28
 10620c6f2 = addy881d4e4ead9f9711ef0ad2810620c6f2 + 'nyswda' + '.' + 'org';

 				var addy_text881d4e4ead9f9711ef0ad2810620c6f2 = '<span style="color: #0
 000ff; font-size: small;">kmcmahon' + '@' + 'nyswda' + '.' + 'org</span>';d
 ocument.getElementById('cloak881d4e4ead9f9711ef0ad2810620c6f2').innerHTML +
 = '<a ' + path + '\'' + prefix + ':' + addy881d4e4ead9f9711ef0ad2810620c6f2
  + '\'>'+addy_text881d4e4ead9f9711ef0ad2810620c6f2+'<\/a>';
		</script><spa
 n style="font-size: small;">)&nbsp;</span></span></i></strong><span style="
 font-size: small;"><strong><span style="background: white; color: #02613f; 
 font-family: 'Georgia','serif';">BEFORE YOU REGISTER&nbsp;</span></strong><
 em><b><span style="background: white; color: black; font-family: 'Georgia',
 'serif';">for the course</span></b></em><strong><span style="background: wh
 ite; color: black; font-family: 'Georgia','serif';">.</span></strong></span
 ></p><p>&nbsp;</p><p><span style="color: #ff6600; font-family: tahoma,arial
 ,helvetica,sans-serif; font-size: 12pt;"><span style="font-family: Times Ne
 w Roman; font-size: small;"></span></span><span style="color: #336699;"><sp
 an style="font-family: Tahoma; font-size: 12pt;"><span><span style="color: 
 #000000;"><span><span style="font-family: Tahoma;"><span style="color: #000
 000;"><span style="font-family: Arial, Helvetica;"><span style="color: #000
 000;"><span style="font-family: Times;"><span style="font-family: Tahoma;">
 <span style="font-family: Tahoma;"><span style="font-family: Tahoma;"><span
  style="font-family: Tahoma;"><span style="font-family: Tahoma;"><span styl
 e="font-family: Tahoma;"><span style="font-family: Tahoma;"><span style="fo
 nt-family: Tahoma;"><span style="font-family: Tahoma;"><span style="font-fa
 mily: Tahoma;"><span style="font-family: Tahoma;"><span style="font-family:
  Tahoma;"><span style="font-family: Tahoma;"><span style="font-family: Time
 s;"><span style="font-family: Tahoma;"><span style="font-family: Tahoma;"><
 span style="font-family: Tahoma;"><span style="font-family: Tahoma;">NYSWDA
  will not be responsible for hotel costs, travel to and from the training, 
 breakfast and dinner meals, or incidentals. Lunches are ARE NOT included.<b
 r /><br /><em>(Financial assistance may be available from local NYS Departm
 ent of Labor One-Stop Centers)</em><span style="font-family: Times;"><br />
 <span style="font-family: Tahoma;"><br /><span style="text-decoration: unde
 rline;"><em>BPI Fees;<br /></em></span><span style="font-family: Tahoma;">$
 220/person - 50-question written test<br />$550/person - Field test</span><
 /span></span></span></span></span></span></span></span></span></span></span
 ></span></span></span></span></span></span></span></span></span></span></sp
 an></span></span></span></span></span></span></span></span></p><p>&nbsp;</p
 ><p><span style="color: #0000ff;"><em><strong><span style="font-size: 14pt;
 "><span style="font-family: Tahoma;"><span style="font-family: Tahoma;"><sp
 an style="font-family: Arial, Helvetica;"><span style="font-family: Times;"
 ><span style="font-family: Tahoma;"><span style="font-family: Tahoma;"><spa
 n style="font-family: Tahoma;"><span style="font-family: Tahoma;"><span sty
 le="font-family: Tahoma;"><span style="font-family: Tahoma;"><span style="f
 ont-family: Tahoma;"><span style="font-family: Tahoma;"><span style="font-f
 amily: Tahoma;"><span style="font-family: Tahoma;"><span style="font-family
 : Tahoma;"><span style="font-family: Tahoma;"><span style="font-family: Tah
 oma;"><span style="font-family: Times;"><span style="font-family: Tahoma;">
 <span style="font-family: Tahoma;"><span style="font-family: Tahoma;"><span
  style="font-family: Tahoma;"><span style="font-family: Times;"><span style
 ="font-family: Tahoma;"><span style="font-family: Tahoma;"><a href="index.p
 hp?option=com_civicrm&amp;task=civicrm/event/register&amp;reset=1&amp;id=14
 285" style="color: #0000ff;">Click here to register</a></span></span></span
 ></span></span></span></span></span></span></span></span></span></span></sp
 an></span></span></span></span></span></span></span></span></span></span></
 span></span></strong></em></span></p>
X-ALT-DESC;FMTTYPE=text/html:<p><span style="color: #336699;"><strong><span style="font-family: Tahoma;"
 ><span style="font-size: medium;"><span style="font-family: tahoma,arial,he
 lvetica,sans-serif;"><em></em></span><span style="font-size: 14pt;"><strong
 ><span style="color: #336699;">BPI Heating Professional</span></strong></sp
 an></span></span></strong></span></p><p>&nbsp;</p><p><span style="color: #3
 36699;"><strong><span style="font-family: Tahoma;"><span style="font-size: 
 medium;"><strong><span style="color: #336699; font-size: 13.5pt;">Training<
 /span><span style="color: #336699; font-size: 13.5pt;"> Location: NYSWDA Tr
 aining Center (Building 1) – 5869 Fisher Road, East Syracuse, NY 13057</spa
 n></strong></span></span></strong></span></p><p>&nbsp;</p><p>&nbsp;</p><p><
 span style="color: #ff0000;"><span style="font-family: tahoma, arial, helve
 tica, sans-serif; font-size: 12pt; color: #000000;"></span></span><span sty
 le="color: #336699;"><span style="font-family: Tahoma; font-size: 12pt;"><s
 pan style="color: #000000;"><span style="text-decoration: underline;"><em><
 span>Course Description:<br /></span></em></span></span></span></span><span
  style="color: #336699;"><span style="font-family: Tahoma; font-size: 12pt;
 "><span style="color: #000000;"><span>This four day course, which includes 
 classroom and heating lab sessions, will prepare you to take the BPI Heatin
 g Professional written and field tests. Using NYSWDA's state-of-the art Hea
 ting Lab, attendees will train on 15 of the most common residential heating
  systems, from 70% efficient atmospheric furnaces to 90%+ efficient two-sta
 ge ECM blower furnaces. Additionally, trainees will become knowledgeable on
  gas and oil-fired hydronic boilers, their controls and components. Attende
 es will be introduced to system load and sizing concepts, system design, du
 ct system diagnostics, and proper maintenance and efficiency analysis. This
  is a challenging course, and as such, NYSWDA strongly recommends that atte
 ndees hold BPI Building Analyst certification and have strong HVAC experien
 ce. After the trainees successfully complete the written portion of the tes
 t, we will schedule them to return for the field test.&nbsp; Candidates hav
 e&nbsp;one year from the time they&nbsp;pass the written test to&nbsp;compl
 ete their field test.&nbsp;&nbsp;</span></span></span></span></p><p><span s
 tyle="color: #336699;"><span style="font-family: Tahoma; font-size: 12pt;">
 <span><span style="color: #000000;"><span><span style="font-family: Tahoma;
 "><span style="color: #000000;"><span style="text-decoration: underline;"><
 em><br />Agenda</em><span style="font-family: Arial, Helvetica;"> <br /><sp
 an style="color: #000000;"></span></span></span><span style="font-family: A
 rial, Helvetica;"><span style="color: #000000;"><span style="font-family: T
 imes;"><strong><span style="font-family: Tahoma;">Day 1: </span></strong><s
 pan style="font-family: Tahoma;">AM - classroom / PM - Heating Lab <br /><s
 trong>Day 2: </strong>AM - classroom / PM - Heating Lab <br /><strong>Day 3
 : </strong>AM - all day labs <br /><strong>Day 4: </strong>AM - review / PM
  - written test <br /><br /><span style="text-decoration: underline;"><em><
 br />Who Should Attend:<br /></em></span><em><span style="font-family: Taho
 ma;"></span></em><span style="font-family: Tahoma;"><span style="font-famil
 y: Tahoma;">Auditors, Building Analysts, HVAC professionals<span style="fon
 t-family: Tahoma;"><br /><br /><br /><span style="text-decoration: underlin
 e;"><em><span style="font-family: Tahoma;">Dates;<br /></span></em></span><
 em><span style="font-family: Tahoma;"><span style="font-family: Tahoma;"></
 span></span></em><span style="font-family: Tahoma;"><span style="font-famil
 y: Tahoma;">Course covers the dates of March 4-7, 2024</span></span></span>
 </span></span></span></span></span></span></span></span></span></span></spa
 n></span></span></p><p><span style="color: #336699;"><span style="font-fami
 ly: Tahoma; font-size: 12pt;"><span><span style="color: #000000;"><span><sp
 an style="font-family: Tahoma;"><span style="color: #000000;"><span style="
 font-family: Arial, Helvetica;"><span style="color: #000000;"><span style="
 font-family: Times;"><span style="font-family: Tahoma;"><span style="font-f
 amily: Tahoma;"><span style="font-family: Tahoma;"><span style="font-family
 : Tahoma;"><span style="font-family: Tahoma;"><span style="font-family: Tah
 oma;"><span style="color: #336699;"><span style="font-family: Tahoma; font-
 size: 12pt;"><span><span style="color: #000000;"><span><span style="font-fa
 mily: Tahoma;"><span style="color: #000000;"><span style="font-family: Aria
 l, Helvetica;"><span style="color: #000000;"><span style="font-family: Time
 s;"><span style="font-family: Tahoma;"><span style="font-family: Tahoma;"><
 span style="font-family: Tahoma;"><span style="font-family: Tahoma;"><span 
 style="font-family: Tahoma;"><span style="font-family: Tahoma;">Start Time:
  Tuesday-Friday 9:00am<br />End Time: Tuesday-Thursday 4:00pm / Friday test
  starts at 10:00am (or after the review session) with 1 1/2 hours to comple
 te<br /><br /><br /><span style="text-decoration: underline;"><em><span sty
 le="font-family: Tahoma;">Prerequisites:</span></em></span><em><span style=
 "font-family: Tahoma;"> </span></em><span style="font-family: Tahoma;"><spa
 n style="font-family: Tahoma;">those holding a current BPI certification ar
 e eligible to take a 50 question test.&nbsp; All others would have to sit f
 or a 100 question test (50 questions being relevant to course content and 5
 0 questions on building science which is not included in the course curricu
 lum)<em><span style="font-family: Tahoma;"><br /></span></em><span style="f
 ont-family: Tahoma;"><span style="font-family: Tahoma;"><br /><br /><span s
 tyle="text-decoration: underline;"><em>Class Size</em></span>: 6<br /><br /
 ><br /><span style="text-decoration: underline;"><em>BPI CEU</em>:</span> 6
 <br /><br /><br /><span style="text-decoration: underline;"><em><span style
 ="font-family: Tahoma;">Instructors:<br /></span></em></span><span style="f
 ont-family: Tahoma;">Dave Hill / NYSWDA HVAC trainer<span style="font-famil
 y: Tahoma;"><span style="font-family: Tahoma;"><span style="font-family: Ti
 mes;"><br /><span style="font-family: Tahoma;"><br /><br /><span style="tex
 t-decoration: underline;"><em><span style="font-family: Tahoma;">Course Fee
 s;</span></em></span><em><span style="font-family: Tahoma;"><br /></span></
 em><span style="font-family: Tahoma;"><span style="font-family: Tahoma;">$7
 25/person - NY Weatherization Sub-grantees<span style="color: #ff6600;"> </
 span><br />$725/person - affiliate members&nbsp;<br />$1,450/person - non-m
 embers </span></span></span></span></span></span></span></span></span></spa
 n></span></span></span></span></span></span></span></span></span></span></s
 pan></span></span></span></span></span></span></span></span></span></span><
 /span></span></span></span></span></span></span></span></span></span></span
 ></span></p><p>&nbsp;</p><p style="margin-top: 0in; margin-right: 0in; marg
 in-bottom: 0pt;"><strong><i><span style="background: white; color: #02613f;
  font-family: 'Georgia','serif';"><span style="font-size: small;">**Special
  note</span></span></i></strong><strong><i><span style="background: white; 
 color: black; font-family: 'Georgia','serif';"><span style="font-size: smal
 l;">&nbsp;-&nbsp;if you wish to become an Affiliate Member and&nbsp;save of
 f the non-member rate, please contact&nbsp;Karen McMahon (315-701-0440 ext.
  223,&nbsp;</span><span id="cloak881d4e4ead9f9711ef0ad2810620c6f2">This ema
 il address is being protected from spambots. You need JavaScript enabled to
  view it.</span><script type='text/javascript'>
				document.getElementById
 ('cloak881d4e4ead9f9711ef0ad2810620c6f2').innerHTML = '';
				var prefix = 
 'ma' + 'il' + 'to';
				var path = 'hr' + 'ef' + '=';
				var addy881d4e4ea
 d9f9711ef0ad2810620c6f2 = 'kmcmahon' + '@';
				addy881d4e4ead9f9711ef0ad28
 10620c6f2 = addy881d4e4ead9f9711ef0ad2810620c6f2 + 'nyswda' + '.' + 'org';

 				var addy_text881d4e4ead9f9711ef0ad2810620c6f2 = '<span style="color: #0
 000ff; font-size: small;">kmcmahon' + '@' + 'nyswda' + '.' + 'org</span>';d
 ocument.getElementById('cloak881d4e4ead9f9711ef0ad2810620c6f2').innerHTML +
 = '<a ' + path + '\'' + prefix + ':' + addy881d4e4ead9f9711ef0ad2810620c6f2
  + '\'>'+addy_text881d4e4ead9f9711ef0ad2810620c6f2+'<\/a>';
		</script><spa
 n style="font-size: small;">)&nbsp;</span></span></i></strong><span style="
 font-size: small;"><strong><span style="background: white; color: #02613f; 
 font-family: 'Georgia','serif';">BEFORE YOU REGISTER&nbsp;</span></strong><
 em><b><span style="background: white; color: black; font-family: 'Georgia',
 'serif';">for the course</span></b></em><strong><span style="background: wh
 ite; color: black; font-family: 'Georgia','serif';">.</span></strong></span
 ></p><p>&nbsp;</p><p><span style="color: #ff6600; font-family: tahoma,arial
 ,helvetica,sans-serif; font-size: 12pt;"><span style="font-family: Times Ne
 w Roman; font-size: small;"></span></span><span style="color: #336699;"><sp
 an style="font-family: Tahoma; font-size: 12pt;"><span><span style="color: 
 #000000;"><span><span style="font-family: Tahoma;"><span style="color: #000
 000;"><span style="font-family: Arial, Helvetica;"><span style="color: #000
 000;"><span style="font-family: Times;"><span style="font-family: Tahoma;">
 <span style="font-family: Tahoma;"><span style="font-family: Tahoma;"><span
  style="font-family: Tahoma;"><span style="font-family: Tahoma;"><span styl
 e="font-family: Tahoma;"><span style="font-family: Tahoma;"><span style="fo
 nt-family: Tahoma;"><span style="font-family: Tahoma;"><span style="font-fa
 mily: Tahoma;"><span style="font-family: Tahoma;"><span style="font-family:
  Tahoma;"><span style="font-family: Tahoma;"><span style="font-family: Time
 s;"><span style="font-family: Tahoma;"><span style="font-family: Tahoma;"><
 span style="font-family: Tahoma;"><span style="font-family: Tahoma;">NYSWDA
  will not be responsible for hotel costs, travel to and from the training, 
 breakfast and dinner meals, or incidentals. Lunches are ARE NOT included.<b
 r /><br /><em>(Financial assistance may be available from local NYS Departm
 ent of Labor One-Stop Centers)</em><span style="font-family: Times;"><br />
 <span style="font-family: Tahoma;"><br /><span style="text-decoration: unde
 rline;"><em>BPI Fees;<br /></em></span><span style="font-family: Tahoma;">$
 220/person - 50-question written test<br />$550/person - Field test</span><
 /span></span></span></span></span></span></span></span></span></span></span
 ></span></span></span></span></span></span></span></span></span></span></sp
 an></span></span></span></span></span></span></span></span></p><p>&nbsp;</p
 ><p><span style="color: #0000ff;"><em><strong><span style="font-size: 14pt;
 "><span style="font-family: Tahoma;"><span style="font-family: Tahoma;"><sp
 an style="font-family: Arial, Helvetica;"><span style="font-family: Times;"
 ><span style="font-family: Tahoma;"><span style="font-family: Tahoma;"><spa
 n style="font-family: Tahoma;"><span style="font-family: Tahoma;"><span sty
 le="font-family: Tahoma;"><span style="font-family: Tahoma;"><span style="f
 ont-family: Tahoma;"><span style="font-family: Tahoma;"><span style="font-f
 amily: Tahoma;"><span style="font-family: Tahoma;"><span style="font-family
 : Tahoma;"><span style="font-family: Tahoma;"><span style="font-family: Tah
 oma;"><span style="font-family: Times;"><span style="font-family: Tahoma;">
 <span style="font-family: Tahoma;"><span style="font-family: Tahoma;"><span
  style="font-family: Tahoma;"><span style="font-family: Times;"><span style
 ="font-family: Tahoma;"><span style="font-family: Tahoma;"><a href="https:/
 /www.nyswda.org/index.php?option=com_civicrm&amp;task=civicrm/event/registe
 r&amp;reset=1&amp;id=14285" style="color: #0000ff;">Click here to register<
 /a></span></span></span></span></span></span></span></span></span></span></
 span></span></span></span></span></span></span></span></span></span></span>
 </span></span></span></span></span></strong></em></span></p>
CONTACT:This email address is being protected from spambots. You need JavaScript enabled to view it.
				document.getElementById('cloak99a4361f8ee31933268c36e8f9e6aee4').innerHTML = '';
				var prefix = '&#109;a' + 'i&#108;' + '&#116;o';
				var path = 'hr' + 'ef' + '=';
				var addy99a4361f8ee31933268c36e8f9e6aee4 = 'rv&#105;ss&#101;r' + '&#64;';
				addy99a4361f8ee31933268c36e8f9e6aee4 = addy99a4361f8ee31933268c36e8f9e6aee4 + 'nyswd&#97;' + '&#46;' + '&#111;rg';
				var addy_text99a4361f8ee31933268c36e8f9e6aee4 = 'rv&#105;ss&#101;r' + '&#64;' + 'nyswd&#97;' + '&#46;' + '&#111;rg';document.getElementById('cloak99a4361f8ee31933268c36e8f9e6aee4').innerHTML += '<a ' + path + '\'' + prefix + ':' + addy99a4361f8ee31933268c36e8f9e6aee4 + '\'>'+addy_text99a4361f8ee31933268c36e8f9e6aee4+'';
		
DTSTAMP:20260424T093836
DTSTART;TZID=America/New_York:20240304T090000
DTEND;TZID=America/New_York:20240307T170000
SEQUENCE:0
TRANSP:OPAQUE
END:VEVENT
END:VCALENDAR