BEGIN:VCALENDAR
VERSION:2.0
PRODID:-//jEvents 2.0 for Joomla//EN
CALSCALE:GREGORIAN
METHOD:PUBLISH
BEGIN:VTIMEZONE
TZID:America/New_York
BEGIN:STANDARD
DTSTART:20231105T010000
RDATE:20240310T030000
TZOFFSETFROM:-0400
TZOFFSETTO:-0500
TZNAME:America/New_York EST
END:STANDARD
BEGIN:STANDARD
DTSTART:20241103T010000
RDATE:20250309T030000
TZOFFSETFROM:-0400
TZOFFSETTO:-0500
TZNAME:America/New_York EST
END:STANDARD
BEGIN:STANDARD
DTSTART:20251102T010000
RDATE:20260308T030000
TZOFFSETFROM:-0400
TZOFFSETTO:-0500
TZNAME:America/New_York EST
END:STANDARD
BEGIN:STANDARD
DTSTART:20261101T010000
RDATE:20270314T030000
TZOFFSETFROM:-0400
TZOFFSETTO:-0500
TZNAME:America/New_York EST
END:STANDARD
BEGIN:STANDARD
DTSTART:20271107T010000
RDATE:20280312T030000
TZOFFSETFROM:-0400
TZOFFSETTO:-0500
TZNAME:America/New_York EST
END:STANDARD
BEGIN:STANDARD
DTSTART:20281105T010000
RDATE:20290311T030000
TZOFFSETFROM:-0400
TZOFFSETTO:-0500
TZNAME:America/New_York EST
END:STANDARD
BEGIN:STANDARD
DTSTART:20291104T010000
RDATE:20300310T030000
TZOFFSETFROM:-0400
TZOFFSETTO:-0500
TZNAME:America/New_York EST
END:STANDARD
BEGIN:STANDARD
DTSTART:20301103T010000
RDATE:20310309T030000
TZOFFSETFROM:-0400
TZOFFSETTO:-0500
TZNAME:America/New_York EST
END:STANDARD
BEGIN:DAYLIGHT
DTSTART:20230410T090000
RDATE:20231105T010000
TZOFFSETFROM:-0500
TZOFFSETTO:-0400
TZNAME:America/New_York EDT
END:DAYLIGHT
BEGIN:DAYLIGHT
DTSTART:20240310T030000
RDATE:20241103T010000
TZOFFSETFROM:-0500
TZOFFSETTO:-0400
TZNAME:America/New_York EDT
END:DAYLIGHT
BEGIN:DAYLIGHT
DTSTART:20250309T030000
RDATE:20251102T010000
TZOFFSETFROM:-0500
TZOFFSETTO:-0400
TZNAME:America/New_York EDT
END:DAYLIGHT
BEGIN:DAYLIGHT
DTSTART:20260308T030000
RDATE:20261101T010000
TZOFFSETFROM:-0500
TZOFFSETTO:-0400
TZNAME:America/New_York EDT
END:DAYLIGHT
BEGIN:DAYLIGHT
DTSTART:20270314T030000
RDATE:20271107T010000
TZOFFSETFROM:-0500
TZOFFSETTO:-0400
TZNAME:America/New_York EDT
END:DAYLIGHT
BEGIN:DAYLIGHT
DTSTART:20280312T030000
RDATE:20281105T010000
TZOFFSETFROM:-0500
TZOFFSETTO:-0400
TZNAME:America/New_York EDT
END:DAYLIGHT
BEGIN:DAYLIGHT
DTSTART:20290311T030000
RDATE:20291104T010000
TZOFFSETFROM:-0500
TZOFFSETTO:-0400
TZNAME:America/New_York EDT
END:DAYLIGHT
BEGIN:DAYLIGHT
DTSTART:20300310T030000
RDATE:20301103T010000
TZOFFSETFROM:-0500
TZOFFSETTO:-0400
TZNAME:America/New_York EDT
END:DAYLIGHT
END:VTIMEZONE
BEGIN:VEVENT
UID:1e12e1fe054b7da697f23ca9dfc87920
CATEGORIES:At Syracuse
CREATED:20240215T121617
SUMMARY:EPA RRP Lead Renovator Certification
LOCATION:NYSWDA Training Center - East Syracuse
DESCRIPTION:EPA RRP Lead Renovator (Initial) \n
 \n
Location:  NYSWDA Training Center -
  5869 Fisher Road, East Syracuse, NY  13057\n
 \n
 \n
This training is for:
 \nClass open to all attendees, including construction and weatherization co
 ntractors.\n\n\nCourse Description:\nThe US Environmental Protection Agency
  (EPA) published the Lead; Renovation, Repair and Painting Program that req
 uires each contractor working on pre-1978 residences to have an EPA Certifi
 ed Renovator on-site while jobs are set up and cleaned up. The certified pe
 rson will be responsible for documenting that all work was done in a lead s
 afe manner. \n\nThis is a 1-day course with approximately 6 hours classroom
  and 2 hours hands-on lab work, followed by a multiple choice written test.
  Upon course completion, attendees will receive a Lead Renovator card from 
 the training provider (NYSWDA). This certification requires a five year ren
 ewal.\n\n\nPrerequisites: \nfor WAP only- must have completed the One-Day L
 ead Safe Weatherization training\n\n\nClass Size: 8\n\n\nBPI CEU: 4\n\n\nIn
 structor: \nAl McMahon, EPA qualified RRP Lead Renovator Instructor\n\n\nCo
 urse Fees: \n$172/person - NY Weatherization Sub-grantees\n$172/person - af
 filiate members\n$250/person - non-members \n
 \n
Course fees include DO NO
 T include lunch \n
 \n
**Special note - if you wish to become an Affiliate 
 Member, and save off the non-member rate, please contact Karen McMahon (315
 -701-0440 ext. 223, This email address is being protected from spambots. Yo
 u need JavaScript enabled to view it.
				document.getElementById('cloak629
 6278dab71219fa88328e80db9062e').innerHTML = '';
				var prefix = 'ma' + 'il
 ' + 'to';
				var path = 'hr' + 'ef' + '=';
				var addy6296278dab71219fa88
 328e80db9062e = 'kmcmahon' + '@';
				addy6296278dab71219fa88328e80db9062e 
 = addy6296278dab71219fa88328e80db9062e + 'nyswda' + '.' + 'org';
				var ad
 dy_text6296278dab71219fa88328e80db9062e = 'kmcmahon' + '@' + 'nyswda' + '.'
  + 'org';document.getElementById('cloak6296278dab71219fa88328e80db9062e').i
 nnerHTML += '<a ' + path + '\'' + prefix + ':' + addy6296278dab71219fa88328
 e80db9062e + '\'>'+addy_text6296278dab71219fa88328e80db9062e+'';
		) BEFORE
  YOU REGISTER for the course.\n
 \n
CLASS FULL - call or email  This email 
 address is being protected from spambots. You need JavaScript enabled to vi
 ew it.
				document.getElementById('cloak5c5f4776fe4a0af43ead4c8ce9a27652')
 .innerHTML = '';
				var prefix = '&amp;#109;a' + 'i&amp;#108;' + '&amp;#11
 6;o';
				var path = 'hr' + 'ef' + '=';
				var addy5c5f4776fe4a0af43ead4c8
 ce9a27652 = 'rv&amp;#105;ss&amp;#101;r' + '&amp;#64;';
				addy5c5f4776fe4a
 0af43ead4c8ce9a27652 = addy5c5f4776fe4a0af43ead4c8ce9a27652 + 'nyswd&amp;#9
 7;' + '&amp;#46;' + '&amp;#111;rg';
				var addy_text5c5f4776fe4a0af43ead4c
 8ce9a27652 = 'rv&amp;#105;ss&amp;#101;r' + '&amp;#64;' + 'nyswd&amp;#97;' +
  '&amp;#46;' + '&amp;#111;rg';document.getElementById('cloak5c5f4776fe4a0af
 43ead4c8ce9a27652').innerHTML += '&lt;a ' + path + '\'' + prefix + ':' + ad
 dy5c5f4776fe4a0af43ead4c8ce9a27652 + '\'&gt;'+addy_text5c5f4776fe4a0af43ead
 4c8ce9a27652+'&lt;\/a&gt;';
		 (mailto:rvisser@nyswda.org) for availability
  or wait list\n
X-ALT-DESC;FMTTYPE=text/html:<p><span style="color: #336699;"><span style="font-family: Tahoma;"><span s
 tyle="font-size: medium;"><span style="color: #000000;"><span style="font-f
 amily: Arial, Helvetica;"><span style="font-size: x-small;"><span style="fo
 nt-family: Tahoma;"><span style="font-size: small;"><span style="font-famil
 y: Tahoma;"><span style="font-family: Tahoma;"><span style="font-family: Ta
 homa;"><span style="font-family: Arial, Helvetica;"><span style="font-size:
  x-small;"><span style="font-family: Tahoma;"><span style="font-size: small
 ;"><span style="font-family: Tahoma;"><span style="font-family: Tahoma;"><s
 pan style="font-family: Arial, Helvetica;"><span style="font-size: x-small;
 "><span style="font-family: Tahoma;"><span style="font-size: small;"><span 
 style="font-family: Arial, Helvetica;"><span style="font-size: x-small;"><s
 pan style="font-family: Tahoma;"><span style="font-size: small;"><span styl
 e="font-family: Arial, Helvetica;"><span style="font-size: x-small;"><span 
 style="font-family: Tahoma;"><span style="font-size: small;"><span style="f
 ont-family: Arial, Helvetica;"><span style="font-size: x-small;"><span styl
 e="color: #000000;"><span style="font-family: Tahoma;"><span style="font-si
 ze: small;"><span style="color: #000000;"><span style="font-family: Tahoma;
 "><span style="font-family: Tahoma;"><span><span style="color: #336699;"><s
 pan style="font-family: Tahoma;"><span style="font-size: medium;"></span></
 span></span><span style="color: #336699; font-family: tahoma,arial,helvetic
 a,sans-serif; font-size: 14pt;"><span><span><span style="color: #000000;"><
 span><span><span><strong><span style="color: #336699;">EPA RRP Lead Renovat
 or (Initial) </span></strong></span></span></span></span></span></span></sp
 an></span></span></span></span></span></span></span></span></span></span></
 span></span></span></span></span></span></span></span></span></span></span>
 </span></span></span></span></span></span></span></span></span></span></spa
 n></span></span></span></span></span></span></p><p>&nbsp;</p><p><span style
 ="color: #336699;"><span style="font-family: Tahoma;"><span style="font-siz
 e: medium;"><span style="color: #000000;"><span style="font-family: Arial, 
 Helvetica;"><span style="font-size: x-small;"><span style="font-family: Tah
 oma;"><span style="font-size: small;"><span style="font-family: Tahoma;"><s
 pan style="font-family: Tahoma;"><span style="font-family: Tahoma;"><span s
 tyle="font-family: Arial, Helvetica;"><span style="font-size: x-small;"><sp
 an style="font-family: Tahoma;"><span style="font-size: small;"><span style
 ="font-family: Tahoma;"><span style="font-family: Tahoma;"><span style="fon
 t-family: Arial, Helvetica;"><span style="font-size: x-small;"><span style=
 "font-family: Tahoma;"><span style="font-size: small;"><span style="font-fa
 mily: Arial, Helvetica;"><span style="font-size: x-small;"><span style="fon
 t-family: Tahoma;"><span style="font-size: small;"><span style="font-family
 : Arial, Helvetica;"><span style="font-size: x-small;"><span style="font-fa
 mily: Tahoma;"><span style="font-size: small;"><span style="font-family: Ar
 ial, Helvetica;"><span style="font-size: x-small;"><span style="color: #000
 000;"><span style="font-family: Tahoma;"><span style="font-size: small;"><s
 pan style="color: #000000;"><span style="font-family: Tahoma;"><span style=
 "font-family: Tahoma;"><span><span style="color: #336699; font-family: taho
 ma,arial,helvetica,sans-serif; font-size: 14pt;"><span><span><span style="c
 olor: #000000;"><span><span><span><strong><span style="color: #336699;">Loc
 ation:&nbsp; NYSWDA Training Center - 5869 Fisher Road, East Syracuse, NY&n
 bsp; 13057</span></strong></span></span></span></span></span></span></span>
 </span></span></span></span></span></span></span></span></span></span></spa
 n></span></span></span></span></span></span></span></span></span></span></s
 pan></span></span></span></span></span></span></span></span></span></span><
 /span></span></span></span></span></span></p><p>&nbsp;</p><p><span style="c
 olor: #336699;"><span style="font-family: Tahoma;"><span style="font-size: 
 medium;"><span style="color: #000000;"><span style="font-family: Arial, Hel
 vetica;"><span style="font-size: x-small;"><span style="font-family: Tahoma
 ;"><span style="font-size: small;"><span style="font-family: Tahoma;"><span
  style="font-family: Tahoma;"><span style="font-family: Tahoma;"><span styl
 e="font-family: Arial, Helvetica;"><span style="font-size: x-small;"><span 
 style="font-family: Tahoma;"><span style="font-size: small;"><span style="f
 ont-family: Tahoma;"><span style="font-family: Tahoma;"><span style="font-f
 amily: Arial, Helvetica;"><span style="font-size: x-small;"><span style="fo
 nt-family: Tahoma;"><span style="font-size: small;"><span style="font-famil
 y: Arial, Helvetica;"><span style="font-size: x-small;"><span style="font-f
 amily: Tahoma;"><span style="font-size: small;"><span style="font-family: A
 rial, Helvetica;"><span style="font-size: x-small;"><span style="font-famil
 y: Tahoma;"><span style="font-size: small;"><span style="font-family: Arial
 , Helvetica;"><span style="font-size: x-small;"><span style="color: #000000
 ;"><span style="font-family: Tahoma;"><span style="font-size: small;"><span
  style="color: #000000;"><span style="font-family: Tahoma;"><span style="fo
 nt-family: Tahoma;"><span><span style="color: #336699;"><span style="font-f
 amily: Tahoma;"><span style="font-size: medium;"><span style="color: #00000
 0;"><span style="font-family: Arial, Helvetica;"><span style="font-size: x-
 small;"><span><span style="font-size: small;"></span></span></span></span><
 /span></span></span></span></span></span></span></span></span></span></span
 ></span></span></span></span></span></span></span></span></span></span></sp
 an></span></span></span></span></span></span></span></span></span></span></
 span></span></span></span></span></span></span></span></span></span>&nbsp;<
 /p><p><span style="color: #336699;"><span style="font-family: Tahoma;"><spa
 n style="font-size: medium;"><span style="color: #000000;"><span style="fon
 t-family: Arial, Helvetica;"><span style="font-size: x-small;"><span style=
 "font-family: Tahoma;"><span style="font-size: small;"><span style="font-fa
 mily: Tahoma;"><span style="font-family: Tahoma;"><span style="font-family:
  Tahoma;"><span style="font-family: Arial, Helvetica;"><span style="font-si
 ze: x-small;"><span style="font-family: Tahoma;"><span style="font-size: sm
 all;"><span style="font-family: Tahoma;"><span style="font-family: Tahoma;"
 ><span style="font-family: Arial, Helvetica;"><span style="font-size: x-sma
 ll;"><span style="font-family: Tahoma;"><span style="font-size: small;"><sp
 an style="font-family: Arial, Helvetica;"><span style="font-size: x-small;"
 ><span style="font-family: Tahoma;"><span style="font-size: small;"><span s
 tyle="font-family: Arial, Helvetica;"><span style="font-size: x-small;"><sp
 an style="font-family: Tahoma;"><span style="font-size: small;"><span style
 ="font-family: Arial, Helvetica;"><span style="font-size: x-small;"><span s
 tyle="color: #000000;"><span style="font-family: Tahoma;"><span style="font
 -size: small;"><span style="color: #000000;"><span style="font-family: Taho
 ma;"><span style="font-family: Tahoma;"><span><span style="color: #336699;"
 ><span style="font-family: Tahoma;"><span style="font-size: medium;"><span 
 style="color: #000000;"><span style="font-family: Arial, Helvetica;"><span 
 style="font-size: x-small;"><span><span style="font-size: small;"><span sty
 le="font-size: 12pt;"><span style="text-decoration: underline;"><span style
 ="font-family: Tahoma;"><em>This training is for:</em></span></span><span s
 tyle="font-family: Tahoma;"><span style="font-family: Tahoma;"><br /></span
 ></span></span></span><span style="font-size: small;"><span style="font-fam
 ily: Tahoma;"><span style="font-family: Tahoma;"><span style="font-family: 
 Tahoma;"><span style="font-size: 12pt;">Class open to all attendees, includ
 ing construction and weatherization contractors.</span><span style="font-fa
 mily: Arial, Helvetica;"><span style="font-size: x-small;"><br /><span styl
 e="font-family: Tahoma;"><span style="font-size: small;"><br /><span style=
 "font-size: 12pt;"><br /><em><span style="text-decoration: underline;">Cour
 se Description</span>:<br /></em></span><span style="font-family: Tahoma;">
 <span style="font-family: Tahoma;"><span style="font-size: 12pt;">The US En
 vironmental Protection Agency (EPA) published the Lead; Renovation, Repair 
 and Painting Program that requires each contractor working on pre-1978 resi
 dences to have an EPA Certified Renovator on-site while jobs are set up and
  cleaned up. The certified person will be responsible for documenting that 
 all work was done in a lead safe manner. <br /><br />This is a <span style=
 "text-decoration: underline;">1-day</span> course with approximately 6 hour
 s classroom and 2 hours hands-on lab work, followed by a multiple choice wr
 itten test. Upon course completion, attendees will receive a Lead Renovator
  card from the training provider (NYSWDA). This certification requires a fi
 ve year renewal.</span><span style="font-family: Arial, Helvetica;"><span s
 tyle="font-size: x-small;"><br /><span style="font-family: Tahoma;"><span s
 tyle="font-size: small;"><br /><span style="font-family: Arial, Helvetica;"
 ><span style="font-size: x-small;"><br /><span style="font-family: Tahoma;"
 ><span style="font-size: small;"><span style="font-family: Arial, Helvetica
 ;"><span style="font-size: x-small;"><span style="font-family: Tahoma;"><sp
 an style="font-size: small;"><span style="font-family: Arial, Helvetica;"><
 span style="font-size: x-small;"><span style="color: #000000;"><span style=
 "font-size: 12pt;"><span style="font-family: Tahoma;"><span><span style="co
 lor: #000000;"><em><span style="text-decoration: underline;">Prerequisites<
 /span>:</em></span></span></span><span><span style="color: #000000;"><em> <
 /em></span></span></span><span style="font-family: Tahoma;"><span style="fo
 nt-size: small;"><span style="color: #000000;"><br /><span style="font-size
 : 12pt;">for WAP only- must have completed the One-Day Lead Safe Weatheriza
 tion training</span><span style="font-family: Tahoma;"><br /><br /><br /><s
 pan style="font-size: 12pt;"><em><span style="text-decoration: underline;">
 Class Size</span>: 8</em><br /><em><br /><br /><span style="text-decoration
 : underline;">BPI CEU:</span> </em>4<em><br /><br /><br /><span style="text
 -decoration: underline;"><span style="font-family: Tahoma;">Instructor:</sp
 an> </span></em></span><span style="font-family: Tahoma;"><br /><span style
 ="font-size: 12pt;">Al McMahon, EPA qualified RRP Lead Renovator Instructor
 <br /><em><br /><br /><span style="text-decoration: underline;">Course Fees
 :</span> <br /></em></span><span><span style="font-size: 12pt;">$172/person
  - NY Weatherization Sub-grantees<br /></span></span></span></span></span><
 /span></span></span></span></span></span></span></span></span></span></span
 ></span></span></span></span></span></span></span></span></span></span></sp
 an></span></span></span></span></span></span></span></span></span></span></
 span></span></span></span></span></span></span></span></span></span></span>
 </span></span></span></span></span></span></span></span></span></span></spa
 n></span></span></span></span></span></span></span></span></span></span></s
 pan></span></span></span></span></span></span></span><span style="color: #3
 36699;"><span style="font-family: Tahoma;"><span style="font-size: medium;"
 ><span style="color: #000000;"><span style="font-family: Arial, Helvetica;"
 ><span style="font-size: x-small;"><span style="font-family: Tahoma;"><span
  style="font-size: small;"><span><span><span><span style="font-family: Aria
 l, Helvetica;"><span style="font-size: x-small;"><span style="font-family: 
 Tahoma;"><span style="font-size: small;"><span><span><span style="font-fami
 ly: Arial, Helvetica;"><span style="font-size: x-small;"><span style="font-
 family: Tahoma;"><span style="font-size: small;"><span style="font-family: 
 Arial, Helvetica;"><span style="font-size: x-small;"><span style="font-fami
 ly: Tahoma;"><span style="font-size: small;"><span style="font-family: Aria
 l, Helvetica;"><span style="font-size: x-small;"><span style="font-family: 
 Tahoma;"><span style="font-size: small;"><span style="font-family: Arial, H
 elvetica;"><span style="font-size: x-small;"><span><span style="font-family
 : Tahoma;"><span style="font-size: small;"><span><span><span><span style="c
 olor: #336699;"><span><span style="font-size: medium;"><span style="color: 
 #000000;"><span style="font-family: Arial, Helvetica;"><span style="font-si
 ze: x-small;"><span style="font-size: small;"><span style="font-family: Tah
 oma;"><span><span><span style="font-family: Arial, Helvetica;"><span style=
 "font-size: x-small;"><span style="font-family: Tahoma;"><span style="font-
 size: small;"><span><span><span style="font-family: Arial, Helvetica;"><spa
 n style="font-size: x-small;"><span style="font-family: Tahoma;"><span styl
 e="font-size: small;"><span style="font-family: Arial, Helvetica;"><span st
 yle="font-size: x-small;"><span style="font-family: Tahoma;"><span style="f
 ont-size: small;"><span style="font-family: Arial, Helvetica;"><span style=
 "font-size: x-small;"><span style="font-family: Tahoma;"><span style="font-
 size: small;"><span style="font-family: Arial, Helvetica;"><span style="fon
 t-size: x-small;"><span><span style="font-family: Tahoma;"><span style="fon
 t-size: small;"><span><span><span><span style="font-size: 12pt;">$172/perso
 n - affiliate members<br /></span></span></span></span></span></span></span
 ></span></span></span></span></span></span></span></span></span></span></sp
 an></span></span></span></span></span></span></span></span></span></span></
 span></span></span></span></span></span></span></span></span></span></span>
 </span></span></span></span></span></span></span></span></span></span></spa
 n></span></span></span></span></span></span></span></span></span></span></s
 pan></span></span></span></span></span></span></span></span></span></span><
 /span></span></span><span style="color: #336699;"><span style="font-family:
  Tahoma;"><span style="font-size: medium;"><span style="color: #000000;"><s
 pan style="font-family: Arial, Helvetica;"><span style="font-size: x-small;
 "><span style="font-family: Tahoma;"><span style="font-size: small;"><span>
 <span><span><span style="font-family: Arial, Helvetica;"><span style="font-
 size: x-small;"><span style="font-family: Tahoma;"><span style="font-size: 
 small;"><span><span><span style="font-family: Arial, Helvetica;"><span styl
 e="font-size: x-small;"><span style="font-family: Tahoma;"><span style="fon
 t-size: small;"><span style="font-family: Arial, Helvetica;"><span style="f
 ont-size: x-small;"><span style="font-family: Tahoma;"><span style="font-si
 ze: small;"><span style="font-family: Arial, Helvetica;"><span style="font-
 size: x-small;"><span style="font-family: Tahoma;"><span style="font-size: 
 small;"><span style="font-family: Arial, Helvetica;"><span style="font-size
 : x-small;"><span><span style="font-family: Tahoma;"><span style="font-size
 : small;"><span><span><span><span style="color: #336699;"><span><span style
 ="font-size: medium;"><span style="color: #000000;"><span style="font-famil
 y: Arial, Helvetica;"><span style="font-size: x-small;"><span style="font-s
 ize: small;"><span style="font-family: Tahoma;"><span><span><span style="fo
 nt-family: Arial, Helvetica;"><span style="font-size: x-small;"><span style
 ="font-family: Tahoma;"><span style="font-size: small;"><span><span><span s
 tyle="font-family: Arial, Helvetica;"><span style="font-size: x-small;"><sp
 an style="font-family: Tahoma;"><span style="font-size: small;"><span style
 ="font-family: Arial, Helvetica;"><span style="font-size: x-small;"><span s
 tyle="font-family: Tahoma;"><span style="font-size: small;"><span style="fo
 nt-family: Arial, Helvetica;"><span style="font-size: x-small;"><span style
 ="font-family: Tahoma;"><span style="font-size: small;"><span style="font-f
 amily: Arial, Helvetica;"><span style="font-size: x-small;"><span><span sty
 le="font-family: Tahoma;"><span style="font-size: small;"><span><span><span
 ><span style="font-size: 12pt;">$250/person - non-members&nbsp;</span></spa
 n></span></span></span></span></span></span></span></span></span></span></s
 pan></span></span></span></span></span></span></span></span></span></span><
 /span></span></span></span></span></span></span></span></span></span></span
 ></span></span></span></span></span></span></span></span></span></span></sp
 an></span></span></span></span></span></span></span></span></span></span></
 span></span></span></span></span></span></span></span></span></span></span>
 </span></span></span></span></span></span></span></span></p><p>&nbsp;</p><p
 ><span style="color: #000000;"><strong><span style="font-family: tahoma, ar
 ial, helvetica, sans-serif; font-size: 14pt;"><em><em><span style="font-fam
 ily: tahoma, arial, helvetica, sans-serif; font-size: 14pt;"><span style="f
 ont-family: tahoma, arial, helvetica, sans-serif; font-size: 12pt;"><strong
 ><em>Course fees include DO NOT include lunch</em></strong></span>&nbsp;</s
 pan></em></em></span></strong></span></p><p>&nbsp;</p><p><em><strong><span 
 style="background: white; color: #02613f; font-family: 'Georgia','serif';">
 <span style="font-size: small;">**Special note</span></span></strong></em><
 span style="background: white; color: black; font-family: 'Georgia','serif'
 ;"><span style="font-size: small;"><i><strong>&nbsp;-&nbsp;if you wish to b
 ecome an Affiliate Member, and&nbsp;save off the non-member rate, please co
 ntact&nbsp;Karen McMahon (315-701-0440 ext. 223,&nbsp;</strong></i></span><
 i><strong><span id="cloak6296278dab71219fa88328e80db9062e">This email addre
 ss is being protected from spambots. You need JavaScript enabled to view it
 .</span><script type='text/javascript'>
				document.getElementById('cloak6
 296278dab71219fa88328e80db9062e').innerHTML = '';
				var prefix = 'ma' + '
 il' + 'to';
				var path = 'hr' + 'ef' + '=';
				var addy6296278dab71219fa
 88328e80db9062e = 'kmcmahon' + '@';
				addy6296278dab71219fa88328e80db9062
 e = addy6296278dab71219fa88328e80db9062e + 'nyswda' + '.' + 'org';
				var 
 addy_text6296278dab71219fa88328e80db9062e = '<span style="color: #0000ff; f
 ont-size: small;">kmcmahon' + '@' + 'nyswda' + '.' + 'org</span>';document.
 getElementById('cloak6296278dab71219fa88328e80db9062e').innerHTML += '<a ' 
 + path + '\'' + prefix + ':' + addy6296278dab71219fa88328e80db9062e + '\'>'
 +addy_text6296278dab71219fa88328e80db9062e+'<\/a>';
		</script><span style=
 "font-size: small;">)&nbsp;</span></strong></i></span><i></i><span style="f
 ont-size: small;"><strong><span style="background: white; color: #02613f; f
 ont-family: 'Georgia','serif';">BEFORE YOU REGISTER&nbsp;</span></strong><e
 m><b><span style="background: white; color: black; font-family: 'Georgia','
 serif';">for the course</span></b></em><strong><span style="background: whi
 te; color: black; font-family: 'Georgia','serif';">.</span></strong></span>
 </p><p>&nbsp;</p><p><span style="font-family: tahoma, arial, helvetica, san
 s-serif; font-size: 14pt;"><span style="color: #ffffff; font-family: tahoma
 ,arial,helvetica,sans-serif; font-size: 14pt;"><strong><em><span style="col
 or: #ff0000;">CLASS FULL - call or email</span>&nbsp; </em></strong><a href
 ="mailto:rvisser@nyswda.org"><span style="color: #0066cc;"><strong><em><spa
 n id="cloak5c5f4776fe4a0af43ead4c8ce9a27652">This email address is being pr
 otected from spambots. You need JavaScript enabled to view it.</span><scrip
 t type='text/javascript'>
				document.getElementById('cloak5c5f4776fe4a0af
 43ead4c8ce9a27652').innerHTML = '';
				var prefix = '&#109;a' + 'i&#108;' 
 + '&#116;o';
				var path = 'hr' + 'ef' + '=';
				var addy5c5f4776fe4a0af4
 3ead4c8ce9a27652 = 'rv&#105;ss&#101;r' + '&#64;';
				addy5c5f4776fe4a0af43
 ead4c8ce9a27652 = addy5c5f4776fe4a0af43ead4c8ce9a27652 + 'nyswd&#97;' + '&#
 46;' + '&#111;rg';
				var addy_text5c5f4776fe4a0af43ead4c8ce9a27652 = 'rv&
 #105;ss&#101;r' + '&#64;' + 'nyswd&#97;' + '&#46;' + '&#111;rg';document.ge
 tElementById('cloak5c5f4776fe4a0af43ead4c8ce9a27652').innerHTML += '<a ' + 
 path + '\'' + prefix + ':' + addy5c5f4776fe4a0af43ead4c8ce9a27652 + '\'>'+a
 ddy_text5c5f4776fe4a0af43ead4c8ce9a27652+'<\/a>';
		</script></em></strong>
 </span></a><strong><em> <span style="color: #ff0000;">for availability or w
 ait list</span></em></strong></span><em></em><span style="font-family: taho
 ma,arial,helvetica,sans-serif; font-size: 14pt;"></span></span><span style=
 "font-family: Tahoma;"></span><span style="background: white; color: black;
  font-family: 'Georgia','serif';"></span><span style="font-size: small;"></
 span></p>
CONTACT:Robyn Visser
DTSTAMP:20260424T093203
DTSTART;TZID=America/New_York:20240410T090000
DTEND;TZID=America/New_York:20240410T170000
SEQUENCE:0
TRANSP:OPAQUE
END:VEVENT
END:VCALENDAR